{"text_format":"1","workbook":"xlsx","n_sheets":15,"sheets":["Instrukcija","Sakuma lapa","Atlik.vest.","Parsk.per.apkop","Nom.stavoklis PG","Nom.stavoklis IPG","Transakcijas","Kopsavilkums – EDS termiņi","Kustība – EDS termiņi","Kopsavilkums – VG periodi","Kustība – VG periodi","Kopsavilkums Bilance","Nodoklu_Nosaukumi","Format","Tiesibas"],"not_rendered":{"charts":0,"images":3,"macros":1,"external_links":0,"defined_names":18,"comments":6,"pivot_tables":2},"unopened":[],"bounds":{"document_bytes":16777216,"sheet_cells":100000,"rows_first":2000,"rows_last":500,"rows_between":2000,"halvings":0,"cell_chars":16384,"cell_head_chars":4096},"cells_cut":0,"cells_raw":0,"read":"whole","date_system":"1900"}

{"sheet":"Instrukcija","index":0,"n_rows":51,"n_cols":13,"rows_kept":51,"cut":false,"hidden":false,"merged":[[1,2,1,8],[2,3,2,8],[3,3,3,8]]}
[]
[null,"Apraksts:","https://exceldarbariki.mozello.lv/produkti/transparsk/"]
[null,"Kā ieslēgt makrosus:",null,"https://exceldarbariki.mozello.lv/produkti/instrukcijas/"]
[null,"Kā atbloķēt makrosus:",null,"https://exceldarbariki.mozello.lv/produkti/ka-atbloket-makrosus/"]
[]
[null,"1. Ieiet EDS un izlādēt atskaiti XML formātā par «Pārskata perioda apkopojums – salīdzināšana»"]
[]
[]
[]
[]
[]
[]
[]
[]
[]
[]
[]
[]
[]
[]
[]
[]
[]
[]
[]
[]
[]
[]
[null,"2. Ieiet EDS un izlādēt atskaiti XML formātā par «Budžeta maksājumu nomaksas stāvoklis»"]
[]
[]
[]
[]
[]
[]
[]
[]
[]
[]
[]
[]
[]
[]
[]
[]
[]
[]
[]
[]
[]
[null,"3. Ieiet EDS, pasūtīt un izlādēt atskaiti XML formātā par «Transakciju pārskats (No 01.01.2021)»",null,null,null,null,null,null,null,null,null,null,"Vienmēr no 01.01.2021"]

{"sheet":"Sakuma lapa","index":1,"n_rows":16,"n_cols":13,"rows_kept":16,"cut":false,"hidden":false,"merged":[[13,7,13,9],[12,7,12,9],[13,2,13,3],[1,7,1,9],[2,7,2,9],[7,7,7,9],[10,8,10,10],[8,7,8,9],[7,1,8,5]]}
[]
[null,null,null,null,null,null,null,"Decimālais atdalītais",null,null,{"$f":"MID(1/10,2,1)","v":"."}]
[null,null,null,null,null,null,null,"Tūkstošu atdalītais"]
[]
[]
[]
[null,null,null,null,null,null,null,null,null,null,null,null,"Ielādējot datus"]
[null,null,null,null,null,null,null,"Radīt kopsavilkumus - EDS termiņi",null,null,null,null," - Pārskata perioda apkopojums jābūt par aktuālu pārskata periodu"]
[null,null,null,null,null,null,null,"Radīt kopsavilkumus - VG periodi",null,null,"x",null," - Nomaksas stāvoklim jābūt uz aktuāla (pārskata) perioda beigām"]
[null,null,null,null,null,null,null,null,null,null,null,null," - Transakcijas pārskatam jābūt no 2021.01.01 un līdz tekošam datumam"]
[null,null,null,null,null,null,null,"Radīt lapu","Pārskata perioda apkopojums",null,null,null,"      ja xml failā ir pārāk daudz dati, vairāk kā 10 000 transakcijas, tad"]
[null,null,null,null,null,null,null,null,null,null,null,null,"      var paņemt vīrakus xml failus, piemērām pa gadiem."]
[null,null,null,null,null,null,null,"Nokavējuma nauda - pēc VG perioda",null,null,null,null,"      Tad lādējot iekšā datus, var izvelēties vairākus tādus failus uzreiz."]
[null,"Tips","RegNr.",null,"Periods no","Periods līdz",null,"Univers. iev. forma  - pēc VG perioda"]
[]
[null,null,null,null,null,null,null,{"$f":"IF(AND(COUNTIFS(B:B,\"TransParsk\")>0,COUNTIFS(B:B,\"TransParsk\",E:E,DATE(2021,1,1))=0),\"*Pietrūkst TransParsk dati no 01.01.2021\",\"\")","v":""}]

{"sheet":"Atlik.vest.","index":2,"n_rows":7,"n_cols":16,"rows_kept":7,"cut":false,"hidden":true,"merged":[[1,2,1,4],[2,2,2,4],[3,2,3,4],[4,11,4,15],[4,7,4,9],[1,7,3,9]]}
[]
[null,"Izpildes laiks",null,null,null,null,null,"Šai lapai or informatīvs raksturs un domāta kontrolpārbaudei starp EDS atskaites atlikumiem. \nAtlikVest dati neietekme uz nodokļu kopsavilkumiem."]
[null,"Reģ. numurs:"]
[null,"Nosaukums:"]
[null,"Taksācijas periods:",null,null,null,null,null,"Atlik.vēst. <= NOVIRZES => Trans.pārskats",null,null,null,"Atlikumu aprēķins, pamatojoties uz \"Transakcijas pārskata\" datiem"]
[]
[null,"Nodokļa veids","Datums","Pārmaksa(+) \nparāds(-)","Pamatparāds","Nokavējuma\nnauda",null,"Parāds (-), \npārmaksa (+)","Pamat\nsumma","Nokavējuma \nnauda",".","Parāds (-), \npārmaksa (+)","Pamat\nsumma","Nokavējuma \nnauda","Soda \nnauda","Nodoklis"]

{"sheet":"Parsk.per.apkop","index":3,"n_rows":7,"n_cols":14,"rows_kept":7,"cut":false,"hidden":false,"merged":[[4,12,4,13],[3,6,3,7],[2,6,2,7],[1,6,1,7],[1,2,1,4],[2,2,2,4],[3,2,3,4]]}
[]
[null,"Izpildes laiks",null,null,null,null,"Parāds {-} / Pārmaksa {+}",null,"Summa"]
[null,"Reģ. numurs:",null,null,null,null,"Pirms atlases perioda"]
[null,"Nosaukums:",null,null,null,null,"Pēc atlases perioda"]
[null,"Taksācijas periods:",null,null,null,null,null,null,null,null,null,null,"Savstarpējai segšanai"]
[]
[null,"Saistības veids","Ieņēmumu veids","Taks. periods \nno","Taks. periods \nlīdz","Samaksas \ntermiņš","Datums","Aprēķins / \nIemaksa","Summa\n{+}","Summa \n{-}","Finanšu \nnotikums","Iemaksai. papildus \ninfo. par maksājumu","Papildus info. par saistību \nar kuru segts aprēķins","Nodoklis, no kura \nsegts aprēķins"]

{"sheet":"Nom.stavoklis PG","index":4,"n_rows":7,"n_cols":23,"rows_kept":7,"cut":false,"hidden":false,"merged":[[3,2,3,4],[2,2,2,4],[1,2,1,4],[4,2,4,4],[3,18,3,22],[3,7,4,10],[4,12,4,16],[4,18,4,22],[3,12,3,16]]}
[]
[null,"Izpildes laiks:",null,null,null,"Apr.nāk.maks.",null,"*Kopsavilkuma tabula - PVN var nesakrist, ja nesen bija iesniegtas deklarācijas, kur bija pārmaksa un EDS vēl neapstiprināja samazinājumu."]
[null,"Reģistrācijas numurs:",null,null,null,null,null,"*Deklarācijas tabula - \"Saldo uz..\" var nesakrist, dēļ ierakstiem ar \"nokavējuma naudas aprēķinu\"",null,null,null,null,null,null,null,"vairākiem labojumiem un specifiskiem EDS ierakstiem uz 01.01.2021."]
[null,"Nosaukums:",null,null,null,"Neatt.iemaks.",null,"Nomaksas stāvoklis <= NOVIRZES => Transakcijas pārskats",null,null,null,null,"Atlikumu aprēķins, pamatojoties uz \"Transakcijas pārskata\" datiem",null,null,null,null,null,"Atlikumu aprēķins, pamatojoties uz \"Transakcijas pārskata\" datiem"]
[null,"Nomaksas stāvoklis uz:",null,null,null,null,null,null,null,null,null,null,"Aprēķina pamatojums: \"Deklarācija/pārskats\"",null,null,null,null,null,"Aprēķina pamatojums: \"Visi pārējie pamatojumi\" (nomaksas grafiki utt.)"]
[]
[null,"Nodokļa veids","Parāds (-), \npārmaksa (+)","Pamat\nsumma","Nokavējuma \nnauda","Soda \nnauda",".","Parāds (-), \npārmaksa (+)","Pamat\nsumma","Nokavējuma \nnauda","Soda \nnauda",".","Parāds (-), \npārmaksa (+)","Pamat\nsumma","Nokavējuma \nnauda","Soda \nnauda","Nodoklis",".","Parāds (-), \npārmaksa (+)","Pamat\nsumma","Nokavējuma \nnauda","Soda \nnauda","Nodoklis"]

{"sheet":"Nom.stavoklis IPG","index":5,"n_rows":7,"n_cols":23,"rows_kept":7,"cut":false,"hidden":false,"merged":[[3,18,3,22],[4,2,4,4],[4,12,4,16],[4,18,4,22],[1,2,1,4],[2,2,2,4],[3,2,3,4],[3,7,4,10],[3,12,3,16]]}
[]
[null,"Izpildes laiks:",null,null,null,"Apr.nāk.maks.",null,"*Kopsavilkuma tabula - PVN var nesakrist, ja nesen bija iesniegtas deklarācijas, kur bija pārmaksa un EDS vēl neapstiprināja samazinājumu."]
[null,"Reģistrācijas numurs:",null,null,null,null,null,"*Deklarācijas tabula - \"Saldo uz..\" var nesakrist, dēļ ierakstiem ar \"nokavējuma naudas aprēķinu\"",null,null,null,null,null,null,null,"vairākiem labojumiem un specifiskiem EDS ierakstiem uz 01.01.2021."]
[null,"Nosaukums:",null,null,null,"Neatt.iemaks.",null,"Nomaksas stāvoklis <= NOVIRZES => Transakcijas pārskats",null,null,null,null,"Atlikumu aprēķins, pamatojoties uz \"Transakcijas pārskata\" datiem",null,null,null,null,null,"Atlikumu aprēķins, pamatojoties uz \"Transakcijas pārskata\" datiem"]
[null,"Nomaksas stāvoklis uz:",null,null,null,null,null,null,null,null,null,null,"Aprēķina pamatojums: \"Deklarācija/pārskats\"",null,null,null,null,null,"Aprēķina pamatojums: \"Visi pārējie pamatojumi\" (nomaksas grafiki utt.)"]
[]
[null,"Nodokļa veids","Parāds (-), \npārmaksa (+)","Pamat\nsumma","Nokavējuma \nnauda","Soda \nnauda",".","Parāds (-), \npārmaksa (+)","Pamat\nsumma","Nokavējuma \nnauda","Soda \nnauda",".","Parāds (-), \npārmaksa (+)","Pamat\nsumma","Nokavējuma \nnauda","Soda \nnauda","Nodoklis",".","Parāds (-), \npārmaksa (+)","Pamat\nsumma","Nokavējuma \nnauda","Soda \nnauda","Nodoklis"]

{"sheet":"Transakcijas","index":6,"n_rows":7,"n_cols":21,"rows_kept":7,"cut":false,"hidden":false,"merged":[[4,11,4,12],[3,2,3,4],[2,2,2,4],[1,2,1,4],[4,18,4,20]]}
[]
[null,"Izpildes laiks"]
[null,"Reģ. numurs:"]
[null,"Nosaukums:"]
[null,"Taksācijas periods:",null,null,null,null,null,null,null,null,null,"Taksācijas periods",null,"EDS uzskaites",null,null,null,null,"VG"]
[]
[null,"Nodokļa veids","Transakcijas \ndatums","Aprēķins / \nMaksājums","Aprēķina \npamatojums","Saistības veids","Saistības \ndok. nr.","Summas \nveids","Summa","Maks.uzd. / saist.dok.nr.","Papildus informācija","No","Līdz","Termiņš","Gads","Men.","Nodoklis","EUR","Datums","VgGads","VgMen"]

{"sheet":"Kopsavilkums – EDS termiņi","index":7,"n_rows":173,"n_cols":16,"rows_kept":173,"cut":false,"hidden":true,"merged":[[3,1,4,1],[19,1,19,12],[1,5,1,12]]}
[]
[null,{"$f":"Transakcijas!$C$4","v":0},null,null,null,"NODOKĻU KOPSAVILKUMS PĒC EDS DATIEM"]
[]
[null,"NODOKĻI",{"$f":"'Kopsavilkums Bilance'!G4","v":"2024-01-01"},"Aprēķināts","Ieturēts","Aprēķinas (nerezid.)","Aprēķināta nokav. nauda  ","Aprēķināta\n soda nauda  ","Samaksāts\nAtbrīvots","Atmaksāts","Pārvietots \n(Savst.segš.)","Cita \nkustība",{"$f":"'Kopsavilkums Bilance'!Q4","v":"2024-12-31"},"Pamat-\nsumma","Nokav. \nnauda  ","Soda \nnauda  "]
[null,null,"EUR","EUR","EUR","EUR","EUR","EUR","EUR","EUR","EUR","EUR","EUR","EUR","EUR","EUR"]
[null,"VSAOI",{"$f":"SUMIFS(Transakcijas!$R:$R,Transakcijas!$N:$N,\"<\"&C$4,Transakcijas!$Q:$Q,$B6)","v":0},{"$f":"D35","v":0},null,null,{"$f":"G35","v":0},0,0,0,0,0,{"$f":"SUM(C6:L6)","v":0},{"$f":"SUMIFS(N$23:N$37,$B$23:$B$37,\">=\"&$M$4,$B$23:$B$37,\"<=\"&$M$4)","v":0},{"$f":"SUMIFS(O$23:O$37,$B$23:$B$37,\">=\"&$M$4,$B$23:$B$37,\"<=\"&$M$4)","v":0},{"$f":"SUMIFS(P$23:P$37,$B$23:$B$37,\">=\"&$M$4,$B$23:$B$37,\"<=\"&$M$4)","v":0}]
[null,"IIN",{"$f":"SUMIFS(Transakcijas!$R:$R,Transakcijas!$N:$N,\"<\"&C$4,Transakcijas!$Q:$Q,$B7)","v":0},{"$f":"D52","v":0},{"$f":"E52","v":0},0,0,0,0,0,0,0,0,{"$f":"SUMIFS(N$40:N$54,$B$23:$B$37,\">=\"&$M$4,$B$23:$B$37,\"<=\"&$M$4)","v":0},{"$f":"SUMIFS(O$40:O$54,$B$23:$B$37,\">=\"&$M$4,$B$23:$B$37,\"<=\"&$M$4)","v":0},{"$f":"SUMIFS(P$40:P$54,$B$23:$B$37,\">=\"&$M$4,$B$23:$B$37,\"<=\"&$M$4)","v":0}]
[null,"Riska nodeva",{"$f":"SUMIFS(Transakcijas!$R:$R,Transakcijas!$N:$N,\"<\"&C$4,Transakcijas!$Q:$Q,$B8)","v":0},{"$f":"D69","v":0},null,null,{"$f":"G69","v":0},0,0,0,0,0,0,{"$f":"SUMIFS(N$57:N$71,$B$23:$B$37,\">=\"&$M$4,$B$23:$B$37,\"<=\"&$M$4)","v":0},{"$f":"SUMIFS(O$57:O$71,$B$23:$B$37,\">=\"&$M$4,$B$23:$B$37,\"<=\"&$M$4)","v":0},{"$f":"SUMIFS(P$57:P$71,$B$23:$B$37,\">=\"&$M$4,$B$23:$B$37,\"<=\"&$M$4)","v":0}]
[null,"PVN ",{"$f":"SUMIFS(Transakcijas!$R:$R,Transakcijas!$N:$N,\"<\"&C$4,Transakcijas!$Q:$Q,$B9)","v":0},{"$f":"D86","v":0},null,null,{"$f":"G86","v":0},0,0,0,0,0,0,{"$f":"SUMIFS(N$74:N$88,$B$23:$B$37,\">=\"&$M$4,$B$23:$B$37,\"<=\"&$M$4)","v":0},{"$f":"SUMIFS(O$74:O$88,$B$23:$B$37,\">=\"&$M$4,$B$23:$B$37,\"<=\"&$M$4)","v":0},{"$f":"SUMIFS(P$74:P$88,$B$23:$B$37,\">=\"&$M$4,$B$23:$B$37,\"<=\"&$M$4)","v":0}]
[null,"UIN",{"$f":"SUMIFS(Transakcijas!$R:$R,Transakcijas!$N:$N,\"<\"&C$4,Transakcijas!$Q:$Q,$B10)","v":0},{"$f":"D103","v":0},null,null,{"$f":"G103","v":0},0,0,0,0,0,0,{"$f":"SUMIFS(N$91:N$105,$B$23:$B$37,\">=\"&$M$4,$B$23:$B$37,\"<=\"&$M$4)","v":0},{"$f":"SUMIFS(O$91:O$105,$B$23:$B$37,\">=\"&$M$4,$B$23:$B$37,\"<=\"&$M$4)","v":0},{"$f":"SUMIFS(P$91:P$105,$B$23:$B$37,\">=\"&$M$4,$B$23:$B$37,\"<=\"&$M$4)","v":0}]
[null,"DRN",{"$f":"SUMIFS(Transakcijas!$R:$R,Transakcijas!$N:$N,\"<\"&C$4,Transakcijas!$Q:$Q,$B11)","v":0},{"$f":"D120","v":0},null,null,{"$f":"G120","v":0},0,0,0,0,0,0,{"$f":"SUMIFS(N$108:N$122,$B$23:$B$37,\">=\"&$M$4,$B$23:$B$37,\"<=\"&$M$4)","v":0},{"$f":"SUMIFS(O$108:O$122,$B$23:$B$37,\">=\"&$M$4,$B$23:$B$37,\"<=\"&$M$4)","v":0},{"$f":"SUMIFS(P$108:P$122,$B$23:$B$37,\">=\"&$M$4,$B$23:$B$37,\"<=\"&$M$4)","v":0}]
[null,"AN",{"$f":"SUMIFS(Transakcijas!$R:$R,Transakcijas!$N:$N,\"<\"&C$4,Transakcijas!$Q:$Q,$B12)","v":0},{"$f":"D137","v":0},null,null,{"$f":"G137","v":0},0,0,0,0,0,0,{"$f":"SUMIFS(N$125:N$139,$B$23:$B$37,\">=\"&$M$4,$B$23:$B$37,\"<=\"&$M$4)","v":0},{"$f":"SUMIFS(O$125:O$139,$B$23:$B$37,\">=\"&$M$4,$B$23:$B$37,\"<=\"&$M$4)","v":0},{"$f":"SUMIFS(P$125:P$139,$B$23:$B$37,\">=\"&$M$4,$B$23:$B$37,\"<=\"&$M$4)","v":0}]
[null,"MUN",{"$f":"SUMIFS(Transakcijas!$R:$R,Transakcijas!$N:$N,\"<\"&C$4,Transakcijas!$Q:$Q,$B13)","v":0},{"$f":"D154","v":0},null,null,{"$f":"G154","v":0},0,0,0,0,0,0,{"$f":"SUMIFS(N$142:N$156,$B$23:$B$37,\">=\"&$M$4,$B$23:$B$37,\"<=\"&$M$4)","v":0},{"$f":"SUMIFS(O$142:O$156,$B$23:$B$37,\">=\"&$M$4,$B$23:$B$37,\"<=\"&$M$4)","v":0},{"$f":"SUMIFS(P$142:P$156,$B$23:$B$37,\">=\"&$M$4,$B$23:$B$37,\"<=\"&$M$4)","v":0}]
[null,"Soda naudas",{"$f":"SUMIFS(Transakcijas!$R:$R,Transakcijas!$N:$N,\"<\"&C$4,Transakcijas!$Q:$Q,$B14)","v":0},{"$f":"D171","v":0},null,null,{"$f":"G171","v":0},0,0,0,0,0,0,{"$f":"SUMIFS(N$159:N$173,$B$23:$B$37,\">=\"&$M$4,$B$23:$B$37,\"<=\"&$M$4)","v":0},{"$f":"SUMIFS(O$159:O$173,$B$23:$B$37,\">=\"&$M$4,$B$23:$B$37,\"<=\"&$M$4)","v":0},{"$f":"SUMIFS(P$159:P$173,$B$23:$B$37,\">=\"&$M$4,$B$23:$B$37,\"<=\"&$M$4)","v":0}]
[null,"Kopā",{"$f":"SUM(C6:C13)","v":0},0,0,0,0,0,0,0,0,0,0,{"$f":"SUM(N6:N14)","v":0},{"$f":"SUM(O6:O14)","v":0},{"$f":"SUM(P6:P14)","v":0}]
[]
[null,"T.sk. - Parāds budžetam",{"$f":"SUMIF(C6:C14,\"<0\",C6:C14)","v":0},null,null,null,null,null,null,null,null,null,{"$f":"SUMIF(M6:M14,\"<0\",M6:M14)","v":0}]
[null,"T.sk. - (Pārmaksa) ",{"$f":"C15-C17","v":0},null,null,null,null,null,null,null,null,null,{"$f":"M15-M17","v":0}]
[]
[null,"NODOKĻU KUSTĪBAS PĀRSKATI PA MĒNEŠIEM PĒC EDS DATIEM"]
[]
[null,{"$f":"B6","v":"VSAOI"},"Atlikums uz perioda sākumu","Aprēķināts","Ieturēts","Aprēķinas (nerezid.)","Aprēķināta nokav. nauda  ","Aprēķināta\n soda nauda  ","Samaksāts\nAtbrīvots","Atmaksāts","Pārvietots \n(Savst.segš.)","Cita \nkustība","Atlikums uz perioda beigām","Pamat-\nsumma","Nokav. \nnauda  ","Soda \nnauda  "]
[null,{"$f":"DATE(YEAR($C$4),MONTH($C$4)+1,0)","v":"2024-01-31"},{"$f":"C6","v":0},{"$f":"SUMIFS(Transakcijas!$R:$R,Transakcijas!$Q:$Q,$B$22,Transakcijas!$O:$O,YEAR($B23),Transakcijas!$P:$P,RIGHT(\"0\"&MONTH($B23),2),Transakcijas!$D:$D,\"Aprēķins\",Transakcijas!$H:$H,\"Pamatsumma\",Transakcijas!$K:$K,\"<>\"&\"FIFO*\",Transakcijas!$K:$K,\"<>\"&\"Iemaksas atbrīvošana\")","v":0},null,null,{"$f":"SUMIFS(Transakcijas!$R:$R,Transakcijas!$Q:$Q,$B$22,Transakcijas!$O:$O,YEAR($B23),Transakcijas!$P:$P,RIGHT(\"0\"&MONTH($B23),2),Transakcijas!$D:$D,\"Aprēķins\",Transakcijas!$H:$H,\"Nokavējuma nauda\",Transakcijas!$K:$K,\"<>\"&\"FIFO*\",Transakcijas!$K:$K,\"<>\"&\"Iemaksas atbrīvošana\")","v":0},{"$f":"SUMIFS(Transakcijas!$R:$R,Transakcijas!$Q:$Q,$B$22,Transakcijas!$O:$O,YEAR($B23),Transakcijas!$P:$P,RIGHT(\"0\"&MONTH($B23),2),Transakcijas!$D:$D,\"Aprēķins\",Transakcijas!$H:$H,\"Soda nauda\",Transakcijas!$K:$K,\"<>\"&\"FIFO*\",Transakcijas!$K:$K,\"<>\"&\"Iemaksas atbrīvošana\")","v":0},{"$f":"SUMIFS(Transakcijas!$R:$R,Transakcijas!$Q:$Q,$B$22,Transakcijas!$O:$O,YEAR($B23),Transakcijas!$P:$P,RIGHT(\"0\"&MONTH($B23),2),Transakcijas!$D:$D,\"Iemaksa\",Transakcijas!$K:$K,\"<>\"&\"Izejošā maksājuma anulēšana\")\n+SUMIFS(Transakcijas!$R:$R,Transakcijas!$Q:$Q,$B$22,Transakcijas!$O:$O,YEAR($B23),Transakcijas!$P:$P,RIGHT(\"0\"&MONTH($B23),2),Transakcijas!$D:$D,\"Atmaksa\",Transakcijas!$K:$K,\"Iemaksas atbrīvošana\")","v":0},{"$f":"SUMIFS(Transakcijas!$R:$R,Transakcijas!$Q:$Q,$B$22,Transakcijas!$O:$O,YEAR($B23),Transakcijas!$P:$P,RIGHT(\"0\"&MONTH($B23),2),Transakcijas!$D:$D,\"Atmaksa\",Transakcijas!$K:$K,\"<>\"&\"Iemaksas atbrīvošana\")\n+SUMIFS(Transakcijas!$R:$R,Transakcijas!$Q:$Q,$B$22,Transakcijas!$O:$O,YEAR($B23),Transakcijas!$P:$P,RIGHT(\"0\"&MONTH($B23),2),Transakcijas!$D:$D,\"Iemaksa\",Transakcijas!$K:$K,\"Izejošā maksājuma anulēšana\")","v":0},{"$f":"SUMIFS(Transakcijas!$R:$R,Transakcijas!$Q:$Q,$B$22,Transakcijas!$O:$O,YEAR($B23),Transakcijas!$P:$P,RIGHT(\"0\"&MONTH($B23),2),Transakcijas!$K:$K,\"FIFO savstarpējā segšana\")\n+SUMIFS(Transakcijas!$R:$R,Transakcijas!$Q:$Q,$B$22,Transakcijas!$O:$O,YEAR($B23),Transakcijas!$P:$P,RIGHT(\"0\"&MONTH($B23),2),Transakcijas!$D:$D,\"Aprēķins\",Transakcijas!$K:$K,\"Iemaksas atbrīvošana\")","v":0},{"$f":"SUMIFS(Transakcijas!$R:$R,Transakcijas!$Q:$Q,$B$22,Transakcijas!$O:$O,YEAR($B23),Transakcijas!$P:$P,RIGHT(\"0\"&MONTH($B23),2))-SUM(D23:K23)","v":0},{"$f":"SUM(C23:L23)","v":0},{"$f":"ROUND(SUMIFS(Transakcijas!$R:$R,Transakcijas!$Q:$Q,$B$22,Transakcijas!$N:$N,\"<=\"&$B23,Transakcijas!$H:$H,\"Pamatsumma\"),2)","v":0},{"$f":"ROUND(SUMIFS(Transakcijas!$R:$R,Transakcijas!$Q:$Q,$B$22,Transakcijas!$N:$N,\"<=\"&$B23,Transakcijas!$H:$H,\"Nokavējuma nauda\"),2)","v":0},{"$f":"ROUND(SUMIFS(Transakcijas!$R:$R,Transakcijas!$Q:$Q,$B$22,Transakcijas!$N:$N,\"<=\"&$B23,Transakcijas!$H:$H,\"Soda nauda\"),2)","v":0}]
[null,{"$f":"IF(IF(B23=\"\",$M$4+1,DATE(YEAR(B23),MONTH(B23)+2,0))<=$M$4,DATE(YEAR(B23),MONTH(B23)+2,0),\"\")","v":"2024-02-29"},{"$f":"IF(B24=\"\",0,M23)","v":0},{"$f":"SUMIFS(Transakcijas!$R:$R,Transakcijas!$Q:$Q,$B$22,Transakcijas!$O:$O,YEAR($B24),Transakcijas!$P:$P,RIGHT(\"0\"&MONTH($B24),2),Transakcijas!$D:$D,\"Aprēķins\",Transakcijas!$H:$H,\"Pamatsumma\",Transakcijas!$K:$K,\"<>\"&\"FIFO*\",Transakcijas!$K:$K,\"<>\"&\"Iemaksas atbrīvošana\")","v":0},null,null,{"$f":"SUMIFS(Transakcijas!$R:$R,Transakcijas!$Q:$Q,$B$22,Transakcijas!$O:$O,YEAR($B24),Transakcijas!$P:$P,RIGHT(\"0\"&MONTH($B24),2),Transakcijas!$D:$D,\"Aprēķins\",Transakcijas!$H:$H,\"Nokavējuma nauda\",Transakcijas!$K:$K,\"<>\"&\"FIFO*\",Transakcijas!$K:$K,\"<>\"&\"Iemaksas atbrīvošana\")","v":0},{"$f":"SUMIFS(Transakcijas!$R:$R,Transakcijas!$Q:$Q,$B$22,Transakcijas!$O:$O,YEAR($B24),Transakcijas!$P:$P,RIGHT(\"0\"&MONTH($B24),2),Transakcijas!$D:$D,\"Aprēķins\",Transakcijas!$H:$H,\"Soda nauda\",Transakcijas!$K:$K,\"<>\"&\"FIFO*\",Transakcijas!$K:$K,\"<>\"&\"Iemaksas atbrīvošana\")","v":0},{"$f":"SUMIFS(Transakcijas!$R:$R,Transakcijas!$Q:$Q,$B$22,Transakcijas!$O:$O,YEAR($B24),Transakcijas!$P:$P,RIGHT(\"0\"&MONTH($B24),2),Transakcijas!$D:$D,\"Iemaksa\",Transakcijas!$K:$K,\"<>\"&\"Izejošā maksājuma anulēšana\")\n+SUMIFS(Transakcijas!$R:$R,Transakcijas!$Q:$Q,$B$22,Transakcijas!$O:$O,YEAR($B24),Transakcijas!$P:$P,RIGHT(\"0\"&MONTH($B24),2),Transakcijas!$D:$D,\"Atmaksa\",Transakcijas!$K:$K,\"Iemaksas atbrīvošana\")","v":0},{"$f":"SUMIFS(Transakcijas!$R:$R,Transakcijas!$Q:$Q,$B$22,Transakcijas!$O:$O,YEAR($B24),Transakcijas!$P:$P,RIGHT(\"0\"&MONTH($B24),2),Transakcijas!$D:$D,\"Atmaksa\",Transakcijas!$K:$K,\"<>\"&\"Iemaksas atbrīvošana\")\n+SUMIFS(Transakcijas!$R:$R,Transakcijas!$Q:$Q,$B$22,Transakcijas!$O:$O,YEAR($B24),Transakcijas!$P:$P,RIGHT(\"0\"&MONTH($B24),2),Transakcijas!$D:$D,\"Iemaksa\",Transakcijas!$K:$K,\"Izejošā maksājuma anulēšana\")","v":0},{"$f":"SUMIFS(Transakcijas!$R:$R,Transakcijas!$Q:$Q,$B$22,Transakcijas!$O:$O,YEAR($B24),Transakcijas!$P:$P,RIGHT(\"0\"&MONTH($B24),2),Transakcijas!$K:$K,\"FIFO savstarpējā segšana\")\n+SUMIFS(Transakcijas!$R:$R,Transakcijas!$Q:$Q,$B$22,Transakcijas!$O:$O,YEAR($B24),Transakcijas!$P:$P,RIGHT(\"0\"&MONTH($B24),2),Transakcijas!$D:$D,\"Aprēķins\",Transakcijas!$K:$K,\"Iemaksas atbrīvošana\")","v":0},{"$f":"SUMIFS(Transakcijas!$R:$R,Transakcijas!$Q:$Q,$B$22,Transakcijas!$O:$O,YEAR($B24),Transakcijas!$P:$P,RIGHT(\"0\"&MONTH($B24),2))-SUM(D24:K24)","v":0},0,{"$f":"ROUND(SUMIFS(Transakcijas!$R:$R,Transakcijas!$Q:$Q,$B$22,Transakcijas!$N:$N,\"<=\"&$B24,Transakcijas!$H:$H,\"Pamatsumma\"),2)","v":0},{"$f":"ROUND(SUMIFS(Transakcijas!$R:$R,Transakcijas!$Q:$Q,$B$22,Transakcijas!$N:$N,\"<=\"&$B24,Transakcijas!$H:$H,\"Nokavējuma nauda\"),2)","v":0},{"$f":"ROUND(SUMIFS(Transakcijas!$R:$R,Transakcijas!$Q:$Q,$B$22,Transakcijas!$N:$N,\"<=\"&$B24,Transakcijas!$H:$H,\"Soda nauda\"),2)","v":0}]
[null,"2024-03-31",{"$f":"IF(B25=\"\",0,M24)","v":0},{"$f":"SUMIFS(Transakcijas!$R:$R,Transakcijas!$Q:$Q,$B$22,Transakcijas!$O:$O,YEAR($B25),Transakcijas!$P:$P,RIGHT(\"0\"&MONTH($B25),2),Transakcijas!$D:$D,\"Aprēķins\",Transakcijas!$H:$H,\"Pamatsumma\",Transakcijas!$K:$K,\"<>\"&\"FIFO*\",Transakcijas!$K:$K,\"<>\"&\"Iemaksas atbrīvošana\")","v":0},null,null,{"$f":"SUMIFS(Transakcijas!$R:$R,Transakcijas!$Q:$Q,$B$22,Transakcijas!$O:$O,YEAR($B25),Transakcijas!$P:$P,RIGHT(\"0\"&MONTH($B25),2),Transakcijas!$D:$D,\"Aprēķins\",Transakcijas!$H:$H,\"Nokavējuma nauda\",Transakcijas!$K:$K,\"<>\"&\"FIFO*\",Transakcijas!$K:$K,\"<>\"&\"Iemaksas atbrīvošana\")","v":0},{"$f":"SUMIFS(Transakcijas!$R:$R,Transakcijas!$Q:$Q,$B$22,Transakcijas!$O:$O,YEAR($B25),Transakcijas!$P:$P,RIGHT(\"0\"&MONTH($B25),2),Transakcijas!$D:$D,\"Aprēķins\",Transakcijas!$H:$H,\"Soda nauda\",Transakcijas!$K:$K,\"<>\"&\"FIFO*\",Transakcijas!$K:$K,\"<>\"&\"Iemaksas atbrīvošana\")","v":0},{"$f":"SUMIFS(Transakcijas!$R:$R,Transakcijas!$Q:$Q,$B$22,Transakcijas!$O:$O,YEAR($B25),Transakcijas!$P:$P,RIGHT(\"0\"&MONTH($B25),2),Transakcijas!$D:$D,\"Iemaksa\",Transakcijas!$K:$K,\"<>\"&\"Izejošā maksājuma anulēšana\")\n+SUMIFS(Transakcijas!$R:$R,Transakcijas!$Q:$Q,$B$22,Transakcijas!$O:$O,YEAR($B25),Transakcijas!$P:$P,RIGHT(\"0\"&MONTH($B25),2),Transakcijas!$D:$D,\"Atmaksa\",Transakcijas!$K:$K,\"Iemaksas atbrīvošana\")","v":0},{"$f":"SUMIFS(Transakcijas!$R:$R,Transakcijas!$Q:$Q,$B$22,Transakcijas!$O:$O,YEAR($B25),Transakcijas!$P:$P,RIGHT(\"0\"&MONTH($B25),2),Transakcijas!$D:$D,\"Atmaksa\",Transakcijas!$K:$K,\"<>\"&\"Iemaksas atbrīvošana\")\n+SUMIFS(Transakcijas!$R:$R,Transakcijas!$Q:$Q,$B$22,Transakcijas!$O:$O,YEAR($B25),Transakcijas!$P:$P,RIGHT(\"0\"&MONTH($B25),2),Transakcijas!$D:$D,\"Iemaksa\",Transakcijas!$K:$K,\"Izejošā maksājuma anulēšana\")","v":0},{"$f":"SUMIFS(Transakcijas!$R:$R,Transakcijas!$Q:$Q,$B$22,Transakcijas!$O:$O,YEAR($B25),Transakcijas!$P:$P,RIGHT(\"0\"&MONTH($B25),2),Transakcijas!$K:$K,\"FIFO savstarpējā segšana\")\n+SUMIFS(Transakcijas!$R:$R,Transakcijas!$Q:$Q,$B$22,Transakcijas!$O:$O,YEAR($B25),Transakcijas!$P:$P,RIGHT(\"0\"&MONTH($B25),2),Transakcijas!$D:$D,\"Aprēķins\",Transakcijas!$K:$K,\"Iemaksas atbrīvošana\")","v":0},{"$f":"SUMIFS(Transakcijas!$R:$R,Transakcijas!$Q:$Q,$B$22,Transakcijas!$O:$O,YEAR($B25),Transakcijas!$P:$P,RIGHT(\"0\"&MONTH($B25),2))-SUM(D25:K25)","v":0},{"$f":"SUM(C25:L25)","v":0},{"$f":"ROUND(SUMIFS(Transakcijas!$R:$R,Transakcijas!$Q:$Q,$B$22,Transakcijas!$N:$N,\"<=\"&$B25,Transakcijas!$H:$H,\"Pamatsumma\"),2)","v":0},{"$f":"ROUND(SUMIFS(Transakcijas!$R:$R,Transakcijas!$Q:$Q,$B$22,Transakcijas!$N:$N,\"<=\"&$B25,Transakcijas!$H:$H,\"Nokavējuma nauda\"),2)","v":0},{"$f":"ROUND(SUMIFS(Transakcijas!$R:$R,Transakcijas!$Q:$Q,$B$22,Transakcijas!$N:$N,\"<=\"&$B25,Transakcijas!$H:$H,\"Soda nauda\"),2)","v":0}]
[null,"2024-04-30",0,{"$f":"SUMIFS(Transakcijas!$R:$R,Transakcijas!$Q:$Q,$B$22,Transakcijas!$O:$O,YEAR($B26),Transakcijas!$P:$P,RIGHT(\"0\"&MONTH($B26),2),Transakcijas!$D:$D,\"Aprēķins\",Transakcijas!$H:$H,\"Pamatsumma\",Transakcijas!$K:$K,\"<>\"&\"FIFO*\",Transakcijas!$K:$K,\"<>\"&\"Iemaksas atbrīvošana\")","v":0},null,null,{"$f":"SUMIFS(Transakcijas!$R:$R,Transakcijas!$Q:$Q,$B$22,Transakcijas!$O:$O,YEAR($B26),Transakcijas!$P:$P,RIGHT(\"0\"&MONTH($B26),2),Transakcijas!$D:$D,\"Aprēķins\",Transakcijas!$H:$H,\"Nokavējuma nauda\",Transakcijas!$K:$K,\"<>\"&\"FIFO*\",Transakcijas!$K:$K,\"<>\"&\"Iemaksas atbrīvošana\")","v":0},{"$f":"SUMIFS(Transakcijas!$R:$R,Transakcijas!$Q:$Q,$B$22,Transakcijas!$O:$O,YEAR($B26),Transakcijas!$P:$P,RIGHT(\"0\"&MONTH($B26),2),Transakcijas!$D:$D,\"Aprēķins\",Transakcijas!$H:$H,\"Soda nauda\",Transakcijas!$K:$K,\"<>\"&\"FIFO*\",Transakcijas!$K:$K,\"<>\"&\"Iemaksas atbrīvošana\")","v":0},{"$f":"SUMIFS(Transakcijas!$R:$R,Transakcijas!$Q:$Q,$B$22,Transakcijas!$O:$O,YEAR($B26),Transakcijas!$P:$P,RIGHT(\"0\"&MONTH($B26),2),Transakcijas!$D:$D,\"Iemaksa\",Transakcijas!$K:$K,\"<>\"&\"Izejošā maksājuma anulēšana\")\n+SUMIFS(Transakcijas!$R:$R,Transakcijas!$Q:$Q,$B$22,Transakcijas!$O:$O,YEAR($B26),Transakcijas!$P:$P,RIGHT(\"0\"&MONTH($B26),2),Transakcijas!$D:$D,\"Atmaksa\",Transakcijas!$K:$K,\"Iemaksas atbrīvošana\")","v":0},{"$f":"SUMIFS(Transakcijas!$R:$R,Transakcijas!$Q:$Q,$B$22,Transakcijas!$O:$O,YEAR($B26),Transakcijas!$P:$P,RIGHT(\"0\"&MONTH($B26),2),Transakcijas!$D:$D,\"Atmaksa\",Transakcijas!$K:$K,\"<>\"&\"Iemaksas atbrīvošana\")\n+SUMIFS(Transakcijas!$R:$R,Transakcijas!$Q:$Q,$B$22,Transakcijas!$O:$O,YEAR($B26),Transakcijas!$P:$P,RIGHT(\"0\"&MONTH($B26),2),Transakcijas!$D:$D,\"Iemaksa\",Transakcijas!$K:$K,\"Izejošā maksājuma anulēšana\")","v":0},{"$f":"SUMIFS(Transakcijas!$R:$R,Transakcijas!$Q:$Q,$B$22,Transakcijas!$O:$O,YEAR($B26),Transakcijas!$P:$P,RIGHT(\"0\"&MONTH($B26),2),Transakcijas!$K:$K,\"FIFO savstarpējā segšana\")\n+SUMIFS(Transakcijas!$R:$R,Transakcijas!$Q:$Q,$B$22,Transakcijas!$O:$O,YEAR($B26),Transakcijas!$P:$P,RIGHT(\"0\"&MONTH($B26),2),Transakcijas!$D:$D,\"Aprēķins\",Transakcijas!$K:$K,\"Iemaksas atbrīvošana\")","v":0},{"$f":"SUMIFS(Transakcijas!$R:$R,Transakcijas!$Q:$Q,$B$22,Transakcijas!$O:$O,YEAR($B26),Transakcijas!$P:$P,RIGHT(\"0\"&MONTH($B26),2))-SUM(D26:K26)","v":0},0,{"$f":"ROUND(SUMIFS(Transakcijas!$R:$R,Transakcijas!$Q:$Q,$B$22,Transakcijas!$N:$N,\"<=\"&$B26,Transakcijas!$H:$H,\"Pamatsumma\"),2)","v":0},{"$f":"ROUND(SUMIFS(Transakcijas!$R:$R,Transakcijas!$Q:$Q,$B$22,Transakcijas!$N:$N,\"<=\"&$B26,Transakcijas!$H:$H,\"Nokavējuma nauda\"),2)","v":0},{"$f":"ROUND(SUMIFS(Transakcijas!$R:$R,Transakcijas!$Q:$Q,$B$22,Transakcijas!$N:$N,\"<=\"&$B26,Transakcijas!$H:$H,\"Soda nauda\"),2)","v":0}]
[null,"2024-05-31",0,{"$f":"SUMIFS(Transakcijas!$R:$R,Transakcijas!$Q:$Q,$B$22,Transakcijas!$O:$O,YEAR($B27),Transakcijas!$P:$P,RIGHT(\"0\"&MONTH($B27),2),Transakcijas!$D:$D,\"Aprēķins\",Transakcijas!$H:$H,\"Pamatsumma\",Transakcijas!$K:$K,\"<>\"&\"FIFO*\",Transakcijas!$K:$K,\"<>\"&\"Iemaksas atbrīvošana\")","v":0},null,null,{"$f":"SUMIFS(Transakcijas!$R:$R,Transakcijas!$Q:$Q,$B$22,Transakcijas!$O:$O,YEAR($B27),Transakcijas!$P:$P,RIGHT(\"0\"&MONTH($B27),2),Transakcijas!$D:$D,\"Aprēķins\",Transakcijas!$H:$H,\"Nokavējuma nauda\",Transakcijas!$K:$K,\"<>\"&\"FIFO*\",Transakcijas!$K:$K,\"<>\"&\"Iemaksas atbrīvošana\")","v":0},{"$f":"SUMIFS(Transakcijas!$R:$R,Transakcijas!$Q:$Q,$B$22,Transakcijas!$O:$O,YEAR($B27),Transakcijas!$P:$P,RIGHT(\"0\"&MONTH($B27),2),Transakcijas!$D:$D,\"Aprēķins\",Transakcijas!$H:$H,\"Soda nauda\",Transakcijas!$K:$K,\"<>\"&\"FIFO*\",Transakcijas!$K:$K,\"<>\"&\"Iemaksas atbrīvošana\")","v":0},{"$f":"SUMIFS(Transakcijas!$R:$R,Transakcijas!$Q:$Q,$B$22,Transakcijas!$O:$O,YEAR($B27),Transakcijas!$P:$P,RIGHT(\"0\"&MONTH($B27),2),Transakcijas!$D:$D,\"Iemaksa\",Transakcijas!$K:$K,\"<>\"&\"Izejošā maksājuma anulēšana\")\n+SUMIFS(Transakcijas!$R:$R,Transakcijas!$Q:$Q,$B$22,Transakcijas!$O:$O,YEAR($B27),Transakcijas!$P:$P,RIGHT(\"0\"&MONTH($B27),2),Transakcijas!$D:$D,\"Atmaksa\",Transakcijas!$K:$K,\"Iemaksas atbrīvošana\")","v":0},{"$f":"SUMIFS(Transakcijas!$R:$R,Transakcijas!$Q:$Q,$B$22,Transakcijas!$O:$O,YEAR($B27),Transakcijas!$P:$P,RIGHT(\"0\"&MONTH($B27),2),Transakcijas!$D:$D,\"Atmaksa\",Transakcijas!$K:$K,\"<>\"&\"Iemaksas atbrīvošana\")\n+SUMIFS(Transakcijas!$R:$R,Transakcijas!$Q:$Q,$B$22,Transakcijas!$O:$O,YEAR($B27),Transakcijas!$P:$P,RIGHT(\"0\"&MONTH($B27),2),Transakcijas!$D:$D,\"Iemaksa\",Transakcijas!$K:$K,\"Izejošā maksājuma anulēšana\")","v":0},{"$f":"SUMIFS(Transakcijas!$R:$R,Transakcijas!$Q:$Q,$B$22,Transakcijas!$O:$O,YEAR($B27),Transakcijas!$P:$P,RIGHT(\"0\"&MONTH($B27),2),Transakcijas!$K:$K,\"FIFO savstarpējā segšana\")\n+SUMIFS(Transakcijas!$R:$R,Transakcijas!$Q:$Q,$B$22,Transakcijas!$O:$O,YEAR($B27),Transakcijas!$P:$P,RIGHT(\"0\"&MONTH($B27),2),Transakcijas!$D:$D,\"Aprēķins\",Transakcijas!$K:$K,\"Iemaksas atbrīvošana\")","v":0},{"$f":"SUMIFS(Transakcijas!$R:$R,Transakcijas!$Q:$Q,$B$22,Transakcijas!$O:$O,YEAR($B27),Transakcijas!$P:$P,RIGHT(\"0\"&MONTH($B27),2))-SUM(D27:K27)","v":0},0,{"$f":"ROUND(SUMIFS(Transakcijas!$R:$R,Transakcijas!$Q:$Q,$B$22,Transakcijas!$N:$N,\"<=\"&$B27,Transakcijas!$H:$H,\"Pamatsumma\"),2)","v":0},{"$f":"ROUND(SUMIFS(Transakcijas!$R:$R,Transakcijas!$Q:$Q,$B$22,Transakcijas!$N:$N,\"<=\"&$B27,Transakcijas!$H:$H,\"Nokavējuma nauda\"),2)","v":0},{"$f":"ROUND(SUMIFS(Transakcijas!$R:$R,Transakcijas!$Q:$Q,$B$22,Transakcijas!$N:$N,\"<=\"&$B27,Transakcijas!$H:$H,\"Soda nauda\"),2)","v":0}]
[null,"2024-06-30",0,{"$f":"SUMIFS(Transakcijas!$R:$R,Transakcijas!$Q:$Q,$B$22,Transakcijas!$O:$O,YEAR($B28),Transakcijas!$P:$P,RIGHT(\"0\"&MONTH($B28),2),Transakcijas!$D:$D,\"Aprēķins\",Transakcijas!$H:$H,\"Pamatsumma\",Transakcijas!$K:$K,\"<>\"&\"FIFO*\",Transakcijas!$K:$K,\"<>\"&\"Iemaksas atbrīvošana\")","v":0},null,null,{"$f":"SUMIFS(Transakcijas!$R:$R,Transakcijas!$Q:$Q,$B$22,Transakcijas!$O:$O,YEAR($B28),Transakcijas!$P:$P,RIGHT(\"0\"&MONTH($B28),2),Transakcijas!$D:$D,\"Aprēķins\",Transakcijas!$H:$H,\"Nokavējuma nauda\",Transakcijas!$K:$K,\"<>\"&\"FIFO*\",Transakcijas!$K:$K,\"<>\"&\"Iemaksas atbrīvošana\")","v":0},{"$f":"SUMIFS(Transakcijas!$R:$R,Transakcijas!$Q:$Q,$B$22,Transakcijas!$O:$O,YEAR($B28),Transakcijas!$P:$P,RIGHT(\"0\"&MONTH($B28),2),Transakcijas!$D:$D,\"Aprēķins\",Transakcijas!$H:$H,\"Soda nauda\",Transakcijas!$K:$K,\"<>\"&\"FIFO*\",Transakcijas!$K:$K,\"<>\"&\"Iemaksas atbrīvošana\")","v":0},{"$f":"SUMIFS(Transakcijas!$R:$R,Transakcijas!$Q:$Q,$B$22,Transakcijas!$O:$O,YEAR($B28),Transakcijas!$P:$P,RIGHT(\"0\"&MONTH($B28),2),Transakcijas!$D:$D,\"Iemaksa\",Transakcijas!$K:$K,\"<>\"&\"Izejošā maksājuma anulēšana\")\n+SUMIFS(Transakcijas!$R:$R,Transakcijas!$Q:$Q,$B$22,Transakcijas!$O:$O,YEAR($B28),Transakcijas!$P:$P,RIGHT(\"0\"&MONTH($B28),2),Transakcijas!$D:$D,\"Atmaksa\",Transakcijas!$K:$K,\"Iemaksas atbrīvošana\")","v":0},{"$f":"SUMIFS(Transakcijas!$R:$R,Transakcijas!$Q:$Q,$B$22,Transakcijas!$O:$O,YEAR($B28),Transakcijas!$P:$P,RIGHT(\"0\"&MONTH($B28),2),Transakcijas!$D:$D,\"Atmaksa\",Transakcijas!$K:$K,\"<>\"&\"Iemaksas atbrīvošana\")\n+SUMIFS(Transakcijas!$R:$R,Transakcijas!$Q:$Q,$B$22,Transakcijas!$O:$O,YEAR($B28),Transakcijas!$P:$P,RIGHT(\"0\"&MONTH($B28),2),Transakcijas!$D:$D,\"Iemaksa\",Transakcijas!$K:$K,\"Izejošā maksājuma anulēšana\")","v":0},{"$f":"SUMIFS(Transakcijas!$R:$R,Transakcijas!$Q:$Q,$B$22,Transakcijas!$O:$O,YEAR($B28),Transakcijas!$P:$P,RIGHT(\"0\"&MONTH($B28),2),Transakcijas!$K:$K,\"FIFO savstarpējā segšana\")\n+SUMIFS(Transakcijas!$R:$R,Transakcijas!$Q:$Q,$B$22,Transakcijas!$O:$O,YEAR($B28),Transakcijas!$P:$P,RIGHT(\"0\"&MONTH($B28),2),Transakcijas!$D:$D,\"Aprēķins\",Transakcijas!$K:$K,\"Iemaksas atbrīvošana\")","v":0},{"$f":"SUMIFS(Transakcijas!$R:$R,Transakcijas!$Q:$Q,$B$22,Transakcijas!$O:$O,YEAR($B28),Transakcijas!$P:$P,RIGHT(\"0\"&MONTH($B28),2))-SUM(D28:K28)","v":0},0,{"$f":"ROUND(SUMIFS(Transakcijas!$R:$R,Transakcijas!$Q:$Q,$B$22,Transakcijas!$N:$N,\"<=\"&$B28,Transakcijas!$H:$H,\"Pamatsumma\"),2)","v":0},{"$f":"ROUND(SUMIFS(Transakcijas!$R:$R,Transakcijas!$Q:$Q,$B$22,Transakcijas!$N:$N,\"<=\"&$B28,Transakcijas!$H:$H,\"Nokavējuma nauda\"),2)","v":0},{"$f":"ROUND(SUMIFS(Transakcijas!$R:$R,Transakcijas!$Q:$Q,$B$22,Transakcijas!$N:$N,\"<=\"&$B28,Transakcijas!$H:$H,\"Soda nauda\"),2)","v":0}]
[null,"2024-07-31",0,{"$f":"SUMIFS(Transakcijas!$R:$R,Transakcijas!$Q:$Q,$B$22,Transakcijas!$O:$O,YEAR($B29),Transakcijas!$P:$P,RIGHT(\"0\"&MONTH($B29),2),Transakcijas!$D:$D,\"Aprēķins\",Transakcijas!$H:$H,\"Pamatsumma\",Transakcijas!$K:$K,\"<>\"&\"FIFO*\",Transakcijas!$K:$K,\"<>\"&\"Iemaksas atbrīvošana\")","v":0},null,null,{"$f":"SUMIFS(Transakcijas!$R:$R,Transakcijas!$Q:$Q,$B$22,Transakcijas!$O:$O,YEAR($B29),Transakcijas!$P:$P,RIGHT(\"0\"&MONTH($B29),2),Transakcijas!$D:$D,\"Aprēķins\",Transakcijas!$H:$H,\"Nokavējuma nauda\",Transakcijas!$K:$K,\"<>\"&\"FIFO*\",Transakcijas!$K:$K,\"<>\"&\"Iemaksas atbrīvošana\")","v":0},{"$f":"SUMIFS(Transakcijas!$R:$R,Transakcijas!$Q:$Q,$B$22,Transakcijas!$O:$O,YEAR($B29),Transakcijas!$P:$P,RIGHT(\"0\"&MONTH($B29),2),Transakcijas!$D:$D,\"Aprēķins\",Transakcijas!$H:$H,\"Soda nauda\",Transakcijas!$K:$K,\"<>\"&\"FIFO*\",Transakcijas!$K:$K,\"<>\"&\"Iemaksas atbrīvošana\")","v":0},{"$f":"SUMIFS(Transakcijas!$R:$R,Transakcijas!$Q:$Q,$B$22,Transakcijas!$O:$O,YEAR($B29),Transakcijas!$P:$P,RIGHT(\"0\"&MONTH($B29),2),Transakcijas!$D:$D,\"Iemaksa\",Transakcijas!$K:$K,\"<>\"&\"Izejošā maksājuma anulēšana\")\n+SUMIFS(Transakcijas!$R:$R,Transakcijas!$Q:$Q,$B$22,Transakcijas!$O:$O,YEAR($B29),Transakcijas!$P:$P,RIGHT(\"0\"&MONTH($B29),2),Transakcijas!$D:$D,\"Atmaksa\",Transakcijas!$K:$K,\"Iemaksas atbrīvošana\")","v":0},{"$f":"SUMIFS(Transakcijas!$R:$R,Transakcijas!$Q:$Q,$B$22,Transakcijas!$O:$O,YEAR($B29),Transakcijas!$P:$P,RIGHT(\"0\"&MONTH($B29),2),Transakcijas!$D:$D,\"Atmaksa\",Transakcijas!$K:$K,\"<>\"&\"Iemaksas atbrīvošana\")\n+SUMIFS(Transakcijas!$R:$R,Transakcijas!$Q:$Q,$B$22,Transakcijas!$O:$O,YEAR($B29),Transakcijas!$P:$P,RIGHT(\"0\"&MONTH($B29),2),Transakcijas!$D:$D,\"Iemaksa\",Transakcijas!$K:$K,\"Izejošā maksājuma anulēšana\")","v":0},{"$f":"SUMIFS(Transakcijas!$R:$R,Transakcijas!$Q:$Q,$B$22,Transakcijas!$O:$O,YEAR($B29),Transakcijas!$P:$P,RIGHT(\"0\"&MONTH($B29),2),Transakcijas!$K:$K,\"FIFO savstarpējā segšana\")\n+SUMIFS(Transakcijas!$R:$R,Transakcijas!$Q:$Q,$B$22,Transakcijas!$O:$O,YEAR($B29),Transakcijas!$P:$P,RIGHT(\"0\"&MONTH($B29),2),Transakcijas!$D:$D,\"Aprēķins\",Transakcijas!$K:$K,\"Iemaksas atbrīvošana\")","v":0},{"$f":"SUMIFS(Transakcijas!$R:$R,Transakcijas!$Q:$Q,$B$22,Transakcijas!$O:$O,YEAR($B29),Transakcijas!$P:$P,RIGHT(\"0\"&MONTH($B29),2))-SUM(D29:K29)","v":0},0,{"$f":"ROUND(SUMIFS(Transakcijas!$R:$R,Transakcijas!$Q:$Q,$B$22,Transakcijas!$N:$N,\"<=\"&$B29,Transakcijas!$H:$H,\"Pamatsumma\"),2)","v":0},{"$f":"ROUND(SUMIFS(Transakcijas!$R:$R,Transakcijas!$Q:$Q,$B$22,Transakcijas!$N:$N,\"<=\"&$B29,Transakcijas!$H:$H,\"Nokavējuma nauda\"),2)","v":0},{"$f":"ROUND(SUMIFS(Transakcijas!$R:$R,Transakcijas!$Q:$Q,$B$22,Transakcijas!$N:$N,\"<=\"&$B29,Transakcijas!$H:$H,\"Soda nauda\"),2)","v":0}]
[null,"2024-08-31",0,{"$f":"SUMIFS(Transakcijas!$R:$R,Transakcijas!$Q:$Q,$B$22,Transakcijas!$O:$O,YEAR($B30),Transakcijas!$P:$P,RIGHT(\"0\"&MONTH($B30),2),Transakcijas!$D:$D,\"Aprēķins\",Transakcijas!$H:$H,\"Pamatsumma\",Transakcijas!$K:$K,\"<>\"&\"FIFO*\",Transakcijas!$K:$K,\"<>\"&\"Iemaksas atbrīvošana\")","v":0},null,null,{"$f":"SUMIFS(Transakcijas!$R:$R,Transakcijas!$Q:$Q,$B$22,Transakcijas!$O:$O,YEAR($B30),Transakcijas!$P:$P,RIGHT(\"0\"&MONTH($B30),2),Transakcijas!$D:$D,\"Aprēķins\",Transakcijas!$H:$H,\"Nokavējuma nauda\",Transakcijas!$K:$K,\"<>\"&\"FIFO*\",Transakcijas!$K:$K,\"<>\"&\"Iemaksas atbrīvošana\")","v":0},{"$f":"SUMIFS(Transakcijas!$R:$R,Transakcijas!$Q:$Q,$B$22,Transakcijas!$O:$O,YEAR($B30),Transakcijas!$P:$P,RIGHT(\"0\"&MONTH($B30),2),Transakcijas!$D:$D,\"Aprēķins\",Transakcijas!$H:$H,\"Soda nauda\",Transakcijas!$K:$K,\"<>\"&\"FIFO*\",Transakcijas!$K:$K,\"<>\"&\"Iemaksas atbrīvošana\")","v":0},{"$f":"SUMIFS(Transakcijas!$R:$R,Transakcijas!$Q:$Q,$B$22,Transakcijas!$O:$O,YEAR($B30),Transakcijas!$P:$P,RIGHT(\"0\"&MONTH($B30),2),Transakcijas!$D:$D,\"Iemaksa\",Transakcijas!$K:$K,\"<>\"&\"Izejošā maksājuma anulēšana\")\n+SUMIFS(Transakcijas!$R:$R,Transakcijas!$Q:$Q,$B$22,Transakcijas!$O:$O,YEAR($B30),Transakcijas!$P:$P,RIGHT(\"0\"&MONTH($B30),2),Transakcijas!$D:$D,\"Atmaksa\",Transakcijas!$K:$K,\"Iemaksas atbrīvošana\")","v":0},{"$f":"SUMIFS(Transakcijas!$R:$R,Transakcijas!$Q:$Q,$B$22,Transakcijas!$O:$O,YEAR($B30),Transakcijas!$P:$P,RIGHT(\"0\"&MONTH($B30),2),Transakcijas!$D:$D,\"Atmaksa\",Transakcijas!$K:$K,\"<>\"&\"Iemaksas atbrīvošana\")\n+SUMIFS(Transakcijas!$R:$R,Transakcijas!$Q:$Q,$B$22,Transakcijas!$O:$O,YEAR($B30),Transakcijas!$P:$P,RIGHT(\"0\"&MONTH($B30),2),Transakcijas!$D:$D,\"Iemaksa\",Transakcijas!$K:$K,\"Izejošā maksājuma anulēšana\")","v":0},{"$f":"SUMIFS(Transakcijas!$R:$R,Transakcijas!$Q:$Q,$B$22,Transakcijas!$O:$O,YEAR($B30),Transakcijas!$P:$P,RIGHT(\"0\"&MONTH($B30),2),Transakcijas!$K:$K,\"FIFO savstarpējā segšana\")\n+SUMIFS(Transakcijas!$R:$R,Transakcijas!$Q:$Q,$B$22,Transakcijas!$O:$O,YEAR($B30),Transakcijas!$P:$P,RIGHT(\"0\"&MONTH($B30),2),Transakcijas!$D:$D,\"Aprēķins\",Transakcijas!$K:$K,\"Iemaksas atbrīvošana\")","v":0},{"$f":"SUMIFS(Transakcijas!$R:$R,Transakcijas!$Q:$Q,$B$22,Transakcijas!$O:$O,YEAR($B30),Transakcijas!$P:$P,RIGHT(\"0\"&MONTH($B30),2))-SUM(D30:K30)","v":0},0,{"$f":"ROUND(SUMIFS(Transakcijas!$R:$R,Transakcijas!$Q:$Q,$B$22,Transakcijas!$N:$N,\"<=\"&$B30,Transakcijas!$H:$H,\"Pamatsumma\"),2)","v":0},{"$f":"ROUND(SUMIFS(Transakcijas!$R:$R,Transakcijas!$Q:$Q,$B$22,Transakcijas!$N:$N,\"<=\"&$B30,Transakcijas!$H:$H,\"Nokavējuma nauda\"),2)","v":0},{"$f":"ROUND(SUMIFS(Transakcijas!$R:$R,Transakcijas!$Q:$Q,$B$22,Transakcijas!$N:$N,\"<=\"&$B30,Transakcijas!$H:$H,\"Soda nauda\"),2)","v":0}]
[null,"2024-09-30",0,{"$f":"SUMIFS(Transakcijas!$R:$R,Transakcijas!$Q:$Q,$B$22,Transakcijas!$O:$O,YEAR($B31),Transakcijas!$P:$P,RIGHT(\"0\"&MONTH($B31),2),Transakcijas!$D:$D,\"Aprēķins\",Transakcijas!$H:$H,\"Pamatsumma\",Transakcijas!$K:$K,\"<>\"&\"FIFO*\",Transakcijas!$K:$K,\"<>\"&\"Iemaksas atbrīvošana\")","v":0},null,null,{"$f":"SUMIFS(Transakcijas!$R:$R,Transakcijas!$Q:$Q,$B$22,Transakcijas!$O:$O,YEAR($B31),Transakcijas!$P:$P,RIGHT(\"0\"&MONTH($B31),2),Transakcijas!$D:$D,\"Aprēķins\",Transakcijas!$H:$H,\"Nokavējuma nauda\",Transakcijas!$K:$K,\"<>\"&\"FIFO*\",Transakcijas!$K:$K,\"<>\"&\"Iemaksas atbrīvošana\")","v":0},{"$f":"SUMIFS(Transakcijas!$R:$R,Transakcijas!$Q:$Q,$B$22,Transakcijas!$O:$O,YEAR($B31),Transakcijas!$P:$P,RIGHT(\"0\"&MONTH($B31),2),Transakcijas!$D:$D,\"Aprēķins\",Transakcijas!$H:$H,\"Soda nauda\",Transakcijas!$K:$K,\"<>\"&\"FIFO*\",Transakcijas!$K:$K,\"<>\"&\"Iemaksas atbrīvošana\")","v":0},{"$f":"SUMIFS(Transakcijas!$R:$R,Transakcijas!$Q:$Q,$B$22,Transakcijas!$O:$O,YEAR($B31),Transakcijas!$P:$P,RIGHT(\"0\"&MONTH($B31),2),Transakcijas!$D:$D,\"Iemaksa\",Transakcijas!$K:$K,\"<>\"&\"Izejošā maksājuma anulēšana\")\n+SUMIFS(Transakcijas!$R:$R,Transakcijas!$Q:$Q,$B$22,Transakcijas!$O:$O,YEAR($B31),Transakcijas!$P:$P,RIGHT(\"0\"&MONTH($B31),2),Transakcijas!$D:$D,\"Atmaksa\",Transakcijas!$K:$K,\"Iemaksas atbrīvošana\")","v":0},{"$f":"SUMIFS(Transakcijas!$R:$R,Transakcijas!$Q:$Q,$B$22,Transakcijas!$O:$O,YEAR($B31),Transakcijas!$P:$P,RIGHT(\"0\"&MONTH($B31),2),Transakcijas!$D:$D,\"Atmaksa\",Transakcijas!$K:$K,\"<>\"&\"Iemaksas atbrīvošana\")\n+SUMIFS(Transakcijas!$R:$R,Transakcijas!$Q:$Q,$B$22,Transakcijas!$O:$O,YEAR($B31),Transakcijas!$P:$P,RIGHT(\"0\"&MONTH($B31),2),Transakcijas!$D:$D,\"Iemaksa\",Transakcijas!$K:$K,\"Izejošā maksājuma anulēšana\")","v":0},{"$f":"SUMIFS(Transakcijas!$R:$R,Transakcijas!$Q:$Q,$B$22,Transakcijas!$O:$O,YEAR($B31),Transakcijas!$P:$P,RIGHT(\"0\"&MONTH($B31),2),Transakcijas!$K:$K,\"FIFO savstarpējā segšana\")\n+SUMIFS(Transakcijas!$R:$R,Transakcijas!$Q:$Q,$B$22,Transakcijas!$O:$O,YEAR($B31),Transakcijas!$P:$P,RIGHT(\"0\"&MONTH($B31),2),Transakcijas!$D:$D,\"Aprēķins\",Transakcijas!$K:$K,\"Iemaksas atbrīvošana\")","v":0},{"$f":"SUMIFS(Transakcijas!$R:$R,Transakcijas!$Q:$Q,$B$22,Transakcijas!$O:$O,YEAR($B31),Transakcijas!$P:$P,RIGHT(\"0\"&MONTH($B31),2))-SUM(D31:K31)","v":0},0,{"$f":"ROUND(SUMIFS(Transakcijas!$R:$R,Transakcijas!$Q:$Q,$B$22,Transakcijas!$N:$N,\"<=\"&$B31,Transakcijas!$H:$H,\"Pamatsumma\"),2)","v":0},{"$f":"ROUND(SUMIFS(Transakcijas!$R:$R,Transakcijas!$Q:$Q,$B$22,Transakcijas!$N:$N,\"<=\"&$B31,Transakcijas!$H:$H,\"Nokavējuma nauda\"),2)","v":0},{"$f":"ROUND(SUMIFS(Transakcijas!$R:$R,Transakcijas!$Q:$Q,$B$22,Transakcijas!$N:$N,\"<=\"&$B31,Transakcijas!$H:$H,\"Soda nauda\"),2)","v":0}]
[null,"2024-10-31",0,{"$f":"SUMIFS(Transakcijas!$R:$R,Transakcijas!$Q:$Q,$B$22,Transakcijas!$O:$O,YEAR($B32),Transakcijas!$P:$P,RIGHT(\"0\"&MONTH($B32),2),Transakcijas!$D:$D,\"Aprēķins\",Transakcijas!$H:$H,\"Pamatsumma\",Transakcijas!$K:$K,\"<>\"&\"FIFO*\",Transakcijas!$K:$K,\"<>\"&\"Iemaksas atbrīvošana\")","v":0},null,null,{"$f":"SUMIFS(Transakcijas!$R:$R,Transakcijas!$Q:$Q,$B$22,Transakcijas!$O:$O,YEAR($B32),Transakcijas!$P:$P,RIGHT(\"0\"&MONTH($B32),2),Transakcijas!$D:$D,\"Aprēķins\",Transakcijas!$H:$H,\"Nokavējuma nauda\",Transakcijas!$K:$K,\"<>\"&\"FIFO*\",Transakcijas!$K:$K,\"<>\"&\"Iemaksas atbrīvošana\")","v":0},{"$f":"SUMIFS(Transakcijas!$R:$R,Transakcijas!$Q:$Q,$B$22,Transakcijas!$O:$O,YEAR($B32),Transakcijas!$P:$P,RIGHT(\"0\"&MONTH($B32),2),Transakcijas!$D:$D,\"Aprēķins\",Transakcijas!$H:$H,\"Soda nauda\",Transakcijas!$K:$K,\"<>\"&\"FIFO*\",Transakcijas!$K:$K,\"<>\"&\"Iemaksas atbrīvošana\")","v":0},{"$f":"SUMIFS(Transakcijas!$R:$R,Transakcijas!$Q:$Q,$B$22,Transakcijas!$O:$O,YEAR($B32),Transakcijas!$P:$P,RIGHT(\"0\"&MONTH($B32),2),Transakcijas!$D:$D,\"Iemaksa\",Transakcijas!$K:$K,\"<>\"&\"Izejošā maksājuma anulēšana\")\n+SUMIFS(Transakcijas!$R:$R,Transakcijas!$Q:$Q,$B$22,Transakcijas!$O:$O,YEAR($B32),Transakcijas!$P:$P,RIGHT(\"0\"&MONTH($B32),2),Transakcijas!$D:$D,\"Atmaksa\",Transakcijas!$K:$K,\"Iemaksas atbrīvošana\")","v":0},{"$f":"SUMIFS(Transakcijas!$R:$R,Transakcijas!$Q:$Q,$B$22,Transakcijas!$O:$O,YEAR($B32),Transakcijas!$P:$P,RIGHT(\"0\"&MONTH($B32),2),Transakcijas!$D:$D,\"Atmaksa\",Transakcijas!$K:$K,\"<>\"&\"Iemaksas atbrīvošana\")\n+SUMIFS(Transakcijas!$R:$R,Transakcijas!$Q:$Q,$B$22,Transakcijas!$O:$O,YEAR($B32),Transakcijas!$P:$P,RIGHT(\"0\"&MONTH($B32),2),Transakcijas!$D:$D,\"Iemaksa\",Transakcijas!$K:$K,\"Izejošā maksājuma anulēšana\")","v":0},{"$f":"SUMIFS(Transakcijas!$R:$R,Transakcijas!$Q:$Q,$B$22,Transakcijas!$O:$O,YEAR($B32),Transakcijas!$P:$P,RIGHT(\"0\"&MONTH($B32),2),Transakcijas!$K:$K,\"FIFO savstarpējā segšana\")\n+SUMIFS(Transakcijas!$R:$R,Transakcijas!$Q:$Q,$B$22,Transakcijas!$O:$O,YEAR($B32),Transakcijas!$P:$P,RIGHT(\"0\"&MONTH($B32),2),Transakcijas!$D:$D,\"Aprēķins\",Transakcijas!$K:$K,\"Iemaksas atbrīvošana\")","v":0},{"$f":"SUMIFS(Transakcijas!$R:$R,Transakcijas!$Q:$Q,$B$22,Transakcijas!$O:$O,YEAR($B32),Transakcijas!$P:$P,RIGHT(\"0\"&MONTH($B32),2))-SUM(D32:K32)","v":0},0,{"$f":"ROUND(SUMIFS(Transakcijas!$R:$R,Transakcijas!$Q:$Q,$B$22,Transakcijas!$N:$N,\"<=\"&$B32,Transakcijas!$H:$H,\"Pamatsumma\"),2)","v":0},{"$f":"ROUND(SUMIFS(Transakcijas!$R:$R,Transakcijas!$Q:$Q,$B$22,Transakcijas!$N:$N,\"<=\"&$B32,Transakcijas!$H:$H,\"Nokavējuma nauda\"),2)","v":0},{"$f":"ROUND(SUMIFS(Transakcijas!$R:$R,Transakcijas!$Q:$Q,$B$22,Transakcijas!$N:$N,\"<=\"&$B32,Transakcijas!$H:$H,\"Soda nauda\"),2)","v":0}]
[null,"2024-11-30",0,{"$f":"SUMIFS(Transakcijas!$R:$R,Transakcijas!$Q:$Q,$B$22,Transakcijas!$O:$O,YEAR($B33),Transakcijas!$P:$P,RIGHT(\"0\"&MONTH($B33),2),Transakcijas!$D:$D,\"Aprēķins\",Transakcijas!$H:$H,\"Pamatsumma\",Transakcijas!$K:$K,\"<>\"&\"FIFO*\",Transakcijas!$K:$K,\"<>\"&\"Iemaksas atbrīvošana\")","v":0},null,null,{"$f":"SUMIFS(Transakcijas!$R:$R,Transakcijas!$Q:$Q,$B$22,Transakcijas!$O:$O,YEAR($B33),Transakcijas!$P:$P,RIGHT(\"0\"&MONTH($B33),2),Transakcijas!$D:$D,\"Aprēķins\",Transakcijas!$H:$H,\"Nokavējuma nauda\",Transakcijas!$K:$K,\"<>\"&\"FIFO*\",Transakcijas!$K:$K,\"<>\"&\"Iemaksas atbrīvošana\")","v":0},{"$f":"SUMIFS(Transakcijas!$R:$R,Transakcijas!$Q:$Q,$B$22,Transakcijas!$O:$O,YEAR($B33),Transakcijas!$P:$P,RIGHT(\"0\"&MONTH($B33),2),Transakcijas!$D:$D,\"Aprēķins\",Transakcijas!$H:$H,\"Soda nauda\",Transakcijas!$K:$K,\"<>\"&\"FIFO*\",Transakcijas!$K:$K,\"<>\"&\"Iemaksas atbrīvošana\")","v":0},{"$f":"SUMIFS(Transakcijas!$R:$R,Transakcijas!$Q:$Q,$B$22,Transakcijas!$O:$O,YEAR($B33),Transakcijas!$P:$P,RIGHT(\"0\"&MONTH($B33),2),Transakcijas!$D:$D,\"Iemaksa\",Transakcijas!$K:$K,\"<>\"&\"Izejošā maksājuma anulēšana\")\n+SUMIFS(Transakcijas!$R:$R,Transakcijas!$Q:$Q,$B$22,Transakcijas!$O:$O,YEAR($B33),Transakcijas!$P:$P,RIGHT(\"0\"&MONTH($B33),2),Transakcijas!$D:$D,\"Atmaksa\",Transakcijas!$K:$K,\"Iemaksas atbrīvošana\")","v":0},{"$f":"SUMIFS(Transakcijas!$R:$R,Transakcijas!$Q:$Q,$B$22,Transakcijas!$O:$O,YEAR($B33),Transakcijas!$P:$P,RIGHT(\"0\"&MONTH($B33),2),Transakcijas!$D:$D,\"Atmaksa\",Transakcijas!$K:$K,\"<>\"&\"Iemaksas atbrīvošana\")\n+SUMIFS(Transakcijas!$R:$R,Transakcijas!$Q:$Q,$B$22,Transakcijas!$O:$O,YEAR($B33),Transakcijas!$P:$P,RIGHT(\"0\"&MONTH($B33),2),Transakcijas!$D:$D,\"Iemaksa\",Transakcijas!$K:$K,\"Izejošā maksājuma anulēšana\")","v":0},{"$f":"SUMIFS(Transakcijas!$R:$R,Transakcijas!$Q:$Q,$B$22,Transakcijas!$O:$O,YEAR($B33),Transakcijas!$P:$P,RIGHT(\"0\"&MONTH($B33),2),Transakcijas!$K:$K,\"FIFO savstarpējā segšana\")\n+SUMIFS(Transakcijas!$R:$R,Transakcijas!$Q:$Q,$B$22,Transakcijas!$O:$O,YEAR($B33),Transakcijas!$P:$P,RIGHT(\"0\"&MONTH($B33),2),Transakcijas!$D:$D,\"Aprēķins\",Transakcijas!$K:$K,\"Iemaksas atbrīvošana\")","v":0},{"$f":"SUMIFS(Transakcijas!$R:$R,Transakcijas!$Q:$Q,$B$22,Transakcijas!$O:$O,YEAR($B33),Transakcijas!$P:$P,RIGHT(\"0\"&MONTH($B33),2))-SUM(D33:K33)","v":0},0,{"$f":"ROUND(SUMIFS(Transakcijas!$R:$R,Transakcijas!$Q:$Q,$B$22,Transakcijas!$N:$N,\"<=\"&$B33,Transakcijas!$H:$H,\"Pamatsumma\"),2)","v":0},{"$f":"ROUND(SUMIFS(Transakcijas!$R:$R,Transakcijas!$Q:$Q,$B$22,Transakcijas!$N:$N,\"<=\"&$B33,Transakcijas!$H:$H,\"Nokavējuma nauda\"),2)","v":0},{"$f":"ROUND(SUMIFS(Transakcijas!$R:$R,Transakcijas!$Q:$Q,$B$22,Transakcijas!$N:$N,\"<=\"&$B33,Transakcijas!$H:$H,\"Soda nauda\"),2)","v":0}]
[null,"2024-12-31",0,{"$f":"SUMIFS(Transakcijas!$R:$R,Transakcijas!$Q:$Q,$B$22,Transakcijas!$O:$O,YEAR($B34),Transakcijas!$P:$P,RIGHT(\"0\"&MONTH($B34),2),Transakcijas!$D:$D,\"Aprēķins\",Transakcijas!$H:$H,\"Pamatsumma\",Transakcijas!$K:$K,\"<>\"&\"FIFO*\",Transakcijas!$K:$K,\"<>\"&\"Iemaksas atbrīvošana\")","v":0},null,null,{"$f":"SUMIFS(Transakcijas!$R:$R,Transakcijas!$Q:$Q,$B$22,Transakcijas!$O:$O,YEAR($B34),Transakcijas!$P:$P,RIGHT(\"0\"&MONTH($B34),2),Transakcijas!$D:$D,\"Aprēķins\",Transakcijas!$H:$H,\"Nokavējuma nauda\",Transakcijas!$K:$K,\"<>\"&\"FIFO*\",Transakcijas!$K:$K,\"<>\"&\"Iemaksas atbrīvošana\")","v":0},{"$f":"SUMIFS(Transakcijas!$R:$R,Transakcijas!$Q:$Q,$B$22,Transakcijas!$O:$O,YEAR($B34),Transakcijas!$P:$P,RIGHT(\"0\"&MONTH($B34),2),Transakcijas!$D:$D,\"Aprēķins\",Transakcijas!$H:$H,\"Soda nauda\",Transakcijas!$K:$K,\"<>\"&\"FIFO*\",Transakcijas!$K:$K,\"<>\"&\"Iemaksas atbrīvošana\")","v":0},{"$f":"SUMIFS(Transakcijas!$R:$R,Transakcijas!$Q:$Q,$B$22,Transakcijas!$O:$O,YEAR($B34),Transakcijas!$P:$P,RIGHT(\"0\"&MONTH($B34),2),Transakcijas!$D:$D,\"Iemaksa\",Transakcijas!$K:$K,\"<>\"&\"Izejošā maksājuma anulēšana\")\n+SUMIFS(Transakcijas!$R:$R,Transakcijas!$Q:$Q,$B$22,Transakcijas!$O:$O,YEAR($B34),Transakcijas!$P:$P,RIGHT(\"0\"&MONTH($B34),2),Transakcijas!$D:$D,\"Atmaksa\",Transakcijas!$K:$K,\"Iemaksas atbrīvošana\")","v":0},{"$f":"SUMIFS(Transakcijas!$R:$R,Transakcijas!$Q:$Q,$B$22,Transakcijas!$O:$O,YEAR($B34),Transakcijas!$P:$P,RIGHT(\"0\"&MONTH($B34),2),Transakcijas!$D:$D,\"Atmaksa\",Transakcijas!$K:$K,\"<>\"&\"Iemaksas atbrīvošana\")\n+SUMIFS(Transakcijas!$R:$R,Transakcijas!$Q:$Q,$B$22,Transakcijas!$O:$O,YEAR($B34),Transakcijas!$P:$P,RIGHT(\"0\"&MONTH($B34),2),Transakcijas!$D:$D,\"Iemaksa\",Transakcijas!$K:$K,\"Izejošā maksājuma anulēšana\")","v":0},{"$f":"SUMIFS(Transakcijas!$R:$R,Transakcijas!$Q:$Q,$B$22,Transakcijas!$O:$O,YEAR($B34),Transakcijas!$P:$P,RIGHT(\"0\"&MONTH($B34),2),Transakcijas!$K:$K,\"FIFO savstarpējā segšana\")\n+SUMIFS(Transakcijas!$R:$R,Transakcijas!$Q:$Q,$B$22,Transakcijas!$O:$O,YEAR($B34),Transakcijas!$P:$P,RIGHT(\"0\"&MONTH($B34),2),Transakcijas!$D:$D,\"Aprēķins\",Transakcijas!$K:$K,\"Iemaksas atbrīvošana\")","v":0},{"$f":"SUMIFS(Transakcijas!$R:$R,Transakcijas!$Q:$Q,$B$22,Transakcijas!$O:$O,YEAR($B34),Transakcijas!$P:$P,RIGHT(\"0\"&MONTH($B34),2))-SUM(D34:K34)","v":0},0,{"$f":"ROUND(SUMIFS(Transakcijas!$R:$R,Transakcijas!$Q:$Q,$B$22,Transakcijas!$N:$N,\"<=\"&$B34,Transakcijas!$H:$H,\"Pamatsumma\"),2)","v":0},{"$f":"ROUND(SUMIFS(Transakcijas!$R:$R,Transakcijas!$Q:$Q,$B$22,Transakcijas!$N:$N,\"<=\"&$B34,Transakcijas!$H:$H,\"Nokavējuma nauda\"),2)","v":0},{"$f":"ROUND(SUMIFS(Transakcijas!$R:$R,Transakcijas!$Q:$Q,$B$22,Transakcijas!$N:$N,\"<=\"&$B34,Transakcijas!$H:$H,\"Soda nauda\"),2)","v":0}]
[null,"Kopā",{"$f":"C23","v":0},{"$f":"SUM(D23:D34)","v":0},null,null,{"$f":"SUM(G23:G34)","v":0},0,0,0,0,0,0]
[]
[null,{"$f":"DATE(YEAR($M$4),MONTH($M$4)+2,0)","v":"2025-01-31"},{"$f":"IF(B37=\"\",0,M35)","v":0},{"$f":"SUMIFS(Transakcijas!$R:$R,Transakcijas!$Q:$Q,$B$22,Transakcijas!$O:$O,YEAR($B37),Transakcijas!$P:$P,RIGHT(\"0\"&MONTH($B37),2),Transakcijas!$D:$D,\"Aprēķins\",Transakcijas!$H:$H,\"Pamatsumma\",Transakcijas!$K:$K,\"<>\"&\"FIFO*\",Transakcijas!$K:$K,\"<>\"&\"Iemaksas atbrīvošana\")","v":0},null,null,{"$f":"SUMIFS(Transakcijas!$R:$R,Transakcijas!$Q:$Q,$B$22,Transakcijas!$O:$O,YEAR($B37),Transakcijas!$P:$P,RIGHT(\"0\"&MONTH($B37),2),Transakcijas!$D:$D,\"Aprēķins\",Transakcijas!$H:$H,\"Nokavējuma nauda\",Transakcijas!$K:$K,\"<>\"&\"FIFO*\",Transakcijas!$K:$K,\"<>\"&\"Iemaksas atbrīvošana\")","v":0},{"$f":"SUMIFS(Transakcijas!$R:$R,Transakcijas!$Q:$Q,$B$22,Transakcijas!$O:$O,YEAR($B37),Transakcijas!$P:$P,RIGHT(\"0\"&MONTH($B37),2),Transakcijas!$D:$D,\"Aprēķins\",Transakcijas!$H:$H,\"Soda nauda\",Transakcijas!$K:$K,\"<>\"&\"FIFO*\",Transakcijas!$K:$K,\"<>\"&\"Iemaksas atbrīvošana\")","v":0},{"$f":"SUMIFS(Transakcijas!$R:$R,Transakcijas!$Q:$Q,$B$22,Transakcijas!$O:$O,YEAR($B37),Transakcijas!$P:$P,RIGHT(\"0\"&MONTH($B37),2),Transakcijas!$D:$D,\"Iemaksa\",Transakcijas!$K:$K,\"<>\"&\"Izejošā maksājuma anulēšana\")\n+SUMIFS(Transakcijas!$R:$R,Transakcijas!$Q:$Q,$B$22,Transakcijas!$O:$O,YEAR($B37),Transakcijas!$P:$P,RIGHT(\"0\"&MONTH($B37),2),Transakcijas!$D:$D,\"Atmaksa\",Transakcijas!$K:$K,\"Iemaksas atbrīvošana\")","v":0},{"$f":"SUMIFS(Transakcijas!$R:$R,Transakcijas!$Q:$Q,$B$22,Transakcijas!$O:$O,YEAR($B37),Transakcijas!$P:$P,RIGHT(\"0\"&MONTH($B37),2),Transakcijas!$D:$D,\"Atmaksa\",Transakcijas!$K:$K,\"<>\"&\"Iemaksas atbrīvošana\")\n+SUMIFS(Transakcijas!$R:$R,Transakcijas!$Q:$Q,$B$22,Transakcijas!$O:$O,YEAR($B37),Transakcijas!$P:$P,RIGHT(\"0\"&MONTH($B37),2),Transakcijas!$D:$D,\"Iemaksa\",Transakcijas!$K:$K,\"Izejošā maksājuma anulēšana\")","v":0},{"$f":"SUMIFS(Transakcijas!$R:$R,Transakcijas!$Q:$Q,$B$22,Transakcijas!$O:$O,YEAR($B37),Transakcijas!$P:$P,RIGHT(\"0\"&MONTH($B37),2),Transakcijas!$K:$K,\"FIFO savstarpējā segšana\")\n+SUMIFS(Transakcijas!$R:$R,Transakcijas!$Q:$Q,$B$22,Transakcijas!$O:$O,YEAR($B37),Transakcijas!$P:$P,RIGHT(\"0\"&MONTH($B37),2),Transakcijas!$D:$D,\"Aprēķins\",Transakcijas!$K:$K,\"Iemaksas atbrīvošana\")","v":0},{"$f":"SUMIFS(Transakcijas!$R:$R,Transakcijas!$Q:$Q,$B$22,Transakcijas!$O:$O,YEAR($B37),Transakcijas!$P:$P,RIGHT(\"0\"&MONTH($B37),2))-SUM(D37:K37)","v":0},{"$f":"SUM(C37:L37)","v":0},{"$f":"ROUND(SUMIFS(Transakcijas!$R:$R,Transakcijas!$Q:$Q,$B$22,Transakcijas!$N:$N,\"<=\"&$B37,Transakcijas!$H:$H,\"Pamatsumma\"),2)","v":0},{"$f":"ROUND(SUMIFS(Transakcijas!$R:$R,Transakcijas!$Q:$Q,$B$22,Transakcijas!$N:$N,\"<=\"&$B37,Transakcijas!$H:$H,\"Nokavējuma nauda\"),2)","v":0},{"$f":"ROUND(SUMIFS(Transakcijas!$R:$R,Transakcijas!$Q:$Q,$B$22,Transakcijas!$N:$N,\"<=\"&$B37,Transakcijas!$H:$H,\"Soda nauda\"),2)","v":0}]
[]
[null,{"$f":"B7","v":"IIN"},"Atlikums uz perioda sākumu","Aprēķināts","Ieturēts","Aprēķinas (nerezid.)","Aprēķināta nokav. nauda  ","Aprēķināta\n soda nauda  ","Samaksāts\nAtbrīvots","Atmaksāts","Pārvietots \n(Savst.segš.)","Cita \nkustība","Atlikums uz perioda beigām","Pamat-\nsumma","Nokav. \nnauda  ","Soda \nnauda  "]
[null,{"$f":"DATE(YEAR($C$4),MONTH($C$4)+1,0)","v":"2024-01-31"},{"$f":"C7","v":0},{"$f":"SUMIFS(Transakcijas!$R:$R,Transakcijas!$Q:$Q,$B$39,Transakcijas!$O:$O,YEAR($B40),Transakcijas!$P:$P,RIGHT(\"0\"&MONTH($B40),2),Transakcijas!$D:$D,\"Aprēķins\",Transakcijas!$H:$H,\"Pamatsumma\",Transakcijas!$K:$K,\"<>\"&\"FIFO*\",Transakcijas!$K:$K,\"<>\"&\"Iemaksas atbrīvošana\",Transakcijas!$F:$F,\"Darba devēja ziņojums\")","v":0},{"$f":"SUMIFS(Transakcijas!$R:$R,Transakcijas!$Q:$Q,$B$39,Transakcijas!$O:$O,YEAR($B40),Transakcijas!$P:$P,RIGHT(\"0\"&MONTH($B40),2),Transakcijas!$D:$D,\"Aprēķins\",Transakcijas!$H:$H,\"Pamatsumma\",Transakcijas!$K:$K,\"<>\"&\"FIFO*\",Transakcijas!$K:$K,\"<>\"&\"Iemaksas atbrīvošana\")-D40-F40","v":0},{"$f":"SUMIFS(Transakcijas!$R:$R,Transakcijas!$Q:$Q,$B$39,Transakcijas!$O:$O,YEAR($B40),Transakcijas!$P:$P,RIGHT(\"0\"&MONTH($B40),2),Transakcijas!$D:$D,\"Aprēķins\",Transakcijas!$H:$H,\"Pamatsumma\",Transakcijas!$K:$K,\"<>\"&\"FIFO*\",Transakcijas!$K:$K,\"<>\"&\"Iemaksas atbrīvošana\",Transakcijas!$F:$F,\"*nerezid*\")","v":0},{"$f":"SUMIFS(Transakcijas!$R:$R,Transakcijas!$Q:$Q,$B$39,Transakcijas!$O:$O,YEAR($B40),Transakcijas!$P:$P,RIGHT(\"0\"&MONTH($B40),2),Transakcijas!$D:$D,\"Aprēķins\",Transakcijas!$H:$H,\"Nokavējuma nauda\",Transakcijas!$K:$K,\"<>\"&\"FIFO*\",Transakcijas!$K:$K,\"<>\"&\"Iemaksas atbrīvošana\")","v":0},{"$f":"SUMIFS(Transakcijas!$R:$R,Transakcijas!$Q:$Q,$B$39,Transakcijas!$O:$O,YEAR($B40),Transakcijas!$P:$P,RIGHT(\"0\"&MONTH($B40),2),Transakcijas!$D:$D,\"Aprēķins\",Transakcijas!$H:$H,\"Soda nauda\",Transakcijas!$K:$K,\"<>\"&\"FIFO*\",Transakcijas!$K:$K,\"<>\"&\"Iemaksas atbrīvošana\")","v":0},{"$f":"SUMIFS(Transakcijas!$R:$R,Transakcijas!$Q:$Q,$B$39,Transakcijas!$O:$O,YEAR($B40),Transakcijas!$P:$P,RIGHT(\"0\"&MONTH($B40),2),Transakcijas!$D:$D,\"Iemaksa\",Transakcijas!$K:$K,\"<>\"&\"Izejošā maksājuma anulēšana\")\n+SUMIFS(Transakcijas!$R:$R,Transakcijas!$Q:$Q,$B$39,Transakcijas!$O:$O,YEAR($B40),Transakcijas!$P:$P,RIGHT(\"0\"&MONTH($B40),2),Transakcijas!$D:$D,\"Atmaksa\",Transakcijas!$K:$K,\"Iemaksas atbrīvošana\")","v":0},{"$f":"SUMIFS(Transakcijas!$R:$R,Transakcijas!$Q:$Q,$B$39,Transakcijas!$O:$O,YEAR($B40),Transakcijas!$P:$P,RIGHT(\"0\"&MONTH($B40),2),Transakcijas!$D:$D,\"Atmaksa\",Transakcijas!$K:$K,\"<>\"&\"Iemaksas atbrīvošana\")\n+SUMIFS(Transakcijas!$R:$R,Transakcijas!$Q:$Q,$B$39,Transakcijas!$O:$O,YEAR($B40),Transakcijas!$P:$P,RIGHT(\"0\"&MONTH($B40),2),Transakcijas!$D:$D,\"Iemaksa\",Transakcijas!$K:$K,\"Izejošā maksājuma anulēšana\")","v":0},{"$f":"SUMIFS(Transakcijas!$R:$R,Transakcijas!$Q:$Q,$B$39,Transakcijas!$O:$O,YEAR($B40),Transakcijas!$P:$P,RIGHT(\"0\"&MONTH($B40),2),Transakcijas!$K:$K,\"FIFO savstarpējā segšana\")\n+SUMIFS(Transakcijas!$R:$R,Transakcijas!$Q:$Q,$B$39,Transakcijas!$O:$O,YEAR($B40),Transakcijas!$P:$P,RIGHT(\"0\"&MONTH($B40),2),Transakcijas!$D:$D,\"Aprēķins\",Transakcijas!$K:$K,\"Iemaksas atbrīvošana\")","v":0},{"$f":"SUMIFS(Transakcijas!$R:$R,Transakcijas!$Q:$Q,$B$39,Transakcijas!$O:$O,YEAR($B40),Transakcijas!$P:$P,RIGHT(\"0\"&MONTH($B40),2))-SUM(D40:K40)","v":0},{"$f":"SUM(C40:L40)","v":0},{"$f":"ROUND(SUMIFS(Transakcijas!$R:$R,Transakcijas!$Q:$Q,$B$39,Transakcijas!$N:$N,\"<=\"&$B40,Transakcijas!$H:$H,\"Pamatsumma\"),2)","v":0},{"$f":"ROUND(SUMIFS(Transakcijas!$R:$R,Transakcijas!$Q:$Q,$B$39,Transakcijas!$N:$N,\"<=\"&$B40,Transakcijas!$H:$H,\"Nokavējuma nauda\"),2)","v":0},{"$f":"ROUND(SUMIFS(Transakcijas!$R:$R,Transakcijas!$Q:$Q,$B$39,Transakcijas!$N:$N,\"<=\"&$B40,Transakcijas!$H:$H,\"Soda nauda\"),2)","v":0}]
[null,{"$f":"IF(IF(B40=\"\",$M$4+1,DATE(YEAR(B40),MONTH(B40)+2,0))<=$M$4,DATE(YEAR(B40),MONTH(B40)+2,0),\"\")","v":"2024-02-29"},{"$f":"IF(B41=\"\",0,M40)","v":0},{"$f":"SUMIFS(Transakcijas!$R:$R,Transakcijas!$Q:$Q,$B$39,Transakcijas!$O:$O,YEAR($B41),Transakcijas!$P:$P,RIGHT(\"0\"&MONTH($B41),2),Transakcijas!$D:$D,\"Aprēķins\",Transakcijas!$H:$H,\"Pamatsumma\",Transakcijas!$K:$K,\"<>\"&\"FIFO*\",Transakcijas!$K:$K,\"<>\"&\"Iemaksas atbrīvošana\",Transakcijas!$F:$F,\"Darba devēja ziņojums\")","v":0},{"$f":"SUMIFS(Transakcijas!$R:$R,Transakcijas!$Q:$Q,$B$39,Transakcijas!$O:$O,YEAR($B41),Transakcijas!$P:$P,RIGHT(\"0\"&MONTH($B41),2),Transakcijas!$D:$D,\"Aprēķins\",Transakcijas!$H:$H,\"Pamatsumma\",Transakcijas!$K:$K,\"<>\"&\"FIFO*\",Transakcijas!$K:$K,\"<>\"&\"Iemaksas atbrīvošana\")-D41-F41","v":0},{"$f":"SUMIFS(Transakcijas!$R:$R,Transakcijas!$Q:$Q,$B$39,Transakcijas!$O:$O,YEAR($B41),Transakcijas!$P:$P,RIGHT(\"0\"&MONTH($B41),2),Transakcijas!$D:$D,\"Aprēķins\",Transakcijas!$H:$H,\"Pamatsumma\",Transakcijas!$K:$K,\"<>\"&\"FIFO*\",Transakcijas!$K:$K,\"<>\"&\"Iemaksas atbrīvošana\",Transakcijas!$F:$F,\"*nerezid*\")","v":0},{"$f":"SUMIFS(Transakcijas!$R:$R,Transakcijas!$Q:$Q,$B$39,Transakcijas!$O:$O,YEAR($B41),Transakcijas!$P:$P,RIGHT(\"0\"&MONTH($B41),2),Transakcijas!$D:$D,\"Aprēķins\",Transakcijas!$H:$H,\"Nokavējuma nauda\",Transakcijas!$K:$K,\"<>\"&\"FIFO*\",Transakcijas!$K:$K,\"<>\"&\"Iemaksas atbrīvošana\")","v":0},{"$f":"SUMIFS(Transakcijas!$R:$R,Transakcijas!$Q:$Q,$B$39,Transakcijas!$O:$O,YEAR($B41),Transakcijas!$P:$P,RIGHT(\"0\"&MONTH($B41),2),Transakcijas!$D:$D,\"Aprēķins\",Transakcijas!$H:$H,\"Soda nauda\",Transakcijas!$K:$K,\"<>\"&\"FIFO*\",Transakcijas!$K:$K,\"<>\"&\"Iemaksas atbrīvošana\")","v":0},{"$f":"SUMIFS(Transakcijas!$R:$R,Transakcijas!$Q:$Q,$B$39,Transakcijas!$O:$O,YEAR($B41),Transakcijas!$P:$P,RIGHT(\"0\"&MONTH($B41),2),Transakcijas!$D:$D,\"Iemaksa\",Transakcijas!$K:$K,\"<>\"&\"Izejošā maksājuma anulēšana\")\n+SUMIFS(Transakcijas!$R:$R,Transakcijas!$Q:$Q,$B$39,Transakcijas!$O:$O,YEAR($B41),Transakcijas!$P:$P,RIGHT(\"0\"&MONTH($B41),2),Transakcijas!$D:$D,\"Atmaksa\",Transakcijas!$K:$K,\"Iemaksas atbrīvošana\")","v":0},{"$f":"SUMIFS(Transakcijas!$R:$R,Transakcijas!$Q:$Q,$B$39,Transakcijas!$O:$O,YEAR($B41),Transakcijas!$P:$P,RIGHT(\"0\"&MONTH($B41),2),Transakcijas!$D:$D,\"Atmaksa\",Transakcijas!$K:$K,\"<>\"&\"Iemaksas atbrīvošana\")\n+SUMIFS(Transakcijas!$R:$R,Transakcijas!$Q:$Q,$B$39,Transakcijas!$O:$O,YEAR($B41),Transakcijas!$P:$P,RIGHT(\"0\"&MONTH($B41),2),Transakcijas!$D:$D,\"Iemaksa\",Transakcijas!$K:$K,\"Izejošā maksājuma anulēšana\")","v":0},{"$f":"SUMIFS(Transakcijas!$R:$R,Transakcijas!$Q:$Q,$B$39,Transakcijas!$O:$O,YEAR($B41),Transakcijas!$P:$P,RIGHT(\"0\"&MONTH($B41),2),Transakcijas!$K:$K,\"FIFO savstarpējā segšana\")\n+SUMIFS(Transakcijas!$R:$R,Transakcijas!$Q:$Q,$B$39,Transakcijas!$O:$O,YEAR($B41),Transakcijas!$P:$P,RIGHT(\"0\"&MONTH($B41),2),Transakcijas!$D:$D,\"Aprēķins\",Transakcijas!$K:$K,\"Iemaksas atbrīvošana\")","v":0},{"$f":"SUMIFS(Transakcijas!$R:$R,Transakcijas!$Q:$Q,$B$39,Transakcijas!$O:$O,YEAR($B41),Transakcijas!$P:$P,RIGHT(\"0\"&MONTH($B41),2))-SUM(D41:K41)","v":0},0,{"$f":"ROUND(SUMIFS(Transakcijas!$R:$R,Transakcijas!$Q:$Q,$B$39,Transakcijas!$N:$N,\"<=\"&$B41,Transakcijas!$H:$H,\"Pamatsumma\"),2)","v":0},{"$f":"ROUND(SUMIFS(Transakcijas!$R:$R,Transakcijas!$Q:$Q,$B$39,Transakcijas!$N:$N,\"<=\"&$B41,Transakcijas!$H:$H,\"Nokavējuma nauda\"),2)","v":0},{"$f":"ROUND(SUMIFS(Transakcijas!$R:$R,Transakcijas!$Q:$Q,$B$39,Transakcijas!$N:$N,\"<=\"&$B41,Transakcijas!$H:$H,\"Soda nauda\"),2)","v":0}]
[null,"2024-03-31",{"$f":"IF(B42=\"\",0,M41)","v":0},{"$f":"SUMIFS(Transakcijas!$R:$R,Transakcijas!$Q:$Q,$B$39,Transakcijas!$O:$O,YEAR($B42),Transakcijas!$P:$P,RIGHT(\"0\"&MONTH($B42),2),Transakcijas!$D:$D,\"Aprēķins\",Transakcijas!$H:$H,\"Pamatsumma\",Transakcijas!$K:$K,\"<>\"&\"FIFO*\",Transakcijas!$K:$K,\"<>\"&\"Iemaksas atbrīvošana\",Transakcijas!$F:$F,\"Darba devēja ziņojums\")","v":0},{"$f":"SUMIFS(Transakcijas!$R:$R,Transakcijas!$Q:$Q,$B$39,Transakcijas!$O:$O,YEAR($B42),Transakcijas!$P:$P,RIGHT(\"0\"&MONTH($B42),2),Transakcijas!$D:$D,\"Aprēķins\",Transakcijas!$H:$H,\"Pamatsumma\",Transakcijas!$K:$K,\"<>\"&\"FIFO*\",Transakcijas!$K:$K,\"<>\"&\"Iemaksas atbrīvošana\")-D42-F42","v":0},{"$f":"SUMIFS(Transakcijas!$R:$R,Transakcijas!$Q:$Q,$B$39,Transakcijas!$O:$O,YEAR($B42),Transakcijas!$P:$P,RIGHT(\"0\"&MONTH($B42),2),Transakcijas!$D:$D,\"Aprēķins\",Transakcijas!$H:$H,\"Pamatsumma\",Transakcijas!$K:$K,\"<>\"&\"FIFO*\",Transakcijas!$K:$K,\"<>\"&\"Iemaksas atbrīvošana\",Transakcijas!$F:$F,\"*nerezid*\")","v":0},{"$f":"SUMIFS(Transakcijas!$R:$R,Transakcijas!$Q:$Q,$B$39,Transakcijas!$O:$O,YEAR($B42),Transakcijas!$P:$P,RIGHT(\"0\"&MONTH($B42),2),Transakcijas!$D:$D,\"Aprēķins\",Transakcijas!$H:$H,\"Nokavējuma nauda\",Transakcijas!$K:$K,\"<>\"&\"FIFO*\",Transakcijas!$K:$K,\"<>\"&\"Iemaksas atbrīvošana\")","v":0},{"$f":"SUMIFS(Transakcijas!$R:$R,Transakcijas!$Q:$Q,$B$39,Transakcijas!$O:$O,YEAR($B42),Transakcijas!$P:$P,RIGHT(\"0\"&MONTH($B42),2),Transakcijas!$D:$D,\"Aprēķins\",Transakcijas!$H:$H,\"Soda nauda\",Transakcijas!$K:$K,\"<>\"&\"FIFO*\",Transakcijas!$K:$K,\"<>\"&\"Iemaksas atbrīvošana\")","v":0},{"$f":"SUMIFS(Transakcijas!$R:$R,Transakcijas!$Q:$Q,$B$39,Transakcijas!$O:$O,YEAR($B42),Transakcijas!$P:$P,RIGHT(\"0\"&MONTH($B42),2),Transakcijas!$D:$D,\"Iemaksa\",Transakcijas!$K:$K,\"<>\"&\"Izejošā maksājuma anulēšana\")\n+SUMIFS(Transakcijas!$R:$R,Transakcijas!$Q:$Q,$B$39,Transakcijas!$O:$O,YEAR($B42),Transakcijas!$P:$P,RIGHT(\"0\"&MONTH($B42),2),Transakcijas!$D:$D,\"Atmaksa\",Transakcijas!$K:$K,\"Iemaksas atbrīvošana\")","v":0},{"$f":"SUMIFS(Transakcijas!$R:$R,Transakcijas!$Q:$Q,$B$39,Transakcijas!$O:$O,YEAR($B42),Transakcijas!$P:$P,RIGHT(\"0\"&MONTH($B42),2),Transakcijas!$D:$D,\"Atmaksa\",Transakcijas!$K:$K,\"<>\"&\"Iemaksas atbrīvošana\")\n+SUMIFS(Transakcijas!$R:$R,Transakcijas!$Q:$Q,$B$39,Transakcijas!$O:$O,YEAR($B42),Transakcijas!$P:$P,RIGHT(\"0\"&MONTH($B42),2),Transakcijas!$D:$D,\"Iemaksa\",Transakcijas!$K:$K,\"Izejošā maksājuma anulēšana\")","v":0},{"$f":"SUMIFS(Transakcijas!$R:$R,Transakcijas!$Q:$Q,$B$39,Transakcijas!$O:$O,YEAR($B42),Transakcijas!$P:$P,RIGHT(\"0\"&MONTH($B42),2),Transakcijas!$K:$K,\"FIFO savstarpējā segšana\")\n+SUMIFS(Transakcijas!$R:$R,Transakcijas!$Q:$Q,$B$39,Transakcijas!$O:$O,YEAR($B42),Transakcijas!$P:$P,RIGHT(\"0\"&MONTH($B42),2),Transakcijas!$D:$D,\"Aprēķins\",Transakcijas!$K:$K,\"Iemaksas atbrīvošana\")","v":0},{"$f":"SUMIFS(Transakcijas!$R:$R,Transakcijas!$Q:$Q,$B$39,Transakcijas!$O:$O,YEAR($B42),Transakcijas!$P:$P,RIGHT(\"0\"&MONTH($B42),2))-SUM(D42:K42)","v":0},{"$f":"SUM(C42:L42)","v":0},{"$f":"ROUND(SUMIFS(Transakcijas!$R:$R,Transakcijas!$Q:$Q,$B$39,Transakcijas!$N:$N,\"<=\"&$B42,Transakcijas!$H:$H,\"Pamatsumma\"),2)","v":0},{"$f":"ROUND(SUMIFS(Transakcijas!$R:$R,Transakcijas!$Q:$Q,$B$39,Transakcijas!$N:$N,\"<=\"&$B42,Transakcijas!$H:$H,\"Nokavējuma nauda\"),2)","v":0},{"$f":"ROUND(SUMIFS(Transakcijas!$R:$R,Transakcijas!$Q:$Q,$B$39,Transakcijas!$N:$N,\"<=\"&$B42,Transakcijas!$H:$H,\"Soda nauda\"),2)","v":0}]
[null,"2024-04-30",0,{"$f":"SUMIFS(Transakcijas!$R:$R,Transakcijas!$Q:$Q,$B$39,Transakcijas!$O:$O,YEAR($B43),Transakcijas!$P:$P,RIGHT(\"0\"&MONTH($B43),2),Transakcijas!$D:$D,\"Aprēķins\",Transakcijas!$H:$H,\"Pamatsumma\",Transakcijas!$K:$K,\"<>\"&\"FIFO*\",Transakcijas!$K:$K,\"<>\"&\"Iemaksas atbrīvošana\",Transakcijas!$F:$F,\"Darba devēja ziņojums\")","v":0},{"$f":"SUMIFS(Transakcijas!$R:$R,Transakcijas!$Q:$Q,$B$39,Transakcijas!$O:$O,YEAR($B43),Transakcijas!$P:$P,RIGHT(\"0\"&MONTH($B43),2),Transakcijas!$D:$D,\"Aprēķins\",Transakcijas!$H:$H,\"Pamatsumma\",Transakcijas!$K:$K,\"<>\"&\"FIFO*\",Transakcijas!$K:$K,\"<>\"&\"Iemaksas atbrīvošana\")-D43-F43","v":0},{"$f":"SUMIFS(Transakcijas!$R:$R,Transakcijas!$Q:$Q,$B$39,Transakcijas!$O:$O,YEAR($B43),Transakcijas!$P:$P,RIGHT(\"0\"&MONTH($B43),2),Transakcijas!$D:$D,\"Aprēķins\",Transakcijas!$H:$H,\"Pamatsumma\",Transakcijas!$K:$K,\"<>\"&\"FIFO*\",Transakcijas!$K:$K,\"<>\"&\"Iemaksas atbrīvošana\",Transakcijas!$F:$F,\"*nerezid*\")","v":0},{"$f":"SUMIFS(Transakcijas!$R:$R,Transakcijas!$Q:$Q,$B$39,Transakcijas!$O:$O,YEAR($B43),Transakcijas!$P:$P,RIGHT(\"0\"&MONTH($B43),2),Transakcijas!$D:$D,\"Aprēķins\",Transakcijas!$H:$H,\"Nokavējuma nauda\",Transakcijas!$K:$K,\"<>\"&\"FIFO*\",Transakcijas!$K:$K,\"<>\"&\"Iemaksas atbrīvošana\")","v":0},{"$f":"SUMIFS(Transakcijas!$R:$R,Transakcijas!$Q:$Q,$B$39,Transakcijas!$O:$O,YEAR($B43),Transakcijas!$P:$P,RIGHT(\"0\"&MONTH($B43),2),Transakcijas!$D:$D,\"Aprēķins\",Transakcijas!$H:$H,\"Soda nauda\",Transakcijas!$K:$K,\"<>\"&\"FIFO*\",Transakcijas!$K:$K,\"<>\"&\"Iemaksas atbrīvošana\")","v":0},{"$f":"SUMIFS(Transakcijas!$R:$R,Transakcijas!$Q:$Q,$B$39,Transakcijas!$O:$O,YEAR($B43),Transakcijas!$P:$P,RIGHT(\"0\"&MONTH($B43),2),Transakcijas!$D:$D,\"Iemaksa\",Transakcijas!$K:$K,\"<>\"&\"Izejošā maksājuma anulēšana\")\n+SUMIFS(Transakcijas!$R:$R,Transakcijas!$Q:$Q,$B$39,Transakcijas!$O:$O,YEAR($B43),Transakcijas!$P:$P,RIGHT(\"0\"&MONTH($B43),2),Transakcijas!$D:$D,\"Atmaksa\",Transakcijas!$K:$K,\"Iemaksas atbrīvošana\")","v":0},{"$f":"SUMIFS(Transakcijas!$R:$R,Transakcijas!$Q:$Q,$B$39,Transakcijas!$O:$O,YEAR($B43),Transakcijas!$P:$P,RIGHT(\"0\"&MONTH($B43),2),Transakcijas!$D:$D,\"Atmaksa\",Transakcijas!$K:$K,\"<>\"&\"Iemaksas atbrīvošana\")\n+SUMIFS(Transakcijas!$R:$R,Transakcijas!$Q:$Q,$B$39,Transakcijas!$O:$O,YEAR($B43),Transakcijas!$P:$P,RIGHT(\"0\"&MONTH($B43),2),Transakcijas!$D:$D,\"Iemaksa\",Transakcijas!$K:$K,\"Izejošā maksājuma anulēšana\")","v":0},{"$f":"SUMIFS(Transakcijas!$R:$R,Transakcijas!$Q:$Q,$B$39,Transakcijas!$O:$O,YEAR($B43),Transakcijas!$P:$P,RIGHT(\"0\"&MONTH($B43),2),Transakcijas!$K:$K,\"FIFO savstarpējā segšana\")\n+SUMIFS(Transakcijas!$R:$R,Transakcijas!$Q:$Q,$B$39,Transakcijas!$O:$O,YEAR($B43),Transakcijas!$P:$P,RIGHT(\"0\"&MONTH($B43),2),Transakcijas!$D:$D,\"Aprēķins\",Transakcijas!$K:$K,\"Iemaksas atbrīvošana\")","v":0},{"$f":"SUMIFS(Transakcijas!$R:$R,Transakcijas!$Q:$Q,$B$39,Transakcijas!$O:$O,YEAR($B43),Transakcijas!$P:$P,RIGHT(\"0\"&MONTH($B43),2))-SUM(D43:K43)","v":0},0,{"$f":"ROUND(SUMIFS(Transakcijas!$R:$R,Transakcijas!$Q:$Q,$B$39,Transakcijas!$N:$N,\"<=\"&$B43,Transakcijas!$H:$H,\"Pamatsumma\"),2)","v":0},{"$f":"ROUND(SUMIFS(Transakcijas!$R:$R,Transakcijas!$Q:$Q,$B$39,Transakcijas!$N:$N,\"<=\"&$B43,Transakcijas!$H:$H,\"Nokavējuma nauda\"),2)","v":0},{"$f":"ROUND(SUMIFS(Transakcijas!$R:$R,Transakcijas!$Q:$Q,$B$39,Transakcijas!$N:$N,\"<=\"&$B43,Transakcijas!$H:$H,\"Soda nauda\"),2)","v":0}]
[null,"2024-05-31",0,{"$f":"SUMIFS(Transakcijas!$R:$R,Transakcijas!$Q:$Q,$B$39,Transakcijas!$O:$O,YEAR($B44),Transakcijas!$P:$P,RIGHT(\"0\"&MONTH($B44),2),Transakcijas!$D:$D,\"Aprēķins\",Transakcijas!$H:$H,\"Pamatsumma\",Transakcijas!$K:$K,\"<>\"&\"FIFO*\",Transakcijas!$K:$K,\"<>\"&\"Iemaksas atbrīvošana\",Transakcijas!$F:$F,\"Darba devēja ziņojums\")","v":0},{"$f":"SUMIFS(Transakcijas!$R:$R,Transakcijas!$Q:$Q,$B$39,Transakcijas!$O:$O,YEAR($B44),Transakcijas!$P:$P,RIGHT(\"0\"&MONTH($B44),2),Transakcijas!$D:$D,\"Aprēķins\",Transakcijas!$H:$H,\"Pamatsumma\",Transakcijas!$K:$K,\"<>\"&\"FIFO*\",Transakcijas!$K:$K,\"<>\"&\"Iemaksas atbrīvošana\")-D44-F44","v":0},{"$f":"SUMIFS(Transakcijas!$R:$R,Transakcijas!$Q:$Q,$B$39,Transakcijas!$O:$O,YEAR($B44),Transakcijas!$P:$P,RIGHT(\"0\"&MONTH($B44),2),Transakcijas!$D:$D,\"Aprēķins\",Transakcijas!$H:$H,\"Pamatsumma\",Transakcijas!$K:$K,\"<>\"&\"FIFO*\",Transakcijas!$K:$K,\"<>\"&\"Iemaksas atbrīvošana\",Transakcijas!$F:$F,\"*nerezid*\")","v":0},{"$f":"SUMIFS(Transakcijas!$R:$R,Transakcijas!$Q:$Q,$B$39,Transakcijas!$O:$O,YEAR($B44),Transakcijas!$P:$P,RIGHT(\"0\"&MONTH($B44),2),Transakcijas!$D:$D,\"Aprēķins\",Transakcijas!$H:$H,\"Nokavējuma nauda\",Transakcijas!$K:$K,\"<>\"&\"FIFO*\",Transakcijas!$K:$K,\"<>\"&\"Iemaksas atbrīvošana\")","v":0},{"$f":"SUMIFS(Transakcijas!$R:$R,Transakcijas!$Q:$Q,$B$39,Transakcijas!$O:$O,YEAR($B44),Transakcijas!$P:$P,RIGHT(\"0\"&MONTH($B44),2),Transakcijas!$D:$D,\"Aprēķins\",Transakcijas!$H:$H,\"Soda nauda\",Transakcijas!$K:$K,\"<>\"&\"FIFO*\",Transakcijas!$K:$K,\"<>\"&\"Iemaksas atbrīvošana\")","v":0},{"$f":"SUMIFS(Transakcijas!$R:$R,Transakcijas!$Q:$Q,$B$39,Transakcijas!$O:$O,YEAR($B44),Transakcijas!$P:$P,RIGHT(\"0\"&MONTH($B44),2),Transakcijas!$D:$D,\"Iemaksa\",Transakcijas!$K:$K,\"<>\"&\"Izejošā maksājuma anulēšana\")\n+SUMIFS(Transakcijas!$R:$R,Transakcijas!$Q:$Q,$B$39,Transakcijas!$O:$O,YEAR($B44),Transakcijas!$P:$P,RIGHT(\"0\"&MONTH($B44),2),Transakcijas!$D:$D,\"Atmaksa\",Transakcijas!$K:$K,\"Iemaksas atbrīvošana\")","v":0},{"$f":"SUMIFS(Transakcijas!$R:$R,Transakcijas!$Q:$Q,$B$39,Transakcijas!$O:$O,YEAR($B44),Transakcijas!$P:$P,RIGHT(\"0\"&MONTH($B44),2),Transakcijas!$D:$D,\"Atmaksa\",Transakcijas!$K:$K,\"<>\"&\"Iemaksas atbrīvošana\")\n+SUMIFS(Transakcijas!$R:$R,Transakcijas!$Q:$Q,$B$39,Transakcijas!$O:$O,YEAR($B44),Transakcijas!$P:$P,RIGHT(\"0\"&MONTH($B44),2),Transakcijas!$D:$D,\"Iemaksa\",Transakcijas!$K:$K,\"Izejošā maksājuma anulēšana\")","v":0},{"$f":"SUMIFS(Transakcijas!$R:$R,Transakcijas!$Q:$Q,$B$39,Transakcijas!$O:$O,YEAR($B44),Transakcijas!$P:$P,RIGHT(\"0\"&MONTH($B44),2),Transakcijas!$K:$K,\"FIFO savstarpējā segšana\")\n+SUMIFS(Transakcijas!$R:$R,Transakcijas!$Q:$Q,$B$39,Transakcijas!$O:$O,YEAR($B44),Transakcijas!$P:$P,RIGHT(\"0\"&MONTH($B44),2),Transakcijas!$D:$D,\"Aprēķins\",Transakcijas!$K:$K,\"Iemaksas atbrīvošana\")","v":0},{"$f":"SUMIFS(Transakcijas!$R:$R,Transakcijas!$Q:$Q,$B$39,Transakcijas!$O:$O,YEAR($B44),Transakcijas!$P:$P,RIGHT(\"0\"&MONTH($B44),2))-SUM(D44:K44)","v":0},0,{"$f":"ROUND(SUMIFS(Transakcijas!$R:$R,Transakcijas!$Q:$Q,$B$39,Transakcijas!$N:$N,\"<=\"&$B44,Transakcijas!$H:$H,\"Pamatsumma\"),2)","v":0},{"$f":"ROUND(SUMIFS(Transakcijas!$R:$R,Transakcijas!$Q:$Q,$B$39,Transakcijas!$N:$N,\"<=\"&$B44,Transakcijas!$H:$H,\"Nokavējuma nauda\"),2)","v":0},{"$f":"ROUND(SUMIFS(Transakcijas!$R:$R,Transakcijas!$Q:$Q,$B$39,Transakcijas!$N:$N,\"<=\"&$B44,Transakcijas!$H:$H,\"Soda nauda\"),2)","v":0}]
[null,"2024-06-30",0,{"$f":"SUMIFS(Transakcijas!$R:$R,Transakcijas!$Q:$Q,$B$39,Transakcijas!$O:$O,YEAR($B45),Transakcijas!$P:$P,RIGHT(\"0\"&MONTH($B45),2),Transakcijas!$D:$D,\"Aprēķins\",Transakcijas!$H:$H,\"Pamatsumma\",Transakcijas!$K:$K,\"<>\"&\"FIFO*\",Transakcijas!$K:$K,\"<>\"&\"Iemaksas atbrīvošana\",Transakcijas!$F:$F,\"Darba devēja ziņojums\")","v":0},{"$f":"SUMIFS(Transakcijas!$R:$R,Transakcijas!$Q:$Q,$B$39,Transakcijas!$O:$O,YEAR($B45),Transakcijas!$P:$P,RIGHT(\"0\"&MONTH($B45),2),Transakcijas!$D:$D,\"Aprēķins\",Transakcijas!$H:$H,\"Pamatsumma\",Transakcijas!$K:$K,\"<>\"&\"FIFO*\",Transakcijas!$K:$K,\"<>\"&\"Iemaksas atbrīvošana\")-D45-F45","v":0},{"$f":"SUMIFS(Transakcijas!$R:$R,Transakcijas!$Q:$Q,$B$39,Transakcijas!$O:$O,YEAR($B45),Transakcijas!$P:$P,RIGHT(\"0\"&MONTH($B45),2),Transakcijas!$D:$D,\"Aprēķins\",Transakcijas!$H:$H,\"Pamatsumma\",Transakcijas!$K:$K,\"<>\"&\"FIFO*\",Transakcijas!$K:$K,\"<>\"&\"Iemaksas atbrīvošana\",Transakcijas!$F:$F,\"*nerezid*\")","v":0},{"$f":"SUMIFS(Transakcijas!$R:$R,Transakcijas!$Q:$Q,$B$39,Transakcijas!$O:$O,YEAR($B45),Transakcijas!$P:$P,RIGHT(\"0\"&MONTH($B45),2),Transakcijas!$D:$D,\"Aprēķins\",Transakcijas!$H:$H,\"Nokavējuma nauda\",Transakcijas!$K:$K,\"<>\"&\"FIFO*\",Transakcijas!$K:$K,\"<>\"&\"Iemaksas atbrīvošana\")","v":0},{"$f":"SUMIFS(Transakcijas!$R:$R,Transakcijas!$Q:$Q,$B$39,Transakcijas!$O:$O,YEAR($B45),Transakcijas!$P:$P,RIGHT(\"0\"&MONTH($B45),2),Transakcijas!$D:$D,\"Aprēķins\",Transakcijas!$H:$H,\"Soda nauda\",Transakcijas!$K:$K,\"<>\"&\"FIFO*\",Transakcijas!$K:$K,\"<>\"&\"Iemaksas atbrīvošana\")","v":0},{"$f":"SUMIFS(Transakcijas!$R:$R,Transakcijas!$Q:$Q,$B$39,Transakcijas!$O:$O,YEAR($B45),Transakcijas!$P:$P,RIGHT(\"0\"&MONTH($B45),2),Transakcijas!$D:$D,\"Iemaksa\",Transakcijas!$K:$K,\"<>\"&\"Izejošā maksājuma anulēšana\")\n+SUMIFS(Transakcijas!$R:$R,Transakcijas!$Q:$Q,$B$39,Transakcijas!$O:$O,YEAR($B45),Transakcijas!$P:$P,RIGHT(\"0\"&MONTH($B45),2),Transakcijas!$D:$D,\"Atmaksa\",Transakcijas!$K:$K,\"Iemaksas atbrīvošana\")","v":0},{"$f":"SUMIFS(Transakcijas!$R:$R,Transakcijas!$Q:$Q,$B$39,Transakcijas!$O:$O,YEAR($B45),Transakcijas!$P:$P,RIGHT(\"0\"&MONTH($B45),2),Transakcijas!$D:$D,\"Atmaksa\",Transakcijas!$K:$K,\"<>\"&\"Iemaksas atbrīvošana\")\n+SUMIFS(Transakcijas!$R:$R,Transakcijas!$Q:$Q,$B$39,Transakcijas!$O:$O,YEAR($B45),Transakcijas!$P:$P,RIGHT(\"0\"&MONTH($B45),2),Transakcijas!$D:$D,\"Iemaksa\",Transakcijas!$K:$K,\"Izejošā maksājuma anulēšana\")","v":0},{"$f":"SUMIFS(Transakcijas!$R:$R,Transakcijas!$Q:$Q,$B$39,Transakcijas!$O:$O,YEAR($B45),Transakcijas!$P:$P,RIGHT(\"0\"&MONTH($B45),2),Transakcijas!$K:$K,\"FIFO savstarpējā segšana\")\n+SUMIFS(Transakcijas!$R:$R,Transakcijas!$Q:$Q,$B$39,Transakcijas!$O:$O,YEAR($B45),Transakcijas!$P:$P,RIGHT(\"0\"&MONTH($B45),2),Transakcijas!$D:$D,\"Aprēķins\",Transakcijas!$K:$K,\"Iemaksas atbrīvošana\")","v":0},{"$f":"SUMIFS(Transakcijas!$R:$R,Transakcijas!$Q:$Q,$B$39,Transakcijas!$O:$O,YEAR($B45),Transakcijas!$P:$P,RIGHT(\"0\"&MONTH($B45),2))-SUM(D45:K45)","v":0},0,{"$f":"ROUND(SUMIFS(Transakcijas!$R:$R,Transakcijas!$Q:$Q,$B$39,Transakcijas!$N:$N,\"<=\"&$B45,Transakcijas!$H:$H,\"Pamatsumma\"),2)","v":0},{"$f":"ROUND(SUMIFS(Transakcijas!$R:$R,Transakcijas!$Q:$Q,$B$39,Transakcijas!$N:$N,\"<=\"&$B45,Transakcijas!$H:$H,\"Nokavējuma nauda\"),2)","v":0},{"$f":"ROUND(SUMIFS(Transakcijas!$R:$R,Transakcijas!$Q:$Q,$B$39,Transakcijas!$N:$N,\"<=\"&$B45,Transakcijas!$H:$H,\"Soda nauda\"),2)","v":0}]
[null,"2024-07-31",0,{"$f":"SUMIFS(Transakcijas!$R:$R,Transakcijas!$Q:$Q,$B$39,Transakcijas!$O:$O,YEAR($B46),Transakcijas!$P:$P,RIGHT(\"0\"&MONTH($B46),2),Transakcijas!$D:$D,\"Aprēķins\",Transakcijas!$H:$H,\"Pamatsumma\",Transakcijas!$K:$K,\"<>\"&\"FIFO*\",Transakcijas!$K:$K,\"<>\"&\"Iemaksas atbrīvošana\",Transakcijas!$F:$F,\"Darba devēja ziņojums\")","v":0},{"$f":"SUMIFS(Transakcijas!$R:$R,Transakcijas!$Q:$Q,$B$39,Transakcijas!$O:$O,YEAR($B46),Transakcijas!$P:$P,RIGHT(\"0\"&MONTH($B46),2),Transakcijas!$D:$D,\"Aprēķins\",Transakcijas!$H:$H,\"Pamatsumma\",Transakcijas!$K:$K,\"<>\"&\"FIFO*\",Transakcijas!$K:$K,\"<>\"&\"Iemaksas atbrīvošana\")-D46-F46","v":0},{"$f":"SUMIFS(Transakcijas!$R:$R,Transakcijas!$Q:$Q,$B$39,Transakcijas!$O:$O,YEAR($B46),Transakcijas!$P:$P,RIGHT(\"0\"&MONTH($B46),2),Transakcijas!$D:$D,\"Aprēķins\",Transakcijas!$H:$H,\"Pamatsumma\",Transakcijas!$K:$K,\"<>\"&\"FIFO*\",Transakcijas!$K:$K,\"<>\"&\"Iemaksas atbrīvošana\",Transakcijas!$F:$F,\"*nerezid*\")","v":0},{"$f":"SUMIFS(Transakcijas!$R:$R,Transakcijas!$Q:$Q,$B$39,Transakcijas!$O:$O,YEAR($B46),Transakcijas!$P:$P,RIGHT(\"0\"&MONTH($B46),2),Transakcijas!$D:$D,\"Aprēķins\",Transakcijas!$H:$H,\"Nokavējuma nauda\",Transakcijas!$K:$K,\"<>\"&\"FIFO*\",Transakcijas!$K:$K,\"<>\"&\"Iemaksas atbrīvošana\")","v":0},{"$f":"SUMIFS(Transakcijas!$R:$R,Transakcijas!$Q:$Q,$B$39,Transakcijas!$O:$O,YEAR($B46),Transakcijas!$P:$P,RIGHT(\"0\"&MONTH($B46),2),Transakcijas!$D:$D,\"Aprēķins\",Transakcijas!$H:$H,\"Soda nauda\",Transakcijas!$K:$K,\"<>\"&\"FIFO*\",Transakcijas!$K:$K,\"<>\"&\"Iemaksas atbrīvošana\")","v":0},{"$f":"SUMIFS(Transakcijas!$R:$R,Transakcijas!$Q:$Q,$B$39,Transakcijas!$O:$O,YEAR($B46),Transakcijas!$P:$P,RIGHT(\"0\"&MONTH($B46),2),Transakcijas!$D:$D,\"Iemaksa\",Transakcijas!$K:$K,\"<>\"&\"Izejošā maksājuma anulēšana\")\n+SUMIFS(Transakcijas!$R:$R,Transakcijas!$Q:$Q,$B$39,Transakcijas!$O:$O,YEAR($B46),Transakcijas!$P:$P,RIGHT(\"0\"&MONTH($B46),2),Transakcijas!$D:$D,\"Atmaksa\",Transakcijas!$K:$K,\"Iemaksas atbrīvošana\")","v":0},{"$f":"SUMIFS(Transakcijas!$R:$R,Transakcijas!$Q:$Q,$B$39,Transakcijas!$O:$O,YEAR($B46),Transakcijas!$P:$P,RIGHT(\"0\"&MONTH($B46),2),Transakcijas!$D:$D,\"Atmaksa\",Transakcijas!$K:$K,\"<>\"&\"Iemaksas atbrīvošana\")\n+SUMIFS(Transakcijas!$R:$R,Transakcijas!$Q:$Q,$B$39,Transakcijas!$O:$O,YEAR($B46),Transakcijas!$P:$P,RIGHT(\"0\"&MONTH($B46),2),Transakcijas!$D:$D,\"Iemaksa\",Transakcijas!$K:$K,\"Izejošā maksājuma anulēšana\")","v":0},{"$f":"SUMIFS(Transakcijas!$R:$R,Transakcijas!$Q:$Q,$B$39,Transakcijas!$O:$O,YEAR($B46),Transakcijas!$P:$P,RIGHT(\"0\"&MONTH($B46),2),Transakcijas!$K:$K,\"FIFO savstarpējā segšana\")\n+SUMIFS(Transakcijas!$R:$R,Transakcijas!$Q:$Q,$B$39,Transakcijas!$O:$O,YEAR($B46),Transakcijas!$P:$P,RIGHT(\"0\"&MONTH($B46),2),Transakcijas!$D:$D,\"Aprēķins\",Transakcijas!$K:$K,\"Iemaksas atbrīvošana\")","v":0},{"$f":"SUMIFS(Transakcijas!$R:$R,Transakcijas!$Q:$Q,$B$39,Transakcijas!$O:$O,YEAR($B46),Transakcijas!$P:$P,RIGHT(\"0\"&MONTH($B46),2))-SUM(D46:K46)","v":0},0,{"$f":"ROUND(SUMIFS(Transakcijas!$R:$R,Transakcijas!$Q:$Q,$B$39,Transakcijas!$N:$N,\"<=\"&$B46,Transakcijas!$H:$H,\"Pamatsumma\"),2)","v":0},{"$f":"ROUND(SUMIFS(Transakcijas!$R:$R,Transakcijas!$Q:$Q,$B$39,Transakcijas!$N:$N,\"<=\"&$B46,Transakcijas!$H:$H,\"Nokavējuma nauda\"),2)","v":0},{"$f":"ROUND(SUMIFS(Transakcijas!$R:$R,Transakcijas!$Q:$Q,$B$39,Transakcijas!$N:$N,\"<=\"&$B46,Transakcijas!$H:$H,\"Soda nauda\"),2)","v":0}]
[null,"2024-08-31",0,{"$f":"SUMIFS(Transakcijas!$R:$R,Transakcijas!$Q:$Q,$B$39,Transakcijas!$O:$O,YEAR($B47),Transakcijas!$P:$P,RIGHT(\"0\"&MONTH($B47),2),Transakcijas!$D:$D,\"Aprēķins\",Transakcijas!$H:$H,\"Pamatsumma\",Transakcijas!$K:$K,\"<>\"&\"FIFO*\",Transakcijas!$K:$K,\"<>\"&\"Iemaksas atbrīvošana\",Transakcijas!$F:$F,\"Darba devēja ziņojums\")","v":0},{"$f":"SUMIFS(Transakcijas!$R:$R,Transakcijas!$Q:$Q,$B$39,Transakcijas!$O:$O,YEAR($B47),Transakcijas!$P:$P,RIGHT(\"0\"&MONTH($B47),2),Transakcijas!$D:$D,\"Aprēķins\",Transakcijas!$H:$H,\"Pamatsumma\",Transakcijas!$K:$K,\"<>\"&\"FIFO*\",Transakcijas!$K:$K,\"<>\"&\"Iemaksas atbrīvošana\")-D47-F47","v":0},{"$f":"SUMIFS(Transakcijas!$R:$R,Transakcijas!$Q:$Q,$B$39,Transakcijas!$O:$O,YEAR($B47),Transakcijas!$P:$P,RIGHT(\"0\"&MONTH($B47),2),Transakcijas!$D:$D,\"Aprēķins\",Transakcijas!$H:$H,\"Pamatsumma\",Transakcijas!$K:$K,\"<>\"&\"FIFO*\",Transakcijas!$K:$K,\"<>\"&\"Iemaksas atbrīvošana\",Transakcijas!$F:$F,\"*nerezid*\")","v":0},{"$f":"SUMIFS(Transakcijas!$R:$R,Transakcijas!$Q:$Q,$B$39,Transakcijas!$O:$O,YEAR($B47),Transakcijas!$P:$P,RIGHT(\"0\"&MONTH($B47),2),Transakcijas!$D:$D,\"Aprēķins\",Transakcijas!$H:$H,\"Nokavējuma nauda\",Transakcijas!$K:$K,\"<>\"&\"FIFO*\",Transakcijas!$K:$K,\"<>\"&\"Iemaksas atbrīvošana\")","v":0},{"$f":"SUMIFS(Transakcijas!$R:$R,Transakcijas!$Q:$Q,$B$39,Transakcijas!$O:$O,YEAR($B47),Transakcijas!$P:$P,RIGHT(\"0\"&MONTH($B47),2),Transakcijas!$D:$D,\"Aprēķins\",Transakcijas!$H:$H,\"Soda nauda\",Transakcijas!$K:$K,\"<>\"&\"FIFO*\",Transakcijas!$K:$K,\"<>\"&\"Iemaksas atbrīvošana\")","v":0},{"$f":"SUMIFS(Transakcijas!$R:$R,Transakcijas!$Q:$Q,$B$39,Transakcijas!$O:$O,YEAR($B47),Transakcijas!$P:$P,RIGHT(\"0\"&MONTH($B47),2),Transakcijas!$D:$D,\"Iemaksa\",Transakcijas!$K:$K,\"<>\"&\"Izejošā maksājuma anulēšana\")\n+SUMIFS(Transakcijas!$R:$R,Transakcijas!$Q:$Q,$B$39,Transakcijas!$O:$O,YEAR($B47),Transakcijas!$P:$P,RIGHT(\"0\"&MONTH($B47),2),Transakcijas!$D:$D,\"Atmaksa\",Transakcijas!$K:$K,\"Iemaksas atbrīvošana\")","v":0},{"$f":"SUMIFS(Transakcijas!$R:$R,Transakcijas!$Q:$Q,$B$39,Transakcijas!$O:$O,YEAR($B47),Transakcijas!$P:$P,RIGHT(\"0\"&MONTH($B47),2),Transakcijas!$D:$D,\"Atmaksa\",Transakcijas!$K:$K,\"<>\"&\"Iemaksas atbrīvošana\")\n+SUMIFS(Transakcijas!$R:$R,Transakcijas!$Q:$Q,$B$39,Transakcijas!$O:$O,YEAR($B47),Transakcijas!$P:$P,RIGHT(\"0\"&MONTH($B47),2),Transakcijas!$D:$D,\"Iemaksa\",Transakcijas!$K:$K,\"Izejošā maksājuma anulēšana\")","v":0},{"$f":"SUMIFS(Transakcijas!$R:$R,Transakcijas!$Q:$Q,$B$39,Transakcijas!$O:$O,YEAR($B47),Transakcijas!$P:$P,RIGHT(\"0\"&MONTH($B47),2),Transakcijas!$K:$K,\"FIFO savstarpējā segšana\")\n+SUMIFS(Transakcijas!$R:$R,Transakcijas!$Q:$Q,$B$39,Transakcijas!$O:$O,YEAR($B47),Transakcijas!$P:$P,RIGHT(\"0\"&MONTH($B47),2),Transakcijas!$D:$D,\"Aprēķins\",Transakcijas!$K:$K,\"Iemaksas atbrīvošana\")","v":0},{"$f":"SUMIFS(Transakcijas!$R:$R,Transakcijas!$Q:$Q,$B$39,Transakcijas!$O:$O,YEAR($B47),Transakcijas!$P:$P,RIGHT(\"0\"&MONTH($B47),2))-SUM(D47:K47)","v":0},0,{"$f":"ROUND(SUMIFS(Transakcijas!$R:$R,Transakcijas!$Q:$Q,$B$39,Transakcijas!$N:$N,\"<=\"&$B47,Transakcijas!$H:$H,\"Pamatsumma\"),2)","v":0},{"$f":"ROUND(SUMIFS(Transakcijas!$R:$R,Transakcijas!$Q:$Q,$B$39,Transakcijas!$N:$N,\"<=\"&$B47,Transakcijas!$H:$H,\"Nokavējuma nauda\"),2)","v":0},{"$f":"ROUND(SUMIFS(Transakcijas!$R:$R,Transakcijas!$Q:$Q,$B$39,Transakcijas!$N:$N,\"<=\"&$B47,Transakcijas!$H:$H,\"Soda nauda\"),2)","v":0}]
[null,"2024-09-30",0,{"$f":"SUMIFS(Transakcijas!$R:$R,Transakcijas!$Q:$Q,$B$39,Transakcijas!$O:$O,YEAR($B48),Transakcijas!$P:$P,RIGHT(\"0\"&MONTH($B48),2),Transakcijas!$D:$D,\"Aprēķins\",Transakcijas!$H:$H,\"Pamatsumma\",Transakcijas!$K:$K,\"<>\"&\"FIFO*\",Transakcijas!$K:$K,\"<>\"&\"Iemaksas atbrīvošana\",Transakcijas!$F:$F,\"Darba devēja ziņojums\")","v":0},{"$f":"SUMIFS(Transakcijas!$R:$R,Transakcijas!$Q:$Q,$B$39,Transakcijas!$O:$O,YEAR($B48),Transakcijas!$P:$P,RIGHT(\"0\"&MONTH($B48),2),Transakcijas!$D:$D,\"Aprēķins\",Transakcijas!$H:$H,\"Pamatsumma\",Transakcijas!$K:$K,\"<>\"&\"FIFO*\",Transakcijas!$K:$K,\"<>\"&\"Iemaksas atbrīvošana\")-D48-F48","v":0},{"$f":"SUMIFS(Transakcijas!$R:$R,Transakcijas!$Q:$Q,$B$39,Transakcijas!$O:$O,YEAR($B48),Transakcijas!$P:$P,RIGHT(\"0\"&MONTH($B48),2),Transakcijas!$D:$D,\"Aprēķins\",Transakcijas!$H:$H,\"Pamatsumma\",Transakcijas!$K:$K,\"<>\"&\"FIFO*\",Transakcijas!$K:$K,\"<>\"&\"Iemaksas atbrīvošana\",Transakcijas!$F:$F,\"*nerezid*\")","v":0},{"$f":"SUMIFS(Transakcijas!$R:$R,Transakcijas!$Q:$Q,$B$39,Transakcijas!$O:$O,YEAR($B48),Transakcijas!$P:$P,RIGHT(\"0\"&MONTH($B48),2),Transakcijas!$D:$D,\"Aprēķins\",Transakcijas!$H:$H,\"Nokavējuma nauda\",Transakcijas!$K:$K,\"<>\"&\"FIFO*\",Transakcijas!$K:$K,\"<>\"&\"Iemaksas atbrīvošana\")","v":0},{"$f":"SUMIFS(Transakcijas!$R:$R,Transakcijas!$Q:$Q,$B$39,Transakcijas!$O:$O,YEAR($B48),Transakcijas!$P:$P,RIGHT(\"0\"&MONTH($B48),2),Transakcijas!$D:$D,\"Aprēķins\",Transakcijas!$H:$H,\"Soda nauda\",Transakcijas!$K:$K,\"<>\"&\"FIFO*\",Transakcijas!$K:$K,\"<>\"&\"Iemaksas atbrīvošana\")","v":0},{"$f":"SUMIFS(Transakcijas!$R:$R,Transakcijas!$Q:$Q,$B$39,Transakcijas!$O:$O,YEAR($B48),Transakcijas!$P:$P,RIGHT(\"0\"&MONTH($B48),2),Transakcijas!$D:$D,\"Iemaksa\",Transakcijas!$K:$K,\"<>\"&\"Izejošā maksājuma anulēšana\")\n+SUMIFS(Transakcijas!$R:$R,Transakcijas!$Q:$Q,$B$39,Transakcijas!$O:$O,YEAR($B48),Transakcijas!$P:$P,RIGHT(\"0\"&MONTH($B48),2),Transakcijas!$D:$D,\"Atmaksa\",Transakcijas!$K:$K,\"Iemaksas atbrīvošana\")","v":0},{"$f":"SUMIFS(Transakcijas!$R:$R,Transakcijas!$Q:$Q,$B$39,Transakcijas!$O:$O,YEAR($B48),Transakcijas!$P:$P,RIGHT(\"0\"&MONTH($B48),2),Transakcijas!$D:$D,\"Atmaksa\",Transakcijas!$K:$K,\"<>\"&\"Iemaksas atbrīvošana\")\n+SUMIFS(Transakcijas!$R:$R,Transakcijas!$Q:$Q,$B$39,Transakcijas!$O:$O,YEAR($B48),Transakcijas!$P:$P,RIGHT(\"0\"&MONTH($B48),2),Transakcijas!$D:$D,\"Iemaksa\",Transakcijas!$K:$K,\"Izejošā maksājuma anulēšana\")","v":0},{"$f":"SUMIFS(Transakcijas!$R:$R,Transakcijas!$Q:$Q,$B$39,Transakcijas!$O:$O,YEAR($B48),Transakcijas!$P:$P,RIGHT(\"0\"&MONTH($B48),2),Transakcijas!$K:$K,\"FIFO savstarpējā segšana\")\n+SUMIFS(Transakcijas!$R:$R,Transakcijas!$Q:$Q,$B$39,Transakcijas!$O:$O,YEAR($B48),Transakcijas!$P:$P,RIGHT(\"0\"&MONTH($B48),2),Transakcijas!$D:$D,\"Aprēķins\",Transakcijas!$K:$K,\"Iemaksas atbrīvošana\")","v":0},{"$f":"SUMIFS(Transakcijas!$R:$R,Transakcijas!$Q:$Q,$B$39,Transakcijas!$O:$O,YEAR($B48),Transakcijas!$P:$P,RIGHT(\"0\"&MONTH($B48),2))-SUM(D48:K48)","v":0},0,{"$f":"ROUND(SUMIFS(Transakcijas!$R:$R,Transakcijas!$Q:$Q,$B$39,Transakcijas!$N:$N,\"<=\"&$B48,Transakcijas!$H:$H,\"Pamatsumma\"),2)","v":0},{"$f":"ROUND(SUMIFS(Transakcijas!$R:$R,Transakcijas!$Q:$Q,$B$39,Transakcijas!$N:$N,\"<=\"&$B48,Transakcijas!$H:$H,\"Nokavējuma nauda\"),2)","v":0},{"$f":"ROUND(SUMIFS(Transakcijas!$R:$R,Transakcijas!$Q:$Q,$B$39,Transakcijas!$N:$N,\"<=\"&$B48,Transakcijas!$H:$H,\"Soda nauda\"),2)","v":0}]
[null,"2024-10-31",0,{"$f":"SUMIFS(Transakcijas!$R:$R,Transakcijas!$Q:$Q,$B$39,Transakcijas!$O:$O,YEAR($B49),Transakcijas!$P:$P,RIGHT(\"0\"&MONTH($B49),2),Transakcijas!$D:$D,\"Aprēķins\",Transakcijas!$H:$H,\"Pamatsumma\",Transakcijas!$K:$K,\"<>\"&\"FIFO*\",Transakcijas!$K:$K,\"<>\"&\"Iemaksas atbrīvošana\",Transakcijas!$F:$F,\"Darba devēja ziņojums\")","v":0},{"$f":"SUMIFS(Transakcijas!$R:$R,Transakcijas!$Q:$Q,$B$39,Transakcijas!$O:$O,YEAR($B49),Transakcijas!$P:$P,RIGHT(\"0\"&MONTH($B49),2),Transakcijas!$D:$D,\"Aprēķins\",Transakcijas!$H:$H,\"Pamatsumma\",Transakcijas!$K:$K,\"<>\"&\"FIFO*\",Transakcijas!$K:$K,\"<>\"&\"Iemaksas atbrīvošana\")-D49-F49","v":0},{"$f":"SUMIFS(Transakcijas!$R:$R,Transakcijas!$Q:$Q,$B$39,Transakcijas!$O:$O,YEAR($B49),Transakcijas!$P:$P,RIGHT(\"0\"&MONTH($B49),2),Transakcijas!$D:$D,\"Aprēķins\",Transakcijas!$H:$H,\"Pamatsumma\",Transakcijas!$K:$K,\"<>\"&\"FIFO*\",Transakcijas!$K:$K,\"<>\"&\"Iemaksas atbrīvošana\",Transakcijas!$F:$F,\"*nerezid*\")","v":0},{"$f":"SUMIFS(Transakcijas!$R:$R,Transakcijas!$Q:$Q,$B$39,Transakcijas!$O:$O,YEAR($B49),Transakcijas!$P:$P,RIGHT(\"0\"&MONTH($B49),2),Transakcijas!$D:$D,\"Aprēķins\",Transakcijas!$H:$H,\"Nokavējuma nauda\",Transakcijas!$K:$K,\"<>\"&\"FIFO*\",Transakcijas!$K:$K,\"<>\"&\"Iemaksas atbrīvošana\")","v":0},{"$f":"SUMIFS(Transakcijas!$R:$R,Transakcijas!$Q:$Q,$B$39,Transakcijas!$O:$O,YEAR($B49),Transakcijas!$P:$P,RIGHT(\"0\"&MONTH($B49),2),Transakcijas!$D:$D,\"Aprēķins\",Transakcijas!$H:$H,\"Soda nauda\",Transakcijas!$K:$K,\"<>\"&\"FIFO*\",Transakcijas!$K:$K,\"<>\"&\"Iemaksas atbrīvošana\")","v":0},{"$f":"SUMIFS(Transakcijas!$R:$R,Transakcijas!$Q:$Q,$B$39,Transakcijas!$O:$O,YEAR($B49),Transakcijas!$P:$P,RIGHT(\"0\"&MONTH($B49),2),Transakcijas!$D:$D,\"Iemaksa\",Transakcijas!$K:$K,\"<>\"&\"Izejošā maksājuma anulēšana\")\n+SUMIFS(Transakcijas!$R:$R,Transakcijas!$Q:$Q,$B$39,Transakcijas!$O:$O,YEAR($B49),Transakcijas!$P:$P,RIGHT(\"0\"&MONTH($B49),2),Transakcijas!$D:$D,\"Atmaksa\",Transakcijas!$K:$K,\"Iemaksas atbrīvošana\")","v":0},{"$f":"SUMIFS(Transakcijas!$R:$R,Transakcijas!$Q:$Q,$B$39,Transakcijas!$O:$O,YEAR($B49),Transakcijas!$P:$P,RIGHT(\"0\"&MONTH($B49),2),Transakcijas!$D:$D,\"Atmaksa\",Transakcijas!$K:$K,\"<>\"&\"Iemaksas atbrīvošana\")\n+SUMIFS(Transakcijas!$R:$R,Transakcijas!$Q:$Q,$B$39,Transakcijas!$O:$O,YEAR($B49),Transakcijas!$P:$P,RIGHT(\"0\"&MONTH($B49),2),Transakcijas!$D:$D,\"Iemaksa\",Transakcijas!$K:$K,\"Izejošā maksājuma anulēšana\")","v":0},{"$f":"SUMIFS(Transakcijas!$R:$R,Transakcijas!$Q:$Q,$B$39,Transakcijas!$O:$O,YEAR($B49),Transakcijas!$P:$P,RIGHT(\"0\"&MONTH($B49),2),Transakcijas!$K:$K,\"FIFO savstarpējā segšana\")\n+SUMIFS(Transakcijas!$R:$R,Transakcijas!$Q:$Q,$B$39,Transakcijas!$O:$O,YEAR($B49),Transakcijas!$P:$P,RIGHT(\"0\"&MONTH($B49),2),Transakcijas!$D:$D,\"Aprēķins\",Transakcijas!$K:$K,\"Iemaksas atbrīvošana\")","v":0},{"$f":"SUMIFS(Transakcijas!$R:$R,Transakcijas!$Q:$Q,$B$39,Transakcijas!$O:$O,YEAR($B49),Transakcijas!$P:$P,RIGHT(\"0\"&MONTH($B49),2))-SUM(D49:K49)","v":0},0,{"$f":"ROUND(SUMIFS(Transakcijas!$R:$R,Transakcijas!$Q:$Q,$B$39,Transakcijas!$N:$N,\"<=\"&$B49,Transakcijas!$H:$H,\"Pamatsumma\"),2)","v":0},{"$f":"ROUND(SUMIFS(Transakcijas!$R:$R,Transakcijas!$Q:$Q,$B$39,Transakcijas!$N:$N,\"<=\"&$B49,Transakcijas!$H:$H,\"Nokavējuma nauda\"),2)","v":0},{"$f":"ROUND(SUMIFS(Transakcijas!$R:$R,Transakcijas!$Q:$Q,$B$39,Transakcijas!$N:$N,\"<=\"&$B49,Transakcijas!$H:$H,\"Soda nauda\"),2)","v":0}]
[null,"2024-11-30",0,{"$f":"SUMIFS(Transakcijas!$R:$R,Transakcijas!$Q:$Q,$B$39,Transakcijas!$O:$O,YEAR($B50),Transakcijas!$P:$P,RIGHT(\"0\"&MONTH($B50),2),Transakcijas!$D:$D,\"Aprēķins\",Transakcijas!$H:$H,\"Pamatsumma\",Transakcijas!$K:$K,\"<>\"&\"FIFO*\",Transakcijas!$K:$K,\"<>\"&\"Iemaksas atbrīvošana\",Transakcijas!$F:$F,\"Darba devēja ziņojums\")","v":0},{"$f":"SUMIFS(Transakcijas!$R:$R,Transakcijas!$Q:$Q,$B$39,Transakcijas!$O:$O,YEAR($B50),Transakcijas!$P:$P,RIGHT(\"0\"&MONTH($B50),2),Transakcijas!$D:$D,\"Aprēķins\",Transakcijas!$H:$H,\"Pamatsumma\",Transakcijas!$K:$K,\"<>\"&\"FIFO*\",Transakcijas!$K:$K,\"<>\"&\"Iemaksas atbrīvošana\")-D50-F50","v":0},{"$f":"SUMIFS(Transakcijas!$R:$R,Transakcijas!$Q:$Q,$B$39,Transakcijas!$O:$O,YEAR($B50),Transakcijas!$P:$P,RIGHT(\"0\"&MONTH($B50),2),Transakcijas!$D:$D,\"Aprēķins\",Transakcijas!$H:$H,\"Pamatsumma\",Transakcijas!$K:$K,\"<>\"&\"FIFO*\",Transakcijas!$K:$K,\"<>\"&\"Iemaksas atbrīvošana\",Transakcijas!$F:$F,\"*nerezid*\")","v":0},{"$f":"SUMIFS(Transakcijas!$R:$R,Transakcijas!$Q:$Q,$B$39,Transakcijas!$O:$O,YEAR($B50),Transakcijas!$P:$P,RIGHT(\"0\"&MONTH($B50),2),Transakcijas!$D:$D,\"Aprēķins\",Transakcijas!$H:$H,\"Nokavējuma nauda\",Transakcijas!$K:$K,\"<>\"&\"FIFO*\",Transakcijas!$K:$K,\"<>\"&\"Iemaksas atbrīvošana\")","v":0},{"$f":"SUMIFS(Transakcijas!$R:$R,Transakcijas!$Q:$Q,$B$39,Transakcijas!$O:$O,YEAR($B50),Transakcijas!$P:$P,RIGHT(\"0\"&MONTH($B50),2),Transakcijas!$D:$D,\"Aprēķins\",Transakcijas!$H:$H,\"Soda nauda\",Transakcijas!$K:$K,\"<>\"&\"FIFO*\",Transakcijas!$K:$K,\"<>\"&\"Iemaksas atbrīvošana\")","v":0},{"$f":"SUMIFS(Transakcijas!$R:$R,Transakcijas!$Q:$Q,$B$39,Transakcijas!$O:$O,YEAR($B50),Transakcijas!$P:$P,RIGHT(\"0\"&MONTH($B50),2),Transakcijas!$D:$D,\"Iemaksa\",Transakcijas!$K:$K,\"<>\"&\"Izejošā maksājuma anulēšana\")\n+SUMIFS(Transakcijas!$R:$R,Transakcijas!$Q:$Q,$B$39,Transakcijas!$O:$O,YEAR($B50),Transakcijas!$P:$P,RIGHT(\"0\"&MONTH($B50),2),Transakcijas!$D:$D,\"Atmaksa\",Transakcijas!$K:$K,\"Iemaksas atbrīvošana\")","v":0},{"$f":"SUMIFS(Transakcijas!$R:$R,Transakcijas!$Q:$Q,$B$39,Transakcijas!$O:$O,YEAR($B50),Transakcijas!$P:$P,RIGHT(\"0\"&MONTH($B50),2),Transakcijas!$D:$D,\"Atmaksa\",Transakcijas!$K:$K,\"<>\"&\"Iemaksas atbrīvošana\")\n+SUMIFS(Transakcijas!$R:$R,Transakcijas!$Q:$Q,$B$39,Transakcijas!$O:$O,YEAR($B50),Transakcijas!$P:$P,RIGHT(\"0\"&MONTH($B50),2),Transakcijas!$D:$D,\"Iemaksa\",Transakcijas!$K:$K,\"Izejošā maksājuma anulēšana\")","v":0},{"$f":"SUMIFS(Transakcijas!$R:$R,Transakcijas!$Q:$Q,$B$39,Transakcijas!$O:$O,YEAR($B50),Transakcijas!$P:$P,RIGHT(\"0\"&MONTH($B50),2),Transakcijas!$K:$K,\"FIFO savstarpējā segšana\")\n+SUMIFS(Transakcijas!$R:$R,Transakcijas!$Q:$Q,$B$39,Transakcijas!$O:$O,YEAR($B50),Transakcijas!$P:$P,RIGHT(\"0\"&MONTH($B50),2),Transakcijas!$D:$D,\"Aprēķins\",Transakcijas!$K:$K,\"Iemaksas atbrīvošana\")","v":0},{"$f":"SUMIFS(Transakcijas!$R:$R,Transakcijas!$Q:$Q,$B$39,Transakcijas!$O:$O,YEAR($B50),Transakcijas!$P:$P,RIGHT(\"0\"&MONTH($B50),2))-SUM(D50:K50)","v":0},0,{"$f":"ROUND(SUMIFS(Transakcijas!$R:$R,Transakcijas!$Q:$Q,$B$39,Transakcijas!$N:$N,\"<=\"&$B50,Transakcijas!$H:$H,\"Pamatsumma\"),2)","v":0},{"$f":"ROUND(SUMIFS(Transakcijas!$R:$R,Transakcijas!$Q:$Q,$B$39,Transakcijas!$N:$N,\"<=\"&$B50,Transakcijas!$H:$H,\"Nokavējuma nauda\"),2)","v":0},{"$f":"ROUND(SUMIFS(Transakcijas!$R:$R,Transakcijas!$Q:$Q,$B$39,Transakcijas!$N:$N,\"<=\"&$B50,Transakcijas!$H:$H,\"Soda nauda\"),2)","v":0}]
[null,"2024-12-31",0,{"$f":"SUMIFS(Transakcijas!$R:$R,Transakcijas!$Q:$Q,$B$39,Transakcijas!$O:$O,YEAR($B51),Transakcijas!$P:$P,RIGHT(\"0\"&MONTH($B51),2),Transakcijas!$D:$D,\"Aprēķins\",Transakcijas!$H:$H,\"Pamatsumma\",Transakcijas!$K:$K,\"<>\"&\"FIFO*\",Transakcijas!$K:$K,\"<>\"&\"Iemaksas atbrīvošana\",Transakcijas!$F:$F,\"Darba devēja ziņojums\")","v":0},{"$f":"SUMIFS(Transakcijas!$R:$R,Transakcijas!$Q:$Q,$B$39,Transakcijas!$O:$O,YEAR($B51),Transakcijas!$P:$P,RIGHT(\"0\"&MONTH($B51),2),Transakcijas!$D:$D,\"Aprēķins\",Transakcijas!$H:$H,\"Pamatsumma\",Transakcijas!$K:$K,\"<>\"&\"FIFO*\",Transakcijas!$K:$K,\"<>\"&\"Iemaksas atbrīvošana\")-D51-F51","v":0},{"$f":"SUMIFS(Transakcijas!$R:$R,Transakcijas!$Q:$Q,$B$39,Transakcijas!$O:$O,YEAR($B51),Transakcijas!$P:$P,RIGHT(\"0\"&MONTH($B51),2),Transakcijas!$D:$D,\"Aprēķins\",Transakcijas!$H:$H,\"Pamatsumma\",Transakcijas!$K:$K,\"<>\"&\"FIFO*\",Transakcijas!$K:$K,\"<>\"&\"Iemaksas atbrīvošana\",Transakcijas!$F:$F,\"*nerezid*\")","v":0},{"$f":"SUMIFS(Transakcijas!$R:$R,Transakcijas!$Q:$Q,$B$39,Transakcijas!$O:$O,YEAR($B51),Transakcijas!$P:$P,RIGHT(\"0\"&MONTH($B51),2),Transakcijas!$D:$D,\"Aprēķins\",Transakcijas!$H:$H,\"Nokavējuma nauda\",Transakcijas!$K:$K,\"<>\"&\"FIFO*\",Transakcijas!$K:$K,\"<>\"&\"Iemaksas atbrīvošana\")","v":0},{"$f":"SUMIFS(Transakcijas!$R:$R,Transakcijas!$Q:$Q,$B$39,Transakcijas!$O:$O,YEAR($B51),Transakcijas!$P:$P,RIGHT(\"0\"&MONTH($B51),2),Transakcijas!$D:$D,\"Aprēķins\",Transakcijas!$H:$H,\"Soda nauda\",Transakcijas!$K:$K,\"<>\"&\"FIFO*\",Transakcijas!$K:$K,\"<>\"&\"Iemaksas atbrīvošana\")","v":0},{"$f":"SUMIFS(Transakcijas!$R:$R,Transakcijas!$Q:$Q,$B$39,Transakcijas!$O:$O,YEAR($B51),Transakcijas!$P:$P,RIGHT(\"0\"&MONTH($B51),2),Transakcijas!$D:$D,\"Iemaksa\",Transakcijas!$K:$K,\"<>\"&\"Izejošā maksājuma anulēšana\")\n+SUMIFS(Transakcijas!$R:$R,Transakcijas!$Q:$Q,$B$39,Transakcijas!$O:$O,YEAR($B51),Transakcijas!$P:$P,RIGHT(\"0\"&MONTH($B51),2),Transakcijas!$D:$D,\"Atmaksa\",Transakcijas!$K:$K,\"Iemaksas atbrīvošana\")","v":0},{"$f":"SUMIFS(Transakcijas!$R:$R,Transakcijas!$Q:$Q,$B$39,Transakcijas!$O:$O,YEAR($B51),Transakcijas!$P:$P,RIGHT(\"0\"&MONTH($B51),2),Transakcijas!$D:$D,\"Atmaksa\",Transakcijas!$K:$K,\"<>\"&\"Iemaksas atbrīvošana\")\n+SUMIFS(Transakcijas!$R:$R,Transakcijas!$Q:$Q,$B$39,Transakcijas!$O:$O,YEAR($B51),Transakcijas!$P:$P,RIGHT(\"0\"&MONTH($B51),2),Transakcijas!$D:$D,\"Iemaksa\",Transakcijas!$K:$K,\"Izejošā maksājuma anulēšana\")","v":0},{"$f":"SUMIFS(Transakcijas!$R:$R,Transakcijas!$Q:$Q,$B$39,Transakcijas!$O:$O,YEAR($B51),Transakcijas!$P:$P,RIGHT(\"0\"&MONTH($B51),2),Transakcijas!$K:$K,\"FIFO savstarpējā segšana\")\n+SUMIFS(Transakcijas!$R:$R,Transakcijas!$Q:$Q,$B$39,Transakcijas!$O:$O,YEAR($B51),Transakcijas!$P:$P,RIGHT(\"0\"&MONTH($B51),2),Transakcijas!$D:$D,\"Aprēķins\",Transakcijas!$K:$K,\"Iemaksas atbrīvošana\")","v":0},{"$f":"SUMIFS(Transakcijas!$R:$R,Transakcijas!$Q:$Q,$B$39,Transakcijas!$O:$O,YEAR($B51),Transakcijas!$P:$P,RIGHT(\"0\"&MONTH($B51),2))-SUM(D51:K51)","v":0},0,{"$f":"ROUND(SUMIFS(Transakcijas!$R:$R,Transakcijas!$Q:$Q,$B$39,Transakcijas!$N:$N,\"<=\"&$B51,Transakcijas!$H:$H,\"Pamatsumma\"),2)","v":0},{"$f":"ROUND(SUMIFS(Transakcijas!$R:$R,Transakcijas!$Q:$Q,$B$39,Transakcijas!$N:$N,\"<=\"&$B51,Transakcijas!$H:$H,\"Nokavējuma nauda\"),2)","v":0},{"$f":"ROUND(SUMIFS(Transakcijas!$R:$R,Transakcijas!$Q:$Q,$B$39,Transakcijas!$N:$N,\"<=\"&$B51,Transakcijas!$H:$H,\"Soda nauda\"),2)","v":0}]
[null,"Kopā",{"$f":"C40","v":0},{"$f":"SUM(D40:D51)","v":0},0,0,{"$f":"SUM(G40:G51)","v":0},0,0,0,0,0,0]
[]
[null,{"$f":"DATE(YEAR($M$4),MONTH($M$4)+2,0)","v":"2025-01-31"},{"$f":"IF(B54=\"\",0,M52)","v":0},{"$f":"SUMIFS(Transakcijas!$R:$R,Transakcijas!$Q:$Q,$B$39,Transakcijas!$O:$O,YEAR($B54),Transakcijas!$P:$P,RIGHT(\"0\"&MONTH($B54),2),Transakcijas!$D:$D,\"Aprēķins\",Transakcijas!$H:$H,\"Pamatsumma\",Transakcijas!$K:$K,\"<>\"&\"FIFO*\",Transakcijas!$K:$K,\"<>\"&\"Iemaksas atbrīvošana\",Transakcijas!$F:$F,\"Darba devēja ziņojums\")","v":0},{"$f":"SUMIFS(Transakcijas!$R:$R,Transakcijas!$Q:$Q,$B$39,Transakcijas!$O:$O,YEAR($B54),Transakcijas!$P:$P,RIGHT(\"0\"&MONTH($B54),2),Transakcijas!$D:$D,\"Aprēķins\",Transakcijas!$H:$H,\"Pamatsumma\",Transakcijas!$K:$K,\"<>\"&\"FIFO*\",Transakcijas!$K:$K,\"<>\"&\"Iemaksas atbrīvošana\")-D54-F54","v":0},{"$f":"SUMIFS(Transakcijas!$R:$R,Transakcijas!$Q:$Q,$B$39,Transakcijas!$O:$O,YEAR($B54),Transakcijas!$P:$P,RIGHT(\"0\"&MONTH($B54),2),Transakcijas!$D:$D,\"Aprēķins\",Transakcijas!$H:$H,\"Pamatsumma\",Transakcijas!$K:$K,\"<>\"&\"FIFO*\",Transakcijas!$K:$K,\"<>\"&\"Iemaksas atbrīvošana\",Transakcijas!$F:$F,\"*nerezid*\")","v":0},{"$f":"SUMIFS(Transakcijas!$R:$R,Transakcijas!$Q:$Q,$B$39,Transakcijas!$O:$O,YEAR($B54),Transakcijas!$P:$P,RIGHT(\"0\"&MONTH($B54),2),Transakcijas!$D:$D,\"Aprēķins\",Transakcijas!$H:$H,\"Nokavējuma nauda\",Transakcijas!$K:$K,\"<>\"&\"FIFO*\",Transakcijas!$K:$K,\"<>\"&\"Iemaksas atbrīvošana\")","v":0},{"$f":"SUMIFS(Transakcijas!$R:$R,Transakcijas!$Q:$Q,$B$39,Transakcijas!$O:$O,YEAR($B54),Transakcijas!$P:$P,RIGHT(\"0\"&MONTH($B54),2),Transakcijas!$D:$D,\"Aprēķins\",Transakcijas!$H:$H,\"Soda nauda\",Transakcijas!$K:$K,\"<>\"&\"FIFO*\",Transakcijas!$K:$K,\"<>\"&\"Iemaksas atbrīvošana\")","v":0},{"$f":"SUMIFS(Transakcijas!$R:$R,Transakcijas!$Q:$Q,$B$39,Transakcijas!$O:$O,YEAR($B54),Transakcijas!$P:$P,RIGHT(\"0\"&MONTH($B54),2),Transakcijas!$D:$D,\"Iemaksa\",Transakcijas!$K:$K,\"<>\"&\"Izejošā maksājuma anulēšana\")\n+SUMIFS(Transakcijas!$R:$R,Transakcijas!$Q:$Q,$B$39,Transakcijas!$O:$O,YEAR($B54),Transakcijas!$P:$P,RIGHT(\"0\"&MONTH($B54),2),Transakcijas!$D:$D,\"Atmaksa\",Transakcijas!$K:$K,\"Iemaksas atbrīvošana\")","v":0},{"$f":"SUMIFS(Transakcijas!$R:$R,Transakcijas!$Q:$Q,$B$39,Transakcijas!$O:$O,YEAR($B54),Transakcijas!$P:$P,RIGHT(\"0\"&MONTH($B54),2),Transakcijas!$D:$D,\"Atmaksa\",Transakcijas!$K:$K,\"<>\"&\"Iemaksas atbrīvošana\")\n+SUMIFS(Transakcijas!$R:$R,Transakcijas!$Q:$Q,$B$39,Transakcijas!$O:$O,YEAR($B54),Transakcijas!$P:$P,RIGHT(\"0\"&MONTH($B54),2),Transakcijas!$D:$D,\"Iemaksa\",Transakcijas!$K:$K,\"Izejošā maksājuma anulēšana\")","v":0},{"$f":"SUMIFS(Transakcijas!$R:$R,Transakcijas!$Q:$Q,$B$39,Transakcijas!$O:$O,YEAR($B54),Transakcijas!$P:$P,RIGHT(\"0\"&MONTH($B54),2),Transakcijas!$K:$K,\"FIFO savstarpējā segšana\")\n+SUMIFS(Transakcijas!$R:$R,Transakcijas!$Q:$Q,$B$39,Transakcijas!$O:$O,YEAR($B54),Transakcijas!$P:$P,RIGHT(\"0\"&MONTH($B54),2),Transakcijas!$D:$D,\"Aprēķins\",Transakcijas!$K:$K,\"Iemaksas atbrīvošana\")","v":0},{"$f":"SUMIFS(Transakcijas!$R:$R,Transakcijas!$Q:$Q,$B$39,Transakcijas!$O:$O,YEAR($B54),Transakcijas!$P:$P,RIGHT(\"0\"&MONTH($B54),2))-SUM(D54:K54)","v":0},{"$f":"SUM(C54:L54)","v":0},{"$f":"ROUND(SUMIFS(Transakcijas!$R:$R,Transakcijas!$Q:$Q,$B$39,Transakcijas!$N:$N,\"<=\"&$B54,Transakcijas!$H:$H,\"Pamatsumma\"),2)","v":0},{"$f":"ROUND(SUMIFS(Transakcijas!$R:$R,Transakcijas!$Q:$Q,$B$39,Transakcijas!$N:$N,\"<=\"&$B54,Transakcijas!$H:$H,\"Nokavējuma nauda\"),2)","v":0},{"$f":"ROUND(SUMIFS(Transakcijas!$R:$R,Transakcijas!$Q:$Q,$B$39,Transakcijas!$N:$N,\"<=\"&$B54,Transakcijas!$H:$H,\"Soda nauda\"),2)","v":0}]
[]
[null,{"$f":"B8","v":"Riska nodeva"},"Atlikums uz perioda sākumu","Aprēķināts","Ieturēts","Aprēķinas (nerezid.)","Aprēķināta nokav. nauda  ","Aprēķināta\n soda nauda  ","Samaksāts\nAtbrīvots","Atmaksāts","Pārvietots \n(Savst.segš.)","Cita \nkustība","Atlikums uz perioda beigām","Pamat-\nsumma","Nokav. \nnauda  ","Soda \nnauda  "]
[null,{"$f":"DATE(YEAR($C$4),MONTH($C$4)+1,0)","v":"2024-01-31"},{"$f":"C8","v":0},{"$f":"SUMIFS(Transakcijas!$R:$R,Transakcijas!$Q:$Q,$B$56,Transakcijas!$O:$O,YEAR($B57),Transakcijas!$P:$P,RIGHT(\"0\"&MONTH($B57),2),Transakcijas!$D:$D,\"Aprēķins\",Transakcijas!$H:$H,\"Pamatsumma\",Transakcijas!$K:$K,\"<>\"&\"FIFO*\",Transakcijas!$K:$K,\"<>\"&\"Iemaksas atbrīvošana\")","v":0},null,null,{"$f":"SUMIFS(Transakcijas!$R:$R,Transakcijas!$Q:$Q,$B$56,Transakcijas!$O:$O,YEAR($B57),Transakcijas!$P:$P,RIGHT(\"0\"&MONTH($B57),2),Transakcijas!$D:$D,\"Aprēķins\",Transakcijas!$H:$H,\"Nokavējuma nauda\",Transakcijas!$K:$K,\"<>\"&\"FIFO*\",Transakcijas!$K:$K,\"<>\"&\"Iemaksas atbrīvošana\")","v":0},{"$f":"SUMIFS(Transakcijas!$R:$R,Transakcijas!$Q:$Q,$B$56,Transakcijas!$O:$O,YEAR($B57),Transakcijas!$P:$P,RIGHT(\"0\"&MONTH($B57),2),Transakcijas!$D:$D,\"Aprēķins\",Transakcijas!$H:$H,\"Soda nauda\",Transakcijas!$K:$K,\"<>\"&\"FIFO*\",Transakcijas!$K:$K,\"<>\"&\"Iemaksas atbrīvošana\")","v":0},{"$f":"SUMIFS(Transakcijas!$R:$R,Transakcijas!$Q:$Q,$B$56,Transakcijas!$O:$O,YEAR($B57),Transakcijas!$P:$P,RIGHT(\"0\"&MONTH($B57),2),Transakcijas!$D:$D,\"Iemaksa\",Transakcijas!$K:$K,\"<>\"&\"Izejošā maksājuma anulēšana\")\n+SUMIFS(Transakcijas!$R:$R,Transakcijas!$Q:$Q,$B$56,Transakcijas!$O:$O,YEAR($B57),Transakcijas!$P:$P,RIGHT(\"0\"&MONTH($B57),2),Transakcijas!$D:$D,\"Atmaksa\",Transakcijas!$K:$K,\"Iemaksas atbrīvošana\")","v":0},{"$f":"SUMIFS(Transakcijas!$R:$R,Transakcijas!$Q:$Q,$B$56,Transakcijas!$O:$O,YEAR($B57),Transakcijas!$P:$P,RIGHT(\"0\"&MONTH($B57),2),Transakcijas!$D:$D,\"Atmaksa\",Transakcijas!$K:$K,\"<>\"&\"Iemaksas atbrīvošana\")\n+SUMIFS(Transakcijas!$R:$R,Transakcijas!$Q:$Q,$B$56,Transakcijas!$O:$O,YEAR($B57),Transakcijas!$P:$P,RIGHT(\"0\"&MONTH($B57),2),Transakcijas!$D:$D,\"Iemaksa\",Transakcijas!$K:$K,\"Izejošā maksājuma anulēšana\")","v":0},{"$f":"SUMIFS(Transakcijas!$R:$R,Transakcijas!$Q:$Q,$B$56,Transakcijas!$O:$O,YEAR($B57),Transakcijas!$P:$P,RIGHT(\"0\"&MONTH($B57),2),Transakcijas!$K:$K,\"FIFO savstarpējā segšana\")\n+SUMIFS(Transakcijas!$R:$R,Transakcijas!$Q:$Q,$B$56,Transakcijas!$O:$O,YEAR($B57),Transakcijas!$P:$P,RIGHT(\"0\"&MONTH($B57),2),Transakcijas!$D:$D,\"Aprēķins\",Transakcijas!$K:$K,\"Iemaksas atbrīvošana\")","v":0},{"$f":"SUMIFS(Transakcijas!$R:$R,Transakcijas!$Q:$Q,$B$56,Transakcijas!$O:$O,YEAR($B57),Transakcijas!$P:$P,RIGHT(\"0\"&MONTH($B57),2))-SUM(D57:K57)","v":0},{"$f":"SUM(C57:L57)","v":0},{"$f":"ROUND(SUMIFS(Transakcijas!$R:$R,Transakcijas!$Q:$Q,$B$56,Transakcijas!$N:$N,\"<=\"&$B57,Transakcijas!$H:$H,\"Pamatsumma\"),2)","v":0},{"$f":"ROUND(SUMIFS(Transakcijas!$R:$R,Transakcijas!$Q:$Q,$B$56,Transakcijas!$N:$N,\"<=\"&$B57,Transakcijas!$H:$H,\"Nokavējuma nauda\"),2)","v":0},{"$f":"ROUND(SUMIFS(Transakcijas!$R:$R,Transakcijas!$Q:$Q,$B$56,Transakcijas!$N:$N,\"<=\"&$B57,Transakcijas!$H:$H,\"Soda nauda\"),2)","v":0}]
[null,{"$f":"IF(IF(B57=\"\",$M$4+1,DATE(YEAR(B57),MONTH(B57)+2,0))<=$M$4,DATE(YEAR(B57),MONTH(B57)+2,0),\"\")","v":"2024-02-29"},{"$f":"IF(B58=\"\",0,M57)","v":0},{"$f":"SUMIFS(Transakcijas!$R:$R,Transakcijas!$Q:$Q,$B$56,Transakcijas!$O:$O,YEAR($B58),Transakcijas!$P:$P,RIGHT(\"0\"&MONTH($B58),2),Transakcijas!$D:$D,\"Aprēķins\",Transakcijas!$H:$H,\"Pamatsumma\",Transakcijas!$K:$K,\"<>\"&\"FIFO*\",Transakcijas!$K:$K,\"<>\"&\"Iemaksas atbrīvošana\")","v":0},null,null,{"$f":"SUMIFS(Transakcijas!$R:$R,Transakcijas!$Q:$Q,$B$56,Transakcijas!$O:$O,YEAR($B58),Transakcijas!$P:$P,RIGHT(\"0\"&MONTH($B58),2),Transakcijas!$D:$D,\"Aprēķins\",Transakcijas!$H:$H,\"Nokavējuma nauda\",Transakcijas!$K:$K,\"<>\"&\"FIFO*\",Transakcijas!$K:$K,\"<>\"&\"Iemaksas atbrīvošana\")","v":0},{"$f":"SUMIFS(Transakcijas!$R:$R,Transakcijas!$Q:$Q,$B$56,Transakcijas!$O:$O,YEAR($B58),Transakcijas!$P:$P,RIGHT(\"0\"&MONTH($B58),2),Transakcijas!$D:$D,\"Aprēķins\",Transakcijas!$H:$H,\"Soda nauda\",Transakcijas!$K:$K,\"<>\"&\"FIFO*\",Transakcijas!$K:$K,\"<>\"&\"Iemaksas atbrīvošana\")","v":0},{"$f":"SUMIFS(Transakcijas!$R:$R,Transakcijas!$Q:$Q,$B$56,Transakcijas!$O:$O,YEAR($B58),Transakcijas!$P:$P,RIGHT(\"0\"&MONTH($B58),2),Transakcijas!$D:$D,\"Iemaksa\",Transakcijas!$K:$K,\"<>\"&\"Izejošā maksājuma anulēšana\")\n+SUMIFS(Transakcijas!$R:$R,Transakcijas!$Q:$Q,$B$56,Transakcijas!$O:$O,YEAR($B58),Transakcijas!$P:$P,RIGHT(\"0\"&MONTH($B58),2),Transakcijas!$D:$D,\"Atmaksa\",Transakcijas!$K:$K,\"Iemaksas atbrīvošana\")","v":0},{"$f":"SUMIFS(Transakcijas!$R:$R,Transakcijas!$Q:$Q,$B$56,Transakcijas!$O:$O,YEAR($B58),Transakcijas!$P:$P,RIGHT(\"0\"&MONTH($B58),2),Transakcijas!$D:$D,\"Atmaksa\",Transakcijas!$K:$K,\"<>\"&\"Iemaksas atbrīvošana\")\n+SUMIFS(Transakcijas!$R:$R,Transakcijas!$Q:$Q,$B$56,Transakcijas!$O:$O,YEAR($B58),Transakcijas!$P:$P,RIGHT(\"0\"&MONTH($B58),2),Transakcijas!$D:$D,\"Iemaksa\",Transakcijas!$K:$K,\"Izejošā maksājuma anulēšana\")","v":0},{"$f":"SUMIFS(Transakcijas!$R:$R,Transakcijas!$Q:$Q,$B$56,Transakcijas!$O:$O,YEAR($B58),Transakcijas!$P:$P,RIGHT(\"0\"&MONTH($B58),2),Transakcijas!$K:$K,\"FIFO savstarpējā segšana\")\n+SUMIFS(Transakcijas!$R:$R,Transakcijas!$Q:$Q,$B$56,Transakcijas!$O:$O,YEAR($B58),Transakcijas!$P:$P,RIGHT(\"0\"&MONTH($B58),2),Transakcijas!$D:$D,\"Aprēķins\",Transakcijas!$K:$K,\"Iemaksas atbrīvošana\")","v":0},{"$f":"SUMIFS(Transakcijas!$R:$R,Transakcijas!$Q:$Q,$B$56,Transakcijas!$O:$O,YEAR($B58),Transakcijas!$P:$P,RIGHT(\"0\"&MONTH($B58),2))-SUM(D58:K58)","v":0},0,{"$f":"ROUND(SUMIFS(Transakcijas!$R:$R,Transakcijas!$Q:$Q,$B$56,Transakcijas!$N:$N,\"<=\"&$B58,Transakcijas!$H:$H,\"Pamatsumma\"),2)","v":0},{"$f":"ROUND(SUMIFS(Transakcijas!$R:$R,Transakcijas!$Q:$Q,$B$56,Transakcijas!$N:$N,\"<=\"&$B58,Transakcijas!$H:$H,\"Nokavējuma nauda\"),2)","v":0},{"$f":"ROUND(SUMIFS(Transakcijas!$R:$R,Transakcijas!$Q:$Q,$B$56,Transakcijas!$N:$N,\"<=\"&$B58,Transakcijas!$H:$H,\"Soda nauda\"),2)","v":0}]
[null,"2024-03-31",0,{"$f":"SUMIFS(Transakcijas!$R:$R,Transakcijas!$Q:$Q,$B$56,Transakcijas!$O:$O,YEAR($B59),Transakcijas!$P:$P,RIGHT(\"0\"&MONTH($B59),2),Transakcijas!$D:$D,\"Aprēķins\",Transakcijas!$H:$H,\"Pamatsumma\",Transakcijas!$K:$K,\"<>\"&\"FIFO*\",Transakcijas!$K:$K,\"<>\"&\"Iemaksas atbrīvošana\")","v":0},null,null,{"$f":"SUMIFS(Transakcijas!$R:$R,Transakcijas!$Q:$Q,$B$56,Transakcijas!$O:$O,YEAR($B59),Transakcijas!$P:$P,RIGHT(\"0\"&MONTH($B59),2),Transakcijas!$D:$D,\"Aprēķins\",Transakcijas!$H:$H,\"Nokavējuma nauda\",Transakcijas!$K:$K,\"<>\"&\"FIFO*\",Transakcijas!$K:$K,\"<>\"&\"Iemaksas atbrīvošana\")","v":0},{"$f":"SUMIFS(Transakcijas!$R:$R,Transakcijas!$Q:$Q,$B$56,Transakcijas!$O:$O,YEAR($B59),Transakcijas!$P:$P,RIGHT(\"0\"&MONTH($B59),2),Transakcijas!$D:$D,\"Aprēķins\",Transakcijas!$H:$H,\"Soda nauda\",Transakcijas!$K:$K,\"<>\"&\"FIFO*\",Transakcijas!$K:$K,\"<>\"&\"Iemaksas atbrīvošana\")","v":0},{"$f":"SUMIFS(Transakcijas!$R:$R,Transakcijas!$Q:$Q,$B$56,Transakcijas!$O:$O,YEAR($B59),Transakcijas!$P:$P,RIGHT(\"0\"&MONTH($B59),2),Transakcijas!$D:$D,\"Iemaksa\",Transakcijas!$K:$K,\"<>\"&\"Izejošā maksājuma anulēšana\")\n+SUMIFS(Transakcijas!$R:$R,Transakcijas!$Q:$Q,$B$56,Transakcijas!$O:$O,YEAR($B59),Transakcijas!$P:$P,RIGHT(\"0\"&MONTH($B59),2),Transakcijas!$D:$D,\"Atmaksa\",Transakcijas!$K:$K,\"Iemaksas atbrīvošana\")","v":0},{"$f":"SUMIFS(Transakcijas!$R:$R,Transakcijas!$Q:$Q,$B$56,Transakcijas!$O:$O,YEAR($B59),Transakcijas!$P:$P,RIGHT(\"0\"&MONTH($B59),2),Transakcijas!$D:$D,\"Atmaksa\",Transakcijas!$K:$K,\"<>\"&\"Iemaksas atbrīvošana\")\n+SUMIFS(Transakcijas!$R:$R,Transakcijas!$Q:$Q,$B$56,Transakcijas!$O:$O,YEAR($B59),Transakcijas!$P:$P,RIGHT(\"0\"&MONTH($B59),2),Transakcijas!$D:$D,\"Iemaksa\",Transakcijas!$K:$K,\"Izejošā maksājuma anulēšana\")","v":0},{"$f":"SUMIFS(Transakcijas!$R:$R,Transakcijas!$Q:$Q,$B$56,Transakcijas!$O:$O,YEAR($B59),Transakcijas!$P:$P,RIGHT(\"0\"&MONTH($B59),2),Transakcijas!$K:$K,\"FIFO savstarpējā segšana\")\n+SUMIFS(Transakcijas!$R:$R,Transakcijas!$Q:$Q,$B$56,Transakcijas!$O:$O,YEAR($B59),Transakcijas!$P:$P,RIGHT(\"0\"&MONTH($B59),2),Transakcijas!$D:$D,\"Aprēķins\",Transakcijas!$K:$K,\"Iemaksas atbrīvošana\")","v":0},{"$f":"SUMIFS(Transakcijas!$R:$R,Transakcijas!$Q:$Q,$B$56,Transakcijas!$O:$O,YEAR($B59),Transakcijas!$P:$P,RIGHT(\"0\"&MONTH($B59),2))-SUM(D59:K59)","v":0},0,{"$f":"ROUND(SUMIFS(Transakcijas!$R:$R,Transakcijas!$Q:$Q,$B$56,Transakcijas!$N:$N,\"<=\"&$B59,Transakcijas!$H:$H,\"Pamatsumma\"),2)","v":0},{"$f":"ROUND(SUMIFS(Transakcijas!$R:$R,Transakcijas!$Q:$Q,$B$56,Transakcijas!$N:$N,\"<=\"&$B59,Transakcijas!$H:$H,\"Nokavējuma nauda\"),2)","v":0},{"$f":"ROUND(SUMIFS(Transakcijas!$R:$R,Transakcijas!$Q:$Q,$B$56,Transakcijas!$N:$N,\"<=\"&$B59,Transakcijas!$H:$H,\"Soda nauda\"),2)","v":0}]
[null,"2024-04-30",0,{"$f":"SUMIFS(Transakcijas!$R:$R,Transakcijas!$Q:$Q,$B$56,Transakcijas!$O:$O,YEAR($B60),Transakcijas!$P:$P,RIGHT(\"0\"&MONTH($B60),2),Transakcijas!$D:$D,\"Aprēķins\",Transakcijas!$H:$H,\"Pamatsumma\",Transakcijas!$K:$K,\"<>\"&\"FIFO*\",Transakcijas!$K:$K,\"<>\"&\"Iemaksas atbrīvošana\")","v":0},null,null,{"$f":"SUMIFS(Transakcijas!$R:$R,Transakcijas!$Q:$Q,$B$56,Transakcijas!$O:$O,YEAR($B60),Transakcijas!$P:$P,RIGHT(\"0\"&MONTH($B60),2),Transakcijas!$D:$D,\"Aprēķins\",Transakcijas!$H:$H,\"Nokavējuma nauda\",Transakcijas!$K:$K,\"<>\"&\"FIFO*\",Transakcijas!$K:$K,\"<>\"&\"Iemaksas atbrīvošana\")","v":0},{"$f":"SUMIFS(Transakcijas!$R:$R,Transakcijas!$Q:$Q,$B$56,Transakcijas!$O:$O,YEAR($B60),Transakcijas!$P:$P,RIGHT(\"0\"&MONTH($B60),2),Transakcijas!$D:$D,\"Aprēķins\",Transakcijas!$H:$H,\"Soda nauda\",Transakcijas!$K:$K,\"<>\"&\"FIFO*\",Transakcijas!$K:$K,\"<>\"&\"Iemaksas atbrīvošana\")","v":0},{"$f":"SUMIFS(Transakcijas!$R:$R,Transakcijas!$Q:$Q,$B$56,Transakcijas!$O:$O,YEAR($B60),Transakcijas!$P:$P,RIGHT(\"0\"&MONTH($B60),2),Transakcijas!$D:$D,\"Iemaksa\",Transakcijas!$K:$K,\"<>\"&\"Izejošā maksājuma anulēšana\")\n+SUMIFS(Transakcijas!$R:$R,Transakcijas!$Q:$Q,$B$56,Transakcijas!$O:$O,YEAR($B60),Transakcijas!$P:$P,RIGHT(\"0\"&MONTH($B60),2),Transakcijas!$D:$D,\"Atmaksa\",Transakcijas!$K:$K,\"Iemaksas atbrīvošana\")","v":0},{"$f":"SUMIFS(Transakcijas!$R:$R,Transakcijas!$Q:$Q,$B$56,Transakcijas!$O:$O,YEAR($B60),Transakcijas!$P:$P,RIGHT(\"0\"&MONTH($B60),2),Transakcijas!$D:$D,\"Atmaksa\",Transakcijas!$K:$K,\"<>\"&\"Iemaksas atbrīvošana\")\n+SUMIFS(Transakcijas!$R:$R,Transakcijas!$Q:$Q,$B$56,Transakcijas!$O:$O,YEAR($B60),Transakcijas!$P:$P,RIGHT(\"0\"&MONTH($B60),2),Transakcijas!$D:$D,\"Iemaksa\",Transakcijas!$K:$K,\"Izejošā maksājuma anulēšana\")","v":0},{"$f":"SUMIFS(Transakcijas!$R:$R,Transakcijas!$Q:$Q,$B$56,Transakcijas!$O:$O,YEAR($B60),Transakcijas!$P:$P,RIGHT(\"0\"&MONTH($B60),2),Transakcijas!$K:$K,\"FIFO savstarpējā segšana\")\n+SUMIFS(Transakcijas!$R:$R,Transakcijas!$Q:$Q,$B$56,Transakcijas!$O:$O,YEAR($B60),Transakcijas!$P:$P,RIGHT(\"0\"&MONTH($B60),2),Transakcijas!$D:$D,\"Aprēķins\",Transakcijas!$K:$K,\"Iemaksas atbrīvošana\")","v":0},{"$f":"SUMIFS(Transakcijas!$R:$R,Transakcijas!$Q:$Q,$B$56,Transakcijas!$O:$O,YEAR($B60),Transakcijas!$P:$P,RIGHT(\"0\"&MONTH($B60),2))-SUM(D60:K60)","v":0},0,{"$f":"ROUND(SUMIFS(Transakcijas!$R:$R,Transakcijas!$Q:$Q,$B$56,Transakcijas!$N:$N,\"<=\"&$B60,Transakcijas!$H:$H,\"Pamatsumma\"),2)","v":0},{"$f":"ROUND(SUMIFS(Transakcijas!$R:$R,Transakcijas!$Q:$Q,$B$56,Transakcijas!$N:$N,\"<=\"&$B60,Transakcijas!$H:$H,\"Nokavējuma nauda\"),2)","v":0},{"$f":"ROUND(SUMIFS(Transakcijas!$R:$R,Transakcijas!$Q:$Q,$B$56,Transakcijas!$N:$N,\"<=\"&$B60,Transakcijas!$H:$H,\"Soda nauda\"),2)","v":0}]
[null,"2024-05-31",0,{"$f":"SUMIFS(Transakcijas!$R:$R,Transakcijas!$Q:$Q,$B$56,Transakcijas!$O:$O,YEAR($B61),Transakcijas!$P:$P,RIGHT(\"0\"&MONTH($B61),2),Transakcijas!$D:$D,\"Aprēķins\",Transakcijas!$H:$H,\"Pamatsumma\",Transakcijas!$K:$K,\"<>\"&\"FIFO*\",Transakcijas!$K:$K,\"<>\"&\"Iemaksas atbrīvošana\")","v":0},null,null,{"$f":"SUMIFS(Transakcijas!$R:$R,Transakcijas!$Q:$Q,$B$56,Transakcijas!$O:$O,YEAR($B61),Transakcijas!$P:$P,RIGHT(\"0\"&MONTH($B61),2),Transakcijas!$D:$D,\"Aprēķins\",Transakcijas!$H:$H,\"Nokavējuma nauda\",Transakcijas!$K:$K,\"<>\"&\"FIFO*\",Transakcijas!$K:$K,\"<>\"&\"Iemaksas atbrīvošana\")","v":0},{"$f":"SUMIFS(Transakcijas!$R:$R,Transakcijas!$Q:$Q,$B$56,Transakcijas!$O:$O,YEAR($B61),Transakcijas!$P:$P,RIGHT(\"0\"&MONTH($B61),2),Transakcijas!$D:$D,\"Aprēķins\",Transakcijas!$H:$H,\"Soda nauda\",Transakcijas!$K:$K,\"<>\"&\"FIFO*\",Transakcijas!$K:$K,\"<>\"&\"Iemaksas atbrīvošana\")","v":0},{"$f":"SUMIFS(Transakcijas!$R:$R,Transakcijas!$Q:$Q,$B$56,Transakcijas!$O:$O,YEAR($B61),Transakcijas!$P:$P,RIGHT(\"0\"&MONTH($B61),2),Transakcijas!$D:$D,\"Iemaksa\",Transakcijas!$K:$K,\"<>\"&\"Izejošā maksājuma anulēšana\")\n+SUMIFS(Transakcijas!$R:$R,Transakcijas!$Q:$Q,$B$56,Transakcijas!$O:$O,YEAR($B61),Transakcijas!$P:$P,RIGHT(\"0\"&MONTH($B61),2),Transakcijas!$D:$D,\"Atmaksa\",Transakcijas!$K:$K,\"Iemaksas atbrīvošana\")","v":0},{"$f":"SUMIFS(Transakcijas!$R:$R,Transakcijas!$Q:$Q,$B$56,Transakcijas!$O:$O,YEAR($B61),Transakcijas!$P:$P,RIGHT(\"0\"&MONTH($B61),2),Transakcijas!$D:$D,\"Atmaksa\",Transakcijas!$K:$K,\"<>\"&\"Iemaksas atbrīvošana\")\n+SUMIFS(Transakcijas!$R:$R,Transakcijas!$Q:$Q,$B$56,Transakcijas!$O:$O,YEAR($B61),Transakcijas!$P:$P,RIGHT(\"0\"&MONTH($B61),2),Transakcijas!$D:$D,\"Iemaksa\",Transakcijas!$K:$K,\"Izejošā maksājuma anulēšana\")","v":0},{"$f":"SUMIFS(Transakcijas!$R:$R,Transakcijas!$Q:$Q,$B$56,Transakcijas!$O:$O,YEAR($B61),Transakcijas!$P:$P,RIGHT(\"0\"&MONTH($B61),2),Transakcijas!$K:$K,\"FIFO savstarpējā segšana\")\n+SUMIFS(Transakcijas!$R:$R,Transakcijas!$Q:$Q,$B$56,Transakcijas!$O:$O,YEAR($B61),Transakcijas!$P:$P,RIGHT(\"0\"&MONTH($B61),2),Transakcijas!$D:$D,\"Aprēķins\",Transakcijas!$K:$K,\"Iemaksas atbrīvošana\")","v":0},{"$f":"SUMIFS(Transakcijas!$R:$R,Transakcijas!$Q:$Q,$B$56,Transakcijas!$O:$O,YEAR($B61),Transakcijas!$P:$P,RIGHT(\"0\"&MONTH($B61),2))-SUM(D61:K61)","v":0},0,{"$f":"ROUND(SUMIFS(Transakcijas!$R:$R,Transakcijas!$Q:$Q,$B$56,Transakcijas!$N:$N,\"<=\"&$B61,Transakcijas!$H:$H,\"Pamatsumma\"),2)","v":0},{"$f":"ROUND(SUMIFS(Transakcijas!$R:$R,Transakcijas!$Q:$Q,$B$56,Transakcijas!$N:$N,\"<=\"&$B61,Transakcijas!$H:$H,\"Nokavējuma nauda\"),2)","v":0},{"$f":"ROUND(SUMIFS(Transakcijas!$R:$R,Transakcijas!$Q:$Q,$B$56,Transakcijas!$N:$N,\"<=\"&$B61,Transakcijas!$H:$H,\"Soda nauda\"),2)","v":0}]
[null,"2024-06-30",0,{"$f":"SUMIFS(Transakcijas!$R:$R,Transakcijas!$Q:$Q,$B$56,Transakcijas!$O:$O,YEAR($B62),Transakcijas!$P:$P,RIGHT(\"0\"&MONTH($B62),2),Transakcijas!$D:$D,\"Aprēķins\",Transakcijas!$H:$H,\"Pamatsumma\",Transakcijas!$K:$K,\"<>\"&\"FIFO*\",Transakcijas!$K:$K,\"<>\"&\"Iemaksas atbrīvošana\")","v":0},null,null,{"$f":"SUMIFS(Transakcijas!$R:$R,Transakcijas!$Q:$Q,$B$56,Transakcijas!$O:$O,YEAR($B62),Transakcijas!$P:$P,RIGHT(\"0\"&MONTH($B62),2),Transakcijas!$D:$D,\"Aprēķins\",Transakcijas!$H:$H,\"Nokavējuma nauda\",Transakcijas!$K:$K,\"<>\"&\"FIFO*\",Transakcijas!$K:$K,\"<>\"&\"Iemaksas atbrīvošana\")","v":0},{"$f":"SUMIFS(Transakcijas!$R:$R,Transakcijas!$Q:$Q,$B$56,Transakcijas!$O:$O,YEAR($B62),Transakcijas!$P:$P,RIGHT(\"0\"&MONTH($B62),2),Transakcijas!$D:$D,\"Aprēķins\",Transakcijas!$H:$H,\"Soda nauda\",Transakcijas!$K:$K,\"<>\"&\"FIFO*\",Transakcijas!$K:$K,\"<>\"&\"Iemaksas atbrīvošana\")","v":0},{"$f":"SUMIFS(Transakcijas!$R:$R,Transakcijas!$Q:$Q,$B$56,Transakcijas!$O:$O,YEAR($B62),Transakcijas!$P:$P,RIGHT(\"0\"&MONTH($B62),2),Transakcijas!$D:$D,\"Iemaksa\",Transakcijas!$K:$K,\"<>\"&\"Izejošā maksājuma anulēšana\")\n+SUMIFS(Transakcijas!$R:$R,Transakcijas!$Q:$Q,$B$56,Transakcijas!$O:$O,YEAR($B62),Transakcijas!$P:$P,RIGHT(\"0\"&MONTH($B62),2),Transakcijas!$D:$D,\"Atmaksa\",Transakcijas!$K:$K,\"Iemaksas atbrīvošana\")","v":0},{"$f":"SUMIFS(Transakcijas!$R:$R,Transakcijas!$Q:$Q,$B$56,Transakcijas!$O:$O,YEAR($B62),Transakcijas!$P:$P,RIGHT(\"0\"&MONTH($B62),2),Transakcijas!$D:$D,\"Atmaksa\",Transakcijas!$K:$K,\"<>\"&\"Iemaksas atbrīvošana\")\n+SUMIFS(Transakcijas!$R:$R,Transakcijas!$Q:$Q,$B$56,Transakcijas!$O:$O,YEAR($B62),Transakcijas!$P:$P,RIGHT(\"0\"&MONTH($B62),2),Transakcijas!$D:$D,\"Iemaksa\",Transakcijas!$K:$K,\"Izejošā maksājuma anulēšana\")","v":0},{"$f":"SUMIFS(Transakcijas!$R:$R,Transakcijas!$Q:$Q,$B$56,Transakcijas!$O:$O,YEAR($B62),Transakcijas!$P:$P,RIGHT(\"0\"&MONTH($B62),2),Transakcijas!$K:$K,\"FIFO savstarpējā segšana\")\n+SUMIFS(Transakcijas!$R:$R,Transakcijas!$Q:$Q,$B$56,Transakcijas!$O:$O,YEAR($B62),Transakcijas!$P:$P,RIGHT(\"0\"&MONTH($B62),2),Transakcijas!$D:$D,\"Aprēķins\",Transakcijas!$K:$K,\"Iemaksas atbrīvošana\")","v":0},{"$f":"SUMIFS(Transakcijas!$R:$R,Transakcijas!$Q:$Q,$B$56,Transakcijas!$O:$O,YEAR($B62),Transakcijas!$P:$P,RIGHT(\"0\"&MONTH($B62),2))-SUM(D62:K62)","v":0},0,{"$f":"ROUND(SUMIFS(Transakcijas!$R:$R,Transakcijas!$Q:$Q,$B$56,Transakcijas!$N:$N,\"<=\"&$B62,Transakcijas!$H:$H,\"Pamatsumma\"),2)","v":0},{"$f":"ROUND(SUMIFS(Transakcijas!$R:$R,Transakcijas!$Q:$Q,$B$56,Transakcijas!$N:$N,\"<=\"&$B62,Transakcijas!$H:$H,\"Nokavējuma nauda\"),2)","v":0},{"$f":"ROUND(SUMIFS(Transakcijas!$R:$R,Transakcijas!$Q:$Q,$B$56,Transakcijas!$N:$N,\"<=\"&$B62,Transakcijas!$H:$H,\"Soda nauda\"),2)","v":0}]
[null,"2024-07-31",0,{"$f":"SUMIFS(Transakcijas!$R:$R,Transakcijas!$Q:$Q,$B$56,Transakcijas!$O:$O,YEAR($B63),Transakcijas!$P:$P,RIGHT(\"0\"&MONTH($B63),2),Transakcijas!$D:$D,\"Aprēķins\",Transakcijas!$H:$H,\"Pamatsumma\",Transakcijas!$K:$K,\"<>\"&\"FIFO*\",Transakcijas!$K:$K,\"<>\"&\"Iemaksas atbrīvošana\")","v":0},null,null,{"$f":"SUMIFS(Transakcijas!$R:$R,Transakcijas!$Q:$Q,$B$56,Transakcijas!$O:$O,YEAR($B63),Transakcijas!$P:$P,RIGHT(\"0\"&MONTH($B63),2),Transakcijas!$D:$D,\"Aprēķins\",Transakcijas!$H:$H,\"Nokavējuma nauda\",Transakcijas!$K:$K,\"<>\"&\"FIFO*\",Transakcijas!$K:$K,\"<>\"&\"Iemaksas atbrīvošana\")","v":0},{"$f":"SUMIFS(Transakcijas!$R:$R,Transakcijas!$Q:$Q,$B$56,Transakcijas!$O:$O,YEAR($B63),Transakcijas!$P:$P,RIGHT(\"0\"&MONTH($B63),2),Transakcijas!$D:$D,\"Aprēķins\",Transakcijas!$H:$H,\"Soda nauda\",Transakcijas!$K:$K,\"<>\"&\"FIFO*\",Transakcijas!$K:$K,\"<>\"&\"Iemaksas atbrīvošana\")","v":0},{"$f":"SUMIFS(Transakcijas!$R:$R,Transakcijas!$Q:$Q,$B$56,Transakcijas!$O:$O,YEAR($B63),Transakcijas!$P:$P,RIGHT(\"0\"&MONTH($B63),2),Transakcijas!$D:$D,\"Iemaksa\",Transakcijas!$K:$K,\"<>\"&\"Izejošā maksājuma anulēšana\")\n+SUMIFS(Transakcijas!$R:$R,Transakcijas!$Q:$Q,$B$56,Transakcijas!$O:$O,YEAR($B63),Transakcijas!$P:$P,RIGHT(\"0\"&MONTH($B63),2),Transakcijas!$D:$D,\"Atmaksa\",Transakcijas!$K:$K,\"Iemaksas atbrīvošana\")","v":0},{"$f":"SUMIFS(Transakcijas!$R:$R,Transakcijas!$Q:$Q,$B$56,Transakcijas!$O:$O,YEAR($B63),Transakcijas!$P:$P,RIGHT(\"0\"&MONTH($B63),2),Transakcijas!$D:$D,\"Atmaksa\",Transakcijas!$K:$K,\"<>\"&\"Iemaksas atbrīvošana\")\n+SUMIFS(Transakcijas!$R:$R,Transakcijas!$Q:$Q,$B$56,Transakcijas!$O:$O,YEAR($B63),Transakcijas!$P:$P,RIGHT(\"0\"&MONTH($B63),2),Transakcijas!$D:$D,\"Iemaksa\",Transakcijas!$K:$K,\"Izejošā maksājuma anulēšana\")","v":0},{"$f":"SUMIFS(Transakcijas!$R:$R,Transakcijas!$Q:$Q,$B$56,Transakcijas!$O:$O,YEAR($B63),Transakcijas!$P:$P,RIGHT(\"0\"&MONTH($B63),2),Transakcijas!$K:$K,\"FIFO savstarpējā segšana\")\n+SUMIFS(Transakcijas!$R:$R,Transakcijas!$Q:$Q,$B$56,Transakcijas!$O:$O,YEAR($B63),Transakcijas!$P:$P,RIGHT(\"0\"&MONTH($B63),2),Transakcijas!$D:$D,\"Aprēķins\",Transakcijas!$K:$K,\"Iemaksas atbrīvošana\")","v":0},{"$f":"SUMIFS(Transakcijas!$R:$R,Transakcijas!$Q:$Q,$B$56,Transakcijas!$O:$O,YEAR($B63),Transakcijas!$P:$P,RIGHT(\"0\"&MONTH($B63),2))-SUM(D63:K63)","v":0},0,{"$f":"ROUND(SUMIFS(Transakcijas!$R:$R,Transakcijas!$Q:$Q,$B$56,Transakcijas!$N:$N,\"<=\"&$B63,Transakcijas!$H:$H,\"Pamatsumma\"),2)","v":0},{"$f":"ROUND(SUMIFS(Transakcijas!$R:$R,Transakcijas!$Q:$Q,$B$56,Transakcijas!$N:$N,\"<=\"&$B63,Transakcijas!$H:$H,\"Nokavējuma nauda\"),2)","v":0},{"$f":"ROUND(SUMIFS(Transakcijas!$R:$R,Transakcijas!$Q:$Q,$B$56,Transakcijas!$N:$N,\"<=\"&$B63,Transakcijas!$H:$H,\"Soda nauda\"),2)","v":0}]
[null,"2024-08-31",0,{"$f":"SUMIFS(Transakcijas!$R:$R,Transakcijas!$Q:$Q,$B$56,Transakcijas!$O:$O,YEAR($B64),Transakcijas!$P:$P,RIGHT(\"0\"&MONTH($B64),2),Transakcijas!$D:$D,\"Aprēķins\",Transakcijas!$H:$H,\"Pamatsumma\",Transakcijas!$K:$K,\"<>\"&\"FIFO*\",Transakcijas!$K:$K,\"<>\"&\"Iemaksas atbrīvošana\")","v":0},null,null,{"$f":"SUMIFS(Transakcijas!$R:$R,Transakcijas!$Q:$Q,$B$56,Transakcijas!$O:$O,YEAR($B64),Transakcijas!$P:$P,RIGHT(\"0\"&MONTH($B64),2),Transakcijas!$D:$D,\"Aprēķins\",Transakcijas!$H:$H,\"Nokavējuma nauda\",Transakcijas!$K:$K,\"<>\"&\"FIFO*\",Transakcijas!$K:$K,\"<>\"&\"Iemaksas atbrīvošana\")","v":0},{"$f":"SUMIFS(Transakcijas!$R:$R,Transakcijas!$Q:$Q,$B$56,Transakcijas!$O:$O,YEAR($B64),Transakcijas!$P:$P,RIGHT(\"0\"&MONTH($B64),2),Transakcijas!$D:$D,\"Aprēķins\",Transakcijas!$H:$H,\"Soda nauda\",Transakcijas!$K:$K,\"<>\"&\"FIFO*\",Transakcijas!$K:$K,\"<>\"&\"Iemaksas atbrīvošana\")","v":0},{"$f":"SUMIFS(Transakcijas!$R:$R,Transakcijas!$Q:$Q,$B$56,Transakcijas!$O:$O,YEAR($B64),Transakcijas!$P:$P,RIGHT(\"0\"&MONTH($B64),2),Transakcijas!$D:$D,\"Iemaksa\",Transakcijas!$K:$K,\"<>\"&\"Izejošā maksājuma anulēšana\")\n+SUMIFS(Transakcijas!$R:$R,Transakcijas!$Q:$Q,$B$56,Transakcijas!$O:$O,YEAR($B64),Transakcijas!$P:$P,RIGHT(\"0\"&MONTH($B64),2),Transakcijas!$D:$D,\"Atmaksa\",Transakcijas!$K:$K,\"Iemaksas atbrīvošana\")","v":0},{"$f":"SUMIFS(Transakcijas!$R:$R,Transakcijas!$Q:$Q,$B$56,Transakcijas!$O:$O,YEAR($B64),Transakcijas!$P:$P,RIGHT(\"0\"&MONTH($B64),2),Transakcijas!$D:$D,\"Atmaksa\",Transakcijas!$K:$K,\"<>\"&\"Iemaksas atbrīvošana\")\n+SUMIFS(Transakcijas!$R:$R,Transakcijas!$Q:$Q,$B$56,Transakcijas!$O:$O,YEAR($B64),Transakcijas!$P:$P,RIGHT(\"0\"&MONTH($B64),2),Transakcijas!$D:$D,\"Iemaksa\",Transakcijas!$K:$K,\"Izejošā maksājuma anulēšana\")","v":0},{"$f":"SUMIFS(Transakcijas!$R:$R,Transakcijas!$Q:$Q,$B$56,Transakcijas!$O:$O,YEAR($B64),Transakcijas!$P:$P,RIGHT(\"0\"&MONTH($B64),2),Transakcijas!$K:$K,\"FIFO savstarpējā segšana\")\n+SUMIFS(Transakcijas!$R:$R,Transakcijas!$Q:$Q,$B$56,Transakcijas!$O:$O,YEAR($B64),Transakcijas!$P:$P,RIGHT(\"0\"&MONTH($B64),2),Transakcijas!$D:$D,\"Aprēķins\",Transakcijas!$K:$K,\"Iemaksas atbrīvošana\")","v":0},{"$f":"SUMIFS(Transakcijas!$R:$R,Transakcijas!$Q:$Q,$B$56,Transakcijas!$O:$O,YEAR($B64),Transakcijas!$P:$P,RIGHT(\"0\"&MONTH($B64),2))-SUM(D64:K64)","v":0},0,{"$f":"ROUND(SUMIFS(Transakcijas!$R:$R,Transakcijas!$Q:$Q,$B$56,Transakcijas!$N:$N,\"<=\"&$B64,Transakcijas!$H:$H,\"Pamatsumma\"),2)","v":0},{"$f":"ROUND(SUMIFS(Transakcijas!$R:$R,Transakcijas!$Q:$Q,$B$56,Transakcijas!$N:$N,\"<=\"&$B64,Transakcijas!$H:$H,\"Nokavējuma nauda\"),2)","v":0},{"$f":"ROUND(SUMIFS(Transakcijas!$R:$R,Transakcijas!$Q:$Q,$B$56,Transakcijas!$N:$N,\"<=\"&$B64,Transakcijas!$H:$H,\"Soda nauda\"),2)","v":0}]
[null,"2024-09-30",0,{"$f":"SUMIFS(Transakcijas!$R:$R,Transakcijas!$Q:$Q,$B$56,Transakcijas!$O:$O,YEAR($B65),Transakcijas!$P:$P,RIGHT(\"0\"&MONTH($B65),2),Transakcijas!$D:$D,\"Aprēķins\",Transakcijas!$H:$H,\"Pamatsumma\",Transakcijas!$K:$K,\"<>\"&\"FIFO*\",Transakcijas!$K:$K,\"<>\"&\"Iemaksas atbrīvošana\")","v":0},null,null,{"$f":"SUMIFS(Transakcijas!$R:$R,Transakcijas!$Q:$Q,$B$56,Transakcijas!$O:$O,YEAR($B65),Transakcijas!$P:$P,RIGHT(\"0\"&MONTH($B65),2),Transakcijas!$D:$D,\"Aprēķins\",Transakcijas!$H:$H,\"Nokavējuma nauda\",Transakcijas!$K:$K,\"<>\"&\"FIFO*\",Transakcijas!$K:$K,\"<>\"&\"Iemaksas atbrīvošana\")","v":0},{"$f":"SUMIFS(Transakcijas!$R:$R,Transakcijas!$Q:$Q,$B$56,Transakcijas!$O:$O,YEAR($B65),Transakcijas!$P:$P,RIGHT(\"0\"&MONTH($B65),2),Transakcijas!$D:$D,\"Aprēķins\",Transakcijas!$H:$H,\"Soda nauda\",Transakcijas!$K:$K,\"<>\"&\"FIFO*\",Transakcijas!$K:$K,\"<>\"&\"Iemaksas atbrīvošana\")","v":0},{"$f":"SUMIFS(Transakcijas!$R:$R,Transakcijas!$Q:$Q,$B$56,Transakcijas!$O:$O,YEAR($B65),Transakcijas!$P:$P,RIGHT(\"0\"&MONTH($B65),2),Transakcijas!$D:$D,\"Iemaksa\",Transakcijas!$K:$K,\"<>\"&\"Izejošā maksājuma anulēšana\")\n+SUMIFS(Transakcijas!$R:$R,Transakcijas!$Q:$Q,$B$56,Transakcijas!$O:$O,YEAR($B65),Transakcijas!$P:$P,RIGHT(\"0\"&MONTH($B65),2),Transakcijas!$D:$D,\"Atmaksa\",Transakcijas!$K:$K,\"Iemaksas atbrīvošana\")","v":0},{"$f":"SUMIFS(Transakcijas!$R:$R,Transakcijas!$Q:$Q,$B$56,Transakcijas!$O:$O,YEAR($B65),Transakcijas!$P:$P,RIGHT(\"0\"&MONTH($B65),2),Transakcijas!$D:$D,\"Atmaksa\",Transakcijas!$K:$K,\"<>\"&\"Iemaksas atbrīvošana\")\n+SUMIFS(Transakcijas!$R:$R,Transakcijas!$Q:$Q,$B$56,Transakcijas!$O:$O,YEAR($B65),Transakcijas!$P:$P,RIGHT(\"0\"&MONTH($B65),2),Transakcijas!$D:$D,\"Iemaksa\",Transakcijas!$K:$K,\"Izejošā maksājuma anulēšana\")","v":0},{"$f":"SUMIFS(Transakcijas!$R:$R,Transakcijas!$Q:$Q,$B$56,Transakcijas!$O:$O,YEAR($B65),Transakcijas!$P:$P,RIGHT(\"0\"&MONTH($B65),2),Transakcijas!$K:$K,\"FIFO savstarpējā segšana\")\n+SUMIFS(Transakcijas!$R:$R,Transakcijas!$Q:$Q,$B$56,Transakcijas!$O:$O,YEAR($B65),Transakcijas!$P:$P,RIGHT(\"0\"&MONTH($B65),2),Transakcijas!$D:$D,\"Aprēķins\",Transakcijas!$K:$K,\"Iemaksas atbrīvošana\")","v":0},{"$f":"SUMIFS(Transakcijas!$R:$R,Transakcijas!$Q:$Q,$B$56,Transakcijas!$O:$O,YEAR($B65),Transakcijas!$P:$P,RIGHT(\"0\"&MONTH($B65),2))-SUM(D65:K65)","v":0},0,{"$f":"ROUND(SUMIFS(Transakcijas!$R:$R,Transakcijas!$Q:$Q,$B$56,Transakcijas!$N:$N,\"<=\"&$B65,Transakcijas!$H:$H,\"Pamatsumma\"),2)","v":0},{"$f":"ROUND(SUMIFS(Transakcijas!$R:$R,Transakcijas!$Q:$Q,$B$56,Transakcijas!$N:$N,\"<=\"&$B65,Transakcijas!$H:$H,\"Nokavējuma nauda\"),2)","v":0},{"$f":"ROUND(SUMIFS(Transakcijas!$R:$R,Transakcijas!$Q:$Q,$B$56,Transakcijas!$N:$N,\"<=\"&$B65,Transakcijas!$H:$H,\"Soda nauda\"),2)","v":0}]
[null,"2024-10-31",0,{"$f":"SUMIFS(Transakcijas!$R:$R,Transakcijas!$Q:$Q,$B$56,Transakcijas!$O:$O,YEAR($B66),Transakcijas!$P:$P,RIGHT(\"0\"&MONTH($B66),2),Transakcijas!$D:$D,\"Aprēķins\",Transakcijas!$H:$H,\"Pamatsumma\",Transakcijas!$K:$K,\"<>\"&\"FIFO*\",Transakcijas!$K:$K,\"<>\"&\"Iemaksas atbrīvošana\")","v":0},null,null,{"$f":"SUMIFS(Transakcijas!$R:$R,Transakcijas!$Q:$Q,$B$56,Transakcijas!$O:$O,YEAR($B66),Transakcijas!$P:$P,RIGHT(\"0\"&MONTH($B66),2),Transakcijas!$D:$D,\"Aprēķins\",Transakcijas!$H:$H,\"Nokavējuma nauda\",Transakcijas!$K:$K,\"<>\"&\"FIFO*\",Transakcijas!$K:$K,\"<>\"&\"Iemaksas atbrīvošana\")","v":0},{"$f":"SUMIFS(Transakcijas!$R:$R,Transakcijas!$Q:$Q,$B$56,Transakcijas!$O:$O,YEAR($B66),Transakcijas!$P:$P,RIGHT(\"0\"&MONTH($B66),2),Transakcijas!$D:$D,\"Aprēķins\",Transakcijas!$H:$H,\"Soda nauda\",Transakcijas!$K:$K,\"<>\"&\"FIFO*\",Transakcijas!$K:$K,\"<>\"&\"Iemaksas atbrīvošana\")","v":0},{"$f":"SUMIFS(Transakcijas!$R:$R,Transakcijas!$Q:$Q,$B$56,Transakcijas!$O:$O,YEAR($B66),Transakcijas!$P:$P,RIGHT(\"0\"&MONTH($B66),2),Transakcijas!$D:$D,\"Iemaksa\",Transakcijas!$K:$K,\"<>\"&\"Izejošā maksājuma anulēšana\")\n+SUMIFS(Transakcijas!$R:$R,Transakcijas!$Q:$Q,$B$56,Transakcijas!$O:$O,YEAR($B66),Transakcijas!$P:$P,RIGHT(\"0\"&MONTH($B66),2),Transakcijas!$D:$D,\"Atmaksa\",Transakcijas!$K:$K,\"Iemaksas atbrīvošana\")","v":0},{"$f":"SUMIFS(Transakcijas!$R:$R,Transakcijas!$Q:$Q,$B$56,Transakcijas!$O:$O,YEAR($B66),Transakcijas!$P:$P,RIGHT(\"0\"&MONTH($B66),2),Transakcijas!$D:$D,\"Atmaksa\",Transakcijas!$K:$K,\"<>\"&\"Iemaksas atbrīvošana\")\n+SUMIFS(Transakcijas!$R:$R,Transakcijas!$Q:$Q,$B$56,Transakcijas!$O:$O,YEAR($B66),Transakcijas!$P:$P,RIGHT(\"0\"&MONTH($B66),2),Transakcijas!$D:$D,\"Iemaksa\",Transakcijas!$K:$K,\"Izejošā maksājuma anulēšana\")","v":0},{"$f":"SUMIFS(Transakcijas!$R:$R,Transakcijas!$Q:$Q,$B$56,Transakcijas!$O:$O,YEAR($B66),Transakcijas!$P:$P,RIGHT(\"0\"&MONTH($B66),2),Transakcijas!$K:$K,\"FIFO savstarpējā segšana\")\n+SUMIFS(Transakcijas!$R:$R,Transakcijas!$Q:$Q,$B$56,Transakcijas!$O:$O,YEAR($B66),Transakcijas!$P:$P,RIGHT(\"0\"&MONTH($B66),2),Transakcijas!$D:$D,\"Aprēķins\",Transakcijas!$K:$K,\"Iemaksas atbrīvošana\")","v":0},{"$f":"SUMIFS(Transakcijas!$R:$R,Transakcijas!$Q:$Q,$B$56,Transakcijas!$O:$O,YEAR($B66),Transakcijas!$P:$P,RIGHT(\"0\"&MONTH($B66),2))-SUM(D66:K66)","v":0},0,{"$f":"ROUND(SUMIFS(Transakcijas!$R:$R,Transakcijas!$Q:$Q,$B$56,Transakcijas!$N:$N,\"<=\"&$B66,Transakcijas!$H:$H,\"Pamatsumma\"),2)","v":0},{"$f":"ROUND(SUMIFS(Transakcijas!$R:$R,Transakcijas!$Q:$Q,$B$56,Transakcijas!$N:$N,\"<=\"&$B66,Transakcijas!$H:$H,\"Nokavējuma nauda\"),2)","v":0},{"$f":"ROUND(SUMIFS(Transakcijas!$R:$R,Transakcijas!$Q:$Q,$B$56,Transakcijas!$N:$N,\"<=\"&$B66,Transakcijas!$H:$H,\"Soda nauda\"),2)","v":0}]
[null,"2024-11-30",0,{"$f":"SUMIFS(Transakcijas!$R:$R,Transakcijas!$Q:$Q,$B$56,Transakcijas!$O:$O,YEAR($B67),Transakcijas!$P:$P,RIGHT(\"0\"&MONTH($B67),2),Transakcijas!$D:$D,\"Aprēķins\",Transakcijas!$H:$H,\"Pamatsumma\",Transakcijas!$K:$K,\"<>\"&\"FIFO*\",Transakcijas!$K:$K,\"<>\"&\"Iemaksas atbrīvošana\")","v":0},null,null,{"$f":"SUMIFS(Transakcijas!$R:$R,Transakcijas!$Q:$Q,$B$56,Transakcijas!$O:$O,YEAR($B67),Transakcijas!$P:$P,RIGHT(\"0\"&MONTH($B67),2),Transakcijas!$D:$D,\"Aprēķins\",Transakcijas!$H:$H,\"Nokavējuma nauda\",Transakcijas!$K:$K,\"<>\"&\"FIFO*\",Transakcijas!$K:$K,\"<>\"&\"Iemaksas atbrīvošana\")","v":0},{"$f":"SUMIFS(Transakcijas!$R:$R,Transakcijas!$Q:$Q,$B$56,Transakcijas!$O:$O,YEAR($B67),Transakcijas!$P:$P,RIGHT(\"0\"&MONTH($B67),2),Transakcijas!$D:$D,\"Aprēķins\",Transakcijas!$H:$H,\"Soda nauda\",Transakcijas!$K:$K,\"<>\"&\"FIFO*\",Transakcijas!$K:$K,\"<>\"&\"Iemaksas atbrīvošana\")","v":0},{"$f":"SUMIFS(Transakcijas!$R:$R,Transakcijas!$Q:$Q,$B$56,Transakcijas!$O:$O,YEAR($B67),Transakcijas!$P:$P,RIGHT(\"0\"&MONTH($B67),2),Transakcijas!$D:$D,\"Iemaksa\",Transakcijas!$K:$K,\"<>\"&\"Izejošā maksājuma anulēšana\")\n+SUMIFS(Transakcijas!$R:$R,Transakcijas!$Q:$Q,$B$56,Transakcijas!$O:$O,YEAR($B67),Transakcijas!$P:$P,RIGHT(\"0\"&MONTH($B67),2),Transakcijas!$D:$D,\"Atmaksa\",Transakcijas!$K:$K,\"Iemaksas atbrīvošana\")","v":0},{"$f":"SUMIFS(Transakcijas!$R:$R,Transakcijas!$Q:$Q,$B$56,Transakcijas!$O:$O,YEAR($B67),Transakcijas!$P:$P,RIGHT(\"0\"&MONTH($B67),2),Transakcijas!$D:$D,\"Atmaksa\",Transakcijas!$K:$K,\"<>\"&\"Iemaksas atbrīvošana\")\n+SUMIFS(Transakcijas!$R:$R,Transakcijas!$Q:$Q,$B$56,Transakcijas!$O:$O,YEAR($B67),Transakcijas!$P:$P,RIGHT(\"0\"&MONTH($B67),2),Transakcijas!$D:$D,\"Iemaksa\",Transakcijas!$K:$K,\"Izejošā maksājuma anulēšana\")","v":0},{"$f":"SUMIFS(Transakcijas!$R:$R,Transakcijas!$Q:$Q,$B$56,Transakcijas!$O:$O,YEAR($B67),Transakcijas!$P:$P,RIGHT(\"0\"&MONTH($B67),2),Transakcijas!$K:$K,\"FIFO savstarpējā segšana\")\n+SUMIFS(Transakcijas!$R:$R,Transakcijas!$Q:$Q,$B$56,Transakcijas!$O:$O,YEAR($B67),Transakcijas!$P:$P,RIGHT(\"0\"&MONTH($B67),2),Transakcijas!$D:$D,\"Aprēķins\",Transakcijas!$K:$K,\"Iemaksas atbrīvošana\")","v":0},{"$f":"SUMIFS(Transakcijas!$R:$R,Transakcijas!$Q:$Q,$B$56,Transakcijas!$O:$O,YEAR($B67),Transakcijas!$P:$P,RIGHT(\"0\"&MONTH($B67),2))-SUM(D67:K67)","v":0},0,{"$f":"ROUND(SUMIFS(Transakcijas!$R:$R,Transakcijas!$Q:$Q,$B$56,Transakcijas!$N:$N,\"<=\"&$B67,Transakcijas!$H:$H,\"Pamatsumma\"),2)","v":0},{"$f":"ROUND(SUMIFS(Transakcijas!$R:$R,Transakcijas!$Q:$Q,$B$56,Transakcijas!$N:$N,\"<=\"&$B67,Transakcijas!$H:$H,\"Nokavējuma nauda\"),2)","v":0},{"$f":"ROUND(SUMIFS(Transakcijas!$R:$R,Transakcijas!$Q:$Q,$B$56,Transakcijas!$N:$N,\"<=\"&$B67,Transakcijas!$H:$H,\"Soda nauda\"),2)","v":0}]
[null,"2024-12-31",0,{"$f":"SUMIFS(Transakcijas!$R:$R,Transakcijas!$Q:$Q,$B$56,Transakcijas!$O:$O,YEAR($B68),Transakcijas!$P:$P,RIGHT(\"0\"&MONTH($B68),2),Transakcijas!$D:$D,\"Aprēķins\",Transakcijas!$H:$H,\"Pamatsumma\",Transakcijas!$K:$K,\"<>\"&\"FIFO*\",Transakcijas!$K:$K,\"<>\"&\"Iemaksas atbrīvošana\")","v":0},null,null,{"$f":"SUMIFS(Transakcijas!$R:$R,Transakcijas!$Q:$Q,$B$56,Transakcijas!$O:$O,YEAR($B68),Transakcijas!$P:$P,RIGHT(\"0\"&MONTH($B68),2),Transakcijas!$D:$D,\"Aprēķins\",Transakcijas!$H:$H,\"Nokavējuma nauda\",Transakcijas!$K:$K,\"<>\"&\"FIFO*\",Transakcijas!$K:$K,\"<>\"&\"Iemaksas atbrīvošana\")","v":0},{"$f":"SUMIFS(Transakcijas!$R:$R,Transakcijas!$Q:$Q,$B$56,Transakcijas!$O:$O,YEAR($B68),Transakcijas!$P:$P,RIGHT(\"0\"&MONTH($B68),2),Transakcijas!$D:$D,\"Aprēķins\",Transakcijas!$H:$H,\"Soda nauda\",Transakcijas!$K:$K,\"<>\"&\"FIFO*\",Transakcijas!$K:$K,\"<>\"&\"Iemaksas atbrīvošana\")","v":0},{"$f":"SUMIFS(Transakcijas!$R:$R,Transakcijas!$Q:$Q,$B$56,Transakcijas!$O:$O,YEAR($B68),Transakcijas!$P:$P,RIGHT(\"0\"&MONTH($B68),2),Transakcijas!$D:$D,\"Iemaksa\",Transakcijas!$K:$K,\"<>\"&\"Izejošā maksājuma anulēšana\")\n+SUMIFS(Transakcijas!$R:$R,Transakcijas!$Q:$Q,$B$56,Transakcijas!$O:$O,YEAR($B68),Transakcijas!$P:$P,RIGHT(\"0\"&MONTH($B68),2),Transakcijas!$D:$D,\"Atmaksa\",Transakcijas!$K:$K,\"Iemaksas atbrīvošana\")","v":0},{"$f":"SUMIFS(Transakcijas!$R:$R,Transakcijas!$Q:$Q,$B$56,Transakcijas!$O:$O,YEAR($B68),Transakcijas!$P:$P,RIGHT(\"0\"&MONTH($B68),2),Transakcijas!$D:$D,\"Atmaksa\",Transakcijas!$K:$K,\"<>\"&\"Iemaksas atbrīvošana\")\n+SUMIFS(Transakcijas!$R:$R,Transakcijas!$Q:$Q,$B$56,Transakcijas!$O:$O,YEAR($B68),Transakcijas!$P:$P,RIGHT(\"0\"&MONTH($B68),2),Transakcijas!$D:$D,\"Iemaksa\",Transakcijas!$K:$K,\"Izejošā maksājuma anulēšana\")","v":0},{"$f":"SUMIFS(Transakcijas!$R:$R,Transakcijas!$Q:$Q,$B$56,Transakcijas!$O:$O,YEAR($B68),Transakcijas!$P:$P,RIGHT(\"0\"&MONTH($B68),2),Transakcijas!$K:$K,\"FIFO savstarpējā segšana\")\n+SUMIFS(Transakcijas!$R:$R,Transakcijas!$Q:$Q,$B$56,Transakcijas!$O:$O,YEAR($B68),Transakcijas!$P:$P,RIGHT(\"0\"&MONTH($B68),2),Transakcijas!$D:$D,\"Aprēķins\",Transakcijas!$K:$K,\"Iemaksas atbrīvošana\")","v":0},{"$f":"SUMIFS(Transakcijas!$R:$R,Transakcijas!$Q:$Q,$B$56,Transakcijas!$O:$O,YEAR($B68),Transakcijas!$P:$P,RIGHT(\"0\"&MONTH($B68),2))-SUM(D68:K68)","v":0},0,{"$f":"ROUND(SUMIFS(Transakcijas!$R:$R,Transakcijas!$Q:$Q,$B$56,Transakcijas!$N:$N,\"<=\"&$B68,Transakcijas!$H:$H,\"Pamatsumma\"),2)","v":0},{"$f":"ROUND(SUMIFS(Transakcijas!$R:$R,Transakcijas!$Q:$Q,$B$56,Transakcijas!$N:$N,\"<=\"&$B68,Transakcijas!$H:$H,\"Nokavējuma nauda\"),2)","v":0},{"$f":"ROUND(SUMIFS(Transakcijas!$R:$R,Transakcijas!$Q:$Q,$B$56,Transakcijas!$N:$N,\"<=\"&$B68,Transakcijas!$H:$H,\"Soda nauda\"),2)","v":0}]
[null,"Kopā",{"$f":"C57","v":0},{"$f":"SUM(D57:D68)","v":0},null,null,{"$f":"SUM(G57:G68)","v":0},0,0,0,0,0,0]
[]
[null,{"$f":"DATE(YEAR($M$4),MONTH($M$4)+2,0)","v":"2025-01-31"},{"$f":"IF(B71=\"\",0,M69)","v":0},{"$f":"SUMIFS(Transakcijas!$R:$R,Transakcijas!$Q:$Q,$B$56,Transakcijas!$O:$O,YEAR($B71),Transakcijas!$P:$P,RIGHT(\"0\"&MONTH($B71),2),Transakcijas!$D:$D,\"Aprēķins\",Transakcijas!$H:$H,\"Pamatsumma\",Transakcijas!$K:$K,\"<>\"&\"FIFO*\",Transakcijas!$K:$K,\"<>\"&\"Iemaksas atbrīvošana\")","v":0},null,null,{"$f":"SUMIFS(Transakcijas!$R:$R,Transakcijas!$Q:$Q,$B$56,Transakcijas!$O:$O,YEAR($B71),Transakcijas!$P:$P,RIGHT(\"0\"&MONTH($B71),2),Transakcijas!$D:$D,\"Aprēķins\",Transakcijas!$H:$H,\"Nokavējuma nauda\",Transakcijas!$K:$K,\"<>\"&\"FIFO*\",Transakcijas!$K:$K,\"<>\"&\"Iemaksas atbrīvošana\")","v":0},{"$f":"SUMIFS(Transakcijas!$R:$R,Transakcijas!$Q:$Q,$B$56,Transakcijas!$O:$O,YEAR($B71),Transakcijas!$P:$P,RIGHT(\"0\"&MONTH($B71),2),Transakcijas!$D:$D,\"Aprēķins\",Transakcijas!$H:$H,\"Soda nauda\",Transakcijas!$K:$K,\"<>\"&\"FIFO*\",Transakcijas!$K:$K,\"<>\"&\"Iemaksas atbrīvošana\")","v":0},{"$f":"SUMIFS(Transakcijas!$R:$R,Transakcijas!$Q:$Q,$B$56,Transakcijas!$O:$O,YEAR($B71),Transakcijas!$P:$P,RIGHT(\"0\"&MONTH($B71),2),Transakcijas!$D:$D,\"Iemaksa\",Transakcijas!$K:$K,\"<>\"&\"Izejošā maksājuma anulēšana\")\n+SUMIFS(Transakcijas!$R:$R,Transakcijas!$Q:$Q,$B$56,Transakcijas!$O:$O,YEAR($B71),Transakcijas!$P:$P,RIGHT(\"0\"&MONTH($B71),2),Transakcijas!$D:$D,\"Atmaksa\",Transakcijas!$K:$K,\"Iemaksas atbrīvošana\")","v":0},{"$f":"SUMIFS(Transakcijas!$R:$R,Transakcijas!$Q:$Q,$B$56,Transakcijas!$O:$O,YEAR($B71),Transakcijas!$P:$P,RIGHT(\"0\"&MONTH($B71),2),Transakcijas!$D:$D,\"Atmaksa\",Transakcijas!$K:$K,\"<>\"&\"Iemaksas atbrīvošana\")\n+SUMIFS(Transakcijas!$R:$R,Transakcijas!$Q:$Q,$B$56,Transakcijas!$O:$O,YEAR($B71),Transakcijas!$P:$P,RIGHT(\"0\"&MONTH($B71),2),Transakcijas!$D:$D,\"Iemaksa\",Transakcijas!$K:$K,\"Izejošā maksājuma anulēšana\")","v":0},{"$f":"SUMIFS(Transakcijas!$R:$R,Transakcijas!$Q:$Q,$B$56,Transakcijas!$O:$O,YEAR($B71),Transakcijas!$P:$P,RIGHT(\"0\"&MONTH($B71),2),Transakcijas!$K:$K,\"FIFO savstarpējā segšana\")\n+SUMIFS(Transakcijas!$R:$R,Transakcijas!$Q:$Q,$B$56,Transakcijas!$O:$O,YEAR($B71),Transakcijas!$P:$P,RIGHT(\"0\"&MONTH($B71),2),Transakcijas!$D:$D,\"Aprēķins\",Transakcijas!$K:$K,\"Iemaksas atbrīvošana\")","v":0},{"$f":"SUMIFS(Transakcijas!$R:$R,Transakcijas!$Q:$Q,$B$56,Transakcijas!$O:$O,YEAR($B71),Transakcijas!$P:$P,RIGHT(\"0\"&MONTH($B71),2))-SUM(D71:K71)","v":0},{"$f":"SUM(C71:L71)","v":0},{"$f":"ROUND(SUMIFS(Transakcijas!$R:$R,Transakcijas!$Q:$Q,$B$56,Transakcijas!$N:$N,\"<=\"&$B71,Transakcijas!$H:$H,\"Pamatsumma\"),2)","v":0},{"$f":"ROUND(SUMIFS(Transakcijas!$R:$R,Transakcijas!$Q:$Q,$B$56,Transakcijas!$N:$N,\"<=\"&$B71,Transakcijas!$H:$H,\"Nokavējuma nauda\"),2)","v":0},{"$f":"ROUND(SUMIFS(Transakcijas!$R:$R,Transakcijas!$Q:$Q,$B$56,Transakcijas!$N:$N,\"<=\"&$B71,Transakcijas!$H:$H,\"Soda nauda\"),2)","v":0}]
[]
[null,{"$f":"B9","v":"PVN "},"Atlikums uz perioda sākumu","Aprēķināts","Ieturēts","Aprēķinas (nerezid.)","Aprēķināta nokav. nauda  ","Aprēķināta\n soda nauda  ","Samaksāts\nAtbrīvots","Atmaksāts","Pārvietots \n(Savst.segš.)","Cita \nkustība","Atlikums uz perioda beigām","Pamat-\nsumma","Nokav. \nnauda  ","Soda \nnauda  "]
[null,{"$f":"DATE(YEAR($C$4),MONTH($C$4)+1,0)","v":"2024-01-31"},{"$f":"C9","v":0},{"$f":"SUMIFS(Transakcijas!$R:$R,Transakcijas!$Q:$Q,$B$73,Transakcijas!$O:$O,YEAR($B74),Transakcijas!$P:$P,RIGHT(\"0\"&MONTH($B74),2),Transakcijas!$D:$D,\"Aprēķins\",Transakcijas!$H:$H,\"Pamatsumma\",Transakcijas!$K:$K,\"<>\"&\"FIFO*\",Transakcijas!$K:$K,\"<>\"&\"Iemaksas atbrīvošana\")","v":0},null,null,{"$f":"SUMIFS(Transakcijas!$R:$R,Transakcijas!$Q:$Q,$B$73,Transakcijas!$O:$O,YEAR($B74),Transakcijas!$P:$P,RIGHT(\"0\"&MONTH($B74),2),Transakcijas!$D:$D,\"Aprēķins\",Transakcijas!$H:$H,\"Nokavējuma nauda\",Transakcijas!$K:$K,\"<>\"&\"FIFO*\",Transakcijas!$K:$K,\"<>\"&\"Iemaksas atbrīvošana\")","v":0},{"$f":"SUMIFS(Transakcijas!$R:$R,Transakcijas!$Q:$Q,$B$73,Transakcijas!$O:$O,YEAR($B74),Transakcijas!$P:$P,RIGHT(\"0\"&MONTH($B74),2),Transakcijas!$D:$D,\"Aprēķins\",Transakcijas!$H:$H,\"Soda nauda\",Transakcijas!$K:$K,\"<>\"&\"FIFO*\",Transakcijas!$K:$K,\"<>\"&\"Iemaksas atbrīvošana\")","v":0},{"$f":"SUMIFS(Transakcijas!$R:$R,Transakcijas!$Q:$Q,$B$73,Transakcijas!$O:$O,YEAR($B74),Transakcijas!$P:$P,RIGHT(\"0\"&MONTH($B74),2),Transakcijas!$D:$D,\"Iemaksa\",Transakcijas!$K:$K,\"<>\"&\"Izejošā maksājuma anulēšana\")\n+SUMIFS(Transakcijas!$R:$R,Transakcijas!$Q:$Q,$B$73,Transakcijas!$O:$O,YEAR($B74),Transakcijas!$P:$P,RIGHT(\"0\"&MONTH($B74),2),Transakcijas!$D:$D,\"Atmaksa\",Transakcijas!$K:$K,\"Iemaksas atbrīvošana\")","v":0},{"$f":"SUMIFS(Transakcijas!$R:$R,Transakcijas!$Q:$Q,$B$73,Transakcijas!$O:$O,YEAR($B74),Transakcijas!$P:$P,RIGHT(\"0\"&MONTH($B74),2),Transakcijas!$D:$D,\"Atmaksa\",Transakcijas!$K:$K,\"<>\"&\"Iemaksas atbrīvošana\")\n+SUMIFS(Transakcijas!$R:$R,Transakcijas!$Q:$Q,$B$73,Transakcijas!$O:$O,YEAR($B74),Transakcijas!$P:$P,RIGHT(\"0\"&MONTH($B74),2),Transakcijas!$D:$D,\"Iemaksa\",Transakcijas!$K:$K,\"Izejošā maksājuma anulēšana\")","v":0},{"$f":"SUMIFS(Transakcijas!$R:$R,Transakcijas!$Q:$Q,$B$73,Transakcijas!$O:$O,YEAR($B74),Transakcijas!$P:$P,RIGHT(\"0\"&MONTH($B74),2),Transakcijas!$K:$K,\"FIFO savstarpējā segšana\")\n+SUMIFS(Transakcijas!$R:$R,Transakcijas!$Q:$Q,$B$73,Transakcijas!$O:$O,YEAR($B74),Transakcijas!$P:$P,RIGHT(\"0\"&MONTH($B74),2),Transakcijas!$D:$D,\"Aprēķins\",Transakcijas!$K:$K,\"Iemaksas atbrīvošana\")","v":0},{"$f":"SUMIFS(Transakcijas!$R:$R,Transakcijas!$Q:$Q,$B$73,Transakcijas!$O:$O,YEAR($B74),Transakcijas!$P:$P,RIGHT(\"0\"&MONTH($B74),2))-SUM(D74:K74)","v":0},{"$f":"SUM(C74:L74)","v":0},{"$f":"ROUND(SUMIFS(Transakcijas!$R:$R,Transakcijas!$Q:$Q,$B$73,Transakcijas!$N:$N,\"<=\"&$B74,Transakcijas!$H:$H,\"Pamatsumma\"),2)","v":0},{"$f":"ROUND(SUMIFS(Transakcijas!$R:$R,Transakcijas!$Q:$Q,$B$73,Transakcijas!$N:$N,\"<=\"&$B74,Transakcijas!$H:$H,\"Nokavējuma nauda\"),2)","v":0},{"$f":"ROUND(SUMIFS(Transakcijas!$R:$R,Transakcijas!$Q:$Q,$B$73,Transakcijas!$N:$N,\"<=\"&$B74,Transakcijas!$H:$H,\"Soda nauda\"),2)","v":0}]
[null,{"$f":"IF(IF(B74=\"\",$M$4+1,DATE(YEAR(B74),MONTH(B74)+2,0))<=$M$4,DATE(YEAR(B74),MONTH(B74)+2,0),\"\")","v":"2024-02-29"},{"$f":"IF(B75=\"\",0,M74)","v":0},{"$f":"SUMIFS(Transakcijas!$R:$R,Transakcijas!$Q:$Q,$B$73,Transakcijas!$O:$O,YEAR($B75),Transakcijas!$P:$P,RIGHT(\"0\"&MONTH($B75),2),Transakcijas!$D:$D,\"Aprēķins\",Transakcijas!$H:$H,\"Pamatsumma\",Transakcijas!$K:$K,\"<>\"&\"FIFO*\",Transakcijas!$K:$K,\"<>\"&\"Iemaksas atbrīvošana\")","v":0},null,null,{"$f":"SUMIFS(Transakcijas!$R:$R,Transakcijas!$Q:$Q,$B$73,Transakcijas!$O:$O,YEAR($B75),Transakcijas!$P:$P,RIGHT(\"0\"&MONTH($B75),2),Transakcijas!$D:$D,\"Aprēķins\",Transakcijas!$H:$H,\"Nokavējuma nauda\",Transakcijas!$K:$K,\"<>\"&\"FIFO*\",Transakcijas!$K:$K,\"<>\"&\"Iemaksas atbrīvošana\")","v":0},{"$f":"SUMIFS(Transakcijas!$R:$R,Transakcijas!$Q:$Q,$B$73,Transakcijas!$O:$O,YEAR($B75),Transakcijas!$P:$P,RIGHT(\"0\"&MONTH($B75),2),Transakcijas!$D:$D,\"Aprēķins\",Transakcijas!$H:$H,\"Soda nauda\",Transakcijas!$K:$K,\"<>\"&\"FIFO*\",Transakcijas!$K:$K,\"<>\"&\"Iemaksas atbrīvošana\")","v":0},{"$f":"SUMIFS(Transakcijas!$R:$R,Transakcijas!$Q:$Q,$B$73,Transakcijas!$O:$O,YEAR($B75),Transakcijas!$P:$P,RIGHT(\"0\"&MONTH($B75),2),Transakcijas!$D:$D,\"Iemaksa\",Transakcijas!$K:$K,\"<>\"&\"Izejošā maksājuma anulēšana\")\n+SUMIFS(Transakcijas!$R:$R,Transakcijas!$Q:$Q,$B$73,Transakcijas!$O:$O,YEAR($B75),Transakcijas!$P:$P,RIGHT(\"0\"&MONTH($B75),2),Transakcijas!$D:$D,\"Atmaksa\",Transakcijas!$K:$K,\"Iemaksas atbrīvošana\")","v":0},{"$f":"SUMIFS(Transakcijas!$R:$R,Transakcijas!$Q:$Q,$B$73,Transakcijas!$O:$O,YEAR($B75),Transakcijas!$P:$P,RIGHT(\"0\"&MONTH($B75),2),Transakcijas!$D:$D,\"Atmaksa\",Transakcijas!$K:$K,\"<>\"&\"Iemaksas atbrīvošana\")\n+SUMIFS(Transakcijas!$R:$R,Transakcijas!$Q:$Q,$B$73,Transakcijas!$O:$O,YEAR($B75),Transakcijas!$P:$P,RIGHT(\"0\"&MONTH($B75),2),Transakcijas!$D:$D,\"Iemaksa\",Transakcijas!$K:$K,\"Izejošā maksājuma anulēšana\")","v":0},{"$f":"SUMIFS(Transakcijas!$R:$R,Transakcijas!$Q:$Q,$B$73,Transakcijas!$O:$O,YEAR($B75),Transakcijas!$P:$P,RIGHT(\"0\"&MONTH($B75),2),Transakcijas!$K:$K,\"FIFO savstarpējā segšana\")\n+SUMIFS(Transakcijas!$R:$R,Transakcijas!$Q:$Q,$B$73,Transakcijas!$O:$O,YEAR($B75),Transakcijas!$P:$P,RIGHT(\"0\"&MONTH($B75),2),Transakcijas!$D:$D,\"Aprēķins\",Transakcijas!$K:$K,\"Iemaksas atbrīvošana\")","v":0},{"$f":"SUMIFS(Transakcijas!$R:$R,Transakcijas!$Q:$Q,$B$73,Transakcijas!$O:$O,YEAR($B75),Transakcijas!$P:$P,RIGHT(\"0\"&MONTH($B75),2))-SUM(D75:K75)","v":0},0,{"$f":"ROUND(SUMIFS(Transakcijas!$R:$R,Transakcijas!$Q:$Q,$B$73,Transakcijas!$N:$N,\"<=\"&$B75,Transakcijas!$H:$H,\"Pamatsumma\"),2)","v":0},{"$f":"ROUND(SUMIFS(Transakcijas!$R:$R,Transakcijas!$Q:$Q,$B$73,Transakcijas!$N:$N,\"<=\"&$B75,Transakcijas!$H:$H,\"Nokavējuma nauda\"),2)","v":0},{"$f":"ROUND(SUMIFS(Transakcijas!$R:$R,Transakcijas!$Q:$Q,$B$73,Transakcijas!$N:$N,\"<=\"&$B75,Transakcijas!$H:$H,\"Soda nauda\"),2)","v":0}]
[null,"2024-03-31",0,{"$f":"SUMIFS(Transakcijas!$R:$R,Transakcijas!$Q:$Q,$B$73,Transakcijas!$O:$O,YEAR($B76),Transakcijas!$P:$P,RIGHT(\"0\"&MONTH($B76),2),Transakcijas!$D:$D,\"Aprēķins\",Transakcijas!$H:$H,\"Pamatsumma\",Transakcijas!$K:$K,\"<>\"&\"FIFO*\",Transakcijas!$K:$K,\"<>\"&\"Iemaksas atbrīvošana\")","v":0},null,null,{"$f":"SUMIFS(Transakcijas!$R:$R,Transakcijas!$Q:$Q,$B$73,Transakcijas!$O:$O,YEAR($B76),Transakcijas!$P:$P,RIGHT(\"0\"&MONTH($B76),2),Transakcijas!$D:$D,\"Aprēķins\",Transakcijas!$H:$H,\"Nokavējuma nauda\",Transakcijas!$K:$K,\"<>\"&\"FIFO*\",Transakcijas!$K:$K,\"<>\"&\"Iemaksas atbrīvošana\")","v":0},{"$f":"SUMIFS(Transakcijas!$R:$R,Transakcijas!$Q:$Q,$B$73,Transakcijas!$O:$O,YEAR($B76),Transakcijas!$P:$P,RIGHT(\"0\"&MONTH($B76),2),Transakcijas!$D:$D,\"Aprēķins\",Transakcijas!$H:$H,\"Soda nauda\",Transakcijas!$K:$K,\"<>\"&\"FIFO*\",Transakcijas!$K:$K,\"<>\"&\"Iemaksas atbrīvošana\")","v":0},{"$f":"SUMIFS(Transakcijas!$R:$R,Transakcijas!$Q:$Q,$B$73,Transakcijas!$O:$O,YEAR($B76),Transakcijas!$P:$P,RIGHT(\"0\"&MONTH($B76),2),Transakcijas!$D:$D,\"Iemaksa\",Transakcijas!$K:$K,\"<>\"&\"Izejošā maksājuma anulēšana\")\n+SUMIFS(Transakcijas!$R:$R,Transakcijas!$Q:$Q,$B$73,Transakcijas!$O:$O,YEAR($B76),Transakcijas!$P:$P,RIGHT(\"0\"&MONTH($B76),2),Transakcijas!$D:$D,\"Atmaksa\",Transakcijas!$K:$K,\"Iemaksas atbrīvošana\")","v":0},{"$f":"SUMIFS(Transakcijas!$R:$R,Transakcijas!$Q:$Q,$B$73,Transakcijas!$O:$O,YEAR($B76),Transakcijas!$P:$P,RIGHT(\"0\"&MONTH($B76),2),Transakcijas!$D:$D,\"Atmaksa\",Transakcijas!$K:$K,\"<>\"&\"Iemaksas atbrīvošana\")\n+SUMIFS(Transakcijas!$R:$R,Transakcijas!$Q:$Q,$B$73,Transakcijas!$O:$O,YEAR($B76),Transakcijas!$P:$P,RIGHT(\"0\"&MONTH($B76),2),Transakcijas!$D:$D,\"Iemaksa\",Transakcijas!$K:$K,\"Izejošā maksājuma anulēšana\")","v":0},{"$f":"SUMIFS(Transakcijas!$R:$R,Transakcijas!$Q:$Q,$B$73,Transakcijas!$O:$O,YEAR($B76),Transakcijas!$P:$P,RIGHT(\"0\"&MONTH($B76),2),Transakcijas!$K:$K,\"FIFO savstarpējā segšana\")\n+SUMIFS(Transakcijas!$R:$R,Transakcijas!$Q:$Q,$B$73,Transakcijas!$O:$O,YEAR($B76),Transakcijas!$P:$P,RIGHT(\"0\"&MONTH($B76),2),Transakcijas!$D:$D,\"Aprēķins\",Transakcijas!$K:$K,\"Iemaksas atbrīvošana\")","v":0},{"$f":"SUMIFS(Transakcijas!$R:$R,Transakcijas!$Q:$Q,$B$73,Transakcijas!$O:$O,YEAR($B76),Transakcijas!$P:$P,RIGHT(\"0\"&MONTH($B76),2))-SUM(D76:K76)","v":0},0,{"$f":"ROUND(SUMIFS(Transakcijas!$R:$R,Transakcijas!$Q:$Q,$B$73,Transakcijas!$N:$N,\"<=\"&$B76,Transakcijas!$H:$H,\"Pamatsumma\"),2)","v":0},{"$f":"ROUND(SUMIFS(Transakcijas!$R:$R,Transakcijas!$Q:$Q,$B$73,Transakcijas!$N:$N,\"<=\"&$B76,Transakcijas!$H:$H,\"Nokavējuma nauda\"),2)","v":0},{"$f":"ROUND(SUMIFS(Transakcijas!$R:$R,Transakcijas!$Q:$Q,$B$73,Transakcijas!$N:$N,\"<=\"&$B76,Transakcijas!$H:$H,\"Soda nauda\"),2)","v":0}]
[null,"2024-04-30",0,{"$f":"SUMIFS(Transakcijas!$R:$R,Transakcijas!$Q:$Q,$B$73,Transakcijas!$O:$O,YEAR($B77),Transakcijas!$P:$P,RIGHT(\"0\"&MONTH($B77),2),Transakcijas!$D:$D,\"Aprēķins\",Transakcijas!$H:$H,\"Pamatsumma\",Transakcijas!$K:$K,\"<>\"&\"FIFO*\",Transakcijas!$K:$K,\"<>\"&\"Iemaksas atbrīvošana\")","v":0},null,null,{"$f":"SUMIFS(Transakcijas!$R:$R,Transakcijas!$Q:$Q,$B$73,Transakcijas!$O:$O,YEAR($B77),Transakcijas!$P:$P,RIGHT(\"0\"&MONTH($B77),2),Transakcijas!$D:$D,\"Aprēķins\",Transakcijas!$H:$H,\"Nokavējuma nauda\",Transakcijas!$K:$K,\"<>\"&\"FIFO*\",Transakcijas!$K:$K,\"<>\"&\"Iemaksas atbrīvošana\")","v":0},{"$f":"SUMIFS(Transakcijas!$R:$R,Transakcijas!$Q:$Q,$B$73,Transakcijas!$O:$O,YEAR($B77),Transakcijas!$P:$P,RIGHT(\"0\"&MONTH($B77),2),Transakcijas!$D:$D,\"Aprēķins\",Transakcijas!$H:$H,\"Soda nauda\",Transakcijas!$K:$K,\"<>\"&\"FIFO*\",Transakcijas!$K:$K,\"<>\"&\"Iemaksas atbrīvošana\")","v":0},{"$f":"SUMIFS(Transakcijas!$R:$R,Transakcijas!$Q:$Q,$B$73,Transakcijas!$O:$O,YEAR($B77),Transakcijas!$P:$P,RIGHT(\"0\"&MONTH($B77),2),Transakcijas!$D:$D,\"Iemaksa\",Transakcijas!$K:$K,\"<>\"&\"Izejošā maksājuma anulēšana\")\n+SUMIFS(Transakcijas!$R:$R,Transakcijas!$Q:$Q,$B$73,Transakcijas!$O:$O,YEAR($B77),Transakcijas!$P:$P,RIGHT(\"0\"&MONTH($B77),2),Transakcijas!$D:$D,\"Atmaksa\",Transakcijas!$K:$K,\"Iemaksas atbrīvošana\")","v":0},{"$f":"SUMIFS(Transakcijas!$R:$R,Transakcijas!$Q:$Q,$B$73,Transakcijas!$O:$O,YEAR($B77),Transakcijas!$P:$P,RIGHT(\"0\"&MONTH($B77),2),Transakcijas!$D:$D,\"Atmaksa\",Transakcijas!$K:$K,\"<>\"&\"Iemaksas atbrīvošana\")\n+SUMIFS(Transakcijas!$R:$R,Transakcijas!$Q:$Q,$B$73,Transakcijas!$O:$O,YEAR($B77),Transakcijas!$P:$P,RIGHT(\"0\"&MONTH($B77),2),Transakcijas!$D:$D,\"Iemaksa\",Transakcijas!$K:$K,\"Izejošā maksājuma anulēšana\")","v":0},{"$f":"SUMIFS(Transakcijas!$R:$R,Transakcijas!$Q:$Q,$B$73,Transakcijas!$O:$O,YEAR($B77),Transakcijas!$P:$P,RIGHT(\"0\"&MONTH($B77),2),Transakcijas!$K:$K,\"FIFO savstarpējā segšana\")\n+SUMIFS(Transakcijas!$R:$R,Transakcijas!$Q:$Q,$B$73,Transakcijas!$O:$O,YEAR($B77),Transakcijas!$P:$P,RIGHT(\"0\"&MONTH($B77),2),Transakcijas!$D:$D,\"Aprēķins\",Transakcijas!$K:$K,\"Iemaksas atbrīvošana\")","v":0},{"$f":"SUMIFS(Transakcijas!$R:$R,Transakcijas!$Q:$Q,$B$73,Transakcijas!$O:$O,YEAR($B77),Transakcijas!$P:$P,RIGHT(\"0\"&MONTH($B77),2))-SUM(D77:K77)","v":0},0,{"$f":"ROUND(SUMIFS(Transakcijas!$R:$R,Transakcijas!$Q:$Q,$B$73,Transakcijas!$N:$N,\"<=\"&$B77,Transakcijas!$H:$H,\"Pamatsumma\"),2)","v":0},{"$f":"ROUND(SUMIFS(Transakcijas!$R:$R,Transakcijas!$Q:$Q,$B$73,Transakcijas!$N:$N,\"<=\"&$B77,Transakcijas!$H:$H,\"Nokavējuma nauda\"),2)","v":0},{"$f":"ROUND(SUMIFS(Transakcijas!$R:$R,Transakcijas!$Q:$Q,$B$73,Transakcijas!$N:$N,\"<=\"&$B77,Transakcijas!$H:$H,\"Soda nauda\"),2)","v":0}]
[null,"2024-05-31",0,{"$f":"SUMIFS(Transakcijas!$R:$R,Transakcijas!$Q:$Q,$B$73,Transakcijas!$O:$O,YEAR($B78),Transakcijas!$P:$P,RIGHT(\"0\"&MONTH($B78),2),Transakcijas!$D:$D,\"Aprēķins\",Transakcijas!$H:$H,\"Pamatsumma\",Transakcijas!$K:$K,\"<>\"&\"FIFO*\",Transakcijas!$K:$K,\"<>\"&\"Iemaksas atbrīvošana\")","v":0},null,null,{"$f":"SUMIFS(Transakcijas!$R:$R,Transakcijas!$Q:$Q,$B$73,Transakcijas!$O:$O,YEAR($B78),Transakcijas!$P:$P,RIGHT(\"0\"&MONTH($B78),2),Transakcijas!$D:$D,\"Aprēķins\",Transakcijas!$H:$H,\"Nokavējuma nauda\",Transakcijas!$K:$K,\"<>\"&\"FIFO*\",Transakcijas!$K:$K,\"<>\"&\"Iemaksas atbrīvošana\")","v":0},{"$f":"SUMIFS(Transakcijas!$R:$R,Transakcijas!$Q:$Q,$B$73,Transakcijas!$O:$O,YEAR($B78),Transakcijas!$P:$P,RIGHT(\"0\"&MONTH($B78),2),Transakcijas!$D:$D,\"Aprēķins\",Transakcijas!$H:$H,\"Soda nauda\",Transakcijas!$K:$K,\"<>\"&\"FIFO*\",Transakcijas!$K:$K,\"<>\"&\"Iemaksas atbrīvošana\")","v":0},{"$f":"SUMIFS(Transakcijas!$R:$R,Transakcijas!$Q:$Q,$B$73,Transakcijas!$O:$O,YEAR($B78),Transakcijas!$P:$P,RIGHT(\"0\"&MONTH($B78),2),Transakcijas!$D:$D,\"Iemaksa\",Transakcijas!$K:$K,\"<>\"&\"Izejošā maksājuma anulēšana\")\n+SUMIFS(Transakcijas!$R:$R,Transakcijas!$Q:$Q,$B$73,Transakcijas!$O:$O,YEAR($B78),Transakcijas!$P:$P,RIGHT(\"0\"&MONTH($B78),2),Transakcijas!$D:$D,\"Atmaksa\",Transakcijas!$K:$K,\"Iemaksas atbrīvošana\")","v":0},{"$f":"SUMIFS(Transakcijas!$R:$R,Transakcijas!$Q:$Q,$B$73,Transakcijas!$O:$O,YEAR($B78),Transakcijas!$P:$P,RIGHT(\"0\"&MONTH($B78),2),Transakcijas!$D:$D,\"Atmaksa\",Transakcijas!$K:$K,\"<>\"&\"Iemaksas atbrīvošana\")\n+SUMIFS(Transakcijas!$R:$R,Transakcijas!$Q:$Q,$B$73,Transakcijas!$O:$O,YEAR($B78),Transakcijas!$P:$P,RIGHT(\"0\"&MONTH($B78),2),Transakcijas!$D:$D,\"Iemaksa\",Transakcijas!$K:$K,\"Izejošā maksājuma anulēšana\")","v":0},{"$f":"SUMIFS(Transakcijas!$R:$R,Transakcijas!$Q:$Q,$B$73,Transakcijas!$O:$O,YEAR($B78),Transakcijas!$P:$P,RIGHT(\"0\"&MONTH($B78),2),Transakcijas!$K:$K,\"FIFO savstarpējā segšana\")\n+SUMIFS(Transakcijas!$R:$R,Transakcijas!$Q:$Q,$B$73,Transakcijas!$O:$O,YEAR($B78),Transakcijas!$P:$P,RIGHT(\"0\"&MONTH($B78),2),Transakcijas!$D:$D,\"Aprēķins\",Transakcijas!$K:$K,\"Iemaksas atbrīvošana\")","v":0},{"$f":"SUMIFS(Transakcijas!$R:$R,Transakcijas!$Q:$Q,$B$73,Transakcijas!$O:$O,YEAR($B78),Transakcijas!$P:$P,RIGHT(\"0\"&MONTH($B78),2))-SUM(D78:K78)","v":0},0,{"$f":"ROUND(SUMIFS(Transakcijas!$R:$R,Transakcijas!$Q:$Q,$B$73,Transakcijas!$N:$N,\"<=\"&$B78,Transakcijas!$H:$H,\"Pamatsumma\"),2)","v":0},{"$f":"ROUND(SUMIFS(Transakcijas!$R:$R,Transakcijas!$Q:$Q,$B$73,Transakcijas!$N:$N,\"<=\"&$B78,Transakcijas!$H:$H,\"Nokavējuma nauda\"),2)","v":0},{"$f":"ROUND(SUMIFS(Transakcijas!$R:$R,Transakcijas!$Q:$Q,$B$73,Transakcijas!$N:$N,\"<=\"&$B78,Transakcijas!$H:$H,\"Soda nauda\"),2)","v":0}]
[null,"2024-06-30",0,{"$f":"SUMIFS(Transakcijas!$R:$R,Transakcijas!$Q:$Q,$B$73,Transakcijas!$O:$O,YEAR($B79),Transakcijas!$P:$P,RIGHT(\"0\"&MONTH($B79),2),Transakcijas!$D:$D,\"Aprēķins\",Transakcijas!$H:$H,\"Pamatsumma\",Transakcijas!$K:$K,\"<>\"&\"FIFO*\",Transakcijas!$K:$K,\"<>\"&\"Iemaksas atbrīvošana\")","v":0},null,null,{"$f":"SUMIFS(Transakcijas!$R:$R,Transakcijas!$Q:$Q,$B$73,Transakcijas!$O:$O,YEAR($B79),Transakcijas!$P:$P,RIGHT(\"0\"&MONTH($B79),2),Transakcijas!$D:$D,\"Aprēķins\",Transakcijas!$H:$H,\"Nokavējuma nauda\",Transakcijas!$K:$K,\"<>\"&\"FIFO*\",Transakcijas!$K:$K,\"<>\"&\"Iemaksas atbrīvošana\")","v":0},{"$f":"SUMIFS(Transakcijas!$R:$R,Transakcijas!$Q:$Q,$B$73,Transakcijas!$O:$O,YEAR($B79),Transakcijas!$P:$P,RIGHT(\"0\"&MONTH($B79),2),Transakcijas!$D:$D,\"Aprēķins\",Transakcijas!$H:$H,\"Soda nauda\",Transakcijas!$K:$K,\"<>\"&\"FIFO*\",Transakcijas!$K:$K,\"<>\"&\"Iemaksas atbrīvošana\")","v":0},{"$f":"SUMIFS(Transakcijas!$R:$R,Transakcijas!$Q:$Q,$B$73,Transakcijas!$O:$O,YEAR($B79),Transakcijas!$P:$P,RIGHT(\"0\"&MONTH($B79),2),Transakcijas!$D:$D,\"Iemaksa\",Transakcijas!$K:$K,\"<>\"&\"Izejošā maksājuma anulēšana\")\n+SUMIFS(Transakcijas!$R:$R,Transakcijas!$Q:$Q,$B$73,Transakcijas!$O:$O,YEAR($B79),Transakcijas!$P:$P,RIGHT(\"0\"&MONTH($B79),2),Transakcijas!$D:$D,\"Atmaksa\",Transakcijas!$K:$K,\"Iemaksas atbrīvošana\")","v":0},{"$f":"SUMIFS(Transakcijas!$R:$R,Transakcijas!$Q:$Q,$B$73,Transakcijas!$O:$O,YEAR($B79),Transakcijas!$P:$P,RIGHT(\"0\"&MONTH($B79),2),Transakcijas!$D:$D,\"Atmaksa\",Transakcijas!$K:$K,\"<>\"&\"Iemaksas atbrīvošana\")\n+SUMIFS(Transakcijas!$R:$R,Transakcijas!$Q:$Q,$B$73,Transakcijas!$O:$O,YEAR($B79),Transakcijas!$P:$P,RIGHT(\"0\"&MONTH($B79),2),Transakcijas!$D:$D,\"Iemaksa\",Transakcijas!$K:$K,\"Izejošā maksājuma anulēšana\")","v":0},{"$f":"SUMIFS(Transakcijas!$R:$R,Transakcijas!$Q:$Q,$B$73,Transakcijas!$O:$O,YEAR($B79),Transakcijas!$P:$P,RIGHT(\"0\"&MONTH($B79),2),Transakcijas!$K:$K,\"FIFO savstarpējā segšana\")\n+SUMIFS(Transakcijas!$R:$R,Transakcijas!$Q:$Q,$B$73,Transakcijas!$O:$O,YEAR($B79),Transakcijas!$P:$P,RIGHT(\"0\"&MONTH($B79),2),Transakcijas!$D:$D,\"Aprēķins\",Transakcijas!$K:$K,\"Iemaksas atbrīvošana\")","v":0},{"$f":"SUMIFS(Transakcijas!$R:$R,Transakcijas!$Q:$Q,$B$73,Transakcijas!$O:$O,YEAR($B79),Transakcijas!$P:$P,RIGHT(\"0\"&MONTH($B79),2))-SUM(D79:K79)","v":0},0,{"$f":"ROUND(SUMIFS(Transakcijas!$R:$R,Transakcijas!$Q:$Q,$B$73,Transakcijas!$N:$N,\"<=\"&$B79,Transakcijas!$H:$H,\"Pamatsumma\"),2)","v":0},{"$f":"ROUND(SUMIFS(Transakcijas!$R:$R,Transakcijas!$Q:$Q,$B$73,Transakcijas!$N:$N,\"<=\"&$B79,Transakcijas!$H:$H,\"Nokavējuma nauda\"),2)","v":0},{"$f":"ROUND(SUMIFS(Transakcijas!$R:$R,Transakcijas!$Q:$Q,$B$73,Transakcijas!$N:$N,\"<=\"&$B79,Transakcijas!$H:$H,\"Soda nauda\"),2)","v":0}]
[null,"2024-07-31",0,{"$f":"SUMIFS(Transakcijas!$R:$R,Transakcijas!$Q:$Q,$B$73,Transakcijas!$O:$O,YEAR($B80),Transakcijas!$P:$P,RIGHT(\"0\"&MONTH($B80),2),Transakcijas!$D:$D,\"Aprēķins\",Transakcijas!$H:$H,\"Pamatsumma\",Transakcijas!$K:$K,\"<>\"&\"FIFO*\",Transakcijas!$K:$K,\"<>\"&\"Iemaksas atbrīvošana\")","v":0},null,null,{"$f":"SUMIFS(Transakcijas!$R:$R,Transakcijas!$Q:$Q,$B$73,Transakcijas!$O:$O,YEAR($B80),Transakcijas!$P:$P,RIGHT(\"0\"&MONTH($B80),2),Transakcijas!$D:$D,\"Aprēķins\",Transakcijas!$H:$H,\"Nokavējuma nauda\",Transakcijas!$K:$K,\"<>\"&\"FIFO*\",Transakcijas!$K:$K,\"<>\"&\"Iemaksas atbrīvošana\")","v":0},{"$f":"SUMIFS(Transakcijas!$R:$R,Transakcijas!$Q:$Q,$B$73,Transakcijas!$O:$O,YEAR($B80),Transakcijas!$P:$P,RIGHT(\"0\"&MONTH($B80),2),Transakcijas!$D:$D,\"Aprēķins\",Transakcijas!$H:$H,\"Soda nauda\",Transakcijas!$K:$K,\"<>\"&\"FIFO*\",Transakcijas!$K:$K,\"<>\"&\"Iemaksas atbrīvošana\")","v":0},{"$f":"SUMIFS(Transakcijas!$R:$R,Transakcijas!$Q:$Q,$B$73,Transakcijas!$O:$O,YEAR($B80),Transakcijas!$P:$P,RIGHT(\"0\"&MONTH($B80),2),Transakcijas!$D:$D,\"Iemaksa\",Transakcijas!$K:$K,\"<>\"&\"Izejošā maksājuma anulēšana\")\n+SUMIFS(Transakcijas!$R:$R,Transakcijas!$Q:$Q,$B$73,Transakcijas!$O:$O,YEAR($B80),Transakcijas!$P:$P,RIGHT(\"0\"&MONTH($B80),2),Transakcijas!$D:$D,\"Atmaksa\",Transakcijas!$K:$K,\"Iemaksas atbrīvošana\")","v":0},{"$f":"SUMIFS(Transakcijas!$R:$R,Transakcijas!$Q:$Q,$B$73,Transakcijas!$O:$O,YEAR($B80),Transakcijas!$P:$P,RIGHT(\"0\"&MONTH($B80),2),Transakcijas!$D:$D,\"Atmaksa\",Transakcijas!$K:$K,\"<>\"&\"Iemaksas atbrīvošana\")\n+SUMIFS(Transakcijas!$R:$R,Transakcijas!$Q:$Q,$B$73,Transakcijas!$O:$O,YEAR($B80),Transakcijas!$P:$P,RIGHT(\"0\"&MONTH($B80),2),Transakcijas!$D:$D,\"Iemaksa\",Transakcijas!$K:$K,\"Izejošā maksājuma anulēšana\")","v":0},{"$f":"SUMIFS(Transakcijas!$R:$R,Transakcijas!$Q:$Q,$B$73,Transakcijas!$O:$O,YEAR($B80),Transakcijas!$P:$P,RIGHT(\"0\"&MONTH($B80),2),Transakcijas!$K:$K,\"FIFO savstarpējā segšana\")\n+SUMIFS(Transakcijas!$R:$R,Transakcijas!$Q:$Q,$B$73,Transakcijas!$O:$O,YEAR($B80),Transakcijas!$P:$P,RIGHT(\"0\"&MONTH($B80),2),Transakcijas!$D:$D,\"Aprēķins\",Transakcijas!$K:$K,\"Iemaksas atbrīvošana\")","v":0},{"$f":"SUMIFS(Transakcijas!$R:$R,Transakcijas!$Q:$Q,$B$73,Transakcijas!$O:$O,YEAR($B80),Transakcijas!$P:$P,RIGHT(\"0\"&MONTH($B80),2))-SUM(D80:K80)","v":0},0,{"$f":"ROUND(SUMIFS(Transakcijas!$R:$R,Transakcijas!$Q:$Q,$B$73,Transakcijas!$N:$N,\"<=\"&$B80,Transakcijas!$H:$H,\"Pamatsumma\"),2)","v":0},{"$f":"ROUND(SUMIFS(Transakcijas!$R:$R,Transakcijas!$Q:$Q,$B$73,Transakcijas!$N:$N,\"<=\"&$B80,Transakcijas!$H:$H,\"Nokavējuma nauda\"),2)","v":0},{"$f":"ROUND(SUMIFS(Transakcijas!$R:$R,Transakcijas!$Q:$Q,$B$73,Transakcijas!$N:$N,\"<=\"&$B80,Transakcijas!$H:$H,\"Soda nauda\"),2)","v":0}]
[null,"2024-08-31",0,{"$f":"SUMIFS(Transakcijas!$R:$R,Transakcijas!$Q:$Q,$B$73,Transakcijas!$O:$O,YEAR($B81),Transakcijas!$P:$P,RIGHT(\"0\"&MONTH($B81),2),Transakcijas!$D:$D,\"Aprēķins\",Transakcijas!$H:$H,\"Pamatsumma\",Transakcijas!$K:$K,\"<>\"&\"FIFO*\",Transakcijas!$K:$K,\"<>\"&\"Iemaksas atbrīvošana\")","v":0},null,null,{"$f":"SUMIFS(Transakcijas!$R:$R,Transakcijas!$Q:$Q,$B$73,Transakcijas!$O:$O,YEAR($B81),Transakcijas!$P:$P,RIGHT(\"0\"&MONTH($B81),2),Transakcijas!$D:$D,\"Aprēķins\",Transakcijas!$H:$H,\"Nokavējuma nauda\",Transakcijas!$K:$K,\"<>\"&\"FIFO*\",Transakcijas!$K:$K,\"<>\"&\"Iemaksas atbrīvošana\")","v":0},{"$f":"SUMIFS(Transakcijas!$R:$R,Transakcijas!$Q:$Q,$B$73,Transakcijas!$O:$O,YEAR($B81),Transakcijas!$P:$P,RIGHT(\"0\"&MONTH($B81),2),Transakcijas!$D:$D,\"Aprēķins\",Transakcijas!$H:$H,\"Soda nauda\",Transakcijas!$K:$K,\"<>\"&\"FIFO*\",Transakcijas!$K:$K,\"<>\"&\"Iemaksas atbrīvošana\")","v":0},{"$f":"SUMIFS(Transakcijas!$R:$R,Transakcijas!$Q:$Q,$B$73,Transakcijas!$O:$O,YEAR($B81),Transakcijas!$P:$P,RIGHT(\"0\"&MONTH($B81),2),Transakcijas!$D:$D,\"Iemaksa\",Transakcijas!$K:$K,\"<>\"&\"Izejošā maksājuma anulēšana\")\n+SUMIFS(Transakcijas!$R:$R,Transakcijas!$Q:$Q,$B$73,Transakcijas!$O:$O,YEAR($B81),Transakcijas!$P:$P,RIGHT(\"0\"&MONTH($B81),2),Transakcijas!$D:$D,\"Atmaksa\",Transakcijas!$K:$K,\"Iemaksas atbrīvošana\")","v":0},{"$f":"SUMIFS(Transakcijas!$R:$R,Transakcijas!$Q:$Q,$B$73,Transakcijas!$O:$O,YEAR($B81),Transakcijas!$P:$P,RIGHT(\"0\"&MONTH($B81),2),Transakcijas!$D:$D,\"Atmaksa\",Transakcijas!$K:$K,\"<>\"&\"Iemaksas atbrīvošana\")\n+SUMIFS(Transakcijas!$R:$R,Transakcijas!$Q:$Q,$B$73,Transakcijas!$O:$O,YEAR($B81),Transakcijas!$P:$P,RIGHT(\"0\"&MONTH($B81),2),Transakcijas!$D:$D,\"Iemaksa\",Transakcijas!$K:$K,\"Izejošā maksājuma anulēšana\")","v":0},{"$f":"SUMIFS(Transakcijas!$R:$R,Transakcijas!$Q:$Q,$B$73,Transakcijas!$O:$O,YEAR($B81),Transakcijas!$P:$P,RIGHT(\"0\"&MONTH($B81),2),Transakcijas!$K:$K,\"FIFO savstarpējā segšana\")\n+SUMIFS(Transakcijas!$R:$R,Transakcijas!$Q:$Q,$B$73,Transakcijas!$O:$O,YEAR($B81),Transakcijas!$P:$P,RIGHT(\"0\"&MONTH($B81),2),Transakcijas!$D:$D,\"Aprēķins\",Transakcijas!$K:$K,\"Iemaksas atbrīvošana\")","v":0},{"$f":"SUMIFS(Transakcijas!$R:$R,Transakcijas!$Q:$Q,$B$73,Transakcijas!$O:$O,YEAR($B81),Transakcijas!$P:$P,RIGHT(\"0\"&MONTH($B81),2))-SUM(D81:K81)","v":0},0,{"$f":"ROUND(SUMIFS(Transakcijas!$R:$R,Transakcijas!$Q:$Q,$B$73,Transakcijas!$N:$N,\"<=\"&$B81,Transakcijas!$H:$H,\"Pamatsumma\"),2)","v":0},{"$f":"ROUND(SUMIFS(Transakcijas!$R:$R,Transakcijas!$Q:$Q,$B$73,Transakcijas!$N:$N,\"<=\"&$B81,Transakcijas!$H:$H,\"Nokavējuma nauda\"),2)","v":0},{"$f":"ROUND(SUMIFS(Transakcijas!$R:$R,Transakcijas!$Q:$Q,$B$73,Transakcijas!$N:$N,\"<=\"&$B81,Transakcijas!$H:$H,\"Soda nauda\"),2)","v":0}]
[null,"2024-09-30",0,{"$f":"SUMIFS(Transakcijas!$R:$R,Transakcijas!$Q:$Q,$B$73,Transakcijas!$O:$O,YEAR($B82),Transakcijas!$P:$P,RIGHT(\"0\"&MONTH($B82),2),Transakcijas!$D:$D,\"Aprēķins\",Transakcijas!$H:$H,\"Pamatsumma\",Transakcijas!$K:$K,\"<>\"&\"FIFO*\",Transakcijas!$K:$K,\"<>\"&\"Iemaksas atbrīvošana\")","v":0},null,null,{"$f":"SUMIFS(Transakcijas!$R:$R,Transakcijas!$Q:$Q,$B$73,Transakcijas!$O:$O,YEAR($B82),Transakcijas!$P:$P,RIGHT(\"0\"&MONTH($B82),2),Transakcijas!$D:$D,\"Aprēķins\",Transakcijas!$H:$H,\"Nokavējuma nauda\",Transakcijas!$K:$K,\"<>\"&\"FIFO*\",Transakcijas!$K:$K,\"<>\"&\"Iemaksas atbrīvošana\")","v":0},{"$f":"SUMIFS(Transakcijas!$R:$R,Transakcijas!$Q:$Q,$B$73,Transakcijas!$O:$O,YEAR($B82),Transakcijas!$P:$P,RIGHT(\"0\"&MONTH($B82),2),Transakcijas!$D:$D,\"Aprēķins\",Transakcijas!$H:$H,\"Soda nauda\",Transakcijas!$K:$K,\"<>\"&\"FIFO*\",Transakcijas!$K:$K,\"<>\"&\"Iemaksas atbrīvošana\")","v":0},{"$f":"SUMIFS(Transakcijas!$R:$R,Transakcijas!$Q:$Q,$B$73,Transakcijas!$O:$O,YEAR($B82),Transakcijas!$P:$P,RIGHT(\"0\"&MONTH($B82),2),Transakcijas!$D:$D,\"Iemaksa\",Transakcijas!$K:$K,\"<>\"&\"Izejošā maksājuma anulēšana\")\n+SUMIFS(Transakcijas!$R:$R,Transakcijas!$Q:$Q,$B$73,Transakcijas!$O:$O,YEAR($B82),Transakcijas!$P:$P,RIGHT(\"0\"&MONTH($B82),2),Transakcijas!$D:$D,\"Atmaksa\",Transakcijas!$K:$K,\"Iemaksas atbrīvošana\")","v":0},{"$f":"SUMIFS(Transakcijas!$R:$R,Transakcijas!$Q:$Q,$B$73,Transakcijas!$O:$O,YEAR($B82),Transakcijas!$P:$P,RIGHT(\"0\"&MONTH($B82),2),Transakcijas!$D:$D,\"Atmaksa\",Transakcijas!$K:$K,\"<>\"&\"Iemaksas atbrīvošana\")\n+SUMIFS(Transakcijas!$R:$R,Transakcijas!$Q:$Q,$B$73,Transakcijas!$O:$O,YEAR($B82),Transakcijas!$P:$P,RIGHT(\"0\"&MONTH($B82),2),Transakcijas!$D:$D,\"Iemaksa\",Transakcijas!$K:$K,\"Izejošā maksājuma anulēšana\")","v":0},{"$f":"SUMIFS(Transakcijas!$R:$R,Transakcijas!$Q:$Q,$B$73,Transakcijas!$O:$O,YEAR($B82),Transakcijas!$P:$P,RIGHT(\"0\"&MONTH($B82),2),Transakcijas!$K:$K,\"FIFO savstarpējā segšana\")\n+SUMIFS(Transakcijas!$R:$R,Transakcijas!$Q:$Q,$B$73,Transakcijas!$O:$O,YEAR($B82),Transakcijas!$P:$P,RIGHT(\"0\"&MONTH($B82),2),Transakcijas!$D:$D,\"Aprēķins\",Transakcijas!$K:$K,\"Iemaksas atbrīvošana\")","v":0},{"$f":"SUMIFS(Transakcijas!$R:$R,Transakcijas!$Q:$Q,$B$73,Transakcijas!$O:$O,YEAR($B82),Transakcijas!$P:$P,RIGHT(\"0\"&MONTH($B82),2))-SUM(D82:K82)","v":0},0,{"$f":"ROUND(SUMIFS(Transakcijas!$R:$R,Transakcijas!$Q:$Q,$B$73,Transakcijas!$N:$N,\"<=\"&$B82,Transakcijas!$H:$H,\"Pamatsumma\"),2)","v":0},{"$f":"ROUND(SUMIFS(Transakcijas!$R:$R,Transakcijas!$Q:$Q,$B$73,Transakcijas!$N:$N,\"<=\"&$B82,Transakcijas!$H:$H,\"Nokavējuma nauda\"),2)","v":0},{"$f":"ROUND(SUMIFS(Transakcijas!$R:$R,Transakcijas!$Q:$Q,$B$73,Transakcijas!$N:$N,\"<=\"&$B82,Transakcijas!$H:$H,\"Soda nauda\"),2)","v":0}]
[null,"2024-10-31",0,{"$f":"SUMIFS(Transakcijas!$R:$R,Transakcijas!$Q:$Q,$B$73,Transakcijas!$O:$O,YEAR($B83),Transakcijas!$P:$P,RIGHT(\"0\"&MONTH($B83),2),Transakcijas!$D:$D,\"Aprēķins\",Transakcijas!$H:$H,\"Pamatsumma\",Transakcijas!$K:$K,\"<>\"&\"FIFO*\",Transakcijas!$K:$K,\"<>\"&\"Iemaksas atbrīvošana\")","v":0},null,null,{"$f":"SUMIFS(Transakcijas!$R:$R,Transakcijas!$Q:$Q,$B$73,Transakcijas!$O:$O,YEAR($B83),Transakcijas!$P:$P,RIGHT(\"0\"&MONTH($B83),2),Transakcijas!$D:$D,\"Aprēķins\",Transakcijas!$H:$H,\"Nokavējuma nauda\",Transakcijas!$K:$K,\"<>\"&\"FIFO*\",Transakcijas!$K:$K,\"<>\"&\"Iemaksas atbrīvošana\")","v":0},{"$f":"SUMIFS(Transakcijas!$R:$R,Transakcijas!$Q:$Q,$B$73,Transakcijas!$O:$O,YEAR($B83),Transakcijas!$P:$P,RIGHT(\"0\"&MONTH($B83),2),Transakcijas!$D:$D,\"Aprēķins\",Transakcijas!$H:$H,\"Soda nauda\",Transakcijas!$K:$K,\"<>\"&\"FIFO*\",Transakcijas!$K:$K,\"<>\"&\"Iemaksas atbrīvošana\")","v":0},{"$f":"SUMIFS(Transakcijas!$R:$R,Transakcijas!$Q:$Q,$B$73,Transakcijas!$O:$O,YEAR($B83),Transakcijas!$P:$P,RIGHT(\"0\"&MONTH($B83),2),Transakcijas!$D:$D,\"Iemaksa\",Transakcijas!$K:$K,\"<>\"&\"Izejošā maksājuma anulēšana\")\n+SUMIFS(Transakcijas!$R:$R,Transakcijas!$Q:$Q,$B$73,Transakcijas!$O:$O,YEAR($B83),Transakcijas!$P:$P,RIGHT(\"0\"&MONTH($B83),2),Transakcijas!$D:$D,\"Atmaksa\",Transakcijas!$K:$K,\"Iemaksas atbrīvošana\")","v":0},{"$f":"SUMIFS(Transakcijas!$R:$R,Transakcijas!$Q:$Q,$B$73,Transakcijas!$O:$O,YEAR($B83),Transakcijas!$P:$P,RIGHT(\"0\"&MONTH($B83),2),Transakcijas!$D:$D,\"Atmaksa\",Transakcijas!$K:$K,\"<>\"&\"Iemaksas atbrīvošana\")\n+SUMIFS(Transakcijas!$R:$R,Transakcijas!$Q:$Q,$B$73,Transakcijas!$O:$O,YEAR($B83),Transakcijas!$P:$P,RIGHT(\"0\"&MONTH($B83),2),Transakcijas!$D:$D,\"Iemaksa\",Transakcijas!$K:$K,\"Izejošā maksājuma anulēšana\")","v":0},{"$f":"SUMIFS(Transakcijas!$R:$R,Transakcijas!$Q:$Q,$B$73,Transakcijas!$O:$O,YEAR($B83),Transakcijas!$P:$P,RIGHT(\"0\"&MONTH($B83),2),Transakcijas!$K:$K,\"FIFO savstarpējā segšana\")\n+SUMIFS(Transakcijas!$R:$R,Transakcijas!$Q:$Q,$B$73,Transakcijas!$O:$O,YEAR($B83),Transakcijas!$P:$P,RIGHT(\"0\"&MONTH($B83),2),Transakcijas!$D:$D,\"Aprēķins\",Transakcijas!$K:$K,\"Iemaksas atbrīvošana\")","v":0},{"$f":"SUMIFS(Transakcijas!$R:$R,Transakcijas!$Q:$Q,$B$73,Transakcijas!$O:$O,YEAR($B83),Transakcijas!$P:$P,RIGHT(\"0\"&MONTH($B83),2))-SUM(D83:K83)","v":0},0,{"$f":"ROUND(SUMIFS(Transakcijas!$R:$R,Transakcijas!$Q:$Q,$B$73,Transakcijas!$N:$N,\"<=\"&$B83,Transakcijas!$H:$H,\"Pamatsumma\"),2)","v":0},{"$f":"ROUND(SUMIFS(Transakcijas!$R:$R,Transakcijas!$Q:$Q,$B$73,Transakcijas!$N:$N,\"<=\"&$B83,Transakcijas!$H:$H,\"Nokavējuma nauda\"),2)","v":0},{"$f":"ROUND(SUMIFS(Transakcijas!$R:$R,Transakcijas!$Q:$Q,$B$73,Transakcijas!$N:$N,\"<=\"&$B83,Transakcijas!$H:$H,\"Soda nauda\"),2)","v":0}]
[null,"2024-11-30",0,{"$f":"SUMIFS(Transakcijas!$R:$R,Transakcijas!$Q:$Q,$B$73,Transakcijas!$O:$O,YEAR($B84),Transakcijas!$P:$P,RIGHT(\"0\"&MONTH($B84),2),Transakcijas!$D:$D,\"Aprēķins\",Transakcijas!$H:$H,\"Pamatsumma\",Transakcijas!$K:$K,\"<>\"&\"FIFO*\",Transakcijas!$K:$K,\"<>\"&\"Iemaksas atbrīvošana\")","v":0},null,null,{"$f":"SUMIFS(Transakcijas!$R:$R,Transakcijas!$Q:$Q,$B$73,Transakcijas!$O:$O,YEAR($B84),Transakcijas!$P:$P,RIGHT(\"0\"&MONTH($B84),2),Transakcijas!$D:$D,\"Aprēķins\",Transakcijas!$H:$H,\"Nokavējuma nauda\",Transakcijas!$K:$K,\"<>\"&\"FIFO*\",Transakcijas!$K:$K,\"<>\"&\"Iemaksas atbrīvošana\")","v":0},{"$f":"SUMIFS(Transakcijas!$R:$R,Transakcijas!$Q:$Q,$B$73,Transakcijas!$O:$O,YEAR($B84),Transakcijas!$P:$P,RIGHT(\"0\"&MONTH($B84),2),Transakcijas!$D:$D,\"Aprēķins\",Transakcijas!$H:$H,\"Soda nauda\",Transakcijas!$K:$K,\"<>\"&\"FIFO*\",Transakcijas!$K:$K,\"<>\"&\"Iemaksas atbrīvošana\")","v":0},{"$f":"SUMIFS(Transakcijas!$R:$R,Transakcijas!$Q:$Q,$B$73,Transakcijas!$O:$O,YEAR($B84),Transakcijas!$P:$P,RIGHT(\"0\"&MONTH($B84),2),Transakcijas!$D:$D,\"Iemaksa\",Transakcijas!$K:$K,\"<>\"&\"Izejošā maksājuma anulēšana\")\n+SUMIFS(Transakcijas!$R:$R,Transakcijas!$Q:$Q,$B$73,Transakcijas!$O:$O,YEAR($B84),Transakcijas!$P:$P,RIGHT(\"0\"&MONTH($B84),2),Transakcijas!$D:$D,\"Atmaksa\",Transakcijas!$K:$K,\"Iemaksas atbrīvošana\")","v":0},{"$f":"SUMIFS(Transakcijas!$R:$R,Transakcijas!$Q:$Q,$B$73,Transakcijas!$O:$O,YEAR($B84),Transakcijas!$P:$P,RIGHT(\"0\"&MONTH($B84),2),Transakcijas!$D:$D,\"Atmaksa\",Transakcijas!$K:$K,\"<>\"&\"Iemaksas atbrīvošana\")\n+SUMIFS(Transakcijas!$R:$R,Transakcijas!$Q:$Q,$B$73,Transakcijas!$O:$O,YEAR($B84),Transakcijas!$P:$P,RIGHT(\"0\"&MONTH($B84),2),Transakcijas!$D:$D,\"Iemaksa\",Transakcijas!$K:$K,\"Izejošā maksājuma anulēšana\")","v":0},{"$f":"SUMIFS(Transakcijas!$R:$R,Transakcijas!$Q:$Q,$B$73,Transakcijas!$O:$O,YEAR($B84),Transakcijas!$P:$P,RIGHT(\"0\"&MONTH($B84),2),Transakcijas!$K:$K,\"FIFO savstarpējā segšana\")\n+SUMIFS(Transakcijas!$R:$R,Transakcijas!$Q:$Q,$B$73,Transakcijas!$O:$O,YEAR($B84),Transakcijas!$P:$P,RIGHT(\"0\"&MONTH($B84),2),Transakcijas!$D:$D,\"Aprēķins\",Transakcijas!$K:$K,\"Iemaksas atbrīvošana\")","v":0},{"$f":"SUMIFS(Transakcijas!$R:$R,Transakcijas!$Q:$Q,$B$73,Transakcijas!$O:$O,YEAR($B84),Transakcijas!$P:$P,RIGHT(\"0\"&MONTH($B84),2))-SUM(D84:K84)","v":0},0,{"$f":"ROUND(SUMIFS(Transakcijas!$R:$R,Transakcijas!$Q:$Q,$B$73,Transakcijas!$N:$N,\"<=\"&$B84,Transakcijas!$H:$H,\"Pamatsumma\"),2)","v":0},{"$f":"ROUND(SUMIFS(Transakcijas!$R:$R,Transakcijas!$Q:$Q,$B$73,Transakcijas!$N:$N,\"<=\"&$B84,Transakcijas!$H:$H,\"Nokavējuma nauda\"),2)","v":0},{"$f":"ROUND(SUMIFS(Transakcijas!$R:$R,Transakcijas!$Q:$Q,$B$73,Transakcijas!$N:$N,\"<=\"&$B84,Transakcijas!$H:$H,\"Soda nauda\"),2)","v":0}]
[null,"2024-12-31",0,{"$f":"SUMIFS(Transakcijas!$R:$R,Transakcijas!$Q:$Q,$B$73,Transakcijas!$O:$O,YEAR($B85),Transakcijas!$P:$P,RIGHT(\"0\"&MONTH($B85),2),Transakcijas!$D:$D,\"Aprēķins\",Transakcijas!$H:$H,\"Pamatsumma\",Transakcijas!$K:$K,\"<>\"&\"FIFO*\",Transakcijas!$K:$K,\"<>\"&\"Iemaksas atbrīvošana\")","v":0},null,null,{"$f":"SUMIFS(Transakcijas!$R:$R,Transakcijas!$Q:$Q,$B$73,Transakcijas!$O:$O,YEAR($B85),Transakcijas!$P:$P,RIGHT(\"0\"&MONTH($B85),2),Transakcijas!$D:$D,\"Aprēķins\",Transakcijas!$H:$H,\"Nokavējuma nauda\",Transakcijas!$K:$K,\"<>\"&\"FIFO*\",Transakcijas!$K:$K,\"<>\"&\"Iemaksas atbrīvošana\")","v":0},{"$f":"SUMIFS(Transakcijas!$R:$R,Transakcijas!$Q:$Q,$B$73,Transakcijas!$O:$O,YEAR($B85),Transakcijas!$P:$P,RIGHT(\"0\"&MONTH($B85),2),Transakcijas!$D:$D,\"Aprēķins\",Transakcijas!$H:$H,\"Soda nauda\",Transakcijas!$K:$K,\"<>\"&\"FIFO*\",Transakcijas!$K:$K,\"<>\"&\"Iemaksas atbrīvošana\")","v":0},{"$f":"SUMIFS(Transakcijas!$R:$R,Transakcijas!$Q:$Q,$B$73,Transakcijas!$O:$O,YEAR($B85),Transakcijas!$P:$P,RIGHT(\"0\"&MONTH($B85),2),Transakcijas!$D:$D,\"Iemaksa\",Transakcijas!$K:$K,\"<>\"&\"Izejošā maksājuma anulēšana\")\n+SUMIFS(Transakcijas!$R:$R,Transakcijas!$Q:$Q,$B$73,Transakcijas!$O:$O,YEAR($B85),Transakcijas!$P:$P,RIGHT(\"0\"&MONTH($B85),2),Transakcijas!$D:$D,\"Atmaksa\",Transakcijas!$K:$K,\"Iemaksas atbrīvošana\")","v":0},{"$f":"SUMIFS(Transakcijas!$R:$R,Transakcijas!$Q:$Q,$B$73,Transakcijas!$O:$O,YEAR($B85),Transakcijas!$P:$P,RIGHT(\"0\"&MONTH($B85),2),Transakcijas!$D:$D,\"Atmaksa\",Transakcijas!$K:$K,\"<>\"&\"Iemaksas atbrīvošana\")\n+SUMIFS(Transakcijas!$R:$R,Transakcijas!$Q:$Q,$B$73,Transakcijas!$O:$O,YEAR($B85),Transakcijas!$P:$P,RIGHT(\"0\"&MONTH($B85),2),Transakcijas!$D:$D,\"Iemaksa\",Transakcijas!$K:$K,\"Izejošā maksājuma anulēšana\")","v":0},{"$f":"SUMIFS(Transakcijas!$R:$R,Transakcijas!$Q:$Q,$B$73,Transakcijas!$O:$O,YEAR($B85),Transakcijas!$P:$P,RIGHT(\"0\"&MONTH($B85),2),Transakcijas!$K:$K,\"FIFO savstarpējā segšana\")\n+SUMIFS(Transakcijas!$R:$R,Transakcijas!$Q:$Q,$B$73,Transakcijas!$O:$O,YEAR($B85),Transakcijas!$P:$P,RIGHT(\"0\"&MONTH($B85),2),Transakcijas!$D:$D,\"Aprēķins\",Transakcijas!$K:$K,\"Iemaksas atbrīvošana\")","v":0},{"$f":"SUMIFS(Transakcijas!$R:$R,Transakcijas!$Q:$Q,$B$73,Transakcijas!$O:$O,YEAR($B85),Transakcijas!$P:$P,RIGHT(\"0\"&MONTH($B85),2))-SUM(D85:K85)","v":0},0,{"$f":"ROUND(SUMIFS(Transakcijas!$R:$R,Transakcijas!$Q:$Q,$B$73,Transakcijas!$N:$N,\"<=\"&$B85,Transakcijas!$H:$H,\"Pamatsumma\"),2)","v":0},{"$f":"ROUND(SUMIFS(Transakcijas!$R:$R,Transakcijas!$Q:$Q,$B$73,Transakcijas!$N:$N,\"<=\"&$B85,Transakcijas!$H:$H,\"Nokavējuma nauda\"),2)","v":0},{"$f":"ROUND(SUMIFS(Transakcijas!$R:$R,Transakcijas!$Q:$Q,$B$73,Transakcijas!$N:$N,\"<=\"&$B85,Transakcijas!$H:$H,\"Soda nauda\"),2)","v":0}]
[null,"Kopā",{"$f":"C74","v":0},{"$f":"SUM(D74:D85)","v":0},null,null,{"$f":"SUM(G74:G85)","v":0},0,0,0,0,0,0]
[]
[null,{"$f":"DATE(YEAR($M$4),MONTH($M$4)+2,0)","v":"2025-01-31"},{"$f":"IF(B88=\"\",0,M86)","v":0},{"$f":"SUMIFS(Transakcijas!$R:$R,Transakcijas!$Q:$Q,$B$73,Transakcijas!$O:$O,YEAR($B88),Transakcijas!$P:$P,RIGHT(\"0\"&MONTH($B88),2),Transakcijas!$D:$D,\"Aprēķins\",Transakcijas!$H:$H,\"Pamatsumma\",Transakcijas!$K:$K,\"<>\"&\"FIFO*\",Transakcijas!$K:$K,\"<>\"&\"Iemaksas atbrīvošana\")","v":0},null,null,{"$f":"SUMIFS(Transakcijas!$R:$R,Transakcijas!$Q:$Q,$B$73,Transakcijas!$O:$O,YEAR($B88),Transakcijas!$P:$P,RIGHT(\"0\"&MONTH($B88),2),Transakcijas!$D:$D,\"Aprēķins\",Transakcijas!$H:$H,\"Nokavējuma nauda\",Transakcijas!$K:$K,\"<>\"&\"FIFO*\",Transakcijas!$K:$K,\"<>\"&\"Iemaksas atbrīvošana\")","v":0},{"$f":"SUMIFS(Transakcijas!$R:$R,Transakcijas!$Q:$Q,$B$73,Transakcijas!$O:$O,YEAR($B88),Transakcijas!$P:$P,RIGHT(\"0\"&MONTH($B88),2),Transakcijas!$D:$D,\"Aprēķins\",Transakcijas!$H:$H,\"Soda nauda\",Transakcijas!$K:$K,\"<>\"&\"FIFO*\",Transakcijas!$K:$K,\"<>\"&\"Iemaksas atbrīvošana\")","v":0},{"$f":"SUMIFS(Transakcijas!$R:$R,Transakcijas!$Q:$Q,$B$73,Transakcijas!$O:$O,YEAR($B88),Transakcijas!$P:$P,RIGHT(\"0\"&MONTH($B88),2),Transakcijas!$D:$D,\"Iemaksa\",Transakcijas!$K:$K,\"<>\"&\"Izejošā maksājuma anulēšana\")\n+SUMIFS(Transakcijas!$R:$R,Transakcijas!$Q:$Q,$B$73,Transakcijas!$O:$O,YEAR($B88),Transakcijas!$P:$P,RIGHT(\"0\"&MONTH($B88),2),Transakcijas!$D:$D,\"Atmaksa\",Transakcijas!$K:$K,\"Iemaksas atbrīvošana\")","v":0},{"$f":"SUMIFS(Transakcijas!$R:$R,Transakcijas!$Q:$Q,$B$73,Transakcijas!$O:$O,YEAR($B88),Transakcijas!$P:$P,RIGHT(\"0\"&MONTH($B88),2),Transakcijas!$D:$D,\"Atmaksa\",Transakcijas!$K:$K,\"<>\"&\"Iemaksas atbrīvošana\")\n+SUMIFS(Transakcijas!$R:$R,Transakcijas!$Q:$Q,$B$73,Transakcijas!$O:$O,YEAR($B88),Transakcijas!$P:$P,RIGHT(\"0\"&MONTH($B88),2),Transakcijas!$D:$D,\"Iemaksa\",Transakcijas!$K:$K,\"Izejošā maksājuma anulēšana\")","v":0},{"$f":"SUMIFS(Transakcijas!$R:$R,Transakcijas!$Q:$Q,$B$73,Transakcijas!$O:$O,YEAR($B88),Transakcijas!$P:$P,RIGHT(\"0\"&MONTH($B88),2),Transakcijas!$K:$K,\"FIFO savstarpējā segšana\")\n+SUMIFS(Transakcijas!$R:$R,Transakcijas!$Q:$Q,$B$73,Transakcijas!$O:$O,YEAR($B88),Transakcijas!$P:$P,RIGHT(\"0\"&MONTH($B88),2),Transakcijas!$D:$D,\"Aprēķins\",Transakcijas!$K:$K,\"Iemaksas atbrīvošana\")","v":0},{"$f":"SUMIFS(Transakcijas!$R:$R,Transakcijas!$Q:$Q,$B$73,Transakcijas!$O:$O,YEAR($B88),Transakcijas!$P:$P,RIGHT(\"0\"&MONTH($B88),2))-SUM(D88:K88)","v":0},{"$f":"SUM(C88:L88)","v":0},{"$f":"ROUND(SUMIFS(Transakcijas!$R:$R,Transakcijas!$Q:$Q,$B$73,Transakcijas!$N:$N,\"<=\"&$B88,Transakcijas!$H:$H,\"Pamatsumma\"),2)","v":0},{"$f":"ROUND(SUMIFS(Transakcijas!$R:$R,Transakcijas!$Q:$Q,$B$73,Transakcijas!$N:$N,\"<=\"&$B88,Transakcijas!$H:$H,\"Nokavējuma nauda\"),2)","v":0},{"$f":"ROUND(SUMIFS(Transakcijas!$R:$R,Transakcijas!$Q:$Q,$B$73,Transakcijas!$N:$N,\"<=\"&$B88,Transakcijas!$H:$H,\"Soda nauda\"),2)","v":0}]
[]
[null,{"$f":"B10","v":"UIN"},"Atlikums uz perioda sākumu","Aprēķināts","Ieturēts","Aprēķinas (nerezid.)","Aprēķināta nokav. nauda  ","Aprēķināta\n soda nauda  ","Samaksāts\nAtbrīvots","Atmaksāts","Pārvietots \n(Savst.segš.)","Cita \nkustība","Atlikums uz perioda beigām","Pamat-\nsumma","Nokav. \nnauda  ","Soda \nnauda  "]
[null,{"$f":"DATE(YEAR($C$4),MONTH($C$4)+1,0)","v":"2024-01-31"},{"$f":"C10","v":0},{"$f":"SUMIFS(Transakcijas!$R:$R,Transakcijas!$Q:$Q,$B$90,Transakcijas!$O:$O,YEAR($B91),Transakcijas!$P:$P,RIGHT(\"0\"&MONTH($B91),2),Transakcijas!$D:$D,\"Aprēķins\",Transakcijas!$H:$H,\"Pamatsumma\",Transakcijas!$K:$K,\"<>\"&\"FIFO*\",Transakcijas!$K:$K,\"<>\"&\"Iemaksas atbrīvošana\")","v":0},null,null,{"$f":"SUMIFS(Transakcijas!$R:$R,Transakcijas!$Q:$Q,$B$90,Transakcijas!$O:$O,YEAR($B91),Transakcijas!$P:$P,RIGHT(\"0\"&MONTH($B91),2),Transakcijas!$D:$D,\"Aprēķins\",Transakcijas!$H:$H,\"Nokavējuma nauda\",Transakcijas!$K:$K,\"<>\"&\"FIFO*\",Transakcijas!$K:$K,\"<>\"&\"Iemaksas atbrīvošana\")","v":0},{"$f":"SUMIFS(Transakcijas!$R:$R,Transakcijas!$Q:$Q,$B$90,Transakcijas!$O:$O,YEAR($B91),Transakcijas!$P:$P,RIGHT(\"0\"&MONTH($B91),2),Transakcijas!$D:$D,\"Aprēķins\",Transakcijas!$H:$H,\"Soda nauda\",Transakcijas!$K:$K,\"<>\"&\"FIFO*\",Transakcijas!$K:$K,\"<>\"&\"Iemaksas atbrīvošana\")","v":0},{"$f":"SUMIFS(Transakcijas!$R:$R,Transakcijas!$Q:$Q,$B$90,Transakcijas!$O:$O,YEAR($B91),Transakcijas!$P:$P,RIGHT(\"0\"&MONTH($B91),2),Transakcijas!$D:$D,\"Iemaksa\",Transakcijas!$K:$K,\"<>\"&\"Izejošā maksājuma anulēšana\")\n+SUMIFS(Transakcijas!$R:$R,Transakcijas!$Q:$Q,$B$90,Transakcijas!$O:$O,YEAR($B91),Transakcijas!$P:$P,RIGHT(\"0\"&MONTH($B91),2),Transakcijas!$D:$D,\"Atmaksa\",Transakcijas!$K:$K,\"Iemaksas atbrīvošana\")","v":0},{"$f":"SUMIFS(Transakcijas!$R:$R,Transakcijas!$Q:$Q,$B$90,Transakcijas!$O:$O,YEAR($B91),Transakcijas!$P:$P,RIGHT(\"0\"&MONTH($B91),2),Transakcijas!$D:$D,\"Atmaksa\",Transakcijas!$K:$K,\"<>\"&\"Iemaksas atbrīvošana\")\n+SUMIFS(Transakcijas!$R:$R,Transakcijas!$Q:$Q,$B$90,Transakcijas!$O:$O,YEAR($B91),Transakcijas!$P:$P,RIGHT(\"0\"&MONTH($B91),2),Transakcijas!$D:$D,\"Iemaksa\",Transakcijas!$K:$K,\"Izejošā maksājuma anulēšana\")","v":0},{"$f":"SUMIFS(Transakcijas!$R:$R,Transakcijas!$Q:$Q,$B$90,Transakcijas!$O:$O,YEAR($B91),Transakcijas!$P:$P,RIGHT(\"0\"&MONTH($B91),2),Transakcijas!$K:$K,\"FIFO savstarpējā segšana\")\n+SUMIFS(Transakcijas!$R:$R,Transakcijas!$Q:$Q,$B$90,Transakcijas!$O:$O,YEAR($B91),Transakcijas!$P:$P,RIGHT(\"0\"&MONTH($B91),2),Transakcijas!$D:$D,\"Aprēķins\",Transakcijas!$K:$K,\"Iemaksas atbrīvošana\")","v":0},{"$f":"SUMIFS(Transakcijas!$R:$R,Transakcijas!$Q:$Q,$B$90,Transakcijas!$O:$O,YEAR($B91),Transakcijas!$P:$P,RIGHT(\"0\"&MONTH($B91),2))-SUM(D91:K91)","v":0},{"$f":"SUM(C91:L91)","v":0},{"$f":"ROUND(SUMIFS(Transakcijas!$R:$R,Transakcijas!$Q:$Q,$B$90,Transakcijas!$N:$N,\"<=\"&$B91,Transakcijas!$H:$H,\"Pamatsumma\"),2)","v":0},{"$f":"ROUND(SUMIFS(Transakcijas!$R:$R,Transakcijas!$Q:$Q,$B$90,Transakcijas!$N:$N,\"<=\"&$B91,Transakcijas!$H:$H,\"Nokavējuma nauda\"),2)","v":0},{"$f":"ROUND(SUMIFS(Transakcijas!$R:$R,Transakcijas!$Q:$Q,$B$90,Transakcijas!$N:$N,\"<=\"&$B91,Transakcijas!$H:$H,\"Soda nauda\"),2)","v":0}]
[null,{"$f":"IF(IF(B91=\"\",$M$4+1,DATE(YEAR(B91),MONTH(B91)+2,0))<=$M$4,DATE(YEAR(B91),MONTH(B91)+2,0),\"\")","v":"2024-02-29"},{"$f":"IF(B92=\"\",0,M91)","v":0},{"$f":"SUMIFS(Transakcijas!$R:$R,Transakcijas!$Q:$Q,$B$90,Transakcijas!$O:$O,YEAR($B92),Transakcijas!$P:$P,RIGHT(\"0\"&MONTH($B92),2),Transakcijas!$D:$D,\"Aprēķins\",Transakcijas!$H:$H,\"Pamatsumma\",Transakcijas!$K:$K,\"<>\"&\"FIFO*\",Transakcijas!$K:$K,\"<>\"&\"Iemaksas atbrīvošana\")","v":0},null,null,{"$f":"SUMIFS(Transakcijas!$R:$R,Transakcijas!$Q:$Q,$B$90,Transakcijas!$O:$O,YEAR($B92),Transakcijas!$P:$P,RIGHT(\"0\"&MONTH($B92),2),Transakcijas!$D:$D,\"Aprēķins\",Transakcijas!$H:$H,\"Nokavējuma nauda\",Transakcijas!$K:$K,\"<>\"&\"FIFO*\",Transakcijas!$K:$K,\"<>\"&\"Iemaksas atbrīvošana\")","v":0},{"$f":"SUMIFS(Transakcijas!$R:$R,Transakcijas!$Q:$Q,$B$90,Transakcijas!$O:$O,YEAR($B92),Transakcijas!$P:$P,RIGHT(\"0\"&MONTH($B92),2),Transakcijas!$D:$D,\"Aprēķins\",Transakcijas!$H:$H,\"Soda nauda\",Transakcijas!$K:$K,\"<>\"&\"FIFO*\",Transakcijas!$K:$K,\"<>\"&\"Iemaksas atbrīvošana\")","v":0},{"$f":"SUMIFS(Transakcijas!$R:$R,Transakcijas!$Q:$Q,$B$90,Transakcijas!$O:$O,YEAR($B92),Transakcijas!$P:$P,RIGHT(\"0\"&MONTH($B92),2),Transakcijas!$D:$D,\"Iemaksa\",Transakcijas!$K:$K,\"<>\"&\"Izejošā maksājuma anulēšana\")\n+SUMIFS(Transakcijas!$R:$R,Transakcijas!$Q:$Q,$B$90,Transakcijas!$O:$O,YEAR($B92),Transakcijas!$P:$P,RIGHT(\"0\"&MONTH($B92),2),Transakcijas!$D:$D,\"Atmaksa\",Transakcijas!$K:$K,\"Iemaksas atbrīvošana\")","v":0},{"$f":"SUMIFS(Transakcijas!$R:$R,Transakcijas!$Q:$Q,$B$90,Transakcijas!$O:$O,YEAR($B92),Transakcijas!$P:$P,RIGHT(\"0\"&MONTH($B92),2),Transakcijas!$D:$D,\"Atmaksa\",Transakcijas!$K:$K,\"<>\"&\"Iemaksas atbrīvošana\")\n+SUMIFS(Transakcijas!$R:$R,Transakcijas!$Q:$Q,$B$90,Transakcijas!$O:$O,YEAR($B92),Transakcijas!$P:$P,RIGHT(\"0\"&MONTH($B92),2),Transakcijas!$D:$D,\"Iemaksa\",Transakcijas!$K:$K,\"Izejošā maksājuma anulēšana\")","v":0},{"$f":"SUMIFS(Transakcijas!$R:$R,Transakcijas!$Q:$Q,$B$90,Transakcijas!$O:$O,YEAR($B92),Transakcijas!$P:$P,RIGHT(\"0\"&MONTH($B92),2),Transakcijas!$K:$K,\"FIFO savstarpējā segšana\")\n+SUMIFS(Transakcijas!$R:$R,Transakcijas!$Q:$Q,$B$90,Transakcijas!$O:$O,YEAR($B92),Transakcijas!$P:$P,RIGHT(\"0\"&MONTH($B92),2),Transakcijas!$D:$D,\"Aprēķins\",Transakcijas!$K:$K,\"Iemaksas atbrīvošana\")","v":0},{"$f":"SUMIFS(Transakcijas!$R:$R,Transakcijas!$Q:$Q,$B$90,Transakcijas!$O:$O,YEAR($B92),Transakcijas!$P:$P,RIGHT(\"0\"&MONTH($B92),2))-SUM(D92:K92)","v":0},0,{"$f":"ROUND(SUMIFS(Transakcijas!$R:$R,Transakcijas!$Q:$Q,$B$90,Transakcijas!$N:$N,\"<=\"&$B92,Transakcijas!$H:$H,\"Pamatsumma\"),2)","v":0},{"$f":"ROUND(SUMIFS(Transakcijas!$R:$R,Transakcijas!$Q:$Q,$B$90,Transakcijas!$N:$N,\"<=\"&$B92,Transakcijas!$H:$H,\"Nokavējuma nauda\"),2)","v":0},{"$f":"ROUND(SUMIFS(Transakcijas!$R:$R,Transakcijas!$Q:$Q,$B$90,Transakcijas!$N:$N,\"<=\"&$B92,Transakcijas!$H:$H,\"Soda nauda\"),2)","v":0}]
[null,"2024-03-31",0,{"$f":"SUMIFS(Transakcijas!$R:$R,Transakcijas!$Q:$Q,$B$90,Transakcijas!$O:$O,YEAR($B93),Transakcijas!$P:$P,RIGHT(\"0\"&MONTH($B93),2),Transakcijas!$D:$D,\"Aprēķins\",Transakcijas!$H:$H,\"Pamatsumma\",Transakcijas!$K:$K,\"<>\"&\"FIFO*\",Transakcijas!$K:$K,\"<>\"&\"Iemaksas atbrīvošana\")","v":0},null,null,{"$f":"SUMIFS(Transakcijas!$R:$R,Transakcijas!$Q:$Q,$B$90,Transakcijas!$O:$O,YEAR($B93),Transakcijas!$P:$P,RIGHT(\"0\"&MONTH($B93),2),Transakcijas!$D:$D,\"Aprēķins\",Transakcijas!$H:$H,\"Nokavējuma nauda\",Transakcijas!$K:$K,\"<>\"&\"FIFO*\",Transakcijas!$K:$K,\"<>\"&\"Iemaksas atbrīvošana\")","v":0},{"$f":"SUMIFS(Transakcijas!$R:$R,Transakcijas!$Q:$Q,$B$90,Transakcijas!$O:$O,YEAR($B93),Transakcijas!$P:$P,RIGHT(\"0\"&MONTH($B93),2),Transakcijas!$D:$D,\"Aprēķins\",Transakcijas!$H:$H,\"Soda nauda\",Transakcijas!$K:$K,\"<>\"&\"FIFO*\",Transakcijas!$K:$K,\"<>\"&\"Iemaksas atbrīvošana\")","v":0},{"$f":"SUMIFS(Transakcijas!$R:$R,Transakcijas!$Q:$Q,$B$90,Transakcijas!$O:$O,YEAR($B93),Transakcijas!$P:$P,RIGHT(\"0\"&MONTH($B93),2),Transakcijas!$D:$D,\"Iemaksa\",Transakcijas!$K:$K,\"<>\"&\"Izejošā maksājuma anulēšana\")\n+SUMIFS(Transakcijas!$R:$R,Transakcijas!$Q:$Q,$B$90,Transakcijas!$O:$O,YEAR($B93),Transakcijas!$P:$P,RIGHT(\"0\"&MONTH($B93),2),Transakcijas!$D:$D,\"Atmaksa\",Transakcijas!$K:$K,\"Iemaksas atbrīvošana\")","v":0},{"$f":"SUMIFS(Transakcijas!$R:$R,Transakcijas!$Q:$Q,$B$90,Transakcijas!$O:$O,YEAR($B93),Transakcijas!$P:$P,RIGHT(\"0\"&MONTH($B93),2),Transakcijas!$D:$D,\"Atmaksa\",Transakcijas!$K:$K,\"<>\"&\"Iemaksas atbrīvošana\")\n+SUMIFS(Transakcijas!$R:$R,Transakcijas!$Q:$Q,$B$90,Transakcijas!$O:$O,YEAR($B93),Transakcijas!$P:$P,RIGHT(\"0\"&MONTH($B93),2),Transakcijas!$D:$D,\"Iemaksa\",Transakcijas!$K:$K,\"Izejošā maksājuma anulēšana\")","v":0},{"$f":"SUMIFS(Transakcijas!$R:$R,Transakcijas!$Q:$Q,$B$90,Transakcijas!$O:$O,YEAR($B93),Transakcijas!$P:$P,RIGHT(\"0\"&MONTH($B93),2),Transakcijas!$K:$K,\"FIFO savstarpējā segšana\")\n+SUMIFS(Transakcijas!$R:$R,Transakcijas!$Q:$Q,$B$90,Transakcijas!$O:$O,YEAR($B93),Transakcijas!$P:$P,RIGHT(\"0\"&MONTH($B93),2),Transakcijas!$D:$D,\"Aprēķins\",Transakcijas!$K:$K,\"Iemaksas atbrīvošana\")","v":0},{"$f":"SUMIFS(Transakcijas!$R:$R,Transakcijas!$Q:$Q,$B$90,Transakcijas!$O:$O,YEAR($B93),Transakcijas!$P:$P,RIGHT(\"0\"&MONTH($B93),2))-SUM(D93:K93)","v":0},0,{"$f":"ROUND(SUMIFS(Transakcijas!$R:$R,Transakcijas!$Q:$Q,$B$90,Transakcijas!$N:$N,\"<=\"&$B93,Transakcijas!$H:$H,\"Pamatsumma\"),2)","v":0},{"$f":"ROUND(SUMIFS(Transakcijas!$R:$R,Transakcijas!$Q:$Q,$B$90,Transakcijas!$N:$N,\"<=\"&$B93,Transakcijas!$H:$H,\"Nokavējuma nauda\"),2)","v":0},{"$f":"ROUND(SUMIFS(Transakcijas!$R:$R,Transakcijas!$Q:$Q,$B$90,Transakcijas!$N:$N,\"<=\"&$B93,Transakcijas!$H:$H,\"Soda nauda\"),2)","v":0}]
[null,"2024-04-30",0,{"$f":"SUMIFS(Transakcijas!$R:$R,Transakcijas!$Q:$Q,$B$90,Transakcijas!$O:$O,YEAR($B94),Transakcijas!$P:$P,RIGHT(\"0\"&MONTH($B94),2),Transakcijas!$D:$D,\"Aprēķins\",Transakcijas!$H:$H,\"Pamatsumma\",Transakcijas!$K:$K,\"<>\"&\"FIFO*\",Transakcijas!$K:$K,\"<>\"&\"Iemaksas atbrīvošana\")","v":0},null,null,{"$f":"SUMIFS(Transakcijas!$R:$R,Transakcijas!$Q:$Q,$B$90,Transakcijas!$O:$O,YEAR($B94),Transakcijas!$P:$P,RIGHT(\"0\"&MONTH($B94),2),Transakcijas!$D:$D,\"Aprēķins\",Transakcijas!$H:$H,\"Nokavējuma nauda\",Transakcijas!$K:$K,\"<>\"&\"FIFO*\",Transakcijas!$K:$K,\"<>\"&\"Iemaksas atbrīvošana\")","v":0},{"$f":"SUMIFS(Transakcijas!$R:$R,Transakcijas!$Q:$Q,$B$90,Transakcijas!$O:$O,YEAR($B94),Transakcijas!$P:$P,RIGHT(\"0\"&MONTH($B94),2),Transakcijas!$D:$D,\"Aprēķins\",Transakcijas!$H:$H,\"Soda nauda\",Transakcijas!$K:$K,\"<>\"&\"FIFO*\",Transakcijas!$K:$K,\"<>\"&\"Iemaksas atbrīvošana\")","v":0},{"$f":"SUMIFS(Transakcijas!$R:$R,Transakcijas!$Q:$Q,$B$90,Transakcijas!$O:$O,YEAR($B94),Transakcijas!$P:$P,RIGHT(\"0\"&MONTH($B94),2),Transakcijas!$D:$D,\"Iemaksa\",Transakcijas!$K:$K,\"<>\"&\"Izejošā maksājuma anulēšana\")\n+SUMIFS(Transakcijas!$R:$R,Transakcijas!$Q:$Q,$B$90,Transakcijas!$O:$O,YEAR($B94),Transakcijas!$P:$P,RIGHT(\"0\"&MONTH($B94),2),Transakcijas!$D:$D,\"Atmaksa\",Transakcijas!$K:$K,\"Iemaksas atbrīvošana\")","v":0},{"$f":"SUMIFS(Transakcijas!$R:$R,Transakcijas!$Q:$Q,$B$90,Transakcijas!$O:$O,YEAR($B94),Transakcijas!$P:$P,RIGHT(\"0\"&MONTH($B94),2),Transakcijas!$D:$D,\"Atmaksa\",Transakcijas!$K:$K,\"<>\"&\"Iemaksas atbrīvošana\")\n+SUMIFS(Transakcijas!$R:$R,Transakcijas!$Q:$Q,$B$90,Transakcijas!$O:$O,YEAR($B94),Transakcijas!$P:$P,RIGHT(\"0\"&MONTH($B94),2),Transakcijas!$D:$D,\"Iemaksa\",Transakcijas!$K:$K,\"Izejošā maksājuma anulēšana\")","v":0},{"$f":"SUMIFS(Transakcijas!$R:$R,Transakcijas!$Q:$Q,$B$90,Transakcijas!$O:$O,YEAR($B94),Transakcijas!$P:$P,RIGHT(\"0\"&MONTH($B94),2),Transakcijas!$K:$K,\"FIFO savstarpējā segšana\")\n+SUMIFS(Transakcijas!$R:$R,Transakcijas!$Q:$Q,$B$90,Transakcijas!$O:$O,YEAR($B94),Transakcijas!$P:$P,RIGHT(\"0\"&MONTH($B94),2),Transakcijas!$D:$D,\"Aprēķins\",Transakcijas!$K:$K,\"Iemaksas atbrīvošana\")","v":0},{"$f":"SUMIFS(Transakcijas!$R:$R,Transakcijas!$Q:$Q,$B$90,Transakcijas!$O:$O,YEAR($B94),Transakcijas!$P:$P,RIGHT(\"0\"&MONTH($B94),2))-SUM(D94:K94)","v":0},0,{"$f":"ROUND(SUMIFS(Transakcijas!$R:$R,Transakcijas!$Q:$Q,$B$90,Transakcijas!$N:$N,\"<=\"&$B94,Transakcijas!$H:$H,\"Pamatsumma\"),2)","v":0},{"$f":"ROUND(SUMIFS(Transakcijas!$R:$R,Transakcijas!$Q:$Q,$B$90,Transakcijas!$N:$N,\"<=\"&$B94,Transakcijas!$H:$H,\"Nokavējuma nauda\"),2)","v":0},{"$f":"ROUND(SUMIFS(Transakcijas!$R:$R,Transakcijas!$Q:$Q,$B$90,Transakcijas!$N:$N,\"<=\"&$B94,Transakcijas!$H:$H,\"Soda nauda\"),2)","v":0}]
[null,"2024-05-31",0,{"$f":"SUMIFS(Transakcijas!$R:$R,Transakcijas!$Q:$Q,$B$90,Transakcijas!$O:$O,YEAR($B95),Transakcijas!$P:$P,RIGHT(\"0\"&MONTH($B95),2),Transakcijas!$D:$D,\"Aprēķins\",Transakcijas!$H:$H,\"Pamatsumma\",Transakcijas!$K:$K,\"<>\"&\"FIFO*\",Transakcijas!$K:$K,\"<>\"&\"Iemaksas atbrīvošana\")","v":0},null,null,{"$f":"SUMIFS(Transakcijas!$R:$R,Transakcijas!$Q:$Q,$B$90,Transakcijas!$O:$O,YEAR($B95),Transakcijas!$P:$P,RIGHT(\"0\"&MONTH($B95),2),Transakcijas!$D:$D,\"Aprēķins\",Transakcijas!$H:$H,\"Nokavējuma nauda\",Transakcijas!$K:$K,\"<>\"&\"FIFO*\",Transakcijas!$K:$K,\"<>\"&\"Iemaksas atbrīvošana\")","v":0},{"$f":"SUMIFS(Transakcijas!$R:$R,Transakcijas!$Q:$Q,$B$90,Transakcijas!$O:$O,YEAR($B95),Transakcijas!$P:$P,RIGHT(\"0\"&MONTH($B95),2),Transakcijas!$D:$D,\"Aprēķins\",Transakcijas!$H:$H,\"Soda nauda\",Transakcijas!$K:$K,\"<>\"&\"FIFO*\",Transakcijas!$K:$K,\"<>\"&\"Iemaksas atbrīvošana\")","v":0},{"$f":"SUMIFS(Transakcijas!$R:$R,Transakcijas!$Q:$Q,$B$90,Transakcijas!$O:$O,YEAR($B95),Transakcijas!$P:$P,RIGHT(\"0\"&MONTH($B95),2),Transakcijas!$D:$D,\"Iemaksa\",Transakcijas!$K:$K,\"<>\"&\"Izejošā maksājuma anulēšana\")\n+SUMIFS(Transakcijas!$R:$R,Transakcijas!$Q:$Q,$B$90,Transakcijas!$O:$O,YEAR($B95),Transakcijas!$P:$P,RIGHT(\"0\"&MONTH($B95),2),Transakcijas!$D:$D,\"Atmaksa\",Transakcijas!$K:$K,\"Iemaksas atbrīvošana\")","v":0},{"$f":"SUMIFS(Transakcijas!$R:$R,Transakcijas!$Q:$Q,$B$90,Transakcijas!$O:$O,YEAR($B95),Transakcijas!$P:$P,RIGHT(\"0\"&MONTH($B95),2),Transakcijas!$D:$D,\"Atmaksa\",Transakcijas!$K:$K,\"<>\"&\"Iemaksas atbrīvošana\")\n+SUMIFS(Transakcijas!$R:$R,Transakcijas!$Q:$Q,$B$90,Transakcijas!$O:$O,YEAR($B95),Transakcijas!$P:$P,RIGHT(\"0\"&MONTH($B95),2),Transakcijas!$D:$D,\"Iemaksa\",Transakcijas!$K:$K,\"Izejošā maksājuma anulēšana\")","v":0},{"$f":"SUMIFS(Transakcijas!$R:$R,Transakcijas!$Q:$Q,$B$90,Transakcijas!$O:$O,YEAR($B95),Transakcijas!$P:$P,RIGHT(\"0\"&MONTH($B95),2),Transakcijas!$K:$K,\"FIFO savstarpējā segšana\")\n+SUMIFS(Transakcijas!$R:$R,Transakcijas!$Q:$Q,$B$90,Transakcijas!$O:$O,YEAR($B95),Transakcijas!$P:$P,RIGHT(\"0\"&MONTH($B95),2),Transakcijas!$D:$D,\"Aprēķins\",Transakcijas!$K:$K,\"Iemaksas atbrīvošana\")","v":0},{"$f":"SUMIFS(Transakcijas!$R:$R,Transakcijas!$Q:$Q,$B$90,Transakcijas!$O:$O,YEAR($B95),Transakcijas!$P:$P,RIGHT(\"0\"&MONTH($B95),2))-SUM(D95:K95)","v":0},0,{"$f":"ROUND(SUMIFS(Transakcijas!$R:$R,Transakcijas!$Q:$Q,$B$90,Transakcijas!$N:$N,\"<=\"&$B95,Transakcijas!$H:$H,\"Pamatsumma\"),2)","v":0},{"$f":"ROUND(SUMIFS(Transakcijas!$R:$R,Transakcijas!$Q:$Q,$B$90,Transakcijas!$N:$N,\"<=\"&$B95,Transakcijas!$H:$H,\"Nokavējuma nauda\"),2)","v":0},{"$f":"ROUND(SUMIFS(Transakcijas!$R:$R,Transakcijas!$Q:$Q,$B$90,Transakcijas!$N:$N,\"<=\"&$B95,Transakcijas!$H:$H,\"Soda nauda\"),2)","v":0}]
[null,"2024-06-30",0,{"$f":"SUMIFS(Transakcijas!$R:$R,Transakcijas!$Q:$Q,$B$90,Transakcijas!$O:$O,YEAR($B96),Transakcijas!$P:$P,RIGHT(\"0\"&MONTH($B96),2),Transakcijas!$D:$D,\"Aprēķins\",Transakcijas!$H:$H,\"Pamatsumma\",Transakcijas!$K:$K,\"<>\"&\"FIFO*\",Transakcijas!$K:$K,\"<>\"&\"Iemaksas atbrīvošana\")","v":0},null,null,{"$f":"SUMIFS(Transakcijas!$R:$R,Transakcijas!$Q:$Q,$B$90,Transakcijas!$O:$O,YEAR($B96),Transakcijas!$P:$P,RIGHT(\"0\"&MONTH($B96),2),Transakcijas!$D:$D,\"Aprēķins\",Transakcijas!$H:$H,\"Nokavējuma nauda\",Transakcijas!$K:$K,\"<>\"&\"FIFO*\",Transakcijas!$K:$K,\"<>\"&\"Iemaksas atbrīvošana\")","v":0},{"$f":"SUMIFS(Transakcijas!$R:$R,Transakcijas!$Q:$Q,$B$90,Transakcijas!$O:$O,YEAR($B96),Transakcijas!$P:$P,RIGHT(\"0\"&MONTH($B96),2),Transakcijas!$D:$D,\"Aprēķins\",Transakcijas!$H:$H,\"Soda nauda\",Transakcijas!$K:$K,\"<>\"&\"FIFO*\",Transakcijas!$K:$K,\"<>\"&\"Iemaksas atbrīvošana\")","v":0},{"$f":"SUMIFS(Transakcijas!$R:$R,Transakcijas!$Q:$Q,$B$90,Transakcijas!$O:$O,YEAR($B96),Transakcijas!$P:$P,RIGHT(\"0\"&MONTH($B96),2),Transakcijas!$D:$D,\"Iemaksa\",Transakcijas!$K:$K,\"<>\"&\"Izejošā maksājuma anulēšana\")\n+SUMIFS(Transakcijas!$R:$R,Transakcijas!$Q:$Q,$B$90,Transakcijas!$O:$O,YEAR($B96),Transakcijas!$P:$P,RIGHT(\"0\"&MONTH($B96),2),Transakcijas!$D:$D,\"Atmaksa\",Transakcijas!$K:$K,\"Iemaksas atbrīvošana\")","v":0},{"$f":"SUMIFS(Transakcijas!$R:$R,Transakcijas!$Q:$Q,$B$90,Transakcijas!$O:$O,YEAR($B96),Transakcijas!$P:$P,RIGHT(\"0\"&MONTH($B96),2),Transakcijas!$D:$D,\"Atmaksa\",Transakcijas!$K:$K,\"<>\"&\"Iemaksas atbrīvošana\")\n+SUMIFS(Transakcijas!$R:$R,Transakcijas!$Q:$Q,$B$90,Transakcijas!$O:$O,YEAR($B96),Transakcijas!$P:$P,RIGHT(\"0\"&MONTH($B96),2),Transakcijas!$D:$D,\"Iemaksa\",Transakcijas!$K:$K,\"Izejošā maksājuma anulēšana\")","v":0},{"$f":"SUMIFS(Transakcijas!$R:$R,Transakcijas!$Q:$Q,$B$90,Transakcijas!$O:$O,YEAR($B96),Transakcijas!$P:$P,RIGHT(\"0\"&MONTH($B96),2),Transakcijas!$K:$K,\"FIFO savstarpējā segšana\")\n+SUMIFS(Transakcijas!$R:$R,Transakcijas!$Q:$Q,$B$90,Transakcijas!$O:$O,YEAR($B96),Transakcijas!$P:$P,RIGHT(\"0\"&MONTH($B96),2),Transakcijas!$D:$D,\"Aprēķins\",Transakcijas!$K:$K,\"Iemaksas atbrīvošana\")","v":0},{"$f":"SUMIFS(Transakcijas!$R:$R,Transakcijas!$Q:$Q,$B$90,Transakcijas!$O:$O,YEAR($B96),Transakcijas!$P:$P,RIGHT(\"0\"&MONTH($B96),2))-SUM(D96:K96)","v":0},0,{"$f":"ROUND(SUMIFS(Transakcijas!$R:$R,Transakcijas!$Q:$Q,$B$90,Transakcijas!$N:$N,\"<=\"&$B96,Transakcijas!$H:$H,\"Pamatsumma\"),2)","v":0},{"$f":"ROUND(SUMIFS(Transakcijas!$R:$R,Transakcijas!$Q:$Q,$B$90,Transakcijas!$N:$N,\"<=\"&$B96,Transakcijas!$H:$H,\"Nokavējuma nauda\"),2)","v":0},{"$f":"ROUND(SUMIFS(Transakcijas!$R:$R,Transakcijas!$Q:$Q,$B$90,Transakcijas!$N:$N,\"<=\"&$B96,Transakcijas!$H:$H,\"Soda nauda\"),2)","v":0}]
[null,"2024-07-31",0,{"$f":"SUMIFS(Transakcijas!$R:$R,Transakcijas!$Q:$Q,$B$90,Transakcijas!$O:$O,YEAR($B97),Transakcijas!$P:$P,RIGHT(\"0\"&MONTH($B97),2),Transakcijas!$D:$D,\"Aprēķins\",Transakcijas!$H:$H,\"Pamatsumma\",Transakcijas!$K:$K,\"<>\"&\"FIFO*\",Transakcijas!$K:$K,\"<>\"&\"Iemaksas atbrīvošana\")","v":0},null,null,{"$f":"SUMIFS(Transakcijas!$R:$R,Transakcijas!$Q:$Q,$B$90,Transakcijas!$O:$O,YEAR($B97),Transakcijas!$P:$P,RIGHT(\"0\"&MONTH($B97),2),Transakcijas!$D:$D,\"Aprēķins\",Transakcijas!$H:$H,\"Nokavējuma nauda\",Transakcijas!$K:$K,\"<>\"&\"FIFO*\",Transakcijas!$K:$K,\"<>\"&\"Iemaksas atbrīvošana\")","v":0},{"$f":"SUMIFS(Transakcijas!$R:$R,Transakcijas!$Q:$Q,$B$90,Transakcijas!$O:$O,YEAR($B97),Transakcijas!$P:$P,RIGHT(\"0\"&MONTH($B97),2),Transakcijas!$D:$D,\"Aprēķins\",Transakcijas!$H:$H,\"Soda nauda\",Transakcijas!$K:$K,\"<>\"&\"FIFO*\",Transakcijas!$K:$K,\"<>\"&\"Iemaksas atbrīvošana\")","v":0},{"$f":"SUMIFS(Transakcijas!$R:$R,Transakcijas!$Q:$Q,$B$90,Transakcijas!$O:$O,YEAR($B97),Transakcijas!$P:$P,RIGHT(\"0\"&MONTH($B97),2),Transakcijas!$D:$D,\"Iemaksa\",Transakcijas!$K:$K,\"<>\"&\"Izejošā maksājuma anulēšana\")\n+SUMIFS(Transakcijas!$R:$R,Transakcijas!$Q:$Q,$B$90,Transakcijas!$O:$O,YEAR($B97),Transakcijas!$P:$P,RIGHT(\"0\"&MONTH($B97),2),Transakcijas!$D:$D,\"Atmaksa\",Transakcijas!$K:$K,\"Iemaksas atbrīvošana\")","v":0},{"$f":"SUMIFS(Transakcijas!$R:$R,Transakcijas!$Q:$Q,$B$90,Transakcijas!$O:$O,YEAR($B97),Transakcijas!$P:$P,RIGHT(\"0\"&MONTH($B97),2),Transakcijas!$D:$D,\"Atmaksa\",Transakcijas!$K:$K,\"<>\"&\"Iemaksas atbrīvošana\")\n+SUMIFS(Transakcijas!$R:$R,Transakcijas!$Q:$Q,$B$90,Transakcijas!$O:$O,YEAR($B97),Transakcijas!$P:$P,RIGHT(\"0\"&MONTH($B97),2),Transakcijas!$D:$D,\"Iemaksa\",Transakcijas!$K:$K,\"Izejošā maksājuma anulēšana\")","v":0},{"$f":"SUMIFS(Transakcijas!$R:$R,Transakcijas!$Q:$Q,$B$90,Transakcijas!$O:$O,YEAR($B97),Transakcijas!$P:$P,RIGHT(\"0\"&MONTH($B97),2),Transakcijas!$K:$K,\"FIFO savstarpējā segšana\")\n+SUMIFS(Transakcijas!$R:$R,Transakcijas!$Q:$Q,$B$90,Transakcijas!$O:$O,YEAR($B97),Transakcijas!$P:$P,RIGHT(\"0\"&MONTH($B97),2),Transakcijas!$D:$D,\"Aprēķins\",Transakcijas!$K:$K,\"Iemaksas atbrīvošana\")","v":0},{"$f":"SUMIFS(Transakcijas!$R:$R,Transakcijas!$Q:$Q,$B$90,Transakcijas!$O:$O,YEAR($B97),Transakcijas!$P:$P,RIGHT(\"0\"&MONTH($B97),2))-SUM(D97:K97)","v":0},0,{"$f":"ROUND(SUMIFS(Transakcijas!$R:$R,Transakcijas!$Q:$Q,$B$90,Transakcijas!$N:$N,\"<=\"&$B97,Transakcijas!$H:$H,\"Pamatsumma\"),2)","v":0},{"$f":"ROUND(SUMIFS(Transakcijas!$R:$R,Transakcijas!$Q:$Q,$B$90,Transakcijas!$N:$N,\"<=\"&$B97,Transakcijas!$H:$H,\"Nokavējuma nauda\"),2)","v":0},{"$f":"ROUND(SUMIFS(Transakcijas!$R:$R,Transakcijas!$Q:$Q,$B$90,Transakcijas!$N:$N,\"<=\"&$B97,Transakcijas!$H:$H,\"Soda nauda\"),2)","v":0}]
[null,"2024-08-31",0,{"$f":"SUMIFS(Transakcijas!$R:$R,Transakcijas!$Q:$Q,$B$90,Transakcijas!$O:$O,YEAR($B98),Transakcijas!$P:$P,RIGHT(\"0\"&MONTH($B98),2),Transakcijas!$D:$D,\"Aprēķins\",Transakcijas!$H:$H,\"Pamatsumma\",Transakcijas!$K:$K,\"<>\"&\"FIFO*\",Transakcijas!$K:$K,\"<>\"&\"Iemaksas atbrīvošana\")","v":0},null,null,{"$f":"SUMIFS(Transakcijas!$R:$R,Transakcijas!$Q:$Q,$B$90,Transakcijas!$O:$O,YEAR($B98),Transakcijas!$P:$P,RIGHT(\"0\"&MONTH($B98),2),Transakcijas!$D:$D,\"Aprēķins\",Transakcijas!$H:$H,\"Nokavējuma nauda\",Transakcijas!$K:$K,\"<>\"&\"FIFO*\",Transakcijas!$K:$K,\"<>\"&\"Iemaksas atbrīvošana\")","v":0},{"$f":"SUMIFS(Transakcijas!$R:$R,Transakcijas!$Q:$Q,$B$90,Transakcijas!$O:$O,YEAR($B98),Transakcijas!$P:$P,RIGHT(\"0\"&MONTH($B98),2),Transakcijas!$D:$D,\"Aprēķins\",Transakcijas!$H:$H,\"Soda nauda\",Transakcijas!$K:$K,\"<>\"&\"FIFO*\",Transakcijas!$K:$K,\"<>\"&\"Iemaksas atbrīvošana\")","v":0},{"$f":"SUMIFS(Transakcijas!$R:$R,Transakcijas!$Q:$Q,$B$90,Transakcijas!$O:$O,YEAR($B98),Transakcijas!$P:$P,RIGHT(\"0\"&MONTH($B98),2),Transakcijas!$D:$D,\"Iemaksa\",Transakcijas!$K:$K,\"<>\"&\"Izejošā maksājuma anulēšana\")\n+SUMIFS(Transakcijas!$R:$R,Transakcijas!$Q:$Q,$B$90,Transakcijas!$O:$O,YEAR($B98),Transakcijas!$P:$P,RIGHT(\"0\"&MONTH($B98),2),Transakcijas!$D:$D,\"Atmaksa\",Transakcijas!$K:$K,\"Iemaksas atbrīvošana\")","v":0},{"$f":"SUMIFS(Transakcijas!$R:$R,Transakcijas!$Q:$Q,$B$90,Transakcijas!$O:$O,YEAR($B98),Transakcijas!$P:$P,RIGHT(\"0\"&MONTH($B98),2),Transakcijas!$D:$D,\"Atmaksa\",Transakcijas!$K:$K,\"<>\"&\"Iemaksas atbrīvošana\")\n+SUMIFS(Transakcijas!$R:$R,Transakcijas!$Q:$Q,$B$90,Transakcijas!$O:$O,YEAR($B98),Transakcijas!$P:$P,RIGHT(\"0\"&MONTH($B98),2),Transakcijas!$D:$D,\"Iemaksa\",Transakcijas!$K:$K,\"Izejošā maksājuma anulēšana\")","v":0},{"$f":"SUMIFS(Transakcijas!$R:$R,Transakcijas!$Q:$Q,$B$90,Transakcijas!$O:$O,YEAR($B98),Transakcijas!$P:$P,RIGHT(\"0\"&MONTH($B98),2),Transakcijas!$K:$K,\"FIFO savstarpējā segšana\")\n+SUMIFS(Transakcijas!$R:$R,Transakcijas!$Q:$Q,$B$90,Transakcijas!$O:$O,YEAR($B98),Transakcijas!$P:$P,RIGHT(\"0\"&MONTH($B98),2),Transakcijas!$D:$D,\"Aprēķins\",Transakcijas!$K:$K,\"Iemaksas atbrīvošana\")","v":0},{"$f":"SUMIFS(Transakcijas!$R:$R,Transakcijas!$Q:$Q,$B$90,Transakcijas!$O:$O,YEAR($B98),Transakcijas!$P:$P,RIGHT(\"0\"&MONTH($B98),2))-SUM(D98:K98)","v":0},0,{"$f":"ROUND(SUMIFS(Transakcijas!$R:$R,Transakcijas!$Q:$Q,$B$90,Transakcijas!$N:$N,\"<=\"&$B98,Transakcijas!$H:$H,\"Pamatsumma\"),2)","v":0},{"$f":"ROUND(SUMIFS(Transakcijas!$R:$R,Transakcijas!$Q:$Q,$B$90,Transakcijas!$N:$N,\"<=\"&$B98,Transakcijas!$H:$H,\"Nokavējuma nauda\"),2)","v":0},{"$f":"ROUND(SUMIFS(Transakcijas!$R:$R,Transakcijas!$Q:$Q,$B$90,Transakcijas!$N:$N,\"<=\"&$B98,Transakcijas!$H:$H,\"Soda nauda\"),2)","v":0}]
[null,"2024-09-30",0,{"$f":"SUMIFS(Transakcijas!$R:$R,Transakcijas!$Q:$Q,$B$90,Transakcijas!$O:$O,YEAR($B99),Transakcijas!$P:$P,RIGHT(\"0\"&MONTH($B99),2),Transakcijas!$D:$D,\"Aprēķins\",Transakcijas!$H:$H,\"Pamatsumma\",Transakcijas!$K:$K,\"<>\"&\"FIFO*\",Transakcijas!$K:$K,\"<>\"&\"Iemaksas atbrīvošana\")","v":0},null,null,{"$f":"SUMIFS(Transakcijas!$R:$R,Transakcijas!$Q:$Q,$B$90,Transakcijas!$O:$O,YEAR($B99),Transakcijas!$P:$P,RIGHT(\"0\"&MONTH($B99),2),Transakcijas!$D:$D,\"Aprēķins\",Transakcijas!$H:$H,\"Nokavējuma nauda\",Transakcijas!$K:$K,\"<>\"&\"FIFO*\",Transakcijas!$K:$K,\"<>\"&\"Iemaksas atbrīvošana\")","v":0},{"$f":"SUMIFS(Transakcijas!$R:$R,Transakcijas!$Q:$Q,$B$90,Transakcijas!$O:$O,YEAR($B99),Transakcijas!$P:$P,RIGHT(\"0\"&MONTH($B99),2),Transakcijas!$D:$D,\"Aprēķins\",Transakcijas!$H:$H,\"Soda nauda\",Transakcijas!$K:$K,\"<>\"&\"FIFO*\",Transakcijas!$K:$K,\"<>\"&\"Iemaksas atbrīvošana\")","v":0},{"$f":"SUMIFS(Transakcijas!$R:$R,Transakcijas!$Q:$Q,$B$90,Transakcijas!$O:$O,YEAR($B99),Transakcijas!$P:$P,RIGHT(\"0\"&MONTH($B99),2),Transakcijas!$D:$D,\"Iemaksa\",Transakcijas!$K:$K,\"<>\"&\"Izejošā maksājuma anulēšana\")\n+SUMIFS(Transakcijas!$R:$R,Transakcijas!$Q:$Q,$B$90,Transakcijas!$O:$O,YEAR($B99),Transakcijas!$P:$P,RIGHT(\"0\"&MONTH($B99),2),Transakcijas!$D:$D,\"Atmaksa\",Transakcijas!$K:$K,\"Iemaksas atbrīvošana\")","v":0},{"$f":"SUMIFS(Transakcijas!$R:$R,Transakcijas!$Q:$Q,$B$90,Transakcijas!$O:$O,YEAR($B99),Transakcijas!$P:$P,RIGHT(\"0\"&MONTH($B99),2),Transakcijas!$D:$D,\"Atmaksa\",Transakcijas!$K:$K,\"<>\"&\"Iemaksas atbrīvošana\")\n+SUMIFS(Transakcijas!$R:$R,Transakcijas!$Q:$Q,$B$90,Transakcijas!$O:$O,YEAR($B99),Transakcijas!$P:$P,RIGHT(\"0\"&MONTH($B99),2),Transakcijas!$D:$D,\"Iemaksa\",Transakcijas!$K:$K,\"Izejošā maksājuma anulēšana\")","v":0},{"$f":"SUMIFS(Transakcijas!$R:$R,Transakcijas!$Q:$Q,$B$90,Transakcijas!$O:$O,YEAR($B99),Transakcijas!$P:$P,RIGHT(\"0\"&MONTH($B99),2),Transakcijas!$K:$K,\"FIFO savstarpējā segšana\")\n+SUMIFS(Transakcijas!$R:$R,Transakcijas!$Q:$Q,$B$90,Transakcijas!$O:$O,YEAR($B99),Transakcijas!$P:$P,RIGHT(\"0\"&MONTH($B99),2),Transakcijas!$D:$D,\"Aprēķins\",Transakcijas!$K:$K,\"Iemaksas atbrīvošana\")","v":0},{"$f":"SUMIFS(Transakcijas!$R:$R,Transakcijas!$Q:$Q,$B$90,Transakcijas!$O:$O,YEAR($B99),Transakcijas!$P:$P,RIGHT(\"0\"&MONTH($B99),2))-SUM(D99:K99)","v":0},0,{"$f":"ROUND(SUMIFS(Transakcijas!$R:$R,Transakcijas!$Q:$Q,$B$90,Transakcijas!$N:$N,\"<=\"&$B99,Transakcijas!$H:$H,\"Pamatsumma\"),2)","v":0},{"$f":"ROUND(SUMIFS(Transakcijas!$R:$R,Transakcijas!$Q:$Q,$B$90,Transakcijas!$N:$N,\"<=\"&$B99,Transakcijas!$H:$H,\"Nokavējuma nauda\"),2)","v":0},{"$f":"ROUND(SUMIFS(Transakcijas!$R:$R,Transakcijas!$Q:$Q,$B$90,Transakcijas!$N:$N,\"<=\"&$B99,Transakcijas!$H:$H,\"Soda nauda\"),2)","v":0}]
[null,"2024-10-31",0,{"$f":"SUMIFS(Transakcijas!$R:$R,Transakcijas!$Q:$Q,$B$90,Transakcijas!$O:$O,YEAR($B100),Transakcijas!$P:$P,RIGHT(\"0\"&MONTH($B100),2),Transakcijas!$D:$D,\"Aprēķins\",Transakcijas!$H:$H,\"Pamatsumma\",Transakcijas!$K:$K,\"<>\"&\"FIFO*\",Transakcijas!$K:$K,\"<>\"&\"Iemaksas atbrīvošana\")","v":0},null,null,{"$f":"SUMIFS(Transakcijas!$R:$R,Transakcijas!$Q:$Q,$B$90,Transakcijas!$O:$O,YEAR($B100),Transakcijas!$P:$P,RIGHT(\"0\"&MONTH($B100),2),Transakcijas!$D:$D,\"Aprēķins\",Transakcijas!$H:$H,\"Nokavējuma nauda\",Transakcijas!$K:$K,\"<>\"&\"FIFO*\",Transakcijas!$K:$K,\"<>\"&\"Iemaksas atbrīvošana\")","v":0},{"$f":"SUMIFS(Transakcijas!$R:$R,Transakcijas!$Q:$Q,$B$90,Transakcijas!$O:$O,YEAR($B100),Transakcijas!$P:$P,RIGHT(\"0\"&MONTH($B100),2),Transakcijas!$D:$D,\"Aprēķins\",Transakcijas!$H:$H,\"Soda nauda\",Transakcijas!$K:$K,\"<>\"&\"FIFO*\",Transakcijas!$K:$K,\"<>\"&\"Iemaksas atbrīvošana\")","v":0},{"$f":"SUMIFS(Transakcijas!$R:$R,Transakcijas!$Q:$Q,$B$90,Transakcijas!$O:$O,YEAR($B100),Transakcijas!$P:$P,RIGHT(\"0\"&MONTH($B100),2),Transakcijas!$D:$D,\"Iemaksa\",Transakcijas!$K:$K,\"<>\"&\"Izejošā maksājuma anulēšana\")\n+SUMIFS(Transakcijas!$R:$R,Transakcijas!$Q:$Q,$B$90,Transakcijas!$O:$O,YEAR($B100),Transakcijas!$P:$P,RIGHT(\"0\"&MONTH($B100),2),Transakcijas!$D:$D,\"Atmaksa\",Transakcijas!$K:$K,\"Iemaksas atbrīvošana\")","v":0},{"$f":"SUMIFS(Transakcijas!$R:$R,Transakcijas!$Q:$Q,$B$90,Transakcijas!$O:$O,YEAR($B100),Transakcijas!$P:$P,RIGHT(\"0\"&MONTH($B100),2),Transakcijas!$D:$D,\"Atmaksa\",Transakcijas!$K:$K,\"<>\"&\"Iemaksas atbrīvošana\")\n+SUMIFS(Transakcijas!$R:$R,Transakcijas!$Q:$Q,$B$90,Transakcijas!$O:$O,YEAR($B100),Transakcijas!$P:$P,RIGHT(\"0\"&MONTH($B100),2),Transakcijas!$D:$D,\"Iemaksa\",Transakcijas!$K:$K,\"Izejošā maksājuma anulēšana\")","v":0},{"$f":"SUMIFS(Transakcijas!$R:$R,Transakcijas!$Q:$Q,$B$90,Transakcijas!$O:$O,YEAR($B100),Transakcijas!$P:$P,RIGHT(\"0\"&MONTH($B100),2),Transakcijas!$K:$K,\"FIFO savstarpējā segšana\")\n+SUMIFS(Transakcijas!$R:$R,Transakcijas!$Q:$Q,$B$90,Transakcijas!$O:$O,YEAR($B100),Transakcijas!$P:$P,RIGHT(\"0\"&MONTH($B100),2),Transakcijas!$D:$D,\"Aprēķins\",Transakcijas!$K:$K,\"Iemaksas atbrīvošana\")","v":0},{"$f":"SUMIFS(Transakcijas!$R:$R,Transakcijas!$Q:$Q,$B$90,Transakcijas!$O:$O,YEAR($B100),Transakcijas!$P:$P,RIGHT(\"0\"&MONTH($B100),2))-SUM(D100:K100)","v":0},0,{"$f":"ROUND(SUMIFS(Transakcijas!$R:$R,Transakcijas!$Q:$Q,$B$90,Transakcijas!$N:$N,\"<=\"&$B100,Transakcijas!$H:$H,\"Pamatsumma\"),2)","v":0},{"$f":"ROUND(SUMIFS(Transakcijas!$R:$R,Transakcijas!$Q:$Q,$B$90,Transakcijas!$N:$N,\"<=\"&$B100,Transakcijas!$H:$H,\"Nokavējuma nauda\"),2)","v":0},{"$f":"ROUND(SUMIFS(Transakcijas!$R:$R,Transakcijas!$Q:$Q,$B$90,Transakcijas!$N:$N,\"<=\"&$B100,Transakcijas!$H:$H,\"Soda nauda\"),2)","v":0}]
[null,"2024-11-30",0,{"$f":"SUMIFS(Transakcijas!$R:$R,Transakcijas!$Q:$Q,$B$90,Transakcijas!$O:$O,YEAR($B101),Transakcijas!$P:$P,RIGHT(\"0\"&MONTH($B101),2),Transakcijas!$D:$D,\"Aprēķins\",Transakcijas!$H:$H,\"Pamatsumma\",Transakcijas!$K:$K,\"<>\"&\"FIFO*\",Transakcijas!$K:$K,\"<>\"&\"Iemaksas atbrīvošana\")","v":0},null,null,{"$f":"SUMIFS(Transakcijas!$R:$R,Transakcijas!$Q:$Q,$B$90,Transakcijas!$O:$O,YEAR($B101),Transakcijas!$P:$P,RIGHT(\"0\"&MONTH($B101),2),Transakcijas!$D:$D,\"Aprēķins\",Transakcijas!$H:$H,\"Nokavējuma nauda\",Transakcijas!$K:$K,\"<>\"&\"FIFO*\",Transakcijas!$K:$K,\"<>\"&\"Iemaksas atbrīvošana\")","v":0},{"$f":"SUMIFS(Transakcijas!$R:$R,Transakcijas!$Q:$Q,$B$90,Transakcijas!$O:$O,YEAR($B101),Transakcijas!$P:$P,RIGHT(\"0\"&MONTH($B101),2),Transakcijas!$D:$D,\"Aprēķins\",Transakcijas!$H:$H,\"Soda nauda\",Transakcijas!$K:$K,\"<>\"&\"FIFO*\",Transakcijas!$K:$K,\"<>\"&\"Iemaksas atbrīvošana\")","v":0},{"$f":"SUMIFS(Transakcijas!$R:$R,Transakcijas!$Q:$Q,$B$90,Transakcijas!$O:$O,YEAR($B101),Transakcijas!$P:$P,RIGHT(\"0\"&MONTH($B101),2),Transakcijas!$D:$D,\"Iemaksa\",Transakcijas!$K:$K,\"<>\"&\"Izejošā maksājuma anulēšana\")\n+SUMIFS(Transakcijas!$R:$R,Transakcijas!$Q:$Q,$B$90,Transakcijas!$O:$O,YEAR($B101),Transakcijas!$P:$P,RIGHT(\"0\"&MONTH($B101),2),Transakcijas!$D:$D,\"Atmaksa\",Transakcijas!$K:$K,\"Iemaksas atbrīvošana\")","v":0},{"$f":"SUMIFS(Transakcijas!$R:$R,Transakcijas!$Q:$Q,$B$90,Transakcijas!$O:$O,YEAR($B101),Transakcijas!$P:$P,RIGHT(\"0\"&MONTH($B101),2),Transakcijas!$D:$D,\"Atmaksa\",Transakcijas!$K:$K,\"<>\"&\"Iemaksas atbrīvošana\")\n+SUMIFS(Transakcijas!$R:$R,Transakcijas!$Q:$Q,$B$90,Transakcijas!$O:$O,YEAR($B101),Transakcijas!$P:$P,RIGHT(\"0\"&MONTH($B101),2),Transakcijas!$D:$D,\"Iemaksa\",Transakcijas!$K:$K,\"Izejošā maksājuma anulēšana\")","v":0},{"$f":"SUMIFS(Transakcijas!$R:$R,Transakcijas!$Q:$Q,$B$90,Transakcijas!$O:$O,YEAR($B101),Transakcijas!$P:$P,RIGHT(\"0\"&MONTH($B101),2),Transakcijas!$K:$K,\"FIFO savstarpējā segšana\")\n+SUMIFS(Transakcijas!$R:$R,Transakcijas!$Q:$Q,$B$90,Transakcijas!$O:$O,YEAR($B101),Transakcijas!$P:$P,RIGHT(\"0\"&MONTH($B101),2),Transakcijas!$D:$D,\"Aprēķins\",Transakcijas!$K:$K,\"Iemaksas atbrīvošana\")","v":0},{"$f":"SUMIFS(Transakcijas!$R:$R,Transakcijas!$Q:$Q,$B$90,Transakcijas!$O:$O,YEAR($B101),Transakcijas!$P:$P,RIGHT(\"0\"&MONTH($B101),2))-SUM(D101:K101)","v":0},0,{"$f":"ROUND(SUMIFS(Transakcijas!$R:$R,Transakcijas!$Q:$Q,$B$90,Transakcijas!$N:$N,\"<=\"&$B101,Transakcijas!$H:$H,\"Pamatsumma\"),2)","v":0},{"$f":"ROUND(SUMIFS(Transakcijas!$R:$R,Transakcijas!$Q:$Q,$B$90,Transakcijas!$N:$N,\"<=\"&$B101,Transakcijas!$H:$H,\"Nokavējuma nauda\"),2)","v":0},{"$f":"ROUND(SUMIFS(Transakcijas!$R:$R,Transakcijas!$Q:$Q,$B$90,Transakcijas!$N:$N,\"<=\"&$B101,Transakcijas!$H:$H,\"Soda nauda\"),2)","v":0}]
[null,"2024-12-31",0,{"$f":"SUMIFS(Transakcijas!$R:$R,Transakcijas!$Q:$Q,$B$90,Transakcijas!$O:$O,YEAR($B102),Transakcijas!$P:$P,RIGHT(\"0\"&MONTH($B102),2),Transakcijas!$D:$D,\"Aprēķins\",Transakcijas!$H:$H,\"Pamatsumma\",Transakcijas!$K:$K,\"<>\"&\"FIFO*\",Transakcijas!$K:$K,\"<>\"&\"Iemaksas atbrīvošana\")","v":0},null,null,{"$f":"SUMIFS(Transakcijas!$R:$R,Transakcijas!$Q:$Q,$B$90,Transakcijas!$O:$O,YEAR($B102),Transakcijas!$P:$P,RIGHT(\"0\"&MONTH($B102),2),Transakcijas!$D:$D,\"Aprēķins\",Transakcijas!$H:$H,\"Nokavējuma nauda\",Transakcijas!$K:$K,\"<>\"&\"FIFO*\",Transakcijas!$K:$K,\"<>\"&\"Iemaksas atbrīvošana\")","v":0},{"$f":"SUMIFS(Transakcijas!$R:$R,Transakcijas!$Q:$Q,$B$90,Transakcijas!$O:$O,YEAR($B102),Transakcijas!$P:$P,RIGHT(\"0\"&MONTH($B102),2),Transakcijas!$D:$D,\"Aprēķins\",Transakcijas!$H:$H,\"Soda nauda\",Transakcijas!$K:$K,\"<>\"&\"FIFO*\",Transakcijas!$K:$K,\"<>\"&\"Iemaksas atbrīvošana\")","v":0},{"$f":"SUMIFS(Transakcijas!$R:$R,Transakcijas!$Q:$Q,$B$90,Transakcijas!$O:$O,YEAR($B102),Transakcijas!$P:$P,RIGHT(\"0\"&MONTH($B102),2),Transakcijas!$D:$D,\"Iemaksa\",Transakcijas!$K:$K,\"<>\"&\"Izejošā maksājuma anulēšana\")\n+SUMIFS(Transakcijas!$R:$R,Transakcijas!$Q:$Q,$B$90,Transakcijas!$O:$O,YEAR($B102),Transakcijas!$P:$P,RIGHT(\"0\"&MONTH($B102),2),Transakcijas!$D:$D,\"Atmaksa\",Transakcijas!$K:$K,\"Iemaksas atbrīvošana\")","v":0},{"$f":"SUMIFS(Transakcijas!$R:$R,Transakcijas!$Q:$Q,$B$90,Transakcijas!$O:$O,YEAR($B102),Transakcijas!$P:$P,RIGHT(\"0\"&MONTH($B102),2),Transakcijas!$D:$D,\"Atmaksa\",Transakcijas!$K:$K,\"<>\"&\"Iemaksas atbrīvošana\")\n+SUMIFS(Transakcijas!$R:$R,Transakcijas!$Q:$Q,$B$90,Transakcijas!$O:$O,YEAR($B102),Transakcijas!$P:$P,RIGHT(\"0\"&MONTH($B102),2),Transakcijas!$D:$D,\"Iemaksa\",Transakcijas!$K:$K,\"Izejošā maksājuma anulēšana\")","v":0},{"$f":"SUMIFS(Transakcijas!$R:$R,Transakcijas!$Q:$Q,$B$90,Transakcijas!$O:$O,YEAR($B102),Transakcijas!$P:$P,RIGHT(\"0\"&MONTH($B102),2),Transakcijas!$K:$K,\"FIFO savstarpējā segšana\")\n+SUMIFS(Transakcijas!$R:$R,Transakcijas!$Q:$Q,$B$90,Transakcijas!$O:$O,YEAR($B102),Transakcijas!$P:$P,RIGHT(\"0\"&MONTH($B102),2),Transakcijas!$D:$D,\"Aprēķins\",Transakcijas!$K:$K,\"Iemaksas atbrīvošana\")","v":0},{"$f":"SUMIFS(Transakcijas!$R:$R,Transakcijas!$Q:$Q,$B$90,Transakcijas!$O:$O,YEAR($B102),Transakcijas!$P:$P,RIGHT(\"0\"&MONTH($B102),2))-SUM(D102:K102)","v":0},0,{"$f":"ROUND(SUMIFS(Transakcijas!$R:$R,Transakcijas!$Q:$Q,$B$90,Transakcijas!$N:$N,\"<=\"&$B102,Transakcijas!$H:$H,\"Pamatsumma\"),2)","v":0},{"$f":"ROUND(SUMIFS(Transakcijas!$R:$R,Transakcijas!$Q:$Q,$B$90,Transakcijas!$N:$N,\"<=\"&$B102,Transakcijas!$H:$H,\"Nokavējuma nauda\"),2)","v":0},{"$f":"ROUND(SUMIFS(Transakcijas!$R:$R,Transakcijas!$Q:$Q,$B$90,Transakcijas!$N:$N,\"<=\"&$B102,Transakcijas!$H:$H,\"Soda nauda\"),2)","v":0}]
[null,"Kopā",{"$f":"C91","v":0},{"$f":"SUM(D91:D102)","v":0},null,null,{"$f":"SUM(G91:G102)","v":0},0,0,0,0,0,0]
[]
[null,{"$f":"DATE(YEAR($M$4),MONTH($M$4)+2,0)","v":"2025-01-31"},{"$f":"IF(B105=\"\",0,M103)","v":0},{"$f":"SUMIFS(Transakcijas!$R:$R,Transakcijas!$Q:$Q,$B$90,Transakcijas!$O:$O,YEAR($B105),Transakcijas!$P:$P,RIGHT(\"0\"&MONTH($B105),2),Transakcijas!$D:$D,\"Aprēķins\",Transakcijas!$H:$H,\"Pamatsumma\",Transakcijas!$K:$K,\"<>\"&\"FIFO*\",Transakcijas!$K:$K,\"<>\"&\"Iemaksas atbrīvošana\")","v":0},null,null,{"$f":"SUMIFS(Transakcijas!$R:$R,Transakcijas!$Q:$Q,$B$90,Transakcijas!$O:$O,YEAR($B105),Transakcijas!$P:$P,RIGHT(\"0\"&MONTH($B105),2),Transakcijas!$D:$D,\"Aprēķins\",Transakcijas!$H:$H,\"Nokavējuma nauda\",Transakcijas!$K:$K,\"<>\"&\"FIFO*\",Transakcijas!$K:$K,\"<>\"&\"Iemaksas atbrīvošana\")","v":0},{"$f":"SUMIFS(Transakcijas!$R:$R,Transakcijas!$Q:$Q,$B$90,Transakcijas!$O:$O,YEAR($B105),Transakcijas!$P:$P,RIGHT(\"0\"&MONTH($B105),2),Transakcijas!$D:$D,\"Aprēķins\",Transakcijas!$H:$H,\"Soda nauda\",Transakcijas!$K:$K,\"<>\"&\"FIFO*\",Transakcijas!$K:$K,\"<>\"&\"Iemaksas atbrīvošana\")","v":0},{"$f":"SUMIFS(Transakcijas!$R:$R,Transakcijas!$Q:$Q,$B$90,Transakcijas!$O:$O,YEAR($B105),Transakcijas!$P:$P,RIGHT(\"0\"&MONTH($B105),2),Transakcijas!$D:$D,\"Iemaksa\",Transakcijas!$K:$K,\"<>\"&\"Izejošā maksājuma anulēšana\")\n+SUMIFS(Transakcijas!$R:$R,Transakcijas!$Q:$Q,$B$90,Transakcijas!$O:$O,YEAR($B105),Transakcijas!$P:$P,RIGHT(\"0\"&MONTH($B105),2),Transakcijas!$D:$D,\"Atmaksa\",Transakcijas!$K:$K,\"Iemaksas atbrīvošana\")","v":0},{"$f":"SUMIFS(Transakcijas!$R:$R,Transakcijas!$Q:$Q,$B$90,Transakcijas!$O:$O,YEAR($B105),Transakcijas!$P:$P,RIGHT(\"0\"&MONTH($B105),2),Transakcijas!$D:$D,\"Atmaksa\",Transakcijas!$K:$K,\"<>\"&\"Iemaksas atbrīvošana\")\n+SUMIFS(Transakcijas!$R:$R,Transakcijas!$Q:$Q,$B$90,Transakcijas!$O:$O,YEAR($B105),Transakcijas!$P:$P,RIGHT(\"0\"&MONTH($B105),2),Transakcijas!$D:$D,\"Iemaksa\",Transakcijas!$K:$K,\"Izejošā maksājuma anulēšana\")","v":0},{"$f":"SUMIFS(Transakcijas!$R:$R,Transakcijas!$Q:$Q,$B$90,Transakcijas!$O:$O,YEAR($B105),Transakcijas!$P:$P,RIGHT(\"0\"&MONTH($B105),2),Transakcijas!$K:$K,\"FIFO savstarpējā segšana\")\n+SUMIFS(Transakcijas!$R:$R,Transakcijas!$Q:$Q,$B$90,Transakcijas!$O:$O,YEAR($B105),Transakcijas!$P:$P,RIGHT(\"0\"&MONTH($B105),2),Transakcijas!$D:$D,\"Aprēķins\",Transakcijas!$K:$K,\"Iemaksas atbrīvošana\")","v":0},{"$f":"SUMIFS(Transakcijas!$R:$R,Transakcijas!$Q:$Q,$B$90,Transakcijas!$O:$O,YEAR($B105),Transakcijas!$P:$P,RIGHT(\"0\"&MONTH($B105),2))-SUM(D105:K105)","v":0},{"$f":"SUM(C105:L105)","v":0},{"$f":"ROUND(SUMIFS(Transakcijas!$R:$R,Transakcijas!$Q:$Q,$B$90,Transakcijas!$N:$N,\"<=\"&$B105,Transakcijas!$H:$H,\"Pamatsumma\"),2)","v":0},{"$f":"ROUND(SUMIFS(Transakcijas!$R:$R,Transakcijas!$Q:$Q,$B$90,Transakcijas!$N:$N,\"<=\"&$B105,Transakcijas!$H:$H,\"Nokavējuma nauda\"),2)","v":0},{"$f":"ROUND(SUMIFS(Transakcijas!$R:$R,Transakcijas!$Q:$Q,$B$90,Transakcijas!$N:$N,\"<=\"&$B105,Transakcijas!$H:$H,\"Soda nauda\"),2)","v":0}]
[]
[null,{"$f":"B11","v":"DRN"},"Atlikums uz perioda sākumu","Aprēķināts","Ieturēts","Aprēķinas (nerezid.)","Aprēķināta nokav. nauda  ","Aprēķināta\n soda nauda  ","Samaksāts\nAtbrīvots","Atmaksāts","Pārvietots \n(Savst.segš.)","Cita \nkustība","Atlikums uz perioda beigām","Pamat-\nsumma","Nokav. \nnauda  ","Soda \nnauda  "]
[null,{"$f":"DATE(YEAR($C$4),MONTH($C$4)+1,0)","v":"2024-01-31"},{"$f":"C11","v":0},{"$f":"SUMIFS(Transakcijas!$R:$R,Transakcijas!$Q:$Q,$B$107,Transakcijas!$O:$O,YEAR($B108),Transakcijas!$P:$P,RIGHT(\"0\"&MONTH($B108),2),Transakcijas!$D:$D,\"Aprēķins\",Transakcijas!$H:$H,\"Pamatsumma\",Transakcijas!$K:$K,\"<>\"&\"FIFO*\",Transakcijas!$K:$K,\"<>\"&\"Iemaksas atbrīvošana\")","v":0},null,null,{"$f":"SUMIFS(Transakcijas!$R:$R,Transakcijas!$Q:$Q,$B$107,Transakcijas!$O:$O,YEAR($B108),Transakcijas!$P:$P,RIGHT(\"0\"&MONTH($B108),2),Transakcijas!$D:$D,\"Aprēķins\",Transakcijas!$H:$H,\"Nokavējuma nauda\",Transakcijas!$K:$K,\"<>\"&\"FIFO*\",Transakcijas!$K:$K,\"<>\"&\"Iemaksas atbrīvošana\")","v":0},{"$f":"SUMIFS(Transakcijas!$R:$R,Transakcijas!$Q:$Q,$B$107,Transakcijas!$O:$O,YEAR($B108),Transakcijas!$P:$P,RIGHT(\"0\"&MONTH($B108),2),Transakcijas!$D:$D,\"Aprēķins\",Transakcijas!$H:$H,\"Soda nauda\",Transakcijas!$K:$K,\"<>\"&\"FIFO*\",Transakcijas!$K:$K,\"<>\"&\"Iemaksas atbrīvošana\")","v":0},{"$f":"SUMIFS(Transakcijas!$R:$R,Transakcijas!$Q:$Q,$B$107,Transakcijas!$O:$O,YEAR($B108),Transakcijas!$P:$P,RIGHT(\"0\"&MONTH($B108),2),Transakcijas!$D:$D,\"Iemaksa\",Transakcijas!$K:$K,\"<>\"&\"Izejošā maksājuma anulēšana\")\n+SUMIFS(Transakcijas!$R:$R,Transakcijas!$Q:$Q,$B$107,Transakcijas!$O:$O,YEAR($B108),Transakcijas!$P:$P,RIGHT(\"0\"&MONTH($B108),2),Transakcijas!$D:$D,\"Atmaksa\",Transakcijas!$K:$K,\"Iemaksas atbrīvošana\")","v":0},{"$f":"SUMIFS(Transakcijas!$R:$R,Transakcijas!$Q:$Q,$B$107,Transakcijas!$O:$O,YEAR($B108),Transakcijas!$P:$P,RIGHT(\"0\"&MONTH($B108),2),Transakcijas!$D:$D,\"Atmaksa\",Transakcijas!$K:$K,\"<>\"&\"Iemaksas atbrīvošana\")\n+SUMIFS(Transakcijas!$R:$R,Transakcijas!$Q:$Q,$B$107,Transakcijas!$O:$O,YEAR($B108),Transakcijas!$P:$P,RIGHT(\"0\"&MONTH($B108),2),Transakcijas!$D:$D,\"Iemaksa\",Transakcijas!$K:$K,\"Izejošā maksājuma anulēšana\")","v":0},{"$f":"SUMIFS(Transakcijas!$R:$R,Transakcijas!$Q:$Q,$B$107,Transakcijas!$O:$O,YEAR($B108),Transakcijas!$P:$P,RIGHT(\"0\"&MONTH($B108),2),Transakcijas!$K:$K,\"FIFO savstarpējā segšana\")\n+SUMIFS(Transakcijas!$R:$R,Transakcijas!$Q:$Q,$B$107,Transakcijas!$O:$O,YEAR($B108),Transakcijas!$P:$P,RIGHT(\"0\"&MONTH($B108),2),Transakcijas!$D:$D,\"Aprēķins\",Transakcijas!$K:$K,\"Iemaksas atbrīvošana\")","v":0},{"$f":"SUMIFS(Transakcijas!$R:$R,Transakcijas!$Q:$Q,$B$107,Transakcijas!$O:$O,YEAR($B108),Transakcijas!$P:$P,RIGHT(\"0\"&MONTH($B108),2))-SUM(D108:K108)","v":0},{"$f":"SUM(C108:L108)","v":0},{"$f":"ROUND(SUMIFS(Transakcijas!$R:$R,Transakcijas!$Q:$Q,$B$107,Transakcijas!$N:$N,\"<=\"&$B108,Transakcijas!$H:$H,\"Pamatsumma\"),2)","v":0},{"$f":"ROUND(SUMIFS(Transakcijas!$R:$R,Transakcijas!$Q:$Q,$B$107,Transakcijas!$N:$N,\"<=\"&$B108,Transakcijas!$H:$H,\"Nokavējuma nauda\"),2)","v":0},{"$f":"ROUND(SUMIFS(Transakcijas!$R:$R,Transakcijas!$Q:$Q,$B$107,Transakcijas!$N:$N,\"<=\"&$B108,Transakcijas!$H:$H,\"Soda nauda\"),2)","v":0}]
[null,{"$f":"IF(IF(B108=\"\",$M$4+1,DATE(YEAR(B108),MONTH(B108)+2,0))<=$M$4,DATE(YEAR(B108),MONTH(B108)+2,0),\"\")","v":"2024-02-29"},{"$f":"IF(B109=\"\",0,M108)","v":0},{"$f":"SUMIFS(Transakcijas!$R:$R,Transakcijas!$Q:$Q,$B$107,Transakcijas!$O:$O,YEAR($B109),Transakcijas!$P:$P,RIGHT(\"0\"&MONTH($B109),2),Transakcijas!$D:$D,\"Aprēķins\",Transakcijas!$H:$H,\"Pamatsumma\",Transakcijas!$K:$K,\"<>\"&\"FIFO*\",Transakcijas!$K:$K,\"<>\"&\"Iemaksas atbrīvošana\")","v":0},null,null,{"$f":"SUMIFS(Transakcijas!$R:$R,Transakcijas!$Q:$Q,$B$107,Transakcijas!$O:$O,YEAR($B109),Transakcijas!$P:$P,RIGHT(\"0\"&MONTH($B109),2),Transakcijas!$D:$D,\"Aprēķins\",Transakcijas!$H:$H,\"Nokavējuma nauda\",Transakcijas!$K:$K,\"<>\"&\"FIFO*\",Transakcijas!$K:$K,\"<>\"&\"Iemaksas atbrīvošana\")","v":0},{"$f":"SUMIFS(Transakcijas!$R:$R,Transakcijas!$Q:$Q,$B$107,Transakcijas!$O:$O,YEAR($B109),Transakcijas!$P:$P,RIGHT(\"0\"&MONTH($B109),2),Transakcijas!$D:$D,\"Aprēķins\",Transakcijas!$H:$H,\"Soda nauda\",Transakcijas!$K:$K,\"<>\"&\"FIFO*\",Transakcijas!$K:$K,\"<>\"&\"Iemaksas atbrīvošana\")","v":0},{"$f":"SUMIFS(Transakcijas!$R:$R,Transakcijas!$Q:$Q,$B$107,Transakcijas!$O:$O,YEAR($B109),Transakcijas!$P:$P,RIGHT(\"0\"&MONTH($B109),2),Transakcijas!$D:$D,\"Iemaksa\",Transakcijas!$K:$K,\"<>\"&\"Izejošā maksājuma anulēšana\")\n+SUMIFS(Transakcijas!$R:$R,Transakcijas!$Q:$Q,$B$107,Transakcijas!$O:$O,YEAR($B109),Transakcijas!$P:$P,RIGHT(\"0\"&MONTH($B109),2),Transakcijas!$D:$D,\"Atmaksa\",Transakcijas!$K:$K,\"Iemaksas atbrīvošana\")","v":0},{"$f":"SUMIFS(Transakcijas!$R:$R,Transakcijas!$Q:$Q,$B$107,Transakcijas!$O:$O,YEAR($B109),Transakcijas!$P:$P,RIGHT(\"0\"&MONTH($B109),2),Transakcijas!$D:$D,\"Atmaksa\",Transakcijas!$K:$K,\"<>\"&\"Iemaksas atbrīvošana\")\n+SUMIFS(Transakcijas!$R:$R,Transakcijas!$Q:$Q,$B$107,Transakcijas!$O:$O,YEAR($B109),Transakcijas!$P:$P,RIGHT(\"0\"&MONTH($B109),2),Transakcijas!$D:$D,\"Iemaksa\",Transakcijas!$K:$K,\"Izejošā maksājuma anulēšana\")","v":0},{"$f":"SUMIFS(Transakcijas!$R:$R,Transakcijas!$Q:$Q,$B$107,Transakcijas!$O:$O,YEAR($B109),Transakcijas!$P:$P,RIGHT(\"0\"&MONTH($B109),2),Transakcijas!$K:$K,\"FIFO savstarpējā segšana\")\n+SUMIFS(Transakcijas!$R:$R,Transakcijas!$Q:$Q,$B$107,Transakcijas!$O:$O,YEAR($B109),Transakcijas!$P:$P,RIGHT(\"0\"&MONTH($B109),2),Transakcijas!$D:$D,\"Aprēķins\",Transakcijas!$K:$K,\"Iemaksas atbrīvošana\")","v":0},{"$f":"SUMIFS(Transakcijas!$R:$R,Transakcijas!$Q:$Q,$B$107,Transakcijas!$O:$O,YEAR($B109),Transakcijas!$P:$P,RIGHT(\"0\"&MONTH($B109),2))-SUM(D109:K109)","v":0},0,{"$f":"ROUND(SUMIFS(Transakcijas!$R:$R,Transakcijas!$Q:$Q,$B$107,Transakcijas!$N:$N,\"<=\"&$B109,Transakcijas!$H:$H,\"Pamatsumma\"),2)","v":0},{"$f":"ROUND(SUMIFS(Transakcijas!$R:$R,Transakcijas!$Q:$Q,$B$107,Transakcijas!$N:$N,\"<=\"&$B109,Transakcijas!$H:$H,\"Nokavējuma nauda\"),2)","v":0},{"$f":"ROUND(SUMIFS(Transakcijas!$R:$R,Transakcijas!$Q:$Q,$B$107,Transakcijas!$N:$N,\"<=\"&$B109,Transakcijas!$H:$H,\"Soda nauda\"),2)","v":0}]
[null,"2024-03-31",0,{"$f":"SUMIFS(Transakcijas!$R:$R,Transakcijas!$Q:$Q,$B$107,Transakcijas!$O:$O,YEAR($B110),Transakcijas!$P:$P,RIGHT(\"0\"&MONTH($B110),2),Transakcijas!$D:$D,\"Aprēķins\",Transakcijas!$H:$H,\"Pamatsumma\",Transakcijas!$K:$K,\"<>\"&\"FIFO*\",Transakcijas!$K:$K,\"<>\"&\"Iemaksas atbrīvošana\")","v":0},null,null,{"$f":"SUMIFS(Transakcijas!$R:$R,Transakcijas!$Q:$Q,$B$107,Transakcijas!$O:$O,YEAR($B110),Transakcijas!$P:$P,RIGHT(\"0\"&MONTH($B110),2),Transakcijas!$D:$D,\"Aprēķins\",Transakcijas!$H:$H,\"Nokavējuma nauda\",Transakcijas!$K:$K,\"<>\"&\"FIFO*\",Transakcijas!$K:$K,\"<>\"&\"Iemaksas atbrīvošana\")","v":0},{"$f":"SUMIFS(Transakcijas!$R:$R,Transakcijas!$Q:$Q,$B$107,Transakcijas!$O:$O,YEAR($B110),Transakcijas!$P:$P,RIGHT(\"0\"&MONTH($B110),2),Transakcijas!$D:$D,\"Aprēķins\",Transakcijas!$H:$H,\"Soda nauda\",Transakcijas!$K:$K,\"<>\"&\"FIFO*\",Transakcijas!$K:$K,\"<>\"&\"Iemaksas atbrīvošana\")","v":0},{"$f":"SUMIFS(Transakcijas!$R:$R,Transakcijas!$Q:$Q,$B$107,Transakcijas!$O:$O,YEAR($B110),Transakcijas!$P:$P,RIGHT(\"0\"&MONTH($B110),2),Transakcijas!$D:$D,\"Iemaksa\",Transakcijas!$K:$K,\"<>\"&\"Izejošā maksājuma anulēšana\")\n+SUMIFS(Transakcijas!$R:$R,Transakcijas!$Q:$Q,$B$107,Transakcijas!$O:$O,YEAR($B110),Transakcijas!$P:$P,RIGHT(\"0\"&MONTH($B110),2),Transakcijas!$D:$D,\"Atmaksa\",Transakcijas!$K:$K,\"Iemaksas atbrīvošana\")","v":0},{"$f":"SUMIFS(Transakcijas!$R:$R,Transakcijas!$Q:$Q,$B$107,Transakcijas!$O:$O,YEAR($B110),Transakcijas!$P:$P,RIGHT(\"0\"&MONTH($B110),2),Transakcijas!$D:$D,\"Atmaksa\",Transakcijas!$K:$K,\"<>\"&\"Iemaksas atbrīvošana\")\n+SUMIFS(Transakcijas!$R:$R,Transakcijas!$Q:$Q,$B$107,Transakcijas!$O:$O,YEAR($B110),Transakcijas!$P:$P,RIGHT(\"0\"&MONTH($B110),2),Transakcijas!$D:$D,\"Iemaksa\",Transakcijas!$K:$K,\"Izejošā maksājuma anulēšana\")","v":0},{"$f":"SUMIFS(Transakcijas!$R:$R,Transakcijas!$Q:$Q,$B$107,Transakcijas!$O:$O,YEAR($B110),Transakcijas!$P:$P,RIGHT(\"0\"&MONTH($B110),2),Transakcijas!$K:$K,\"FIFO savstarpējā segšana\")\n+SUMIFS(Transakcijas!$R:$R,Transakcijas!$Q:$Q,$B$107,Transakcijas!$O:$O,YEAR($B110),Transakcijas!$P:$P,RIGHT(\"0\"&MONTH($B110),2),Transakcijas!$D:$D,\"Aprēķins\",Transakcijas!$K:$K,\"Iemaksas atbrīvošana\")","v":0},{"$f":"SUMIFS(Transakcijas!$R:$R,Transakcijas!$Q:$Q,$B$107,Transakcijas!$O:$O,YEAR($B110),Transakcijas!$P:$P,RIGHT(\"0\"&MONTH($B110),2))-SUM(D110:K110)","v":0},0,{"$f":"ROUND(SUMIFS(Transakcijas!$R:$R,Transakcijas!$Q:$Q,$B$107,Transakcijas!$N:$N,\"<=\"&$B110,Transakcijas!$H:$H,\"Pamatsumma\"),2)","v":0},{"$f":"ROUND(SUMIFS(Transakcijas!$R:$R,Transakcijas!$Q:$Q,$B$107,Transakcijas!$N:$N,\"<=\"&$B110,Transakcijas!$H:$H,\"Nokavējuma nauda\"),2)","v":0},{"$f":"ROUND(SUMIFS(Transakcijas!$R:$R,Transakcijas!$Q:$Q,$B$107,Transakcijas!$N:$N,\"<=\"&$B110,Transakcijas!$H:$H,\"Soda nauda\"),2)","v":0}]
[null,"2024-04-30",0,{"$f":"SUMIFS(Transakcijas!$R:$R,Transakcijas!$Q:$Q,$B$107,Transakcijas!$O:$O,YEAR($B111),Transakcijas!$P:$P,RIGHT(\"0\"&MONTH($B111),2),Transakcijas!$D:$D,\"Aprēķins\",Transakcijas!$H:$H,\"Pamatsumma\",Transakcijas!$K:$K,\"<>\"&\"FIFO*\",Transakcijas!$K:$K,\"<>\"&\"Iemaksas atbrīvošana\")","v":0},null,null,{"$f":"SUMIFS(Transakcijas!$R:$R,Transakcijas!$Q:$Q,$B$107,Transakcijas!$O:$O,YEAR($B111),Transakcijas!$P:$P,RIGHT(\"0\"&MONTH($B111),2),Transakcijas!$D:$D,\"Aprēķins\",Transakcijas!$H:$H,\"Nokavējuma nauda\",Transakcijas!$K:$K,\"<>\"&\"FIFO*\",Transakcijas!$K:$K,\"<>\"&\"Iemaksas atbrīvošana\")","v":0},{"$f":"SUMIFS(Transakcijas!$R:$R,Transakcijas!$Q:$Q,$B$107,Transakcijas!$O:$O,YEAR($B111),Transakcijas!$P:$P,RIGHT(\"0\"&MONTH($B111),2),Transakcijas!$D:$D,\"Aprēķins\",Transakcijas!$H:$H,\"Soda nauda\",Transakcijas!$K:$K,\"<>\"&\"FIFO*\",Transakcijas!$K:$K,\"<>\"&\"Iemaksas atbrīvošana\")","v":0},{"$f":"SUMIFS(Transakcijas!$R:$R,Transakcijas!$Q:$Q,$B$107,Transakcijas!$O:$O,YEAR($B111),Transakcijas!$P:$P,RIGHT(\"0\"&MONTH($B111),2),Transakcijas!$D:$D,\"Iemaksa\",Transakcijas!$K:$K,\"<>\"&\"Izejošā maksājuma anulēšana\")\n+SUMIFS(Transakcijas!$R:$R,Transakcijas!$Q:$Q,$B$107,Transakcijas!$O:$O,YEAR($B111),Transakcijas!$P:$P,RIGHT(\"0\"&MONTH($B111),2),Transakcijas!$D:$D,\"Atmaksa\",Transakcijas!$K:$K,\"Iemaksas atbrīvošana\")","v":0},{"$f":"SUMIFS(Transakcijas!$R:$R,Transakcijas!$Q:$Q,$B$107,Transakcijas!$O:$O,YEAR($B111),Transakcijas!$P:$P,RIGHT(\"0\"&MONTH($B111),2),Transakcijas!$D:$D,\"Atmaksa\",Transakcijas!$K:$K,\"<>\"&\"Iemaksas atbrīvošana\")\n+SUMIFS(Transakcijas!$R:$R,Transakcijas!$Q:$Q,$B$107,Transakcijas!$O:$O,YEAR($B111),Transakcijas!$P:$P,RIGHT(\"0\"&MONTH($B111),2),Transakcijas!$D:$D,\"Iemaksa\",Transakcijas!$K:$K,\"Izejošā maksājuma anulēšana\")","v":0},{"$f":"SUMIFS(Transakcijas!$R:$R,Transakcijas!$Q:$Q,$B$107,Transakcijas!$O:$O,YEAR($B111),Transakcijas!$P:$P,RIGHT(\"0\"&MONTH($B111),2),Transakcijas!$K:$K,\"FIFO savstarpējā segšana\")\n+SUMIFS(Transakcijas!$R:$R,Transakcijas!$Q:$Q,$B$107,Transakcijas!$O:$O,YEAR($B111),Transakcijas!$P:$P,RIGHT(\"0\"&MONTH($B111),2),Transakcijas!$D:$D,\"Aprēķins\",Transakcijas!$K:$K,\"Iemaksas atbrīvošana\")","v":0},{"$f":"SUMIFS(Transakcijas!$R:$R,Transakcijas!$Q:$Q,$B$107,Transakcijas!$O:$O,YEAR($B111),Transakcijas!$P:$P,RIGHT(\"0\"&MONTH($B111),2))-SUM(D111:K111)","v":0},0,{"$f":"ROUND(SUMIFS(Transakcijas!$R:$R,Transakcijas!$Q:$Q,$B$107,Transakcijas!$N:$N,\"<=\"&$B111,Transakcijas!$H:$H,\"Pamatsumma\"),2)","v":0},{"$f":"ROUND(SUMIFS(Transakcijas!$R:$R,Transakcijas!$Q:$Q,$B$107,Transakcijas!$N:$N,\"<=\"&$B111,Transakcijas!$H:$H,\"Nokavējuma nauda\"),2)","v":0},{"$f":"ROUND(SUMIFS(Transakcijas!$R:$R,Transakcijas!$Q:$Q,$B$107,Transakcijas!$N:$N,\"<=\"&$B111,Transakcijas!$H:$H,\"Soda nauda\"),2)","v":0}]
[null,"2024-05-31",0,{"$f":"SUMIFS(Transakcijas!$R:$R,Transakcijas!$Q:$Q,$B$107,Transakcijas!$O:$O,YEAR($B112),Transakcijas!$P:$P,RIGHT(\"0\"&MONTH($B112),2),Transakcijas!$D:$D,\"Aprēķins\",Transakcijas!$H:$H,\"Pamatsumma\",Transakcijas!$K:$K,\"<>\"&\"FIFO*\",Transakcijas!$K:$K,\"<>\"&\"Iemaksas atbrīvošana\")","v":0},null,null,{"$f":"SUMIFS(Transakcijas!$R:$R,Transakcijas!$Q:$Q,$B$107,Transakcijas!$O:$O,YEAR($B112),Transakcijas!$P:$P,RIGHT(\"0\"&MONTH($B112),2),Transakcijas!$D:$D,\"Aprēķins\",Transakcijas!$H:$H,\"Nokavējuma nauda\",Transakcijas!$K:$K,\"<>\"&\"FIFO*\",Transakcijas!$K:$K,\"<>\"&\"Iemaksas atbrīvošana\")","v":0},{"$f":"SUMIFS(Transakcijas!$R:$R,Transakcijas!$Q:$Q,$B$107,Transakcijas!$O:$O,YEAR($B112),Transakcijas!$P:$P,RIGHT(\"0\"&MONTH($B112),2),Transakcijas!$D:$D,\"Aprēķins\",Transakcijas!$H:$H,\"Soda nauda\",Transakcijas!$K:$K,\"<>\"&\"FIFO*\",Transakcijas!$K:$K,\"<>\"&\"Iemaksas atbrīvošana\")","v":0},{"$f":"SUMIFS(Transakcijas!$R:$R,Transakcijas!$Q:$Q,$B$107,Transakcijas!$O:$O,YEAR($B112),Transakcijas!$P:$P,RIGHT(\"0\"&MONTH($B112),2),Transakcijas!$D:$D,\"Iemaksa\",Transakcijas!$K:$K,\"<>\"&\"Izejošā maksājuma anulēšana\")\n+SUMIFS(Transakcijas!$R:$R,Transakcijas!$Q:$Q,$B$107,Transakcijas!$O:$O,YEAR($B112),Transakcijas!$P:$P,RIGHT(\"0\"&MONTH($B112),2),Transakcijas!$D:$D,\"Atmaksa\",Transakcijas!$K:$K,\"Iemaksas atbrīvošana\")","v":0},{"$f":"SUMIFS(Transakcijas!$R:$R,Transakcijas!$Q:$Q,$B$107,Transakcijas!$O:$O,YEAR($B112),Transakcijas!$P:$P,RIGHT(\"0\"&MONTH($B112),2),Transakcijas!$D:$D,\"Atmaksa\",Transakcijas!$K:$K,\"<>\"&\"Iemaksas atbrīvošana\")\n+SUMIFS(Transakcijas!$R:$R,Transakcijas!$Q:$Q,$B$107,Transakcijas!$O:$O,YEAR($B112),Transakcijas!$P:$P,RIGHT(\"0\"&MONTH($B112),2),Transakcijas!$D:$D,\"Iemaksa\",Transakcijas!$K:$K,\"Izejošā maksājuma anulēšana\")","v":0},{"$f":"SUMIFS(Transakcijas!$R:$R,Transakcijas!$Q:$Q,$B$107,Transakcijas!$O:$O,YEAR($B112),Transakcijas!$P:$P,RIGHT(\"0\"&MONTH($B112),2),Transakcijas!$K:$K,\"FIFO savstarpējā segšana\")\n+SUMIFS(Transakcijas!$R:$R,Transakcijas!$Q:$Q,$B$107,Transakcijas!$O:$O,YEAR($B112),Transakcijas!$P:$P,RIGHT(\"0\"&MONTH($B112),2),Transakcijas!$D:$D,\"Aprēķins\",Transakcijas!$K:$K,\"Iemaksas atbrīvošana\")","v":0},{"$f":"SUMIFS(Transakcijas!$R:$R,Transakcijas!$Q:$Q,$B$107,Transakcijas!$O:$O,YEAR($B112),Transakcijas!$P:$P,RIGHT(\"0\"&MONTH($B112),2))-SUM(D112:K112)","v":0},0,{"$f":"ROUND(SUMIFS(Transakcijas!$R:$R,Transakcijas!$Q:$Q,$B$107,Transakcijas!$N:$N,\"<=\"&$B112,Transakcijas!$H:$H,\"Pamatsumma\"),2)","v":0},{"$f":"ROUND(SUMIFS(Transakcijas!$R:$R,Transakcijas!$Q:$Q,$B$107,Transakcijas!$N:$N,\"<=\"&$B112,Transakcijas!$H:$H,\"Nokavējuma nauda\"),2)","v":0},{"$f":"ROUND(SUMIFS(Transakcijas!$R:$R,Transakcijas!$Q:$Q,$B$107,Transakcijas!$N:$N,\"<=\"&$B112,Transakcijas!$H:$H,\"Soda nauda\"),2)","v":0}]
[null,"2024-06-30",0,{"$f":"SUMIFS(Transakcijas!$R:$R,Transakcijas!$Q:$Q,$B$107,Transakcijas!$O:$O,YEAR($B113),Transakcijas!$P:$P,RIGHT(\"0\"&MONTH($B113),2),Transakcijas!$D:$D,\"Aprēķins\",Transakcijas!$H:$H,\"Pamatsumma\",Transakcijas!$K:$K,\"<>\"&\"FIFO*\",Transakcijas!$K:$K,\"<>\"&\"Iemaksas atbrīvošana\")","v":0},null,null,{"$f":"SUMIFS(Transakcijas!$R:$R,Transakcijas!$Q:$Q,$B$107,Transakcijas!$O:$O,YEAR($B113),Transakcijas!$P:$P,RIGHT(\"0\"&MONTH($B113),2),Transakcijas!$D:$D,\"Aprēķins\",Transakcijas!$H:$H,\"Nokavējuma nauda\",Transakcijas!$K:$K,\"<>\"&\"FIFO*\",Transakcijas!$K:$K,\"<>\"&\"Iemaksas atbrīvošana\")","v":0},{"$f":"SUMIFS(Transakcijas!$R:$R,Transakcijas!$Q:$Q,$B$107,Transakcijas!$O:$O,YEAR($B113),Transakcijas!$P:$P,RIGHT(\"0\"&MONTH($B113),2),Transakcijas!$D:$D,\"Aprēķins\",Transakcijas!$H:$H,\"Soda nauda\",Transakcijas!$K:$K,\"<>\"&\"FIFO*\",Transakcijas!$K:$K,\"<>\"&\"Iemaksas atbrīvošana\")","v":0},{"$f":"SUMIFS(Transakcijas!$R:$R,Transakcijas!$Q:$Q,$B$107,Transakcijas!$O:$O,YEAR($B113),Transakcijas!$P:$P,RIGHT(\"0\"&MONTH($B113),2),Transakcijas!$D:$D,\"Iemaksa\",Transakcijas!$K:$K,\"<>\"&\"Izejošā maksājuma anulēšana\")\n+SUMIFS(Transakcijas!$R:$R,Transakcijas!$Q:$Q,$B$107,Transakcijas!$O:$O,YEAR($B113),Transakcijas!$P:$P,RIGHT(\"0\"&MONTH($B113),2),Transakcijas!$D:$D,\"Atmaksa\",Transakcijas!$K:$K,\"Iemaksas atbrīvošana\")","v":0},{"$f":"SUMIFS(Transakcijas!$R:$R,Transakcijas!$Q:$Q,$B$107,Transakcijas!$O:$O,YEAR($B113),Transakcijas!$P:$P,RIGHT(\"0\"&MONTH($B113),2),Transakcijas!$D:$D,\"Atmaksa\",Transakcijas!$K:$K,\"<>\"&\"Iemaksas atbrīvošana\")\n+SUMIFS(Transakcijas!$R:$R,Transakcijas!$Q:$Q,$B$107,Transakcijas!$O:$O,YEAR($B113),Transakcijas!$P:$P,RIGHT(\"0\"&MONTH($B113),2),Transakcijas!$D:$D,\"Iemaksa\",Transakcijas!$K:$K,\"Izejošā maksājuma anulēšana\")","v":0},{"$f":"SUMIFS(Transakcijas!$R:$R,Transakcijas!$Q:$Q,$B$107,Transakcijas!$O:$O,YEAR($B113),Transakcijas!$P:$P,RIGHT(\"0\"&MONTH($B113),2),Transakcijas!$K:$K,\"FIFO savstarpējā segšana\")\n+SUMIFS(Transakcijas!$R:$R,Transakcijas!$Q:$Q,$B$107,Transakcijas!$O:$O,YEAR($B113),Transakcijas!$P:$P,RIGHT(\"0\"&MONTH($B113),2),Transakcijas!$D:$D,\"Aprēķins\",Transakcijas!$K:$K,\"Iemaksas atbrīvošana\")","v":0},{"$f":"SUMIFS(Transakcijas!$R:$R,Transakcijas!$Q:$Q,$B$107,Transakcijas!$O:$O,YEAR($B113),Transakcijas!$P:$P,RIGHT(\"0\"&MONTH($B113),2))-SUM(D113:K113)","v":0},0,{"$f":"ROUND(SUMIFS(Transakcijas!$R:$R,Transakcijas!$Q:$Q,$B$107,Transakcijas!$N:$N,\"<=\"&$B113,Transakcijas!$H:$H,\"Pamatsumma\"),2)","v":0},{"$f":"ROUND(SUMIFS(Transakcijas!$R:$R,Transakcijas!$Q:$Q,$B$107,Transakcijas!$N:$N,\"<=\"&$B113,Transakcijas!$H:$H,\"Nokavējuma nauda\"),2)","v":0},{"$f":"ROUND(SUMIFS(Transakcijas!$R:$R,Transakcijas!$Q:$Q,$B$107,Transakcijas!$N:$N,\"<=\"&$B113,Transakcijas!$H:$H,\"Soda nauda\"),2)","v":0}]
[null,"2024-07-31",0,{"$f":"SUMIFS(Transakcijas!$R:$R,Transakcijas!$Q:$Q,$B$107,Transakcijas!$O:$O,YEAR($B114),Transakcijas!$P:$P,RIGHT(\"0\"&MONTH($B114),2),Transakcijas!$D:$D,\"Aprēķins\",Transakcijas!$H:$H,\"Pamatsumma\",Transakcijas!$K:$K,\"<>\"&\"FIFO*\",Transakcijas!$K:$K,\"<>\"&\"Iemaksas atbrīvošana\")","v":0},null,null,{"$f":"SUMIFS(Transakcijas!$R:$R,Transakcijas!$Q:$Q,$B$107,Transakcijas!$O:$O,YEAR($B114),Transakcijas!$P:$P,RIGHT(\"0\"&MONTH($B114),2),Transakcijas!$D:$D,\"Aprēķins\",Transakcijas!$H:$H,\"Nokavējuma nauda\",Transakcijas!$K:$K,\"<>\"&\"FIFO*\",Transakcijas!$K:$K,\"<>\"&\"Iemaksas atbrīvošana\")","v":0},{"$f":"SUMIFS(Transakcijas!$R:$R,Transakcijas!$Q:$Q,$B$107,Transakcijas!$O:$O,YEAR($B114),Transakcijas!$P:$P,RIGHT(\"0\"&MONTH($B114),2),Transakcijas!$D:$D,\"Aprēķins\",Transakcijas!$H:$H,\"Soda nauda\",Transakcijas!$K:$K,\"<>\"&\"FIFO*\",Transakcijas!$K:$K,\"<>\"&\"Iemaksas atbrīvošana\")","v":0},{"$f":"SUMIFS(Transakcijas!$R:$R,Transakcijas!$Q:$Q,$B$107,Transakcijas!$O:$O,YEAR($B114),Transakcijas!$P:$P,RIGHT(\"0\"&MONTH($B114),2),Transakcijas!$D:$D,\"Iemaksa\",Transakcijas!$K:$K,\"<>\"&\"Izejošā maksājuma anulēšana\")\n+SUMIFS(Transakcijas!$R:$R,Transakcijas!$Q:$Q,$B$107,Transakcijas!$O:$O,YEAR($B114),Transakcijas!$P:$P,RIGHT(\"0\"&MONTH($B114),2),Transakcijas!$D:$D,\"Atmaksa\",Transakcijas!$K:$K,\"Iemaksas atbrīvošana\")","v":0},{"$f":"SUMIFS(Transakcijas!$R:$R,Transakcijas!$Q:$Q,$B$107,Transakcijas!$O:$O,YEAR($B114),Transakcijas!$P:$P,RIGHT(\"0\"&MONTH($B114),2),Transakcijas!$D:$D,\"Atmaksa\",Transakcijas!$K:$K,\"<>\"&\"Iemaksas atbrīvošana\")\n+SUMIFS(Transakcijas!$R:$R,Transakcijas!$Q:$Q,$B$107,Transakcijas!$O:$O,YEAR($B114),Transakcijas!$P:$P,RIGHT(\"0\"&MONTH($B114),2),Transakcijas!$D:$D,\"Iemaksa\",Transakcijas!$K:$K,\"Izejošā maksājuma anulēšana\")","v":0},{"$f":"SUMIFS(Transakcijas!$R:$R,Transakcijas!$Q:$Q,$B$107,Transakcijas!$O:$O,YEAR($B114),Transakcijas!$P:$P,RIGHT(\"0\"&MONTH($B114),2),Transakcijas!$K:$K,\"FIFO savstarpējā segšana\")\n+SUMIFS(Transakcijas!$R:$R,Transakcijas!$Q:$Q,$B$107,Transakcijas!$O:$O,YEAR($B114),Transakcijas!$P:$P,RIGHT(\"0\"&MONTH($B114),2),Transakcijas!$D:$D,\"Aprēķins\",Transakcijas!$K:$K,\"Iemaksas atbrīvošana\")","v":0},{"$f":"SUMIFS(Transakcijas!$R:$R,Transakcijas!$Q:$Q,$B$107,Transakcijas!$O:$O,YEAR($B114),Transakcijas!$P:$P,RIGHT(\"0\"&MONTH($B114),2))-SUM(D114:K114)","v":0},0,{"$f":"ROUND(SUMIFS(Transakcijas!$R:$R,Transakcijas!$Q:$Q,$B$107,Transakcijas!$N:$N,\"<=\"&$B114,Transakcijas!$H:$H,\"Pamatsumma\"),2)","v":0},{"$f":"ROUND(SUMIFS(Transakcijas!$R:$R,Transakcijas!$Q:$Q,$B$107,Transakcijas!$N:$N,\"<=\"&$B114,Transakcijas!$H:$H,\"Nokavējuma nauda\"),2)","v":0},{"$f":"ROUND(SUMIFS(Transakcijas!$R:$R,Transakcijas!$Q:$Q,$B$107,Transakcijas!$N:$N,\"<=\"&$B114,Transakcijas!$H:$H,\"Soda nauda\"),2)","v":0}]
[null,"2024-08-31",0,{"$f":"SUMIFS(Transakcijas!$R:$R,Transakcijas!$Q:$Q,$B$107,Transakcijas!$O:$O,YEAR($B115),Transakcijas!$P:$P,RIGHT(\"0\"&MONTH($B115),2),Transakcijas!$D:$D,\"Aprēķins\",Transakcijas!$H:$H,\"Pamatsumma\",Transakcijas!$K:$K,\"<>\"&\"FIFO*\",Transakcijas!$K:$K,\"<>\"&\"Iemaksas atbrīvošana\")","v":0},null,null,{"$f":"SUMIFS(Transakcijas!$R:$R,Transakcijas!$Q:$Q,$B$107,Transakcijas!$O:$O,YEAR($B115),Transakcijas!$P:$P,RIGHT(\"0\"&MONTH($B115),2),Transakcijas!$D:$D,\"Aprēķins\",Transakcijas!$H:$H,\"Nokavējuma nauda\",Transakcijas!$K:$K,\"<>\"&\"FIFO*\",Transakcijas!$K:$K,\"<>\"&\"Iemaksas atbrīvošana\")","v":0},{"$f":"SUMIFS(Transakcijas!$R:$R,Transakcijas!$Q:$Q,$B$107,Transakcijas!$O:$O,YEAR($B115),Transakcijas!$P:$P,RIGHT(\"0\"&MONTH($B115),2),Transakcijas!$D:$D,\"Aprēķins\",Transakcijas!$H:$H,\"Soda nauda\",Transakcijas!$K:$K,\"<>\"&\"FIFO*\",Transakcijas!$K:$K,\"<>\"&\"Iemaksas atbrīvošana\")","v":0},{"$f":"SUMIFS(Transakcijas!$R:$R,Transakcijas!$Q:$Q,$B$107,Transakcijas!$O:$O,YEAR($B115),Transakcijas!$P:$P,RIGHT(\"0\"&MONTH($B115),2),Transakcijas!$D:$D,\"Iemaksa\",Transakcijas!$K:$K,\"<>\"&\"Izejošā maksājuma anulēšana\")\n+SUMIFS(Transakcijas!$R:$R,Transakcijas!$Q:$Q,$B$107,Transakcijas!$O:$O,YEAR($B115),Transakcijas!$P:$P,RIGHT(\"0\"&MONTH($B115),2),Transakcijas!$D:$D,\"Atmaksa\",Transakcijas!$K:$K,\"Iemaksas atbrīvošana\")","v":0},{"$f":"SUMIFS(Transakcijas!$R:$R,Transakcijas!$Q:$Q,$B$107,Transakcijas!$O:$O,YEAR($B115),Transakcijas!$P:$P,RIGHT(\"0\"&MONTH($B115),2),Transakcijas!$D:$D,\"Atmaksa\",Transakcijas!$K:$K,\"<>\"&\"Iemaksas atbrīvošana\")\n+SUMIFS(Transakcijas!$R:$R,Transakcijas!$Q:$Q,$B$107,Transakcijas!$O:$O,YEAR($B115),Transakcijas!$P:$P,RIGHT(\"0\"&MONTH($B115),2),Transakcijas!$D:$D,\"Iemaksa\",Transakcijas!$K:$K,\"Izejošā maksājuma anulēšana\")","v":0},{"$f":"SUMIFS(Transakcijas!$R:$R,Transakcijas!$Q:$Q,$B$107,Transakcijas!$O:$O,YEAR($B115),Transakcijas!$P:$P,RIGHT(\"0\"&MONTH($B115),2),Transakcijas!$K:$K,\"FIFO savstarpējā segšana\")\n+SUMIFS(Transakcijas!$R:$R,Transakcijas!$Q:$Q,$B$107,Transakcijas!$O:$O,YEAR($B115),Transakcijas!$P:$P,RIGHT(\"0\"&MONTH($B115),2),Transakcijas!$D:$D,\"Aprēķins\",Transakcijas!$K:$K,\"Iemaksas atbrīvošana\")","v":0},{"$f":"SUMIFS(Transakcijas!$R:$R,Transakcijas!$Q:$Q,$B$107,Transakcijas!$O:$O,YEAR($B115),Transakcijas!$P:$P,RIGHT(\"0\"&MONTH($B115),2))-SUM(D115:K115)","v":0},0,{"$f":"ROUND(SUMIFS(Transakcijas!$R:$R,Transakcijas!$Q:$Q,$B$107,Transakcijas!$N:$N,\"<=\"&$B115,Transakcijas!$H:$H,\"Pamatsumma\"),2)","v":0},{"$f":"ROUND(SUMIFS(Transakcijas!$R:$R,Transakcijas!$Q:$Q,$B$107,Transakcijas!$N:$N,\"<=\"&$B115,Transakcijas!$H:$H,\"Nokavējuma nauda\"),2)","v":0},{"$f":"ROUND(SUMIFS(Transakcijas!$R:$R,Transakcijas!$Q:$Q,$B$107,Transakcijas!$N:$N,\"<=\"&$B115,Transakcijas!$H:$H,\"Soda nauda\"),2)","v":0}]
[null,"2024-09-30",0,{"$f":"SUMIFS(Transakcijas!$R:$R,Transakcijas!$Q:$Q,$B$107,Transakcijas!$O:$O,YEAR($B116),Transakcijas!$P:$P,RIGHT(\"0\"&MONTH($B116),2),Transakcijas!$D:$D,\"Aprēķins\",Transakcijas!$H:$H,\"Pamatsumma\",Transakcijas!$K:$K,\"<>\"&\"FIFO*\",Transakcijas!$K:$K,\"<>\"&\"Iemaksas atbrīvošana\")","v":0},null,null,{"$f":"SUMIFS(Transakcijas!$R:$R,Transakcijas!$Q:$Q,$B$107,Transakcijas!$O:$O,YEAR($B116),Transakcijas!$P:$P,RIGHT(\"0\"&MONTH($B116),2),Transakcijas!$D:$D,\"Aprēķins\",Transakcijas!$H:$H,\"Nokavējuma nauda\",Transakcijas!$K:$K,\"<>\"&\"FIFO*\",Transakcijas!$K:$K,\"<>\"&\"Iemaksas atbrīvošana\")","v":0},{"$f":"SUMIFS(Transakcijas!$R:$R,Transakcijas!$Q:$Q,$B$107,Transakcijas!$O:$O,YEAR($B116),Transakcijas!$P:$P,RIGHT(\"0\"&MONTH($B116),2),Transakcijas!$D:$D,\"Aprēķins\",Transakcijas!$H:$H,\"Soda nauda\",Transakcijas!$K:$K,\"<>\"&\"FIFO*\",Transakcijas!$K:$K,\"<>\"&\"Iemaksas atbrīvošana\")","v":0},{"$f":"SUMIFS(Transakcijas!$R:$R,Transakcijas!$Q:$Q,$B$107,Transakcijas!$O:$O,YEAR($B116),Transakcijas!$P:$P,RIGHT(\"0\"&MONTH($B116),2),Transakcijas!$D:$D,\"Iemaksa\",Transakcijas!$K:$K,\"<>\"&\"Izejošā maksājuma anulēšana\")\n+SUMIFS(Transakcijas!$R:$R,Transakcijas!$Q:$Q,$B$107,Transakcijas!$O:$O,YEAR($B116),Transakcijas!$P:$P,RIGHT(\"0\"&MONTH($B116),2),Transakcijas!$D:$D,\"Atmaksa\",Transakcijas!$K:$K,\"Iemaksas atbrīvošana\")","v":0},{"$f":"SUMIFS(Transakcijas!$R:$R,Transakcijas!$Q:$Q,$B$107,Transakcijas!$O:$O,YEAR($B116),Transakcijas!$P:$P,RIGHT(\"0\"&MONTH($B116),2),Transakcijas!$D:$D,\"Atmaksa\",Transakcijas!$K:$K,\"<>\"&\"Iemaksas atbrīvošana\")\n+SUMIFS(Transakcijas!$R:$R,Transakcijas!$Q:$Q,$B$107,Transakcijas!$O:$O,YEAR($B116),Transakcijas!$P:$P,RIGHT(\"0\"&MONTH($B116),2),Transakcijas!$D:$D,\"Iemaksa\",Transakcijas!$K:$K,\"Izejošā maksājuma anulēšana\")","v":0},{"$f":"SUMIFS(Transakcijas!$R:$R,Transakcijas!$Q:$Q,$B$107,Transakcijas!$O:$O,YEAR($B116),Transakcijas!$P:$P,RIGHT(\"0\"&MONTH($B116),2),Transakcijas!$K:$K,\"FIFO savstarpējā segšana\")\n+SUMIFS(Transakcijas!$R:$R,Transakcijas!$Q:$Q,$B$107,Transakcijas!$O:$O,YEAR($B116),Transakcijas!$P:$P,RIGHT(\"0\"&MONTH($B116),2),Transakcijas!$D:$D,\"Aprēķins\",Transakcijas!$K:$K,\"Iemaksas atbrīvošana\")","v":0},{"$f":"SUMIFS(Transakcijas!$R:$R,Transakcijas!$Q:$Q,$B$107,Transakcijas!$O:$O,YEAR($B116),Transakcijas!$P:$P,RIGHT(\"0\"&MONTH($B116),2))-SUM(D116:K116)","v":0},0,{"$f":"ROUND(SUMIFS(Transakcijas!$R:$R,Transakcijas!$Q:$Q,$B$107,Transakcijas!$N:$N,\"<=\"&$B116,Transakcijas!$H:$H,\"Pamatsumma\"),2)","v":0},{"$f":"ROUND(SUMIFS(Transakcijas!$R:$R,Transakcijas!$Q:$Q,$B$107,Transakcijas!$N:$N,\"<=\"&$B116,Transakcijas!$H:$H,\"Nokavējuma nauda\"),2)","v":0},{"$f":"ROUND(SUMIFS(Transakcijas!$R:$R,Transakcijas!$Q:$Q,$B$107,Transakcijas!$N:$N,\"<=\"&$B116,Transakcijas!$H:$H,\"Soda nauda\"),2)","v":0}]
[null,"2024-10-31",0,{"$f":"SUMIFS(Transakcijas!$R:$R,Transakcijas!$Q:$Q,$B$107,Transakcijas!$O:$O,YEAR($B117),Transakcijas!$P:$P,RIGHT(\"0\"&MONTH($B117),2),Transakcijas!$D:$D,\"Aprēķins\",Transakcijas!$H:$H,\"Pamatsumma\",Transakcijas!$K:$K,\"<>\"&\"FIFO*\",Transakcijas!$K:$K,\"<>\"&\"Iemaksas atbrīvošana\")","v":0},null,null,{"$f":"SUMIFS(Transakcijas!$R:$R,Transakcijas!$Q:$Q,$B$107,Transakcijas!$O:$O,YEAR($B117),Transakcijas!$P:$P,RIGHT(\"0\"&MONTH($B117),2),Transakcijas!$D:$D,\"Aprēķins\",Transakcijas!$H:$H,\"Nokavējuma nauda\",Transakcijas!$K:$K,\"<>\"&\"FIFO*\",Transakcijas!$K:$K,\"<>\"&\"Iemaksas atbrīvošana\")","v":0},{"$f":"SUMIFS(Transakcijas!$R:$R,Transakcijas!$Q:$Q,$B$107,Transakcijas!$O:$O,YEAR($B117),Transakcijas!$P:$P,RIGHT(\"0\"&MONTH($B117),2),Transakcijas!$D:$D,\"Aprēķins\",Transakcijas!$H:$H,\"Soda nauda\",Transakcijas!$K:$K,\"<>\"&\"FIFO*\",Transakcijas!$K:$K,\"<>\"&\"Iemaksas atbrīvošana\")","v":0},{"$f":"SUMIFS(Transakcijas!$R:$R,Transakcijas!$Q:$Q,$B$107,Transakcijas!$O:$O,YEAR($B117),Transakcijas!$P:$P,RIGHT(\"0\"&MONTH($B117),2),Transakcijas!$D:$D,\"Iemaksa\",Transakcijas!$K:$K,\"<>\"&\"Izejošā maksājuma anulēšana\")\n+SUMIFS(Transakcijas!$R:$R,Transakcijas!$Q:$Q,$B$107,Transakcijas!$O:$O,YEAR($B117),Transakcijas!$P:$P,RIGHT(\"0\"&MONTH($B117),2),Transakcijas!$D:$D,\"Atmaksa\",Transakcijas!$K:$K,\"Iemaksas atbrīvošana\")","v":0},{"$f":"SUMIFS(Transakcijas!$R:$R,Transakcijas!$Q:$Q,$B$107,Transakcijas!$O:$O,YEAR($B117),Transakcijas!$P:$P,RIGHT(\"0\"&MONTH($B117),2),Transakcijas!$D:$D,\"Atmaksa\",Transakcijas!$K:$K,\"<>\"&\"Iemaksas atbrīvošana\")\n+SUMIFS(Transakcijas!$R:$R,Transakcijas!$Q:$Q,$B$107,Transakcijas!$O:$O,YEAR($B117),Transakcijas!$P:$P,RIGHT(\"0\"&MONTH($B117),2),Transakcijas!$D:$D,\"Iemaksa\",Transakcijas!$K:$K,\"Izejošā maksājuma anulēšana\")","v":0},{"$f":"SUMIFS(Transakcijas!$R:$R,Transakcijas!$Q:$Q,$B$107,Transakcijas!$O:$O,YEAR($B117),Transakcijas!$P:$P,RIGHT(\"0\"&MONTH($B117),2),Transakcijas!$K:$K,\"FIFO savstarpējā segšana\")\n+SUMIFS(Transakcijas!$R:$R,Transakcijas!$Q:$Q,$B$107,Transakcijas!$O:$O,YEAR($B117),Transakcijas!$P:$P,RIGHT(\"0\"&MONTH($B117),2),Transakcijas!$D:$D,\"Aprēķins\",Transakcijas!$K:$K,\"Iemaksas atbrīvošana\")","v":0},{"$f":"SUMIFS(Transakcijas!$R:$R,Transakcijas!$Q:$Q,$B$107,Transakcijas!$O:$O,YEAR($B117),Transakcijas!$P:$P,RIGHT(\"0\"&MONTH($B117),2))-SUM(D117:K117)","v":0},0,{"$f":"ROUND(SUMIFS(Transakcijas!$R:$R,Transakcijas!$Q:$Q,$B$107,Transakcijas!$N:$N,\"<=\"&$B117,Transakcijas!$H:$H,\"Pamatsumma\"),2)","v":0},{"$f":"ROUND(SUMIFS(Transakcijas!$R:$R,Transakcijas!$Q:$Q,$B$107,Transakcijas!$N:$N,\"<=\"&$B117,Transakcijas!$H:$H,\"Nokavējuma nauda\"),2)","v":0},{"$f":"ROUND(SUMIFS(Transakcijas!$R:$R,Transakcijas!$Q:$Q,$B$107,Transakcijas!$N:$N,\"<=\"&$B117,Transakcijas!$H:$H,\"Soda nauda\"),2)","v":0}]
[null,"2024-11-30",0,{"$f":"SUMIFS(Transakcijas!$R:$R,Transakcijas!$Q:$Q,$B$107,Transakcijas!$O:$O,YEAR($B118),Transakcijas!$P:$P,RIGHT(\"0\"&MONTH($B118),2),Transakcijas!$D:$D,\"Aprēķins\",Transakcijas!$H:$H,\"Pamatsumma\",Transakcijas!$K:$K,\"<>\"&\"FIFO*\",Transakcijas!$K:$K,\"<>\"&\"Iemaksas atbrīvošana\")","v":0},null,null,{"$f":"SUMIFS(Transakcijas!$R:$R,Transakcijas!$Q:$Q,$B$107,Transakcijas!$O:$O,YEAR($B118),Transakcijas!$P:$P,RIGHT(\"0\"&MONTH($B118),2),Transakcijas!$D:$D,\"Aprēķins\",Transakcijas!$H:$H,\"Nokavējuma nauda\",Transakcijas!$K:$K,\"<>\"&\"FIFO*\",Transakcijas!$K:$K,\"<>\"&\"Iemaksas atbrīvošana\")","v":0},{"$f":"SUMIFS(Transakcijas!$R:$R,Transakcijas!$Q:$Q,$B$107,Transakcijas!$O:$O,YEAR($B118),Transakcijas!$P:$P,RIGHT(\"0\"&MONTH($B118),2),Transakcijas!$D:$D,\"Aprēķins\",Transakcijas!$H:$H,\"Soda nauda\",Transakcijas!$K:$K,\"<>\"&\"FIFO*\",Transakcijas!$K:$K,\"<>\"&\"Iemaksas atbrīvošana\")","v":0},{"$f":"SUMIFS(Transakcijas!$R:$R,Transakcijas!$Q:$Q,$B$107,Transakcijas!$O:$O,YEAR($B118),Transakcijas!$P:$P,RIGHT(\"0\"&MONTH($B118),2),Transakcijas!$D:$D,\"Iemaksa\",Transakcijas!$K:$K,\"<>\"&\"Izejošā maksājuma anulēšana\")\n+SUMIFS(Transakcijas!$R:$R,Transakcijas!$Q:$Q,$B$107,Transakcijas!$O:$O,YEAR($B118),Transakcijas!$P:$P,RIGHT(\"0\"&MONTH($B118),2),Transakcijas!$D:$D,\"Atmaksa\",Transakcijas!$K:$K,\"Iemaksas atbrīvošana\")","v":0},{"$f":"SUMIFS(Transakcijas!$R:$R,Transakcijas!$Q:$Q,$B$107,Transakcijas!$O:$O,YEAR($B118),Transakcijas!$P:$P,RIGHT(\"0\"&MONTH($B118),2),Transakcijas!$D:$D,\"Atmaksa\",Transakcijas!$K:$K,\"<>\"&\"Iemaksas atbrīvošana\")\n+SUMIFS(Transakcijas!$R:$R,Transakcijas!$Q:$Q,$B$107,Transakcijas!$O:$O,YEAR($B118),Transakcijas!$P:$P,RIGHT(\"0\"&MONTH($B118),2),Transakcijas!$D:$D,\"Iemaksa\",Transakcijas!$K:$K,\"Izejošā maksājuma anulēšana\")","v":0},{"$f":"SUMIFS(Transakcijas!$R:$R,Transakcijas!$Q:$Q,$B$107,Transakcijas!$O:$O,YEAR($B118),Transakcijas!$P:$P,RIGHT(\"0\"&MONTH($B118),2),Transakcijas!$K:$K,\"FIFO savstarpējā segšana\")\n+SUMIFS(Transakcijas!$R:$R,Transakcijas!$Q:$Q,$B$107,Transakcijas!$O:$O,YEAR($B118),Transakcijas!$P:$P,RIGHT(\"0\"&MONTH($B118),2),Transakcijas!$D:$D,\"Aprēķins\",Transakcijas!$K:$K,\"Iemaksas atbrīvošana\")","v":0},{"$f":"SUMIFS(Transakcijas!$R:$R,Transakcijas!$Q:$Q,$B$107,Transakcijas!$O:$O,YEAR($B118),Transakcijas!$P:$P,RIGHT(\"0\"&MONTH($B118),2))-SUM(D118:K118)","v":0},0,{"$f":"ROUND(SUMIFS(Transakcijas!$R:$R,Transakcijas!$Q:$Q,$B$107,Transakcijas!$N:$N,\"<=\"&$B118,Transakcijas!$H:$H,\"Pamatsumma\"),2)","v":0},{"$f":"ROUND(SUMIFS(Transakcijas!$R:$R,Transakcijas!$Q:$Q,$B$107,Transakcijas!$N:$N,\"<=\"&$B118,Transakcijas!$H:$H,\"Nokavējuma nauda\"),2)","v":0},{"$f":"ROUND(SUMIFS(Transakcijas!$R:$R,Transakcijas!$Q:$Q,$B$107,Transakcijas!$N:$N,\"<=\"&$B118,Transakcijas!$H:$H,\"Soda nauda\"),2)","v":0}]
[null,"2024-12-31",0,{"$f":"SUMIFS(Transakcijas!$R:$R,Transakcijas!$Q:$Q,$B$107,Transakcijas!$O:$O,YEAR($B119),Transakcijas!$P:$P,RIGHT(\"0\"&MONTH($B119),2),Transakcijas!$D:$D,\"Aprēķins\",Transakcijas!$H:$H,\"Pamatsumma\",Transakcijas!$K:$K,\"<>\"&\"FIFO*\",Transakcijas!$K:$K,\"<>\"&\"Iemaksas atbrīvošana\")","v":0},null,null,{"$f":"SUMIFS(Transakcijas!$R:$R,Transakcijas!$Q:$Q,$B$107,Transakcijas!$O:$O,YEAR($B119),Transakcijas!$P:$P,RIGHT(\"0\"&MONTH($B119),2),Transakcijas!$D:$D,\"Aprēķins\",Transakcijas!$H:$H,\"Nokavējuma nauda\",Transakcijas!$K:$K,\"<>\"&\"FIFO*\",Transakcijas!$K:$K,\"<>\"&\"Iemaksas atbrīvošana\")","v":0},{"$f":"SUMIFS(Transakcijas!$R:$R,Transakcijas!$Q:$Q,$B$107,Transakcijas!$O:$O,YEAR($B119),Transakcijas!$P:$P,RIGHT(\"0\"&MONTH($B119),2),Transakcijas!$D:$D,\"Aprēķins\",Transakcijas!$H:$H,\"Soda nauda\",Transakcijas!$K:$K,\"<>\"&\"FIFO*\",Transakcijas!$K:$K,\"<>\"&\"Iemaksas atbrīvošana\")","v":0},{"$f":"SUMIFS(Transakcijas!$R:$R,Transakcijas!$Q:$Q,$B$107,Transakcijas!$O:$O,YEAR($B119),Transakcijas!$P:$P,RIGHT(\"0\"&MONTH($B119),2),Transakcijas!$D:$D,\"Iemaksa\",Transakcijas!$K:$K,\"<>\"&\"Izejošā maksājuma anulēšana\")\n+SUMIFS(Transakcijas!$R:$R,Transakcijas!$Q:$Q,$B$107,Transakcijas!$O:$O,YEAR($B119),Transakcijas!$P:$P,RIGHT(\"0\"&MONTH($B119),2),Transakcijas!$D:$D,\"Atmaksa\",Transakcijas!$K:$K,\"Iemaksas atbrīvošana\")","v":0},{"$f":"SUMIFS(Transakcijas!$R:$R,Transakcijas!$Q:$Q,$B$107,Transakcijas!$O:$O,YEAR($B119),Transakcijas!$P:$P,RIGHT(\"0\"&MONTH($B119),2),Transakcijas!$D:$D,\"Atmaksa\",Transakcijas!$K:$K,\"<>\"&\"Iemaksas atbrīvošana\")\n+SUMIFS(Transakcijas!$R:$R,Transakcijas!$Q:$Q,$B$107,Transakcijas!$O:$O,YEAR($B119),Transakcijas!$P:$P,RIGHT(\"0\"&MONTH($B119),2),Transakcijas!$D:$D,\"Iemaksa\",Transakcijas!$K:$K,\"Izejošā maksājuma anulēšana\")","v":0},{"$f":"SUMIFS(Transakcijas!$R:$R,Transakcijas!$Q:$Q,$B$107,Transakcijas!$O:$O,YEAR($B119),Transakcijas!$P:$P,RIGHT(\"0\"&MONTH($B119),2),Transakcijas!$K:$K,\"FIFO savstarpējā segšana\")\n+SUMIFS(Transakcijas!$R:$R,Transakcijas!$Q:$Q,$B$107,Transakcijas!$O:$O,YEAR($B119),Transakcijas!$P:$P,RIGHT(\"0\"&MONTH($B119),2),Transakcijas!$D:$D,\"Aprēķins\",Transakcijas!$K:$K,\"Iemaksas atbrīvošana\")","v":0},{"$f":"SUMIFS(Transakcijas!$R:$R,Transakcijas!$Q:$Q,$B$107,Transakcijas!$O:$O,YEAR($B119),Transakcijas!$P:$P,RIGHT(\"0\"&MONTH($B119),2))-SUM(D119:K119)","v":0},0,{"$f":"ROUND(SUMIFS(Transakcijas!$R:$R,Transakcijas!$Q:$Q,$B$107,Transakcijas!$N:$N,\"<=\"&$B119,Transakcijas!$H:$H,\"Pamatsumma\"),2)","v":0},{"$f":"ROUND(SUMIFS(Transakcijas!$R:$R,Transakcijas!$Q:$Q,$B$107,Transakcijas!$N:$N,\"<=\"&$B119,Transakcijas!$H:$H,\"Nokavējuma nauda\"),2)","v":0},{"$f":"ROUND(SUMIFS(Transakcijas!$R:$R,Transakcijas!$Q:$Q,$B$107,Transakcijas!$N:$N,\"<=\"&$B119,Transakcijas!$H:$H,\"Soda nauda\"),2)","v":0}]
[null,"Kopā",{"$f":"C108","v":0},{"$f":"SUM(D108:D119)","v":0},null,null,{"$f":"SUM(G108:G119)","v":0},0,0,0,0,0,0]
[]
[null,{"$f":"DATE(YEAR($M$4),MONTH($M$4)+2,0)","v":"2025-01-31"},{"$f":"IF(B122=\"\",0,M120)","v":0},{"$f":"SUMIFS(Transakcijas!$R:$R,Transakcijas!$Q:$Q,$B$107,Transakcijas!$O:$O,YEAR($B122),Transakcijas!$P:$P,RIGHT(\"0\"&MONTH($B122),2),Transakcijas!$D:$D,\"Aprēķins\",Transakcijas!$H:$H,\"Pamatsumma\",Transakcijas!$K:$K,\"<>\"&\"FIFO*\",Transakcijas!$K:$K,\"<>\"&\"Iemaksas atbrīvošana\")","v":0},null,null,{"$f":"SUMIFS(Transakcijas!$R:$R,Transakcijas!$Q:$Q,$B$107,Transakcijas!$O:$O,YEAR($B122),Transakcijas!$P:$P,RIGHT(\"0\"&MONTH($B122),2),Transakcijas!$D:$D,\"Aprēķins\",Transakcijas!$H:$H,\"Nokavējuma nauda\",Transakcijas!$K:$K,\"<>\"&\"FIFO*\",Transakcijas!$K:$K,\"<>\"&\"Iemaksas atbrīvošana\")","v":0},{"$f":"SUMIFS(Transakcijas!$R:$R,Transakcijas!$Q:$Q,$B$107,Transakcijas!$O:$O,YEAR($B122),Transakcijas!$P:$P,RIGHT(\"0\"&MONTH($B122),2),Transakcijas!$D:$D,\"Aprēķins\",Transakcijas!$H:$H,\"Soda nauda\",Transakcijas!$K:$K,\"<>\"&\"FIFO*\",Transakcijas!$K:$K,\"<>\"&\"Iemaksas atbrīvošana\")","v":0},{"$f":"SUMIFS(Transakcijas!$R:$R,Transakcijas!$Q:$Q,$B$107,Transakcijas!$O:$O,YEAR($B122),Transakcijas!$P:$P,RIGHT(\"0\"&MONTH($B122),2),Transakcijas!$D:$D,\"Iemaksa\",Transakcijas!$K:$K,\"<>\"&\"Izejošā maksājuma anulēšana\")\n+SUMIFS(Transakcijas!$R:$R,Transakcijas!$Q:$Q,$B$107,Transakcijas!$O:$O,YEAR($B122),Transakcijas!$P:$P,RIGHT(\"0\"&MONTH($B122),2),Transakcijas!$D:$D,\"Atmaksa\",Transakcijas!$K:$K,\"Iemaksas atbrīvošana\")","v":0},{"$f":"SUMIFS(Transakcijas!$R:$R,Transakcijas!$Q:$Q,$B$107,Transakcijas!$O:$O,YEAR($B122),Transakcijas!$P:$P,RIGHT(\"0\"&MONTH($B122),2),Transakcijas!$D:$D,\"Atmaksa\",Transakcijas!$K:$K,\"<>\"&\"Iemaksas atbrīvošana\")\n+SUMIFS(Transakcijas!$R:$R,Transakcijas!$Q:$Q,$B$107,Transakcijas!$O:$O,YEAR($B122),Transakcijas!$P:$P,RIGHT(\"0\"&MONTH($B122),2),Transakcijas!$D:$D,\"Iemaksa\",Transakcijas!$K:$K,\"Izejošā maksājuma anulēšana\")","v":0},{"$f":"SUMIFS(Transakcijas!$R:$R,Transakcijas!$Q:$Q,$B$107,Transakcijas!$O:$O,YEAR($B122),Transakcijas!$P:$P,RIGHT(\"0\"&MONTH($B122),2),Transakcijas!$K:$K,\"FIFO savstarpējā segšana\")\n+SUMIFS(Transakcijas!$R:$R,Transakcijas!$Q:$Q,$B$107,Transakcijas!$O:$O,YEAR($B122),Transakcijas!$P:$P,RIGHT(\"0\"&MONTH($B122),2),Transakcijas!$D:$D,\"Aprēķins\",Transakcijas!$K:$K,\"Iemaksas atbrīvošana\")","v":0},{"$f":"SUMIFS(Transakcijas!$R:$R,Transakcijas!$Q:$Q,$B$107,Transakcijas!$O:$O,YEAR($B122),Transakcijas!$P:$P,RIGHT(\"0\"&MONTH($B122),2))-SUM(D122:K122)","v":0},{"$f":"SUM(C122:L122)","v":0},{"$f":"ROUND(SUMIFS(Transakcijas!$R:$R,Transakcijas!$Q:$Q,$B$107,Transakcijas!$N:$N,\"<=\"&$B122,Transakcijas!$H:$H,\"Pamatsumma\"),2)","v":0},{"$f":"ROUND(SUMIFS(Transakcijas!$R:$R,Transakcijas!$Q:$Q,$B$107,Transakcijas!$N:$N,\"<=\"&$B122,Transakcijas!$H:$H,\"Nokavējuma nauda\"),2)","v":0},{"$f":"ROUND(SUMIFS(Transakcijas!$R:$R,Transakcijas!$Q:$Q,$B$107,Transakcijas!$N:$N,\"<=\"&$B122,Transakcijas!$H:$H,\"Soda nauda\"),2)","v":0}]
[]
[null,{"$f":"B12","v":"AN"},"Atlikums uz perioda sākumu","Aprēķināts","Ieturēts","Aprēķinas (nerezid.)","Aprēķināta nokav. nauda  ","Aprēķināta\n soda nauda  ","Samaksāts\nAtbrīvots","Atmaksāts","Pārvietots \n(Savst.segš.)","Cita \nkustība","Atlikums uz perioda beigām","Pamat-\nsumma","Nokav. \nnauda  ","Soda \nnauda  "]
[null,{"$f":"DATE(YEAR($C$4),MONTH($C$4)+1,0)","v":"2024-01-31"},{"$f":"C12","v":0},{"$f":"SUMIFS(Transakcijas!$R:$R,Transakcijas!$Q:$Q,$B$124,Transakcijas!$O:$O,YEAR($B125),Transakcijas!$P:$P,RIGHT(\"0\"&MONTH($B125),2),Transakcijas!$D:$D,\"Aprēķins\",Transakcijas!$H:$H,\"Pamatsumma\",Transakcijas!$K:$K,\"<>\"&\"FIFO*\",Transakcijas!$K:$K,\"<>\"&\"Iemaksas atbrīvošana\")","v":0},null,null,{"$f":"SUMIFS(Transakcijas!$R:$R,Transakcijas!$Q:$Q,$B$124,Transakcijas!$O:$O,YEAR($B125),Transakcijas!$P:$P,RIGHT(\"0\"&MONTH($B125),2),Transakcijas!$D:$D,\"Aprēķins\",Transakcijas!$H:$H,\"Nokavējuma nauda\",Transakcijas!$K:$K,\"<>\"&\"FIFO*\",Transakcijas!$K:$K,\"<>\"&\"Iemaksas atbrīvošana\")","v":0},{"$f":"SUMIFS(Transakcijas!$R:$R,Transakcijas!$Q:$Q,$B$124,Transakcijas!$O:$O,YEAR($B125),Transakcijas!$P:$P,RIGHT(\"0\"&MONTH($B125),2),Transakcijas!$D:$D,\"Aprēķins\",Transakcijas!$H:$H,\"Soda nauda\",Transakcijas!$K:$K,\"<>\"&\"FIFO*\",Transakcijas!$K:$K,\"<>\"&\"Iemaksas atbrīvošana\")","v":0},{"$f":"SUMIFS(Transakcijas!$R:$R,Transakcijas!$Q:$Q,$B$124,Transakcijas!$O:$O,YEAR($B125),Transakcijas!$P:$P,RIGHT(\"0\"&MONTH($B125),2),Transakcijas!$D:$D,\"Iemaksa\",Transakcijas!$K:$K,\"<>\"&\"Izejošā maksājuma anulēšana\")\n+SUMIFS(Transakcijas!$R:$R,Transakcijas!$Q:$Q,$B$124,Transakcijas!$O:$O,YEAR($B125),Transakcijas!$P:$P,RIGHT(\"0\"&MONTH($B125),2),Transakcijas!$D:$D,\"Atmaksa\",Transakcijas!$K:$K,\"Iemaksas atbrīvošana\")","v":0},{"$f":"SUMIFS(Transakcijas!$R:$R,Transakcijas!$Q:$Q,$B$124,Transakcijas!$O:$O,YEAR($B125),Transakcijas!$P:$P,RIGHT(\"0\"&MONTH($B125),2),Transakcijas!$D:$D,\"Atmaksa\",Transakcijas!$K:$K,\"<>\"&\"Iemaksas atbrīvošana\")\n+SUMIFS(Transakcijas!$R:$R,Transakcijas!$Q:$Q,$B$124,Transakcijas!$O:$O,YEAR($B125),Transakcijas!$P:$P,RIGHT(\"0\"&MONTH($B125),2),Transakcijas!$D:$D,\"Iemaksa\",Transakcijas!$K:$K,\"Izejošā maksājuma anulēšana\")","v":0},{"$f":"SUMIFS(Transakcijas!$R:$R,Transakcijas!$Q:$Q,$B$124,Transakcijas!$O:$O,YEAR($B125),Transakcijas!$P:$P,RIGHT(\"0\"&MONTH($B125),2),Transakcijas!$K:$K,\"FIFO savstarpējā segšana\")\n+SUMIFS(Transakcijas!$R:$R,Transakcijas!$Q:$Q,$B$124,Transakcijas!$O:$O,YEAR($B125),Transakcijas!$P:$P,RIGHT(\"0\"&MONTH($B125),2),Transakcijas!$D:$D,\"Aprēķins\",Transakcijas!$K:$K,\"Iemaksas atbrīvošana\")","v":0},{"$f":"SUMIFS(Transakcijas!$R:$R,Transakcijas!$Q:$Q,$B$124,Transakcijas!$O:$O,YEAR($B125),Transakcijas!$P:$P,RIGHT(\"0\"&MONTH($B125),2))-SUM(D125:K125)","v":0},{"$f":"SUM(C125:L125)","v":0},{"$f":"ROUND(SUMIFS(Transakcijas!$R:$R,Transakcijas!$Q:$Q,$B$124,Transakcijas!$N:$N,\"<=\"&$B125,Transakcijas!$H:$H,\"Pamatsumma\"),2)","v":0},{"$f":"ROUND(SUMIFS(Transakcijas!$R:$R,Transakcijas!$Q:$Q,$B$124,Transakcijas!$N:$N,\"<=\"&$B125,Transakcijas!$H:$H,\"Nokavējuma nauda\"),2)","v":0},{"$f":"ROUND(SUMIFS(Transakcijas!$R:$R,Transakcijas!$Q:$Q,$B$124,Transakcijas!$N:$N,\"<=\"&$B125,Transakcijas!$H:$H,\"Soda nauda\"),2)","v":0}]
[null,{"$f":"IF(IF(B125=\"\",$M$4+1,DATE(YEAR(B125),MONTH(B125)+2,0))<=$M$4,DATE(YEAR(B125),MONTH(B125)+2,0),\"\")","v":"2024-02-29"},{"$f":"IF(B126=\"\",0,M125)","v":0},{"$f":"SUMIFS(Transakcijas!$R:$R,Transakcijas!$Q:$Q,$B$124,Transakcijas!$O:$O,YEAR($B126),Transakcijas!$P:$P,RIGHT(\"0\"&MONTH($B126),2),Transakcijas!$D:$D,\"Aprēķins\",Transakcijas!$H:$H,\"Pamatsumma\",Transakcijas!$K:$K,\"<>\"&\"FIFO*\",Transakcijas!$K:$K,\"<>\"&\"Iemaksas atbrīvošana\")","v":0},null,null,{"$f":"SUMIFS(Transakcijas!$R:$R,Transakcijas!$Q:$Q,$B$124,Transakcijas!$O:$O,YEAR($B126),Transakcijas!$P:$P,RIGHT(\"0\"&MONTH($B126),2),Transakcijas!$D:$D,\"Aprēķins\",Transakcijas!$H:$H,\"Nokavējuma nauda\",Transakcijas!$K:$K,\"<>\"&\"FIFO*\",Transakcijas!$K:$K,\"<>\"&\"Iemaksas atbrīvošana\")","v":0},{"$f":"SUMIFS(Transakcijas!$R:$R,Transakcijas!$Q:$Q,$B$124,Transakcijas!$O:$O,YEAR($B126),Transakcijas!$P:$P,RIGHT(\"0\"&MONTH($B126),2),Transakcijas!$D:$D,\"Aprēķins\",Transakcijas!$H:$H,\"Soda nauda\",Transakcijas!$K:$K,\"<>\"&\"FIFO*\",Transakcijas!$K:$K,\"<>\"&\"Iemaksas atbrīvošana\")","v":0},{"$f":"SUMIFS(Transakcijas!$R:$R,Transakcijas!$Q:$Q,$B$124,Transakcijas!$O:$O,YEAR($B126),Transakcijas!$P:$P,RIGHT(\"0\"&MONTH($B126),2),Transakcijas!$D:$D,\"Iemaksa\",Transakcijas!$K:$K,\"<>\"&\"Izejošā maksājuma anulēšana\")\n+SUMIFS(Transakcijas!$R:$R,Transakcijas!$Q:$Q,$B$124,Transakcijas!$O:$O,YEAR($B126),Transakcijas!$P:$P,RIGHT(\"0\"&MONTH($B126),2),Transakcijas!$D:$D,\"Atmaksa\",Transakcijas!$K:$K,\"Iemaksas atbrīvošana\")","v":0},{"$f":"SUMIFS(Transakcijas!$R:$R,Transakcijas!$Q:$Q,$B$124,Transakcijas!$O:$O,YEAR($B126),Transakcijas!$P:$P,RIGHT(\"0\"&MONTH($B126),2),Transakcijas!$D:$D,\"Atmaksa\",Transakcijas!$K:$K,\"<>\"&\"Iemaksas atbrīvošana\")\n+SUMIFS(Transakcijas!$R:$R,Transakcijas!$Q:$Q,$B$124,Transakcijas!$O:$O,YEAR($B126),Transakcijas!$P:$P,RIGHT(\"0\"&MONTH($B126),2),Transakcijas!$D:$D,\"Iemaksa\",Transakcijas!$K:$K,\"Izejošā maksājuma anulēšana\")","v":0},{"$f":"SUMIFS(Transakcijas!$R:$R,Transakcijas!$Q:$Q,$B$124,Transakcijas!$O:$O,YEAR($B126),Transakcijas!$P:$P,RIGHT(\"0\"&MONTH($B126),2),Transakcijas!$K:$K,\"FIFO savstarpējā segšana\")\n+SUMIFS(Transakcijas!$R:$R,Transakcijas!$Q:$Q,$B$124,Transakcijas!$O:$O,YEAR($B126),Transakcijas!$P:$P,RIGHT(\"0\"&MONTH($B126),2),Transakcijas!$D:$D,\"Aprēķins\",Transakcijas!$K:$K,\"Iemaksas atbrīvošana\")","v":0},{"$f":"SUMIFS(Transakcijas!$R:$R,Transakcijas!$Q:$Q,$B$124,Transakcijas!$O:$O,YEAR($B126),Transakcijas!$P:$P,RIGHT(\"0\"&MONTH($B126),2))-SUM(D126:K126)","v":0},0,{"$f":"ROUND(SUMIFS(Transakcijas!$R:$R,Transakcijas!$Q:$Q,$B$124,Transakcijas!$N:$N,\"<=\"&$B126,Transakcijas!$H:$H,\"Pamatsumma\"),2)","v":0},{"$f":"ROUND(SUMIFS(Transakcijas!$R:$R,Transakcijas!$Q:$Q,$B$124,Transakcijas!$N:$N,\"<=\"&$B126,Transakcijas!$H:$H,\"Nokavējuma nauda\"),2)","v":0},{"$f":"ROUND(SUMIFS(Transakcijas!$R:$R,Transakcijas!$Q:$Q,$B$124,Transakcijas!$N:$N,\"<=\"&$B126,Transakcijas!$H:$H,\"Soda nauda\"),2)","v":0}]
[null,"2024-03-31",0,{"$f":"SUMIFS(Transakcijas!$R:$R,Transakcijas!$Q:$Q,$B$124,Transakcijas!$O:$O,YEAR($B127),Transakcijas!$P:$P,RIGHT(\"0\"&MONTH($B127),2),Transakcijas!$D:$D,\"Aprēķins\",Transakcijas!$H:$H,\"Pamatsumma\",Transakcijas!$K:$K,\"<>\"&\"FIFO*\",Transakcijas!$K:$K,\"<>\"&\"Iemaksas atbrīvošana\")","v":0},null,null,{"$f":"SUMIFS(Transakcijas!$R:$R,Transakcijas!$Q:$Q,$B$124,Transakcijas!$O:$O,YEAR($B127),Transakcijas!$P:$P,RIGHT(\"0\"&MONTH($B127),2),Transakcijas!$D:$D,\"Aprēķins\",Transakcijas!$H:$H,\"Nokavējuma nauda\",Transakcijas!$K:$K,\"<>\"&\"FIFO*\",Transakcijas!$K:$K,\"<>\"&\"Iemaksas atbrīvošana\")","v":0},{"$f":"SUMIFS(Transakcijas!$R:$R,Transakcijas!$Q:$Q,$B$124,Transakcijas!$O:$O,YEAR($B127),Transakcijas!$P:$P,RIGHT(\"0\"&MONTH($B127),2),Transakcijas!$D:$D,\"Aprēķins\",Transakcijas!$H:$H,\"Soda nauda\",Transakcijas!$K:$K,\"<>\"&\"FIFO*\",Transakcijas!$K:$K,\"<>\"&\"Iemaksas atbrīvošana\")","v":0},{"$f":"SUMIFS(Transakcijas!$R:$R,Transakcijas!$Q:$Q,$B$124,Transakcijas!$O:$O,YEAR($B127),Transakcijas!$P:$P,RIGHT(\"0\"&MONTH($B127),2),Transakcijas!$D:$D,\"Iemaksa\",Transakcijas!$K:$K,\"<>\"&\"Izejošā maksājuma anulēšana\")\n+SUMIFS(Transakcijas!$R:$R,Transakcijas!$Q:$Q,$B$124,Transakcijas!$O:$O,YEAR($B127),Transakcijas!$P:$P,RIGHT(\"0\"&MONTH($B127),2),Transakcijas!$D:$D,\"Atmaksa\",Transakcijas!$K:$K,\"Iemaksas atbrīvošana\")","v":0},{"$f":"SUMIFS(Transakcijas!$R:$R,Transakcijas!$Q:$Q,$B$124,Transakcijas!$O:$O,YEAR($B127),Transakcijas!$P:$P,RIGHT(\"0\"&MONTH($B127),2),Transakcijas!$D:$D,\"Atmaksa\",Transakcijas!$K:$K,\"<>\"&\"Iemaksas atbrīvošana\")\n+SUMIFS(Transakcijas!$R:$R,Transakcijas!$Q:$Q,$B$124,Transakcijas!$O:$O,YEAR($B127),Transakcijas!$P:$P,RIGHT(\"0\"&MONTH($B127),2),Transakcijas!$D:$D,\"Iemaksa\",Transakcijas!$K:$K,\"Izejošā maksājuma anulēšana\")","v":0},{"$f":"SUMIFS(Transakcijas!$R:$R,Transakcijas!$Q:$Q,$B$124,Transakcijas!$O:$O,YEAR($B127),Transakcijas!$P:$P,RIGHT(\"0\"&MONTH($B127),2),Transakcijas!$K:$K,\"FIFO savstarpējā segšana\")\n+SUMIFS(Transakcijas!$R:$R,Transakcijas!$Q:$Q,$B$124,Transakcijas!$O:$O,YEAR($B127),Transakcijas!$P:$P,RIGHT(\"0\"&MONTH($B127),2),Transakcijas!$D:$D,\"Aprēķins\",Transakcijas!$K:$K,\"Iemaksas atbrīvošana\")","v":0},{"$f":"SUMIFS(Transakcijas!$R:$R,Transakcijas!$Q:$Q,$B$124,Transakcijas!$O:$O,YEAR($B127),Transakcijas!$P:$P,RIGHT(\"0\"&MONTH($B127),2))-SUM(D127:K127)","v":0},0,{"$f":"ROUND(SUMIFS(Transakcijas!$R:$R,Transakcijas!$Q:$Q,$B$124,Transakcijas!$N:$N,\"<=\"&$B127,Transakcijas!$H:$H,\"Pamatsumma\"),2)","v":0},{"$f":"ROUND(SUMIFS(Transakcijas!$R:$R,Transakcijas!$Q:$Q,$B$124,Transakcijas!$N:$N,\"<=\"&$B127,Transakcijas!$H:$H,\"Nokavējuma nauda\"),2)","v":0},{"$f":"ROUND(SUMIFS(Transakcijas!$R:$R,Transakcijas!$Q:$Q,$B$124,Transakcijas!$N:$N,\"<=\"&$B127,Transakcijas!$H:$H,\"Soda nauda\"),2)","v":0}]
[null,"2024-04-30",0,{"$f":"SUMIFS(Transakcijas!$R:$R,Transakcijas!$Q:$Q,$B$124,Transakcijas!$O:$O,YEAR($B128),Transakcijas!$P:$P,RIGHT(\"0\"&MONTH($B128),2),Transakcijas!$D:$D,\"Aprēķins\",Transakcijas!$H:$H,\"Pamatsumma\",Transakcijas!$K:$K,\"<>\"&\"FIFO*\",Transakcijas!$K:$K,\"<>\"&\"Iemaksas atbrīvošana\")","v":0},null,null,{"$f":"SUMIFS(Transakcijas!$R:$R,Transakcijas!$Q:$Q,$B$124,Transakcijas!$O:$O,YEAR($B128),Transakcijas!$P:$P,RIGHT(\"0\"&MONTH($B128),2),Transakcijas!$D:$D,\"Aprēķins\",Transakcijas!$H:$H,\"Nokavējuma nauda\",Transakcijas!$K:$K,\"<>\"&\"FIFO*\",Transakcijas!$K:$K,\"<>\"&\"Iemaksas atbrīvošana\")","v":0},{"$f":"SUMIFS(Transakcijas!$R:$R,Transakcijas!$Q:$Q,$B$124,Transakcijas!$O:$O,YEAR($B128),Transakcijas!$P:$P,RIGHT(\"0\"&MONTH($B128),2),Transakcijas!$D:$D,\"Aprēķins\",Transakcijas!$H:$H,\"Soda nauda\",Transakcijas!$K:$K,\"<>\"&\"FIFO*\",Transakcijas!$K:$K,\"<>\"&\"Iemaksas atbrīvošana\")","v":0},{"$f":"SUMIFS(Transakcijas!$R:$R,Transakcijas!$Q:$Q,$B$124,Transakcijas!$O:$O,YEAR($B128),Transakcijas!$P:$P,RIGHT(\"0\"&MONTH($B128),2),Transakcijas!$D:$D,\"Iemaksa\",Transakcijas!$K:$K,\"<>\"&\"Izejošā maksājuma anulēšana\")\n+SUMIFS(Transakcijas!$R:$R,Transakcijas!$Q:$Q,$B$124,Transakcijas!$O:$O,YEAR($B128),Transakcijas!$P:$P,RIGHT(\"0\"&MONTH($B128),2),Transakcijas!$D:$D,\"Atmaksa\",Transakcijas!$K:$K,\"Iemaksas atbrīvošana\")","v":0},{"$f":"SUMIFS(Transakcijas!$R:$R,Transakcijas!$Q:$Q,$B$124,Transakcijas!$O:$O,YEAR($B128),Transakcijas!$P:$P,RIGHT(\"0\"&MONTH($B128),2),Transakcijas!$D:$D,\"Atmaksa\",Transakcijas!$K:$K,\"<>\"&\"Iemaksas atbrīvošana\")\n+SUMIFS(Transakcijas!$R:$R,Transakcijas!$Q:$Q,$B$124,Transakcijas!$O:$O,YEAR($B128),Transakcijas!$P:$P,RIGHT(\"0\"&MONTH($B128),2),Transakcijas!$D:$D,\"Iemaksa\",Transakcijas!$K:$K,\"Izejošā maksājuma anulēšana\")","v":0},{"$f":"SUMIFS(Transakcijas!$R:$R,Transakcijas!$Q:$Q,$B$124,Transakcijas!$O:$O,YEAR($B128),Transakcijas!$P:$P,RIGHT(\"0\"&MONTH($B128),2),Transakcijas!$K:$K,\"FIFO savstarpējā segšana\")\n+SUMIFS(Transakcijas!$R:$R,Transakcijas!$Q:$Q,$B$124,Transakcijas!$O:$O,YEAR($B128),Transakcijas!$P:$P,RIGHT(\"0\"&MONTH($B128),2),Transakcijas!$D:$D,\"Aprēķins\",Transakcijas!$K:$K,\"Iemaksas atbrīvošana\")","v":0},{"$f":"SUMIFS(Transakcijas!$R:$R,Transakcijas!$Q:$Q,$B$124,Transakcijas!$O:$O,YEAR($B128),Transakcijas!$P:$P,RIGHT(\"0\"&MONTH($B128),2))-SUM(D128:K128)","v":0},0,{"$f":"ROUND(SUMIFS(Transakcijas!$R:$R,Transakcijas!$Q:$Q,$B$124,Transakcijas!$N:$N,\"<=\"&$B128,Transakcijas!$H:$H,\"Pamatsumma\"),2)","v":0},{"$f":"ROUND(SUMIFS(Transakcijas!$R:$R,Transakcijas!$Q:$Q,$B$124,Transakcijas!$N:$N,\"<=\"&$B128,Transakcijas!$H:$H,\"Nokavējuma nauda\"),2)","v":0},{"$f":"ROUND(SUMIFS(Transakcijas!$R:$R,Transakcijas!$Q:$Q,$B$124,Transakcijas!$N:$N,\"<=\"&$B128,Transakcijas!$H:$H,\"Soda nauda\"),2)","v":0}]
[null,"2024-05-31",0,{"$f":"SUMIFS(Transakcijas!$R:$R,Transakcijas!$Q:$Q,$B$124,Transakcijas!$O:$O,YEAR($B129),Transakcijas!$P:$P,RIGHT(\"0\"&MONTH($B129),2),Transakcijas!$D:$D,\"Aprēķins\",Transakcijas!$H:$H,\"Pamatsumma\",Transakcijas!$K:$K,\"<>\"&\"FIFO*\",Transakcijas!$K:$K,\"<>\"&\"Iemaksas atbrīvošana\")","v":0},null,null,{"$f":"SUMIFS(Transakcijas!$R:$R,Transakcijas!$Q:$Q,$B$124,Transakcijas!$O:$O,YEAR($B129),Transakcijas!$P:$P,RIGHT(\"0\"&MONTH($B129),2),Transakcijas!$D:$D,\"Aprēķins\",Transakcijas!$H:$H,\"Nokavējuma nauda\",Transakcijas!$K:$K,\"<>\"&\"FIFO*\",Transakcijas!$K:$K,\"<>\"&\"Iemaksas atbrīvošana\")","v":0},{"$f":"SUMIFS(Transakcijas!$R:$R,Transakcijas!$Q:$Q,$B$124,Transakcijas!$O:$O,YEAR($B129),Transakcijas!$P:$P,RIGHT(\"0\"&MONTH($B129),2),Transakcijas!$D:$D,\"Aprēķins\",Transakcijas!$H:$H,\"Soda nauda\",Transakcijas!$K:$K,\"<>\"&\"FIFO*\",Transakcijas!$K:$K,\"<>\"&\"Iemaksas atbrīvošana\")","v":0},{"$f":"SUMIFS(Transakcijas!$R:$R,Transakcijas!$Q:$Q,$B$124,Transakcijas!$O:$O,YEAR($B129),Transakcijas!$P:$P,RIGHT(\"0\"&MONTH($B129),2),Transakcijas!$D:$D,\"Iemaksa\",Transakcijas!$K:$K,\"<>\"&\"Izejošā maksājuma anulēšana\")\n+SUMIFS(Transakcijas!$R:$R,Transakcijas!$Q:$Q,$B$124,Transakcijas!$O:$O,YEAR($B129),Transakcijas!$P:$P,RIGHT(\"0\"&MONTH($B129),2),Transakcijas!$D:$D,\"Atmaksa\",Transakcijas!$K:$K,\"Iemaksas atbrīvošana\")","v":0},{"$f":"SUMIFS(Transakcijas!$R:$R,Transakcijas!$Q:$Q,$B$124,Transakcijas!$O:$O,YEAR($B129),Transakcijas!$P:$P,RIGHT(\"0\"&MONTH($B129),2),Transakcijas!$D:$D,\"Atmaksa\",Transakcijas!$K:$K,\"<>\"&\"Iemaksas atbrīvošana\")\n+SUMIFS(Transakcijas!$R:$R,Transakcijas!$Q:$Q,$B$124,Transakcijas!$O:$O,YEAR($B129),Transakcijas!$P:$P,RIGHT(\"0\"&MONTH($B129),2),Transakcijas!$D:$D,\"Iemaksa\",Transakcijas!$K:$K,\"Izejošā maksājuma anulēšana\")","v":0},{"$f":"SUMIFS(Transakcijas!$R:$R,Transakcijas!$Q:$Q,$B$124,Transakcijas!$O:$O,YEAR($B129),Transakcijas!$P:$P,RIGHT(\"0\"&MONTH($B129),2),Transakcijas!$K:$K,\"FIFO savstarpējā segšana\")\n+SUMIFS(Transakcijas!$R:$R,Transakcijas!$Q:$Q,$B$124,Transakcijas!$O:$O,YEAR($B129),Transakcijas!$P:$P,RIGHT(\"0\"&MONTH($B129),2),Transakcijas!$D:$D,\"Aprēķins\",Transakcijas!$K:$K,\"Iemaksas atbrīvošana\")","v":0},{"$f":"SUMIFS(Transakcijas!$R:$R,Transakcijas!$Q:$Q,$B$124,Transakcijas!$O:$O,YEAR($B129),Transakcijas!$P:$P,RIGHT(\"0\"&MONTH($B129),2))-SUM(D129:K129)","v":0},0,{"$f":"ROUND(SUMIFS(Transakcijas!$R:$R,Transakcijas!$Q:$Q,$B$124,Transakcijas!$N:$N,\"<=\"&$B129,Transakcijas!$H:$H,\"Pamatsumma\"),2)","v":0},{"$f":"ROUND(SUMIFS(Transakcijas!$R:$R,Transakcijas!$Q:$Q,$B$124,Transakcijas!$N:$N,\"<=\"&$B129,Transakcijas!$H:$H,\"Nokavējuma nauda\"),2)","v":0},{"$f":"ROUND(SUMIFS(Transakcijas!$R:$R,Transakcijas!$Q:$Q,$B$124,Transakcijas!$N:$N,\"<=\"&$B129,Transakcijas!$H:$H,\"Soda nauda\"),2)","v":0}]
[null,"2024-06-30",0,{"$f":"SUMIFS(Transakcijas!$R:$R,Transakcijas!$Q:$Q,$B$124,Transakcijas!$O:$O,YEAR($B130),Transakcijas!$P:$P,RIGHT(\"0\"&MONTH($B130),2),Transakcijas!$D:$D,\"Aprēķins\",Transakcijas!$H:$H,\"Pamatsumma\",Transakcijas!$K:$K,\"<>\"&\"FIFO*\",Transakcijas!$K:$K,\"<>\"&\"Iemaksas atbrīvošana\")","v":0},null,null,{"$f":"SUMIFS(Transakcijas!$R:$R,Transakcijas!$Q:$Q,$B$124,Transakcijas!$O:$O,YEAR($B130),Transakcijas!$P:$P,RIGHT(\"0\"&MONTH($B130),2),Transakcijas!$D:$D,\"Aprēķins\",Transakcijas!$H:$H,\"Nokavējuma nauda\",Transakcijas!$K:$K,\"<>\"&\"FIFO*\",Transakcijas!$K:$K,\"<>\"&\"Iemaksas atbrīvošana\")","v":0},{"$f":"SUMIFS(Transakcijas!$R:$R,Transakcijas!$Q:$Q,$B$124,Transakcijas!$O:$O,YEAR($B130),Transakcijas!$P:$P,RIGHT(\"0\"&MONTH($B130),2),Transakcijas!$D:$D,\"Aprēķins\",Transakcijas!$H:$H,\"Soda nauda\",Transakcijas!$K:$K,\"<>\"&\"FIFO*\",Transakcijas!$K:$K,\"<>\"&\"Iemaksas atbrīvošana\")","v":0},{"$f":"SUMIFS(Transakcijas!$R:$R,Transakcijas!$Q:$Q,$B$124,Transakcijas!$O:$O,YEAR($B130),Transakcijas!$P:$P,RIGHT(\"0\"&MONTH($B130),2),Transakcijas!$D:$D,\"Iemaksa\",Transakcijas!$K:$K,\"<>\"&\"Izejošā maksājuma anulēšana\")\n+SUMIFS(Transakcijas!$R:$R,Transakcijas!$Q:$Q,$B$124,Transakcijas!$O:$O,YEAR($B130),Transakcijas!$P:$P,RIGHT(\"0\"&MONTH($B130),2),Transakcijas!$D:$D,\"Atmaksa\",Transakcijas!$K:$K,\"Iemaksas atbrīvošana\")","v":0},{"$f":"SUMIFS(Transakcijas!$R:$R,Transakcijas!$Q:$Q,$B$124,Transakcijas!$O:$O,YEAR($B130),Transakcijas!$P:$P,RIGHT(\"0\"&MONTH($B130),2),Transakcijas!$D:$D,\"Atmaksa\",Transakcijas!$K:$K,\"<>\"&\"Iemaksas atbrīvošana\")\n+SUMIFS(Transakcijas!$R:$R,Transakcijas!$Q:$Q,$B$124,Transakcijas!$O:$O,YEAR($B130),Transakcijas!$P:$P,RIGHT(\"0\"&MONTH($B130),2),Transakcijas!$D:$D,\"Iemaksa\",Transakcijas!$K:$K,\"Izejošā maksājuma anulēšana\")","v":0},{"$f":"SUMIFS(Transakcijas!$R:$R,Transakcijas!$Q:$Q,$B$124,Transakcijas!$O:$O,YEAR($B130),Transakcijas!$P:$P,RIGHT(\"0\"&MONTH($B130),2),Transakcijas!$K:$K,\"FIFO savstarpējā segšana\")\n+SUMIFS(Transakcijas!$R:$R,Transakcijas!$Q:$Q,$B$124,Transakcijas!$O:$O,YEAR($B130),Transakcijas!$P:$P,RIGHT(\"0\"&MONTH($B130),2),Transakcijas!$D:$D,\"Aprēķins\",Transakcijas!$K:$K,\"Iemaksas atbrīvošana\")","v":0},{"$f":"SUMIFS(Transakcijas!$R:$R,Transakcijas!$Q:$Q,$B$124,Transakcijas!$O:$O,YEAR($B130),Transakcijas!$P:$P,RIGHT(\"0\"&MONTH($B130),2))-SUM(D130:K130)","v":0},0,{"$f":"ROUND(SUMIFS(Transakcijas!$R:$R,Transakcijas!$Q:$Q,$B$124,Transakcijas!$N:$N,\"<=\"&$B130,Transakcijas!$H:$H,\"Pamatsumma\"),2)","v":0},{"$f":"ROUND(SUMIFS(Transakcijas!$R:$R,Transakcijas!$Q:$Q,$B$124,Transakcijas!$N:$N,\"<=\"&$B130,Transakcijas!$H:$H,\"Nokavējuma nauda\"),2)","v":0},{"$f":"ROUND(SUMIFS(Transakcijas!$R:$R,Transakcijas!$Q:$Q,$B$124,Transakcijas!$N:$N,\"<=\"&$B130,Transakcijas!$H:$H,\"Soda nauda\"),2)","v":0}]
[null,"2024-07-31",0,{"$f":"SUMIFS(Transakcijas!$R:$R,Transakcijas!$Q:$Q,$B$124,Transakcijas!$O:$O,YEAR($B131),Transakcijas!$P:$P,RIGHT(\"0\"&MONTH($B131),2),Transakcijas!$D:$D,\"Aprēķins\",Transakcijas!$H:$H,\"Pamatsumma\",Transakcijas!$K:$K,\"<>\"&\"FIFO*\",Transakcijas!$K:$K,\"<>\"&\"Iemaksas atbrīvošana\")","v":0},null,null,{"$f":"SUMIFS(Transakcijas!$R:$R,Transakcijas!$Q:$Q,$B$124,Transakcijas!$O:$O,YEAR($B131),Transakcijas!$P:$P,RIGHT(\"0\"&MONTH($B131),2),Transakcijas!$D:$D,\"Aprēķins\",Transakcijas!$H:$H,\"Nokavējuma nauda\",Transakcijas!$K:$K,\"<>\"&\"FIFO*\",Transakcijas!$K:$K,\"<>\"&\"Iemaksas atbrīvošana\")","v":0},{"$f":"SUMIFS(Transakcijas!$R:$R,Transakcijas!$Q:$Q,$B$124,Transakcijas!$O:$O,YEAR($B131),Transakcijas!$P:$P,RIGHT(\"0\"&MONTH($B131),2),Transakcijas!$D:$D,\"Aprēķins\",Transakcijas!$H:$H,\"Soda nauda\",Transakcijas!$K:$K,\"<>\"&\"FIFO*\",Transakcijas!$K:$K,\"<>\"&\"Iemaksas atbrīvošana\")","v":0},{"$f":"SUMIFS(Transakcijas!$R:$R,Transakcijas!$Q:$Q,$B$124,Transakcijas!$O:$O,YEAR($B131),Transakcijas!$P:$P,RIGHT(\"0\"&MONTH($B131),2),Transakcijas!$D:$D,\"Iemaksa\",Transakcijas!$K:$K,\"<>\"&\"Izejošā maksājuma anulēšana\")\n+SUMIFS(Transakcijas!$R:$R,Transakcijas!$Q:$Q,$B$124,Transakcijas!$O:$O,YEAR($B131),Transakcijas!$P:$P,RIGHT(\"0\"&MONTH($B131),2),Transakcijas!$D:$D,\"Atmaksa\",Transakcijas!$K:$K,\"Iemaksas atbrīvošana\")","v":0},{"$f":"SUMIFS(Transakcijas!$R:$R,Transakcijas!$Q:$Q,$B$124,Transakcijas!$O:$O,YEAR($B131),Transakcijas!$P:$P,RIGHT(\"0\"&MONTH($B131),2),Transakcijas!$D:$D,\"Atmaksa\",Transakcijas!$K:$K,\"<>\"&\"Iemaksas atbrīvošana\")\n+SUMIFS(Transakcijas!$R:$R,Transakcijas!$Q:$Q,$B$124,Transakcijas!$O:$O,YEAR($B131),Transakcijas!$P:$P,RIGHT(\"0\"&MONTH($B131),2),Transakcijas!$D:$D,\"Iemaksa\",Transakcijas!$K:$K,\"Izejošā maksājuma anulēšana\")","v":0},{"$f":"SUMIFS(Transakcijas!$R:$R,Transakcijas!$Q:$Q,$B$124,Transakcijas!$O:$O,YEAR($B131),Transakcijas!$P:$P,RIGHT(\"0\"&MONTH($B131),2),Transakcijas!$K:$K,\"FIFO savstarpējā segšana\")\n+SUMIFS(Transakcijas!$R:$R,Transakcijas!$Q:$Q,$B$124,Transakcijas!$O:$O,YEAR($B131),Transakcijas!$P:$P,RIGHT(\"0\"&MONTH($B131),2),Transakcijas!$D:$D,\"Aprēķins\",Transakcijas!$K:$K,\"Iemaksas atbrīvošana\")","v":0},{"$f":"SUMIFS(Transakcijas!$R:$R,Transakcijas!$Q:$Q,$B$124,Transakcijas!$O:$O,YEAR($B131),Transakcijas!$P:$P,RIGHT(\"0\"&MONTH($B131),2))-SUM(D131:K131)","v":0},0,{"$f":"ROUND(SUMIFS(Transakcijas!$R:$R,Transakcijas!$Q:$Q,$B$124,Transakcijas!$N:$N,\"<=\"&$B131,Transakcijas!$H:$H,\"Pamatsumma\"),2)","v":0},{"$f":"ROUND(SUMIFS(Transakcijas!$R:$R,Transakcijas!$Q:$Q,$B$124,Transakcijas!$N:$N,\"<=\"&$B131,Transakcijas!$H:$H,\"Nokavējuma nauda\"),2)","v":0},{"$f":"ROUND(SUMIFS(Transakcijas!$R:$R,Transakcijas!$Q:$Q,$B$124,Transakcijas!$N:$N,\"<=\"&$B131,Transakcijas!$H:$H,\"Soda nauda\"),2)","v":0}]
[null,"2024-08-31",0,{"$f":"SUMIFS(Transakcijas!$R:$R,Transakcijas!$Q:$Q,$B$124,Transakcijas!$O:$O,YEAR($B132),Transakcijas!$P:$P,RIGHT(\"0\"&MONTH($B132),2),Transakcijas!$D:$D,\"Aprēķins\",Transakcijas!$H:$H,\"Pamatsumma\",Transakcijas!$K:$K,\"<>\"&\"FIFO*\",Transakcijas!$K:$K,\"<>\"&\"Iemaksas atbrīvošana\")","v":0},null,null,{"$f":"SUMIFS(Transakcijas!$R:$R,Transakcijas!$Q:$Q,$B$124,Transakcijas!$O:$O,YEAR($B132),Transakcijas!$P:$P,RIGHT(\"0\"&MONTH($B132),2),Transakcijas!$D:$D,\"Aprēķins\",Transakcijas!$H:$H,\"Nokavējuma nauda\",Transakcijas!$K:$K,\"<>\"&\"FIFO*\",Transakcijas!$K:$K,\"<>\"&\"Iemaksas atbrīvošana\")","v":0},{"$f":"SUMIFS(Transakcijas!$R:$R,Transakcijas!$Q:$Q,$B$124,Transakcijas!$O:$O,YEAR($B132),Transakcijas!$P:$P,RIGHT(\"0\"&MONTH($B132),2),Transakcijas!$D:$D,\"Aprēķins\",Transakcijas!$H:$H,\"Soda nauda\",Transakcijas!$K:$K,\"<>\"&\"FIFO*\",Transakcijas!$K:$K,\"<>\"&\"Iemaksas atbrīvošana\")","v":0},{"$f":"SUMIFS(Transakcijas!$R:$R,Transakcijas!$Q:$Q,$B$124,Transakcijas!$O:$O,YEAR($B132),Transakcijas!$P:$P,RIGHT(\"0\"&MONTH($B132),2),Transakcijas!$D:$D,\"Iemaksa\",Transakcijas!$K:$K,\"<>\"&\"Izejošā maksājuma anulēšana\")\n+SUMIFS(Transakcijas!$R:$R,Transakcijas!$Q:$Q,$B$124,Transakcijas!$O:$O,YEAR($B132),Transakcijas!$P:$P,RIGHT(\"0\"&MONTH($B132),2),Transakcijas!$D:$D,\"Atmaksa\",Transakcijas!$K:$K,\"Iemaksas atbrīvošana\")","v":0},{"$f":"SUMIFS(Transakcijas!$R:$R,Transakcijas!$Q:$Q,$B$124,Transakcijas!$O:$O,YEAR($B132),Transakcijas!$P:$P,RIGHT(\"0\"&MONTH($B132),2),Transakcijas!$D:$D,\"Atmaksa\",Transakcijas!$K:$K,\"<>\"&\"Iemaksas atbrīvošana\")\n+SUMIFS(Transakcijas!$R:$R,Transakcijas!$Q:$Q,$B$124,Transakcijas!$O:$O,YEAR($B132),Transakcijas!$P:$P,RIGHT(\"0\"&MONTH($B132),2),Transakcijas!$D:$D,\"Iemaksa\",Transakcijas!$K:$K,\"Izejošā maksājuma anulēšana\")","v":0},{"$f":"SUMIFS(Transakcijas!$R:$R,Transakcijas!$Q:$Q,$B$124,Transakcijas!$O:$O,YEAR($B132),Transakcijas!$P:$P,RIGHT(\"0\"&MONTH($B132),2),Transakcijas!$K:$K,\"FIFO savstarpējā segšana\")\n+SUMIFS(Transakcijas!$R:$R,Transakcijas!$Q:$Q,$B$124,Transakcijas!$O:$O,YEAR($B132),Transakcijas!$P:$P,RIGHT(\"0\"&MONTH($B132),2),Transakcijas!$D:$D,\"Aprēķins\",Transakcijas!$K:$K,\"Iemaksas atbrīvošana\")","v":0},{"$f":"SUMIFS(Transakcijas!$R:$R,Transakcijas!$Q:$Q,$B$124,Transakcijas!$O:$O,YEAR($B132),Transakcijas!$P:$P,RIGHT(\"0\"&MONTH($B132),2))-SUM(D132:K132)","v":0},0,{"$f":"ROUND(SUMIFS(Transakcijas!$R:$R,Transakcijas!$Q:$Q,$B$124,Transakcijas!$N:$N,\"<=\"&$B132,Transakcijas!$H:$H,\"Pamatsumma\"),2)","v":0},{"$f":"ROUND(SUMIFS(Transakcijas!$R:$R,Transakcijas!$Q:$Q,$B$124,Transakcijas!$N:$N,\"<=\"&$B132,Transakcijas!$H:$H,\"Nokavējuma nauda\"),2)","v":0},{"$f":"ROUND(SUMIFS(Transakcijas!$R:$R,Transakcijas!$Q:$Q,$B$124,Transakcijas!$N:$N,\"<=\"&$B132,Transakcijas!$H:$H,\"Soda nauda\"),2)","v":0}]
[null,"2024-09-30",0,{"$f":"SUMIFS(Transakcijas!$R:$R,Transakcijas!$Q:$Q,$B$124,Transakcijas!$O:$O,YEAR($B133),Transakcijas!$P:$P,RIGHT(\"0\"&MONTH($B133),2),Transakcijas!$D:$D,\"Aprēķins\",Transakcijas!$H:$H,\"Pamatsumma\",Transakcijas!$K:$K,\"<>\"&\"FIFO*\",Transakcijas!$K:$K,\"<>\"&\"Iemaksas atbrīvošana\")","v":0},null,null,{"$f":"SUMIFS(Transakcijas!$R:$R,Transakcijas!$Q:$Q,$B$124,Transakcijas!$O:$O,YEAR($B133),Transakcijas!$P:$P,RIGHT(\"0\"&MONTH($B133),2),Transakcijas!$D:$D,\"Aprēķins\",Transakcijas!$H:$H,\"Nokavējuma nauda\",Transakcijas!$K:$K,\"<>\"&\"FIFO*\",Transakcijas!$K:$K,\"<>\"&\"Iemaksas atbrīvošana\")","v":0},{"$f":"SUMIFS(Transakcijas!$R:$R,Transakcijas!$Q:$Q,$B$124,Transakcijas!$O:$O,YEAR($B133),Transakcijas!$P:$P,RIGHT(\"0\"&MONTH($B133),2),Transakcijas!$D:$D,\"Aprēķins\",Transakcijas!$H:$H,\"Soda nauda\",Transakcijas!$K:$K,\"<>\"&\"FIFO*\",Transakcijas!$K:$K,\"<>\"&\"Iemaksas atbrīvošana\")","v":0},{"$f":"SUMIFS(Transakcijas!$R:$R,Transakcijas!$Q:$Q,$B$124,Transakcijas!$O:$O,YEAR($B133),Transakcijas!$P:$P,RIGHT(\"0\"&MONTH($B133),2),Transakcijas!$D:$D,\"Iemaksa\",Transakcijas!$K:$K,\"<>\"&\"Izejošā maksājuma anulēšana\")\n+SUMIFS(Transakcijas!$R:$R,Transakcijas!$Q:$Q,$B$124,Transakcijas!$O:$O,YEAR($B133),Transakcijas!$P:$P,RIGHT(\"0\"&MONTH($B133),2),Transakcijas!$D:$D,\"Atmaksa\",Transakcijas!$K:$K,\"Iemaksas atbrīvošana\")","v":0},{"$f":"SUMIFS(Transakcijas!$R:$R,Transakcijas!$Q:$Q,$B$124,Transakcijas!$O:$O,YEAR($B133),Transakcijas!$P:$P,RIGHT(\"0\"&MONTH($B133),2),Transakcijas!$D:$D,\"Atmaksa\",Transakcijas!$K:$K,\"<>\"&\"Iemaksas atbrīvošana\")\n+SUMIFS(Transakcijas!$R:$R,Transakcijas!$Q:$Q,$B$124,Transakcijas!$O:$O,YEAR($B133),Transakcijas!$P:$P,RIGHT(\"0\"&MONTH($B133),2),Transakcijas!$D:$D,\"Iemaksa\",Transakcijas!$K:$K,\"Izejošā maksājuma anulēšana\")","v":0},{"$f":"SUMIFS(Transakcijas!$R:$R,Transakcijas!$Q:$Q,$B$124,Transakcijas!$O:$O,YEAR($B133),Transakcijas!$P:$P,RIGHT(\"0\"&MONTH($B133),2),Transakcijas!$K:$K,\"FIFO savstarpējā segšana\")\n+SUMIFS(Transakcijas!$R:$R,Transakcijas!$Q:$Q,$B$124,Transakcijas!$O:$O,YEAR($B133),Transakcijas!$P:$P,RIGHT(\"0\"&MONTH($B133),2),Transakcijas!$D:$D,\"Aprēķins\",Transakcijas!$K:$K,\"Iemaksas atbrīvošana\")","v":0},{"$f":"SUMIFS(Transakcijas!$R:$R,Transakcijas!$Q:$Q,$B$124,Transakcijas!$O:$O,YEAR($B133),Transakcijas!$P:$P,RIGHT(\"0\"&MONTH($B133),2))-SUM(D133:K133)","v":0},0,{"$f":"ROUND(SUMIFS(Transakcijas!$R:$R,Transakcijas!$Q:$Q,$B$124,Transakcijas!$N:$N,\"<=\"&$B133,Transakcijas!$H:$H,\"Pamatsumma\"),2)","v":0},{"$f":"ROUND(SUMIFS(Transakcijas!$R:$R,Transakcijas!$Q:$Q,$B$124,Transakcijas!$N:$N,\"<=\"&$B133,Transakcijas!$H:$H,\"Nokavējuma nauda\"),2)","v":0},{"$f":"ROUND(SUMIFS(Transakcijas!$R:$R,Transakcijas!$Q:$Q,$B$124,Transakcijas!$N:$N,\"<=\"&$B133,Transakcijas!$H:$H,\"Soda nauda\"),2)","v":0}]
[null,"2024-10-31",0,{"$f":"SUMIFS(Transakcijas!$R:$R,Transakcijas!$Q:$Q,$B$124,Transakcijas!$O:$O,YEAR($B134),Transakcijas!$P:$P,RIGHT(\"0\"&MONTH($B134),2),Transakcijas!$D:$D,\"Aprēķins\",Transakcijas!$H:$H,\"Pamatsumma\",Transakcijas!$K:$K,\"<>\"&\"FIFO*\",Transakcijas!$K:$K,\"<>\"&\"Iemaksas atbrīvošana\")","v":0},null,null,{"$f":"SUMIFS(Transakcijas!$R:$R,Transakcijas!$Q:$Q,$B$124,Transakcijas!$O:$O,YEAR($B134),Transakcijas!$P:$P,RIGHT(\"0\"&MONTH($B134),2),Transakcijas!$D:$D,\"Aprēķins\",Transakcijas!$H:$H,\"Nokavējuma nauda\",Transakcijas!$K:$K,\"<>\"&\"FIFO*\",Transakcijas!$K:$K,\"<>\"&\"Iemaksas atbrīvošana\")","v":0},{"$f":"SUMIFS(Transakcijas!$R:$R,Transakcijas!$Q:$Q,$B$124,Transakcijas!$O:$O,YEAR($B134),Transakcijas!$P:$P,RIGHT(\"0\"&MONTH($B134),2),Transakcijas!$D:$D,\"Aprēķins\",Transakcijas!$H:$H,\"Soda nauda\",Transakcijas!$K:$K,\"<>\"&\"FIFO*\",Transakcijas!$K:$K,\"<>\"&\"Iemaksas atbrīvošana\")","v":0},{"$f":"SUMIFS(Transakcijas!$R:$R,Transakcijas!$Q:$Q,$B$124,Transakcijas!$O:$O,YEAR($B134),Transakcijas!$P:$P,RIGHT(\"0\"&MONTH($B134),2),Transakcijas!$D:$D,\"Iemaksa\",Transakcijas!$K:$K,\"<>\"&\"Izejošā maksājuma anulēšana\")\n+SUMIFS(Transakcijas!$R:$R,Transakcijas!$Q:$Q,$B$124,Transakcijas!$O:$O,YEAR($B134),Transakcijas!$P:$P,RIGHT(\"0\"&MONTH($B134),2),Transakcijas!$D:$D,\"Atmaksa\",Transakcijas!$K:$K,\"Iemaksas atbrīvošana\")","v":0},{"$f":"SUMIFS(Transakcijas!$R:$R,Transakcijas!$Q:$Q,$B$124,Transakcijas!$O:$O,YEAR($B134),Transakcijas!$P:$P,RIGHT(\"0\"&MONTH($B134),2),Transakcijas!$D:$D,\"Atmaksa\",Transakcijas!$K:$K,\"<>\"&\"Iemaksas atbrīvošana\")\n+SUMIFS(Transakcijas!$R:$R,Transakcijas!$Q:$Q,$B$124,Transakcijas!$O:$O,YEAR($B134),Transakcijas!$P:$P,RIGHT(\"0\"&MONTH($B134),2),Transakcijas!$D:$D,\"Iemaksa\",Transakcijas!$K:$K,\"Izejošā maksājuma anulēšana\")","v":0},{"$f":"SUMIFS(Transakcijas!$R:$R,Transakcijas!$Q:$Q,$B$124,Transakcijas!$O:$O,YEAR($B134),Transakcijas!$P:$P,RIGHT(\"0\"&MONTH($B134),2),Transakcijas!$K:$K,\"FIFO savstarpējā segšana\")\n+SUMIFS(Transakcijas!$R:$R,Transakcijas!$Q:$Q,$B$124,Transakcijas!$O:$O,YEAR($B134),Transakcijas!$P:$P,RIGHT(\"0\"&MONTH($B134),2),Transakcijas!$D:$D,\"Aprēķins\",Transakcijas!$K:$K,\"Iemaksas atbrīvošana\")","v":0},{"$f":"SUMIFS(Transakcijas!$R:$R,Transakcijas!$Q:$Q,$B$124,Transakcijas!$O:$O,YEAR($B134),Transakcijas!$P:$P,RIGHT(\"0\"&MONTH($B134),2))-SUM(D134:K134)","v":0},0,{"$f":"ROUND(SUMIFS(Transakcijas!$R:$R,Transakcijas!$Q:$Q,$B$124,Transakcijas!$N:$N,\"<=\"&$B134,Transakcijas!$H:$H,\"Pamatsumma\"),2)","v":0},{"$f":"ROUND(SUMIFS(Transakcijas!$R:$R,Transakcijas!$Q:$Q,$B$124,Transakcijas!$N:$N,\"<=\"&$B134,Transakcijas!$H:$H,\"Nokavējuma nauda\"),2)","v":0},{"$f":"ROUND(SUMIFS(Transakcijas!$R:$R,Transakcijas!$Q:$Q,$B$124,Transakcijas!$N:$N,\"<=\"&$B134,Transakcijas!$H:$H,\"Soda nauda\"),2)","v":0}]
[null,"2024-11-30",0,{"$f":"SUMIFS(Transakcijas!$R:$R,Transakcijas!$Q:$Q,$B$124,Transakcijas!$O:$O,YEAR($B135),Transakcijas!$P:$P,RIGHT(\"0\"&MONTH($B135),2),Transakcijas!$D:$D,\"Aprēķins\",Transakcijas!$H:$H,\"Pamatsumma\",Transakcijas!$K:$K,\"<>\"&\"FIFO*\",Transakcijas!$K:$K,\"<>\"&\"Iemaksas atbrīvošana\")","v":0},null,null,{"$f":"SUMIFS(Transakcijas!$R:$R,Transakcijas!$Q:$Q,$B$124,Transakcijas!$O:$O,YEAR($B135),Transakcijas!$P:$P,RIGHT(\"0\"&MONTH($B135),2),Transakcijas!$D:$D,\"Aprēķins\",Transakcijas!$H:$H,\"Nokavējuma nauda\",Transakcijas!$K:$K,\"<>\"&\"FIFO*\",Transakcijas!$K:$K,\"<>\"&\"Iemaksas atbrīvošana\")","v":0},{"$f":"SUMIFS(Transakcijas!$R:$R,Transakcijas!$Q:$Q,$B$124,Transakcijas!$O:$O,YEAR($B135),Transakcijas!$P:$P,RIGHT(\"0\"&MONTH($B135),2),Transakcijas!$D:$D,\"Aprēķins\",Transakcijas!$H:$H,\"Soda nauda\",Transakcijas!$K:$K,\"<>\"&\"FIFO*\",Transakcijas!$K:$K,\"<>\"&\"Iemaksas atbrīvošana\")","v":0},{"$f":"SUMIFS(Transakcijas!$R:$R,Transakcijas!$Q:$Q,$B$124,Transakcijas!$O:$O,YEAR($B135),Transakcijas!$P:$P,RIGHT(\"0\"&MONTH($B135),2),Transakcijas!$D:$D,\"Iemaksa\",Transakcijas!$K:$K,\"<>\"&\"Izejošā maksājuma anulēšana\")\n+SUMIFS(Transakcijas!$R:$R,Transakcijas!$Q:$Q,$B$124,Transakcijas!$O:$O,YEAR($B135),Transakcijas!$P:$P,RIGHT(\"0\"&MONTH($B135),2),Transakcijas!$D:$D,\"Atmaksa\",Transakcijas!$K:$K,\"Iemaksas atbrīvošana\")","v":0},{"$f":"SUMIFS(Transakcijas!$R:$R,Transakcijas!$Q:$Q,$B$124,Transakcijas!$O:$O,YEAR($B135),Transakcijas!$P:$P,RIGHT(\"0\"&MONTH($B135),2),Transakcijas!$D:$D,\"Atmaksa\",Transakcijas!$K:$K,\"<>\"&\"Iemaksas atbrīvošana\")\n+SUMIFS(Transakcijas!$R:$R,Transakcijas!$Q:$Q,$B$124,Transakcijas!$O:$O,YEAR($B135),Transakcijas!$P:$P,RIGHT(\"0\"&MONTH($B135),2),Transakcijas!$D:$D,\"Iemaksa\",Transakcijas!$K:$K,\"Izejošā maksājuma anulēšana\")","v":0},{"$f":"SUMIFS(Transakcijas!$R:$R,Transakcijas!$Q:$Q,$B$124,Transakcijas!$O:$O,YEAR($B135),Transakcijas!$P:$P,RIGHT(\"0\"&MONTH($B135),2),Transakcijas!$K:$K,\"FIFO savstarpējā segšana\")\n+SUMIFS(Transakcijas!$R:$R,Transakcijas!$Q:$Q,$B$124,Transakcijas!$O:$O,YEAR($B135),Transakcijas!$P:$P,RIGHT(\"0\"&MONTH($B135),2),Transakcijas!$D:$D,\"Aprēķins\",Transakcijas!$K:$K,\"Iemaksas atbrīvošana\")","v":0},{"$f":"SUMIFS(Transakcijas!$R:$R,Transakcijas!$Q:$Q,$B$124,Transakcijas!$O:$O,YEAR($B135),Transakcijas!$P:$P,RIGHT(\"0\"&MONTH($B135),2))-SUM(D135:K135)","v":0},0,{"$f":"ROUND(SUMIFS(Transakcijas!$R:$R,Transakcijas!$Q:$Q,$B$124,Transakcijas!$N:$N,\"<=\"&$B135,Transakcijas!$H:$H,\"Pamatsumma\"),2)","v":0},{"$f":"ROUND(SUMIFS(Transakcijas!$R:$R,Transakcijas!$Q:$Q,$B$124,Transakcijas!$N:$N,\"<=\"&$B135,Transakcijas!$H:$H,\"Nokavējuma nauda\"),2)","v":0},{"$f":"ROUND(SUMIFS(Transakcijas!$R:$R,Transakcijas!$Q:$Q,$B$124,Transakcijas!$N:$N,\"<=\"&$B135,Transakcijas!$H:$H,\"Soda nauda\"),2)","v":0}]
[null,"2024-12-31",0,{"$f":"SUMIFS(Transakcijas!$R:$R,Transakcijas!$Q:$Q,$B$124,Transakcijas!$O:$O,YEAR($B136),Transakcijas!$P:$P,RIGHT(\"0\"&MONTH($B136),2),Transakcijas!$D:$D,\"Aprēķins\",Transakcijas!$H:$H,\"Pamatsumma\",Transakcijas!$K:$K,\"<>\"&\"FIFO*\",Transakcijas!$K:$K,\"<>\"&\"Iemaksas atbrīvošana\")","v":0},null,null,{"$f":"SUMIFS(Transakcijas!$R:$R,Transakcijas!$Q:$Q,$B$124,Transakcijas!$O:$O,YEAR($B136),Transakcijas!$P:$P,RIGHT(\"0\"&MONTH($B136),2),Transakcijas!$D:$D,\"Aprēķins\",Transakcijas!$H:$H,\"Nokavējuma nauda\",Transakcijas!$K:$K,\"<>\"&\"FIFO*\",Transakcijas!$K:$K,\"<>\"&\"Iemaksas atbrīvošana\")","v":0},{"$f":"SUMIFS(Transakcijas!$R:$R,Transakcijas!$Q:$Q,$B$124,Transakcijas!$O:$O,YEAR($B136),Transakcijas!$P:$P,RIGHT(\"0\"&MONTH($B136),2),Transakcijas!$D:$D,\"Aprēķins\",Transakcijas!$H:$H,\"Soda nauda\",Transakcijas!$K:$K,\"<>\"&\"FIFO*\",Transakcijas!$K:$K,\"<>\"&\"Iemaksas atbrīvošana\")","v":0},{"$f":"SUMIFS(Transakcijas!$R:$R,Transakcijas!$Q:$Q,$B$124,Transakcijas!$O:$O,YEAR($B136),Transakcijas!$P:$P,RIGHT(\"0\"&MONTH($B136),2),Transakcijas!$D:$D,\"Iemaksa\",Transakcijas!$K:$K,\"<>\"&\"Izejošā maksājuma anulēšana\")\n+SUMIFS(Transakcijas!$R:$R,Transakcijas!$Q:$Q,$B$124,Transakcijas!$O:$O,YEAR($B136),Transakcijas!$P:$P,RIGHT(\"0\"&MONTH($B136),2),Transakcijas!$D:$D,\"Atmaksa\",Transakcijas!$K:$K,\"Iemaksas atbrīvošana\")","v":0},{"$f":"SUMIFS(Transakcijas!$R:$R,Transakcijas!$Q:$Q,$B$124,Transakcijas!$O:$O,YEAR($B136),Transakcijas!$P:$P,RIGHT(\"0\"&MONTH($B136),2),Transakcijas!$D:$D,\"Atmaksa\",Transakcijas!$K:$K,\"<>\"&\"Iemaksas atbrīvošana\")\n+SUMIFS(Transakcijas!$R:$R,Transakcijas!$Q:$Q,$B$124,Transakcijas!$O:$O,YEAR($B136),Transakcijas!$P:$P,RIGHT(\"0\"&MONTH($B136),2),Transakcijas!$D:$D,\"Iemaksa\",Transakcijas!$K:$K,\"Izejošā maksājuma anulēšana\")","v":0},{"$f":"SUMIFS(Transakcijas!$R:$R,Transakcijas!$Q:$Q,$B$124,Transakcijas!$O:$O,YEAR($B136),Transakcijas!$P:$P,RIGHT(\"0\"&MONTH($B136),2),Transakcijas!$K:$K,\"FIFO savstarpējā segšana\")\n+SUMIFS(Transakcijas!$R:$R,Transakcijas!$Q:$Q,$B$124,Transakcijas!$O:$O,YEAR($B136),Transakcijas!$P:$P,RIGHT(\"0\"&MONTH($B136),2),Transakcijas!$D:$D,\"Aprēķins\",Transakcijas!$K:$K,\"Iemaksas atbrīvošana\")","v":0},{"$f":"SUMIFS(Transakcijas!$R:$R,Transakcijas!$Q:$Q,$B$124,Transakcijas!$O:$O,YEAR($B136),Transakcijas!$P:$P,RIGHT(\"0\"&MONTH($B136),2))-SUM(D136:K136)","v":0},0,{"$f":"ROUND(SUMIFS(Transakcijas!$R:$R,Transakcijas!$Q:$Q,$B$124,Transakcijas!$N:$N,\"<=\"&$B136,Transakcijas!$H:$H,\"Pamatsumma\"),2)","v":0},{"$f":"ROUND(SUMIFS(Transakcijas!$R:$R,Transakcijas!$Q:$Q,$B$124,Transakcijas!$N:$N,\"<=\"&$B136,Transakcijas!$H:$H,\"Nokavējuma nauda\"),2)","v":0},{"$f":"ROUND(SUMIFS(Transakcijas!$R:$R,Transakcijas!$Q:$Q,$B$124,Transakcijas!$N:$N,\"<=\"&$B136,Transakcijas!$H:$H,\"Soda nauda\"),2)","v":0}]
[null,"Kopā",{"$f":"C125","v":0},{"$f":"SUM(D125:D136)","v":0},null,null,{"$f":"SUM(G125:G136)","v":0},0,0,0,0,0,0]
[]
[null,{"$f":"DATE(YEAR($M$4),MONTH($M$4)+2,0)","v":"2025-01-31"},{"$f":"IF(B139=\"\",0,M137)","v":0},{"$f":"SUMIFS(Transakcijas!$R:$R,Transakcijas!$Q:$Q,$B$124,Transakcijas!$O:$O,YEAR($B139),Transakcijas!$P:$P,RIGHT(\"0\"&MONTH($B139),2),Transakcijas!$D:$D,\"Aprēķins\",Transakcijas!$H:$H,\"Pamatsumma\",Transakcijas!$K:$K,\"<>\"&\"FIFO*\",Transakcijas!$K:$K,\"<>\"&\"Iemaksas atbrīvošana\")","v":0},null,null,{"$f":"SUMIFS(Transakcijas!$R:$R,Transakcijas!$Q:$Q,$B$124,Transakcijas!$O:$O,YEAR($B139),Transakcijas!$P:$P,RIGHT(\"0\"&MONTH($B139),2),Transakcijas!$D:$D,\"Aprēķins\",Transakcijas!$H:$H,\"Nokavējuma nauda\",Transakcijas!$K:$K,\"<>\"&\"FIFO*\",Transakcijas!$K:$K,\"<>\"&\"Iemaksas atbrīvošana\")","v":0},{"$f":"SUMIFS(Transakcijas!$R:$R,Transakcijas!$Q:$Q,$B$124,Transakcijas!$O:$O,YEAR($B139),Transakcijas!$P:$P,RIGHT(\"0\"&MONTH($B139),2),Transakcijas!$D:$D,\"Aprēķins\",Transakcijas!$H:$H,\"Soda nauda\",Transakcijas!$K:$K,\"<>\"&\"FIFO*\",Transakcijas!$K:$K,\"<>\"&\"Iemaksas atbrīvošana\")","v":0},{"$f":"SUMIFS(Transakcijas!$R:$R,Transakcijas!$Q:$Q,$B$124,Transakcijas!$O:$O,YEAR($B139),Transakcijas!$P:$P,RIGHT(\"0\"&MONTH($B139),2),Transakcijas!$D:$D,\"Iemaksa\",Transakcijas!$K:$K,\"<>\"&\"Izejošā maksājuma anulēšana\")\n+SUMIFS(Transakcijas!$R:$R,Transakcijas!$Q:$Q,$B$124,Transakcijas!$O:$O,YEAR($B139),Transakcijas!$P:$P,RIGHT(\"0\"&MONTH($B139),2),Transakcijas!$D:$D,\"Atmaksa\",Transakcijas!$K:$K,\"Iemaksas atbrīvošana\")","v":0},{"$f":"SUMIFS(Transakcijas!$R:$R,Transakcijas!$Q:$Q,$B$124,Transakcijas!$O:$O,YEAR($B139),Transakcijas!$P:$P,RIGHT(\"0\"&MONTH($B139),2),Transakcijas!$D:$D,\"Atmaksa\",Transakcijas!$K:$K,\"<>\"&\"Iemaksas atbrīvošana\")\n+SUMIFS(Transakcijas!$R:$R,Transakcijas!$Q:$Q,$B$124,Transakcijas!$O:$O,YEAR($B139),Transakcijas!$P:$P,RIGHT(\"0\"&MONTH($B139),2),Transakcijas!$D:$D,\"Iemaksa\",Transakcijas!$K:$K,\"Izejošā maksājuma anulēšana\")","v":0},{"$f":"SUMIFS(Transakcijas!$R:$R,Transakcijas!$Q:$Q,$B$124,Transakcijas!$O:$O,YEAR($B139),Transakcijas!$P:$P,RIGHT(\"0\"&MONTH($B139),2),Transakcijas!$K:$K,\"FIFO savstarpējā segšana\")\n+SUMIFS(Transakcijas!$R:$R,Transakcijas!$Q:$Q,$B$124,Transakcijas!$O:$O,YEAR($B139),Transakcijas!$P:$P,RIGHT(\"0\"&MONTH($B139),2),Transakcijas!$D:$D,\"Aprēķins\",Transakcijas!$K:$K,\"Iemaksas atbrīvošana\")","v":0},{"$f":"SUMIFS(Transakcijas!$R:$R,Transakcijas!$Q:$Q,$B$124,Transakcijas!$O:$O,YEAR($B139),Transakcijas!$P:$P,RIGHT(\"0\"&MONTH($B139),2))-SUM(D139:K139)","v":0},{"$f":"SUM(C139:L139)","v":0},{"$f":"ROUND(SUMIFS(Transakcijas!$R:$R,Transakcijas!$Q:$Q,$B$124,Transakcijas!$N:$N,\"<=\"&$B139,Transakcijas!$H:$H,\"Pamatsumma\"),2)","v":0},{"$f":"ROUND(SUMIFS(Transakcijas!$R:$R,Transakcijas!$Q:$Q,$B$124,Transakcijas!$N:$N,\"<=\"&$B139,Transakcijas!$H:$H,\"Nokavējuma nauda\"),2)","v":0},{"$f":"ROUND(SUMIFS(Transakcijas!$R:$R,Transakcijas!$Q:$Q,$B$124,Transakcijas!$N:$N,\"<=\"&$B139,Transakcijas!$H:$H,\"Soda nauda\"),2)","v":0}]
[]
[null,{"$f":"B13","v":"MUN"},"Atlikums uz perioda sākumu","Aprēķināts","Ieturēts","Aprēķinas (nerezid.)","Aprēķināta nokav. nauda  ","Aprēķināta\n soda nauda  ","Samaksāts\nAtbrīvots","Atmaksāts","Pārvietots \n(Savst.segš.)","Cita \nkustība","Atlikums uz perioda beigām","Pamat-\nsumma","Nokav. \nnauda  ","Soda \nnauda  "]
[null,{"$f":"DATE(YEAR($C$4),MONTH($C$4)+1,0)","v":"2024-01-31"},{"$f":"C13","v":0},{"$f":"SUMIFS(Transakcijas!$R:$R,Transakcijas!$Q:$Q,$B$141,Transakcijas!$O:$O,YEAR($B142),Transakcijas!$P:$P,RIGHT(\"0\"&MONTH($B142),2),Transakcijas!$D:$D,\"Aprēķins\",Transakcijas!$H:$H,\"Pamatsumma\",Transakcijas!$K:$K,\"<>\"&\"FIFO*\",Transakcijas!$K:$K,\"<>\"&\"Iemaksas atbrīvošana\")","v":0},null,null,{"$f":"SUMIFS(Transakcijas!$R:$R,Transakcijas!$Q:$Q,$B$141,Transakcijas!$O:$O,YEAR($B142),Transakcijas!$P:$P,RIGHT(\"0\"&MONTH($B142),2),Transakcijas!$D:$D,\"Aprēķins\",Transakcijas!$H:$H,\"Nokavējuma nauda\",Transakcijas!$K:$K,\"<>\"&\"FIFO*\",Transakcijas!$K:$K,\"<>\"&\"Iemaksas atbrīvošana\")","v":0},{"$f":"SUMIFS(Transakcijas!$R:$R,Transakcijas!$Q:$Q,$B$141,Transakcijas!$O:$O,YEAR($B142),Transakcijas!$P:$P,RIGHT(\"0\"&MONTH($B142),2),Transakcijas!$D:$D,\"Aprēķins\",Transakcijas!$H:$H,\"Soda nauda\",Transakcijas!$K:$K,\"<>\"&\"FIFO*\",Transakcijas!$K:$K,\"<>\"&\"Iemaksas atbrīvošana\")","v":0},{"$f":"SUMIFS(Transakcijas!$R:$R,Transakcijas!$Q:$Q,$B$141,Transakcijas!$O:$O,YEAR($B142),Transakcijas!$P:$P,RIGHT(\"0\"&MONTH($B142),2),Transakcijas!$D:$D,\"Iemaksa\",Transakcijas!$K:$K,\"<>\"&\"Izejošā maksājuma anulēšana\")\n+SUMIFS(Transakcijas!$R:$R,Transakcijas!$Q:$Q,$B$141,Transakcijas!$O:$O,YEAR($B142),Transakcijas!$P:$P,RIGHT(\"0\"&MONTH($B142),2),Transakcijas!$D:$D,\"Atmaksa\",Transakcijas!$K:$K,\"Iemaksas atbrīvošana\")","v":0},{"$f":"SUMIFS(Transakcijas!$R:$R,Transakcijas!$Q:$Q,$B$141,Transakcijas!$O:$O,YEAR($B142),Transakcijas!$P:$P,RIGHT(\"0\"&MONTH($B142),2),Transakcijas!$D:$D,\"Atmaksa\",Transakcijas!$K:$K,\"<>\"&\"Iemaksas atbrīvošana\")\n+SUMIFS(Transakcijas!$R:$R,Transakcijas!$Q:$Q,$B$141,Transakcijas!$O:$O,YEAR($B142),Transakcijas!$P:$P,RIGHT(\"0\"&MONTH($B142),2),Transakcijas!$D:$D,\"Iemaksa\",Transakcijas!$K:$K,\"Izejošā maksājuma anulēšana\")","v":0},{"$f":"SUMIFS(Transakcijas!$R:$R,Transakcijas!$Q:$Q,$B$141,Transakcijas!$O:$O,YEAR($B142),Transakcijas!$P:$P,RIGHT(\"0\"&MONTH($B142),2),Transakcijas!$K:$K,\"FIFO savstarpējā segšana\")\n+SUMIFS(Transakcijas!$R:$R,Transakcijas!$Q:$Q,$B$141,Transakcijas!$O:$O,YEAR($B142),Transakcijas!$P:$P,RIGHT(\"0\"&MONTH($B142),2),Transakcijas!$D:$D,\"Aprēķins\",Transakcijas!$K:$K,\"Iemaksas atbrīvošana\")","v":0},{"$f":"SUMIFS(Transakcijas!$R:$R,Transakcijas!$Q:$Q,$B$141,Transakcijas!$O:$O,YEAR($B142),Transakcijas!$P:$P,RIGHT(\"0\"&MONTH($B142),2))-SUM(D142:K142)","v":0},{"$f":"SUM(C142:L142)","v":0},{"$f":"ROUND(SUMIFS(Transakcijas!$R:$R,Transakcijas!$Q:$Q,$B$141,Transakcijas!$N:$N,\"<=\"&$B142,Transakcijas!$H:$H,\"Pamatsumma\"),2)","v":0},{"$f":"ROUND(SUMIFS(Transakcijas!$R:$R,Transakcijas!$Q:$Q,$B$141,Transakcijas!$N:$N,\"<=\"&$B142,Transakcijas!$H:$H,\"Nokavējuma nauda\"),2)","v":0},{"$f":"ROUND(SUMIFS(Transakcijas!$R:$R,Transakcijas!$Q:$Q,$B$141,Transakcijas!$N:$N,\"<=\"&$B142,Transakcijas!$H:$H,\"Soda nauda\"),2)","v":0}]
[null,{"$f":"IF(IF(B142=\"\",$M$4+1,DATE(YEAR(B142),MONTH(B142)+2,0))<=$M$4,DATE(YEAR(B142),MONTH(B142)+2,0),\"\")","v":"2024-02-29"},{"$f":"IF(B143=\"\",0,M142)","v":0},{"$f":"SUMIFS(Transakcijas!$R:$R,Transakcijas!$Q:$Q,$B$141,Transakcijas!$O:$O,YEAR($B143),Transakcijas!$P:$P,RIGHT(\"0\"&MONTH($B143),2),Transakcijas!$D:$D,\"Aprēķins\",Transakcijas!$H:$H,\"Pamatsumma\",Transakcijas!$K:$K,\"<>\"&\"FIFO*\",Transakcijas!$K:$K,\"<>\"&\"Iemaksas atbrīvošana\")","v":0},null,null,{"$f":"SUMIFS(Transakcijas!$R:$R,Transakcijas!$Q:$Q,$B$141,Transakcijas!$O:$O,YEAR($B143),Transakcijas!$P:$P,RIGHT(\"0\"&MONTH($B143),2),Transakcijas!$D:$D,\"Aprēķins\",Transakcijas!$H:$H,\"Nokavējuma nauda\",Transakcijas!$K:$K,\"<>\"&\"FIFO*\",Transakcijas!$K:$K,\"<>\"&\"Iemaksas atbrīvošana\")","v":0},{"$f":"SUMIFS(Transakcijas!$R:$R,Transakcijas!$Q:$Q,$B$141,Transakcijas!$O:$O,YEAR($B143),Transakcijas!$P:$P,RIGHT(\"0\"&MONTH($B143),2),Transakcijas!$D:$D,\"Aprēķins\",Transakcijas!$H:$H,\"Soda nauda\",Transakcijas!$K:$K,\"<>\"&\"FIFO*\",Transakcijas!$K:$K,\"<>\"&\"Iemaksas atbrīvošana\")","v":0},{"$f":"SUMIFS(Transakcijas!$R:$R,Transakcijas!$Q:$Q,$B$141,Transakcijas!$O:$O,YEAR($B143),Transakcijas!$P:$P,RIGHT(\"0\"&MONTH($B143),2),Transakcijas!$D:$D,\"Iemaksa\",Transakcijas!$K:$K,\"<>\"&\"Izejošā maksājuma anulēšana\")\n+SUMIFS(Transakcijas!$R:$R,Transakcijas!$Q:$Q,$B$141,Transakcijas!$O:$O,YEAR($B143),Transakcijas!$P:$P,RIGHT(\"0\"&MONTH($B143),2),Transakcijas!$D:$D,\"Atmaksa\",Transakcijas!$K:$K,\"Iemaksas atbrīvošana\")","v":0},{"$f":"SUMIFS(Transakcijas!$R:$R,Transakcijas!$Q:$Q,$B$141,Transakcijas!$O:$O,YEAR($B143),Transakcijas!$P:$P,RIGHT(\"0\"&MONTH($B143),2),Transakcijas!$D:$D,\"Atmaksa\",Transakcijas!$K:$K,\"<>\"&\"Iemaksas atbrīvošana\")\n+SUMIFS(Transakcijas!$R:$R,Transakcijas!$Q:$Q,$B$141,Transakcijas!$O:$O,YEAR($B143),Transakcijas!$P:$P,RIGHT(\"0\"&MONTH($B143),2),Transakcijas!$D:$D,\"Iemaksa\",Transakcijas!$K:$K,\"Izejošā maksājuma anulēšana\")","v":0},{"$f":"SUMIFS(Transakcijas!$R:$R,Transakcijas!$Q:$Q,$B$141,Transakcijas!$O:$O,YEAR($B143),Transakcijas!$P:$P,RIGHT(\"0\"&MONTH($B143),2),Transakcijas!$K:$K,\"FIFO savstarpējā segšana\")\n+SUMIFS(Transakcijas!$R:$R,Transakcijas!$Q:$Q,$B$141,Transakcijas!$O:$O,YEAR($B143),Transakcijas!$P:$P,RIGHT(\"0\"&MONTH($B143),2),Transakcijas!$D:$D,\"Aprēķins\",Transakcijas!$K:$K,\"Iemaksas atbrīvošana\")","v":0},{"$f":"SUMIFS(Transakcijas!$R:$R,Transakcijas!$Q:$Q,$B$141,Transakcijas!$O:$O,YEAR($B143),Transakcijas!$P:$P,RIGHT(\"0\"&MONTH($B143),2))-SUM(D143:K143)","v":0},0,{"$f":"ROUND(SUMIFS(Transakcijas!$R:$R,Transakcijas!$Q:$Q,$B$141,Transakcijas!$N:$N,\"<=\"&$B143,Transakcijas!$H:$H,\"Pamatsumma\"),2)","v":0},{"$f":"ROUND(SUMIFS(Transakcijas!$R:$R,Transakcijas!$Q:$Q,$B$141,Transakcijas!$N:$N,\"<=\"&$B143,Transakcijas!$H:$H,\"Nokavējuma nauda\"),2)","v":0},{"$f":"ROUND(SUMIFS(Transakcijas!$R:$R,Transakcijas!$Q:$Q,$B$141,Transakcijas!$N:$N,\"<=\"&$B143,Transakcijas!$H:$H,\"Soda nauda\"),2)","v":0}]
[null,"2024-03-31",0,{"$f":"SUMIFS(Transakcijas!$R:$R,Transakcijas!$Q:$Q,$B$141,Transakcijas!$O:$O,YEAR($B144),Transakcijas!$P:$P,RIGHT(\"0\"&MONTH($B144),2),Transakcijas!$D:$D,\"Aprēķins\",Transakcijas!$H:$H,\"Pamatsumma\",Transakcijas!$K:$K,\"<>\"&\"FIFO*\",Transakcijas!$K:$K,\"<>\"&\"Iemaksas atbrīvošana\")","v":0},null,null,{"$f":"SUMIFS(Transakcijas!$R:$R,Transakcijas!$Q:$Q,$B$141,Transakcijas!$O:$O,YEAR($B144),Transakcijas!$P:$P,RIGHT(\"0\"&MONTH($B144),2),Transakcijas!$D:$D,\"Aprēķins\",Transakcijas!$H:$H,\"Nokavējuma nauda\",Transakcijas!$K:$K,\"<>\"&\"FIFO*\",Transakcijas!$K:$K,\"<>\"&\"Iemaksas atbrīvošana\")","v":0},{"$f":"SUMIFS(Transakcijas!$R:$R,Transakcijas!$Q:$Q,$B$141,Transakcijas!$O:$O,YEAR($B144),Transakcijas!$P:$P,RIGHT(\"0\"&MONTH($B144),2),Transakcijas!$D:$D,\"Aprēķins\",Transakcijas!$H:$H,\"Soda nauda\",Transakcijas!$K:$K,\"<>\"&\"FIFO*\",Transakcijas!$K:$K,\"<>\"&\"Iemaksas atbrīvošana\")","v":0},{"$f":"SUMIFS(Transakcijas!$R:$R,Transakcijas!$Q:$Q,$B$141,Transakcijas!$O:$O,YEAR($B144),Transakcijas!$P:$P,RIGHT(\"0\"&MONTH($B144),2),Transakcijas!$D:$D,\"Iemaksa\",Transakcijas!$K:$K,\"<>\"&\"Izejošā maksājuma anulēšana\")\n+SUMIFS(Transakcijas!$R:$R,Transakcijas!$Q:$Q,$B$141,Transakcijas!$O:$O,YEAR($B144),Transakcijas!$P:$P,RIGHT(\"0\"&MONTH($B144),2),Transakcijas!$D:$D,\"Atmaksa\",Transakcijas!$K:$K,\"Iemaksas atbrīvošana\")","v":0},{"$f":"SUMIFS(Transakcijas!$R:$R,Transakcijas!$Q:$Q,$B$141,Transakcijas!$O:$O,YEAR($B144),Transakcijas!$P:$P,RIGHT(\"0\"&MONTH($B144),2),Transakcijas!$D:$D,\"Atmaksa\",Transakcijas!$K:$K,\"<>\"&\"Iemaksas atbrīvošana\")\n+SUMIFS(Transakcijas!$R:$R,Transakcijas!$Q:$Q,$B$141,Transakcijas!$O:$O,YEAR($B144),Transakcijas!$P:$P,RIGHT(\"0\"&MONTH($B144),2),Transakcijas!$D:$D,\"Iemaksa\",Transakcijas!$K:$K,\"Izejošā maksājuma anulēšana\")","v":0},{"$f":"SUMIFS(Transakcijas!$R:$R,Transakcijas!$Q:$Q,$B$141,Transakcijas!$O:$O,YEAR($B144),Transakcijas!$P:$P,RIGHT(\"0\"&MONTH($B144),2),Transakcijas!$K:$K,\"FIFO savstarpējā segšana\")\n+SUMIFS(Transakcijas!$R:$R,Transakcijas!$Q:$Q,$B$141,Transakcijas!$O:$O,YEAR($B144),Transakcijas!$P:$P,RIGHT(\"0\"&MONTH($B144),2),Transakcijas!$D:$D,\"Aprēķins\",Transakcijas!$K:$K,\"Iemaksas atbrīvošana\")","v":0},{"$f":"SUMIFS(Transakcijas!$R:$R,Transakcijas!$Q:$Q,$B$141,Transakcijas!$O:$O,YEAR($B144),Transakcijas!$P:$P,RIGHT(\"0\"&MONTH($B144),2))-SUM(D144:K144)","v":0},0,{"$f":"ROUND(SUMIFS(Transakcijas!$R:$R,Transakcijas!$Q:$Q,$B$141,Transakcijas!$N:$N,\"<=\"&$B144,Transakcijas!$H:$H,\"Pamatsumma\"),2)","v":0},{"$f":"ROUND(SUMIFS(Transakcijas!$R:$R,Transakcijas!$Q:$Q,$B$141,Transakcijas!$N:$N,\"<=\"&$B144,Transakcijas!$H:$H,\"Nokavējuma nauda\"),2)","v":0},{"$f":"ROUND(SUMIFS(Transakcijas!$R:$R,Transakcijas!$Q:$Q,$B$141,Transakcijas!$N:$N,\"<=\"&$B144,Transakcijas!$H:$H,\"Soda nauda\"),2)","v":0}]
[null,"2024-04-30",0,{"$f":"SUMIFS(Transakcijas!$R:$R,Transakcijas!$Q:$Q,$B$141,Transakcijas!$O:$O,YEAR($B145),Transakcijas!$P:$P,RIGHT(\"0\"&MONTH($B145),2),Transakcijas!$D:$D,\"Aprēķins\",Transakcijas!$H:$H,\"Pamatsumma\",Transakcijas!$K:$K,\"<>\"&\"FIFO*\",Transakcijas!$K:$K,\"<>\"&\"Iemaksas atbrīvošana\")","v":0},null,null,{"$f":"SUMIFS(Transakcijas!$R:$R,Transakcijas!$Q:$Q,$B$141,Transakcijas!$O:$O,YEAR($B145),Transakcijas!$P:$P,RIGHT(\"0\"&MONTH($B145),2),Transakcijas!$D:$D,\"Aprēķins\",Transakcijas!$H:$H,\"Nokavējuma nauda\",Transakcijas!$K:$K,\"<>\"&\"FIFO*\",Transakcijas!$K:$K,\"<>\"&\"Iemaksas atbrīvošana\")","v":0},{"$f":"SUMIFS(Transakcijas!$R:$R,Transakcijas!$Q:$Q,$B$141,Transakcijas!$O:$O,YEAR($B145),Transakcijas!$P:$P,RIGHT(\"0\"&MONTH($B145),2),Transakcijas!$D:$D,\"Aprēķins\",Transakcijas!$H:$H,\"Soda nauda\",Transakcijas!$K:$K,\"<>\"&\"FIFO*\",Transakcijas!$K:$K,\"<>\"&\"Iemaksas atbrīvošana\")","v":0},{"$f":"SUMIFS(Transakcijas!$R:$R,Transakcijas!$Q:$Q,$B$141,Transakcijas!$O:$O,YEAR($B145),Transakcijas!$P:$P,RIGHT(\"0\"&MONTH($B145),2),Transakcijas!$D:$D,\"Iemaksa\",Transakcijas!$K:$K,\"<>\"&\"Izejošā maksājuma anulēšana\")\n+SUMIFS(Transakcijas!$R:$R,Transakcijas!$Q:$Q,$B$141,Transakcijas!$O:$O,YEAR($B145),Transakcijas!$P:$P,RIGHT(\"0\"&MONTH($B145),2),Transakcijas!$D:$D,\"Atmaksa\",Transakcijas!$K:$K,\"Iemaksas atbrīvošana\")","v":0},{"$f":"SUMIFS(Transakcijas!$R:$R,Transakcijas!$Q:$Q,$B$141,Transakcijas!$O:$O,YEAR($B145),Transakcijas!$P:$P,RIGHT(\"0\"&MONTH($B145),2),Transakcijas!$D:$D,\"Atmaksa\",Transakcijas!$K:$K,\"<>\"&\"Iemaksas atbrīvošana\")\n+SUMIFS(Transakcijas!$R:$R,Transakcijas!$Q:$Q,$B$141,Transakcijas!$O:$O,YEAR($B145),Transakcijas!$P:$P,RIGHT(\"0\"&MONTH($B145),2),Transakcijas!$D:$D,\"Iemaksa\",Transakcijas!$K:$K,\"Izejošā maksājuma anulēšana\")","v":0},{"$f":"SUMIFS(Transakcijas!$R:$R,Transakcijas!$Q:$Q,$B$141,Transakcijas!$O:$O,YEAR($B145),Transakcijas!$P:$P,RIGHT(\"0\"&MONTH($B145),2),Transakcijas!$K:$K,\"FIFO savstarpējā segšana\")\n+SUMIFS(Transakcijas!$R:$R,Transakcijas!$Q:$Q,$B$141,Transakcijas!$O:$O,YEAR($B145),Transakcijas!$P:$P,RIGHT(\"0\"&MONTH($B145),2),Transakcijas!$D:$D,\"Aprēķins\",Transakcijas!$K:$K,\"Iemaksas atbrīvošana\")","v":0},{"$f":"SUMIFS(Transakcijas!$R:$R,Transakcijas!$Q:$Q,$B$141,Transakcijas!$O:$O,YEAR($B145),Transakcijas!$P:$P,RIGHT(\"0\"&MONTH($B145),2))-SUM(D145:K145)","v":0},0,{"$f":"ROUND(SUMIFS(Transakcijas!$R:$R,Transakcijas!$Q:$Q,$B$141,Transakcijas!$N:$N,\"<=\"&$B145,Transakcijas!$H:$H,\"Pamatsumma\"),2)","v":0},{"$f":"ROUND(SUMIFS(Transakcijas!$R:$R,Transakcijas!$Q:$Q,$B$141,Transakcijas!$N:$N,\"<=\"&$B145,Transakcijas!$H:$H,\"Nokavējuma nauda\"),2)","v":0},{"$f":"ROUND(SUMIFS(Transakcijas!$R:$R,Transakcijas!$Q:$Q,$B$141,Transakcijas!$N:$N,\"<=\"&$B145,Transakcijas!$H:$H,\"Soda nauda\"),2)","v":0}]
[null,"2024-05-31",0,{"$f":"SUMIFS(Transakcijas!$R:$R,Transakcijas!$Q:$Q,$B$141,Transakcijas!$O:$O,YEAR($B146),Transakcijas!$P:$P,RIGHT(\"0\"&MONTH($B146),2),Transakcijas!$D:$D,\"Aprēķins\",Transakcijas!$H:$H,\"Pamatsumma\",Transakcijas!$K:$K,\"<>\"&\"FIFO*\",Transakcijas!$K:$K,\"<>\"&\"Iemaksas atbrīvošana\")","v":0},null,null,{"$f":"SUMIFS(Transakcijas!$R:$R,Transakcijas!$Q:$Q,$B$141,Transakcijas!$O:$O,YEAR($B146),Transakcijas!$P:$P,RIGHT(\"0\"&MONTH($B146),2),Transakcijas!$D:$D,\"Aprēķins\",Transakcijas!$H:$H,\"Nokavējuma nauda\",Transakcijas!$K:$K,\"<>\"&\"FIFO*\",Transakcijas!$K:$K,\"<>\"&\"Iemaksas atbrīvošana\")","v":0},{"$f":"SUMIFS(Transakcijas!$R:$R,Transakcijas!$Q:$Q,$B$141,Transakcijas!$O:$O,YEAR($B146),Transakcijas!$P:$P,RIGHT(\"0\"&MONTH($B146),2),Transakcijas!$D:$D,\"Aprēķins\",Transakcijas!$H:$H,\"Soda nauda\",Transakcijas!$K:$K,\"<>\"&\"FIFO*\",Transakcijas!$K:$K,\"<>\"&\"Iemaksas atbrīvošana\")","v":0},{"$f":"SUMIFS(Transakcijas!$R:$R,Transakcijas!$Q:$Q,$B$141,Transakcijas!$O:$O,YEAR($B146),Transakcijas!$P:$P,RIGHT(\"0\"&MONTH($B146),2),Transakcijas!$D:$D,\"Iemaksa\",Transakcijas!$K:$K,\"<>\"&\"Izejošā maksājuma anulēšana\")\n+SUMIFS(Transakcijas!$R:$R,Transakcijas!$Q:$Q,$B$141,Transakcijas!$O:$O,YEAR($B146),Transakcijas!$P:$P,RIGHT(\"0\"&MONTH($B146),2),Transakcijas!$D:$D,\"Atmaksa\",Transakcijas!$K:$K,\"Iemaksas atbrīvošana\")","v":0},{"$f":"SUMIFS(Transakcijas!$R:$R,Transakcijas!$Q:$Q,$B$141,Transakcijas!$O:$O,YEAR($B146),Transakcijas!$P:$P,RIGHT(\"0\"&MONTH($B146),2),Transakcijas!$D:$D,\"Atmaksa\",Transakcijas!$K:$K,\"<>\"&\"Iemaksas atbrīvošana\")\n+SUMIFS(Transakcijas!$R:$R,Transakcijas!$Q:$Q,$B$141,Transakcijas!$O:$O,YEAR($B146),Transakcijas!$P:$P,RIGHT(\"0\"&MONTH($B146),2),Transakcijas!$D:$D,\"Iemaksa\",Transakcijas!$K:$K,\"Izejošā maksājuma anulēšana\")","v":0},{"$f":"SUMIFS(Transakcijas!$R:$R,Transakcijas!$Q:$Q,$B$141,Transakcijas!$O:$O,YEAR($B146),Transakcijas!$P:$P,RIGHT(\"0\"&MONTH($B146),2),Transakcijas!$K:$K,\"FIFO savstarpējā segšana\")\n+SUMIFS(Transakcijas!$R:$R,Transakcijas!$Q:$Q,$B$141,Transakcijas!$O:$O,YEAR($B146),Transakcijas!$P:$P,RIGHT(\"0\"&MONTH($B146),2),Transakcijas!$D:$D,\"Aprēķins\",Transakcijas!$K:$K,\"Iemaksas atbrīvošana\")","v":0},{"$f":"SUMIFS(Transakcijas!$R:$R,Transakcijas!$Q:$Q,$B$141,Transakcijas!$O:$O,YEAR($B146),Transakcijas!$P:$P,RIGHT(\"0\"&MONTH($B146),2))-SUM(D146:K146)","v":0},0,{"$f":"ROUND(SUMIFS(Transakcijas!$R:$R,Transakcijas!$Q:$Q,$B$141,Transakcijas!$N:$N,\"<=\"&$B146,Transakcijas!$H:$H,\"Pamatsumma\"),2)","v":0},{"$f":"ROUND(SUMIFS(Transakcijas!$R:$R,Transakcijas!$Q:$Q,$B$141,Transakcijas!$N:$N,\"<=\"&$B146,Transakcijas!$H:$H,\"Nokavējuma nauda\"),2)","v":0},{"$f":"ROUND(SUMIFS(Transakcijas!$R:$R,Transakcijas!$Q:$Q,$B$141,Transakcijas!$N:$N,\"<=\"&$B146,Transakcijas!$H:$H,\"Soda nauda\"),2)","v":0}]
[null,"2024-06-30",0,{"$f":"SUMIFS(Transakcijas!$R:$R,Transakcijas!$Q:$Q,$B$141,Transakcijas!$O:$O,YEAR($B147),Transakcijas!$P:$P,RIGHT(\"0\"&MONTH($B147),2),Transakcijas!$D:$D,\"Aprēķins\",Transakcijas!$H:$H,\"Pamatsumma\",Transakcijas!$K:$K,\"<>\"&\"FIFO*\",Transakcijas!$K:$K,\"<>\"&\"Iemaksas atbrīvošana\")","v":0},null,null,{"$f":"SUMIFS(Transakcijas!$R:$R,Transakcijas!$Q:$Q,$B$141,Transakcijas!$O:$O,YEAR($B147),Transakcijas!$P:$P,RIGHT(\"0\"&MONTH($B147),2),Transakcijas!$D:$D,\"Aprēķins\",Transakcijas!$H:$H,\"Nokavējuma nauda\",Transakcijas!$K:$K,\"<>\"&\"FIFO*\",Transakcijas!$K:$K,\"<>\"&\"Iemaksas atbrīvošana\")","v":0},{"$f":"SUMIFS(Transakcijas!$R:$R,Transakcijas!$Q:$Q,$B$141,Transakcijas!$O:$O,YEAR($B147),Transakcijas!$P:$P,RIGHT(\"0\"&MONTH($B147),2),Transakcijas!$D:$D,\"Aprēķins\",Transakcijas!$H:$H,\"Soda nauda\",Transakcijas!$K:$K,\"<>\"&\"FIFO*\",Transakcijas!$K:$K,\"<>\"&\"Iemaksas atbrīvošana\")","v":0},{"$f":"SUMIFS(Transakcijas!$R:$R,Transakcijas!$Q:$Q,$B$141,Transakcijas!$O:$O,YEAR($B147),Transakcijas!$P:$P,RIGHT(\"0\"&MONTH($B147),2),Transakcijas!$D:$D,\"Iemaksa\",Transakcijas!$K:$K,\"<>\"&\"Izejošā maksājuma anulēšana\")\n+SUMIFS(Transakcijas!$R:$R,Transakcijas!$Q:$Q,$B$141,Transakcijas!$O:$O,YEAR($B147),Transakcijas!$P:$P,RIGHT(\"0\"&MONTH($B147),2),Transakcijas!$D:$D,\"Atmaksa\",Transakcijas!$K:$K,\"Iemaksas atbrīvošana\")","v":0},{"$f":"SUMIFS(Transakcijas!$R:$R,Transakcijas!$Q:$Q,$B$141,Transakcijas!$O:$O,YEAR($B147),Transakcijas!$P:$P,RIGHT(\"0\"&MONTH($B147),2),Transakcijas!$D:$D,\"Atmaksa\",Transakcijas!$K:$K,\"<>\"&\"Iemaksas atbrīvošana\")\n+SUMIFS(Transakcijas!$R:$R,Transakcijas!$Q:$Q,$B$141,Transakcijas!$O:$O,YEAR($B147),Transakcijas!$P:$P,RIGHT(\"0\"&MONTH($B147),2),Transakcijas!$D:$D,\"Iemaksa\",Transakcijas!$K:$K,\"Izejošā maksājuma anulēšana\")","v":0},{"$f":"SUMIFS(Transakcijas!$R:$R,Transakcijas!$Q:$Q,$B$141,Transakcijas!$O:$O,YEAR($B147),Transakcijas!$P:$P,RIGHT(\"0\"&MONTH($B147),2),Transakcijas!$K:$K,\"FIFO savstarpējā segšana\")\n+SUMIFS(Transakcijas!$R:$R,Transakcijas!$Q:$Q,$B$141,Transakcijas!$O:$O,YEAR($B147),Transakcijas!$P:$P,RIGHT(\"0\"&MONTH($B147),2),Transakcijas!$D:$D,\"Aprēķins\",Transakcijas!$K:$K,\"Iemaksas atbrīvošana\")","v":0},{"$f":"SUMIFS(Transakcijas!$R:$R,Transakcijas!$Q:$Q,$B$141,Transakcijas!$O:$O,YEAR($B147),Transakcijas!$P:$P,RIGHT(\"0\"&MONTH($B147),2))-SUM(D147:K147)","v":0},0,{"$f":"ROUND(SUMIFS(Transakcijas!$R:$R,Transakcijas!$Q:$Q,$B$141,Transakcijas!$N:$N,\"<=\"&$B147,Transakcijas!$H:$H,\"Pamatsumma\"),2)","v":0},{"$f":"ROUND(SUMIFS(Transakcijas!$R:$R,Transakcijas!$Q:$Q,$B$141,Transakcijas!$N:$N,\"<=\"&$B147,Transakcijas!$H:$H,\"Nokavējuma nauda\"),2)","v":0},{"$f":"ROUND(SUMIFS(Transakcijas!$R:$R,Transakcijas!$Q:$Q,$B$141,Transakcijas!$N:$N,\"<=\"&$B147,Transakcijas!$H:$H,\"Soda nauda\"),2)","v":0}]
[null,"2024-07-31",0,{"$f":"SUMIFS(Transakcijas!$R:$R,Transakcijas!$Q:$Q,$B$141,Transakcijas!$O:$O,YEAR($B148),Transakcijas!$P:$P,RIGHT(\"0\"&MONTH($B148),2),Transakcijas!$D:$D,\"Aprēķins\",Transakcijas!$H:$H,\"Pamatsumma\",Transakcijas!$K:$K,\"<>\"&\"FIFO*\",Transakcijas!$K:$K,\"<>\"&\"Iemaksas atbrīvošana\")","v":0},null,null,{"$f":"SUMIFS(Transakcijas!$R:$R,Transakcijas!$Q:$Q,$B$141,Transakcijas!$O:$O,YEAR($B148),Transakcijas!$P:$P,RIGHT(\"0\"&MONTH($B148),2),Transakcijas!$D:$D,\"Aprēķins\",Transakcijas!$H:$H,\"Nokavējuma nauda\",Transakcijas!$K:$K,\"<>\"&\"FIFO*\",Transakcijas!$K:$K,\"<>\"&\"Iemaksas atbrīvošana\")","v":0},{"$f":"SUMIFS(Transakcijas!$R:$R,Transakcijas!$Q:$Q,$B$141,Transakcijas!$O:$O,YEAR($B148),Transakcijas!$P:$P,RIGHT(\"0\"&MONTH($B148),2),Transakcijas!$D:$D,\"Aprēķins\",Transakcijas!$H:$H,\"Soda nauda\",Transakcijas!$K:$K,\"<>\"&\"FIFO*\",Transakcijas!$K:$K,\"<>\"&\"Iemaksas atbrīvošana\")","v":0},{"$f":"SUMIFS(Transakcijas!$R:$R,Transakcijas!$Q:$Q,$B$141,Transakcijas!$O:$O,YEAR($B148),Transakcijas!$P:$P,RIGHT(\"0\"&MONTH($B148),2),Transakcijas!$D:$D,\"Iemaksa\",Transakcijas!$K:$K,\"<>\"&\"Izejošā maksājuma anulēšana\")\n+SUMIFS(Transakcijas!$R:$R,Transakcijas!$Q:$Q,$B$141,Transakcijas!$O:$O,YEAR($B148),Transakcijas!$P:$P,RIGHT(\"0\"&MONTH($B148),2),Transakcijas!$D:$D,\"Atmaksa\",Transakcijas!$K:$K,\"Iemaksas atbrīvošana\")","v":0},{"$f":"SUMIFS(Transakcijas!$R:$R,Transakcijas!$Q:$Q,$B$141,Transakcijas!$O:$O,YEAR($B148),Transakcijas!$P:$P,RIGHT(\"0\"&MONTH($B148),2),Transakcijas!$D:$D,\"Atmaksa\",Transakcijas!$K:$K,\"<>\"&\"Iemaksas atbrīvošana\")\n+SUMIFS(Transakcijas!$R:$R,Transakcijas!$Q:$Q,$B$141,Transakcijas!$O:$O,YEAR($B148),Transakcijas!$P:$P,RIGHT(\"0\"&MONTH($B148),2),Transakcijas!$D:$D,\"Iemaksa\",Transakcijas!$K:$K,\"Izejošā maksājuma anulēšana\")","v":0},{"$f":"SUMIFS(Transakcijas!$R:$R,Transakcijas!$Q:$Q,$B$141,Transakcijas!$O:$O,YEAR($B148),Transakcijas!$P:$P,RIGHT(\"0\"&MONTH($B148),2),Transakcijas!$K:$K,\"FIFO savstarpējā segšana\")\n+SUMIFS(Transakcijas!$R:$R,Transakcijas!$Q:$Q,$B$141,Transakcijas!$O:$O,YEAR($B148),Transakcijas!$P:$P,RIGHT(\"0\"&MONTH($B148),2),Transakcijas!$D:$D,\"Aprēķins\",Transakcijas!$K:$K,\"Iemaksas atbrīvošana\")","v":0},{"$f":"SUMIFS(Transakcijas!$R:$R,Transakcijas!$Q:$Q,$B$141,Transakcijas!$O:$O,YEAR($B148),Transakcijas!$P:$P,RIGHT(\"0\"&MONTH($B148),2))-SUM(D148:K148)","v":0},0,{"$f":"ROUND(SUMIFS(Transakcijas!$R:$R,Transakcijas!$Q:$Q,$B$141,Transakcijas!$N:$N,\"<=\"&$B148,Transakcijas!$H:$H,\"Pamatsumma\"),2)","v":0},{"$f":"ROUND(SUMIFS(Transakcijas!$R:$R,Transakcijas!$Q:$Q,$B$141,Transakcijas!$N:$N,\"<=\"&$B148,Transakcijas!$H:$H,\"Nokavējuma nauda\"),2)","v":0},{"$f":"ROUND(SUMIFS(Transakcijas!$R:$R,Transakcijas!$Q:$Q,$B$141,Transakcijas!$N:$N,\"<=\"&$B148,Transakcijas!$H:$H,\"Soda nauda\"),2)","v":0}]
[null,"2024-08-31",0,{"$f":"SUMIFS(Transakcijas!$R:$R,Transakcijas!$Q:$Q,$B$141,Transakcijas!$O:$O,YEAR($B149),Transakcijas!$P:$P,RIGHT(\"0\"&MONTH($B149),2),Transakcijas!$D:$D,\"Aprēķins\",Transakcijas!$H:$H,\"Pamatsumma\",Transakcijas!$K:$K,\"<>\"&\"FIFO*\",Transakcijas!$K:$K,\"<>\"&\"Iemaksas atbrīvošana\")","v":0},null,null,{"$f":"SUMIFS(Transakcijas!$R:$R,Transakcijas!$Q:$Q,$B$141,Transakcijas!$O:$O,YEAR($B149),Transakcijas!$P:$P,RIGHT(\"0\"&MONTH($B149),2),Transakcijas!$D:$D,\"Aprēķins\",Transakcijas!$H:$H,\"Nokavējuma nauda\",Transakcijas!$K:$K,\"<>\"&\"FIFO*\",Transakcijas!$K:$K,\"<>\"&\"Iemaksas atbrīvošana\")","v":0},{"$f":"SUMIFS(Transakcijas!$R:$R,Transakcijas!$Q:$Q,$B$141,Transakcijas!$O:$O,YEAR($B149),Transakcijas!$P:$P,RIGHT(\"0\"&MONTH($B149),2),Transakcijas!$D:$D,\"Aprēķins\",Transakcijas!$H:$H,\"Soda nauda\",Transakcijas!$K:$K,\"<>\"&\"FIFO*\",Transakcijas!$K:$K,\"<>\"&\"Iemaksas atbrīvošana\")","v":0},{"$f":"SUMIFS(Transakcijas!$R:$R,Transakcijas!$Q:$Q,$B$141,Transakcijas!$O:$O,YEAR($B149),Transakcijas!$P:$P,RIGHT(\"0\"&MONTH($B149),2),Transakcijas!$D:$D,\"Iemaksa\",Transakcijas!$K:$K,\"<>\"&\"Izejošā maksājuma anulēšana\")\n+SUMIFS(Transakcijas!$R:$R,Transakcijas!$Q:$Q,$B$141,Transakcijas!$O:$O,YEAR($B149),Transakcijas!$P:$P,RIGHT(\"0\"&MONTH($B149),2),Transakcijas!$D:$D,\"Atmaksa\",Transakcijas!$K:$K,\"Iemaksas atbrīvošana\")","v":0},{"$f":"SUMIFS(Transakcijas!$R:$R,Transakcijas!$Q:$Q,$B$141,Transakcijas!$O:$O,YEAR($B149),Transakcijas!$P:$P,RIGHT(\"0\"&MONTH($B149),2),Transakcijas!$D:$D,\"Atmaksa\",Transakcijas!$K:$K,\"<>\"&\"Iemaksas atbrīvošana\")\n+SUMIFS(Transakcijas!$R:$R,Transakcijas!$Q:$Q,$B$141,Transakcijas!$O:$O,YEAR($B149),Transakcijas!$P:$P,RIGHT(\"0\"&MONTH($B149),2),Transakcijas!$D:$D,\"Iemaksa\",Transakcijas!$K:$K,\"Izejošā maksājuma anulēšana\")","v":0},{"$f":"SUMIFS(Transakcijas!$R:$R,Transakcijas!$Q:$Q,$B$141,Transakcijas!$O:$O,YEAR($B149),Transakcijas!$P:$P,RIGHT(\"0\"&MONTH($B149),2),Transakcijas!$K:$K,\"FIFO savstarpējā segšana\")\n+SUMIFS(Transakcijas!$R:$R,Transakcijas!$Q:$Q,$B$141,Transakcijas!$O:$O,YEAR($B149),Transakcijas!$P:$P,RIGHT(\"0\"&MONTH($B149),2),Transakcijas!$D:$D,\"Aprēķins\",Transakcijas!$K:$K,\"Iemaksas atbrīvošana\")","v":0},{"$f":"SUMIFS(Transakcijas!$R:$R,Transakcijas!$Q:$Q,$B$141,Transakcijas!$O:$O,YEAR($B149),Transakcijas!$P:$P,RIGHT(\"0\"&MONTH($B149),2))-SUM(D149:K149)","v":0},0,{"$f":"ROUND(SUMIFS(Transakcijas!$R:$R,Transakcijas!$Q:$Q,$B$141,Transakcijas!$N:$N,\"<=\"&$B149,Transakcijas!$H:$H,\"Pamatsumma\"),2)","v":0},{"$f":"ROUND(SUMIFS(Transakcijas!$R:$R,Transakcijas!$Q:$Q,$B$141,Transakcijas!$N:$N,\"<=\"&$B149,Transakcijas!$H:$H,\"Nokavējuma nauda\"),2)","v":0},{"$f":"ROUND(SUMIFS(Transakcijas!$R:$R,Transakcijas!$Q:$Q,$B$141,Transakcijas!$N:$N,\"<=\"&$B149,Transakcijas!$H:$H,\"Soda nauda\"),2)","v":0}]
[null,"2024-09-30",0,{"$f":"SUMIFS(Transakcijas!$R:$R,Transakcijas!$Q:$Q,$B$141,Transakcijas!$O:$O,YEAR($B150),Transakcijas!$P:$P,RIGHT(\"0\"&MONTH($B150),2),Transakcijas!$D:$D,\"Aprēķins\",Transakcijas!$H:$H,\"Pamatsumma\",Transakcijas!$K:$K,\"<>\"&\"FIFO*\",Transakcijas!$K:$K,\"<>\"&\"Iemaksas atbrīvošana\")","v":0},null,null,{"$f":"SUMIFS(Transakcijas!$R:$R,Transakcijas!$Q:$Q,$B$141,Transakcijas!$O:$O,YEAR($B150),Transakcijas!$P:$P,RIGHT(\"0\"&MONTH($B150),2),Transakcijas!$D:$D,\"Aprēķins\",Transakcijas!$H:$H,\"Nokavējuma nauda\",Transakcijas!$K:$K,\"<>\"&\"FIFO*\",Transakcijas!$K:$K,\"<>\"&\"Iemaksas atbrīvošana\")","v":0},{"$f":"SUMIFS(Transakcijas!$R:$R,Transakcijas!$Q:$Q,$B$141,Transakcijas!$O:$O,YEAR($B150),Transakcijas!$P:$P,RIGHT(\"0\"&MONTH($B150),2),Transakcijas!$D:$D,\"Aprēķins\",Transakcijas!$H:$H,\"Soda nauda\",Transakcijas!$K:$K,\"<>\"&\"FIFO*\",Transakcijas!$K:$K,\"<>\"&\"Iemaksas atbrīvošana\")","v":0},{"$f":"SUMIFS(Transakcijas!$R:$R,Transakcijas!$Q:$Q,$B$141,Transakcijas!$O:$O,YEAR($B150),Transakcijas!$P:$P,RIGHT(\"0\"&MONTH($B150),2),Transakcijas!$D:$D,\"Iemaksa\",Transakcijas!$K:$K,\"<>\"&\"Izejošā maksājuma anulēšana\")\n+SUMIFS(Transakcijas!$R:$R,Transakcijas!$Q:$Q,$B$141,Transakcijas!$O:$O,YEAR($B150),Transakcijas!$P:$P,RIGHT(\"0\"&MONTH($B150),2),Transakcijas!$D:$D,\"Atmaksa\",Transakcijas!$K:$K,\"Iemaksas atbrīvošana\")","v":0},{"$f":"SUMIFS(Transakcijas!$R:$R,Transakcijas!$Q:$Q,$B$141,Transakcijas!$O:$O,YEAR($B150),Transakcijas!$P:$P,RIGHT(\"0\"&MONTH($B150),2),Transakcijas!$D:$D,\"Atmaksa\",Transakcijas!$K:$K,\"<>\"&\"Iemaksas atbrīvošana\")\n+SUMIFS(Transakcijas!$R:$R,Transakcijas!$Q:$Q,$B$141,Transakcijas!$O:$O,YEAR($B150),Transakcijas!$P:$P,RIGHT(\"0\"&MONTH($B150),2),Transakcijas!$D:$D,\"Iemaksa\",Transakcijas!$K:$K,\"Izejošā maksājuma anulēšana\")","v":0},{"$f":"SUMIFS(Transakcijas!$R:$R,Transakcijas!$Q:$Q,$B$141,Transakcijas!$O:$O,YEAR($B150),Transakcijas!$P:$P,RIGHT(\"0\"&MONTH($B150),2),Transakcijas!$K:$K,\"FIFO savstarpējā segšana\")\n+SUMIFS(Transakcijas!$R:$R,Transakcijas!$Q:$Q,$B$141,Transakcijas!$O:$O,YEAR($B150),Transakcijas!$P:$P,RIGHT(\"0\"&MONTH($B150),2),Transakcijas!$D:$D,\"Aprēķins\",Transakcijas!$K:$K,\"Iemaksas atbrīvošana\")","v":0},{"$f":"SUMIFS(Transakcijas!$R:$R,Transakcijas!$Q:$Q,$B$141,Transakcijas!$O:$O,YEAR($B150),Transakcijas!$P:$P,RIGHT(\"0\"&MONTH($B150),2))-SUM(D150:K150)","v":0},0,{"$f":"ROUND(SUMIFS(Transakcijas!$R:$R,Transakcijas!$Q:$Q,$B$141,Transakcijas!$N:$N,\"<=\"&$B150,Transakcijas!$H:$H,\"Pamatsumma\"),2)","v":0},{"$f":"ROUND(SUMIFS(Transakcijas!$R:$R,Transakcijas!$Q:$Q,$B$141,Transakcijas!$N:$N,\"<=\"&$B150,Transakcijas!$H:$H,\"Nokavējuma nauda\"),2)","v":0},{"$f":"ROUND(SUMIFS(Transakcijas!$R:$R,Transakcijas!$Q:$Q,$B$141,Transakcijas!$N:$N,\"<=\"&$B150,Transakcijas!$H:$H,\"Soda nauda\"),2)","v":0}]
[null,"2024-10-31",0,{"$f":"SUMIFS(Transakcijas!$R:$R,Transakcijas!$Q:$Q,$B$141,Transakcijas!$O:$O,YEAR($B151),Transakcijas!$P:$P,RIGHT(\"0\"&MONTH($B151),2),Transakcijas!$D:$D,\"Aprēķins\",Transakcijas!$H:$H,\"Pamatsumma\",Transakcijas!$K:$K,\"<>\"&\"FIFO*\",Transakcijas!$K:$K,\"<>\"&\"Iemaksas atbrīvošana\")","v":0},null,null,{"$f":"SUMIFS(Transakcijas!$R:$R,Transakcijas!$Q:$Q,$B$141,Transakcijas!$O:$O,YEAR($B151),Transakcijas!$P:$P,RIGHT(\"0\"&MONTH($B151),2),Transakcijas!$D:$D,\"Aprēķins\",Transakcijas!$H:$H,\"Nokavējuma nauda\",Transakcijas!$K:$K,\"<>\"&\"FIFO*\",Transakcijas!$K:$K,\"<>\"&\"Iemaksas atbrīvošana\")","v":0},{"$f":"SUMIFS(Transakcijas!$R:$R,Transakcijas!$Q:$Q,$B$141,Transakcijas!$O:$O,YEAR($B151),Transakcijas!$P:$P,RIGHT(\"0\"&MONTH($B151),2),Transakcijas!$D:$D,\"Aprēķins\",Transakcijas!$H:$H,\"Soda nauda\",Transakcijas!$K:$K,\"<>\"&\"FIFO*\",Transakcijas!$K:$K,\"<>\"&\"Iemaksas atbrīvošana\")","v":0},{"$f":"SUMIFS(Transakcijas!$R:$R,Transakcijas!$Q:$Q,$B$141,Transakcijas!$O:$O,YEAR($B151),Transakcijas!$P:$P,RIGHT(\"0\"&MONTH($B151),2),Transakcijas!$D:$D,\"Iemaksa\",Transakcijas!$K:$K,\"<>\"&\"Izejošā maksājuma anulēšana\")\n+SUMIFS(Transakcijas!$R:$R,Transakcijas!$Q:$Q,$B$141,Transakcijas!$O:$O,YEAR($B151),Transakcijas!$P:$P,RIGHT(\"0\"&MONTH($B151),2),Transakcijas!$D:$D,\"Atmaksa\",Transakcijas!$K:$K,\"Iemaksas atbrīvošana\")","v":0},{"$f":"SUMIFS(Transakcijas!$R:$R,Transakcijas!$Q:$Q,$B$141,Transakcijas!$O:$O,YEAR($B151),Transakcijas!$P:$P,RIGHT(\"0\"&MONTH($B151),2),Transakcijas!$D:$D,\"Atmaksa\",Transakcijas!$K:$K,\"<>\"&\"Iemaksas atbrīvošana\")\n+SUMIFS(Transakcijas!$R:$R,Transakcijas!$Q:$Q,$B$141,Transakcijas!$O:$O,YEAR($B151),Transakcijas!$P:$P,RIGHT(\"0\"&MONTH($B151),2),Transakcijas!$D:$D,\"Iemaksa\",Transakcijas!$K:$K,\"Izejošā maksājuma anulēšana\")","v":0},{"$f":"SUMIFS(Transakcijas!$R:$R,Transakcijas!$Q:$Q,$B$141,Transakcijas!$O:$O,YEAR($B151),Transakcijas!$P:$P,RIGHT(\"0\"&MONTH($B151),2),Transakcijas!$K:$K,\"FIFO savstarpējā segšana\")\n+SUMIFS(Transakcijas!$R:$R,Transakcijas!$Q:$Q,$B$141,Transakcijas!$O:$O,YEAR($B151),Transakcijas!$P:$P,RIGHT(\"0\"&MONTH($B151),2),Transakcijas!$D:$D,\"Aprēķins\",Transakcijas!$K:$K,\"Iemaksas atbrīvošana\")","v":0},{"$f":"SUMIFS(Transakcijas!$R:$R,Transakcijas!$Q:$Q,$B$141,Transakcijas!$O:$O,YEAR($B151),Transakcijas!$P:$P,RIGHT(\"0\"&MONTH($B151),2))-SUM(D151:K151)","v":0},0,{"$f":"ROUND(SUMIFS(Transakcijas!$R:$R,Transakcijas!$Q:$Q,$B$141,Transakcijas!$N:$N,\"<=\"&$B151,Transakcijas!$H:$H,\"Pamatsumma\"),2)","v":0},{"$f":"ROUND(SUMIFS(Transakcijas!$R:$R,Transakcijas!$Q:$Q,$B$141,Transakcijas!$N:$N,\"<=\"&$B151,Transakcijas!$H:$H,\"Nokavējuma nauda\"),2)","v":0},{"$f":"ROUND(SUMIFS(Transakcijas!$R:$R,Transakcijas!$Q:$Q,$B$141,Transakcijas!$N:$N,\"<=\"&$B151,Transakcijas!$H:$H,\"Soda nauda\"),2)","v":0}]
[null,"2024-11-30",0,{"$f":"SUMIFS(Transakcijas!$R:$R,Transakcijas!$Q:$Q,$B$141,Transakcijas!$O:$O,YEAR($B152),Transakcijas!$P:$P,RIGHT(\"0\"&MONTH($B152),2),Transakcijas!$D:$D,\"Aprēķins\",Transakcijas!$H:$H,\"Pamatsumma\",Transakcijas!$K:$K,\"<>\"&\"FIFO*\",Transakcijas!$K:$K,\"<>\"&\"Iemaksas atbrīvošana\")","v":0},null,null,{"$f":"SUMIFS(Transakcijas!$R:$R,Transakcijas!$Q:$Q,$B$141,Transakcijas!$O:$O,YEAR($B152),Transakcijas!$P:$P,RIGHT(\"0\"&MONTH($B152),2),Transakcijas!$D:$D,\"Aprēķins\",Transakcijas!$H:$H,\"Nokavējuma nauda\",Transakcijas!$K:$K,\"<>\"&\"FIFO*\",Transakcijas!$K:$K,\"<>\"&\"Iemaksas atbrīvošana\")","v":0},{"$f":"SUMIFS(Transakcijas!$R:$R,Transakcijas!$Q:$Q,$B$141,Transakcijas!$O:$O,YEAR($B152),Transakcijas!$P:$P,RIGHT(\"0\"&MONTH($B152),2),Transakcijas!$D:$D,\"Aprēķins\",Transakcijas!$H:$H,\"Soda nauda\",Transakcijas!$K:$K,\"<>\"&\"FIFO*\",Transakcijas!$K:$K,\"<>\"&\"Iemaksas atbrīvošana\")","v":0},{"$f":"SUMIFS(Transakcijas!$R:$R,Transakcijas!$Q:$Q,$B$141,Transakcijas!$O:$O,YEAR($B152),Transakcijas!$P:$P,RIGHT(\"0\"&MONTH($B152),2),Transakcijas!$D:$D,\"Iemaksa\",Transakcijas!$K:$K,\"<>\"&\"Izejošā maksājuma anulēšana\")\n+SUMIFS(Transakcijas!$R:$R,Transakcijas!$Q:$Q,$B$141,Transakcijas!$O:$O,YEAR($B152),Transakcijas!$P:$P,RIGHT(\"0\"&MONTH($B152),2),Transakcijas!$D:$D,\"Atmaksa\",Transakcijas!$K:$K,\"Iemaksas atbrīvošana\")","v":0},{"$f":"SUMIFS(Transakcijas!$R:$R,Transakcijas!$Q:$Q,$B$141,Transakcijas!$O:$O,YEAR($B152),Transakcijas!$P:$P,RIGHT(\"0\"&MONTH($B152),2),Transakcijas!$D:$D,\"Atmaksa\",Transakcijas!$K:$K,\"<>\"&\"Iemaksas atbrīvošana\")\n+SUMIFS(Transakcijas!$R:$R,Transakcijas!$Q:$Q,$B$141,Transakcijas!$O:$O,YEAR($B152),Transakcijas!$P:$P,RIGHT(\"0\"&MONTH($B152),2),Transakcijas!$D:$D,\"Iemaksa\",Transakcijas!$K:$K,\"Izejošā maksājuma anulēšana\")","v":0},{"$f":"SUMIFS(Transakcijas!$R:$R,Transakcijas!$Q:$Q,$B$141,Transakcijas!$O:$O,YEAR($B152),Transakcijas!$P:$P,RIGHT(\"0\"&MONTH($B152),2),Transakcijas!$K:$K,\"FIFO savstarpējā segšana\")\n+SUMIFS(Transakcijas!$R:$R,Transakcijas!$Q:$Q,$B$141,Transakcijas!$O:$O,YEAR($B152),Transakcijas!$P:$P,RIGHT(\"0\"&MONTH($B152),2),Transakcijas!$D:$D,\"Aprēķins\",Transakcijas!$K:$K,\"Iemaksas atbrīvošana\")","v":0},{"$f":"SUMIFS(Transakcijas!$R:$R,Transakcijas!$Q:$Q,$B$141,Transakcijas!$O:$O,YEAR($B152),Transakcijas!$P:$P,RIGHT(\"0\"&MONTH($B152),2))-SUM(D152:K152)","v":0},0,{"$f":"ROUND(SUMIFS(Transakcijas!$R:$R,Transakcijas!$Q:$Q,$B$141,Transakcijas!$N:$N,\"<=\"&$B152,Transakcijas!$H:$H,\"Pamatsumma\"),2)","v":0},{"$f":"ROUND(SUMIFS(Transakcijas!$R:$R,Transakcijas!$Q:$Q,$B$141,Transakcijas!$N:$N,\"<=\"&$B152,Transakcijas!$H:$H,\"Nokavējuma nauda\"),2)","v":0},{"$f":"ROUND(SUMIFS(Transakcijas!$R:$R,Transakcijas!$Q:$Q,$B$141,Transakcijas!$N:$N,\"<=\"&$B152,Transakcijas!$H:$H,\"Soda nauda\"),2)","v":0}]
[null,"2024-12-31",0,{"$f":"SUMIFS(Transakcijas!$R:$R,Transakcijas!$Q:$Q,$B$141,Transakcijas!$O:$O,YEAR($B153),Transakcijas!$P:$P,RIGHT(\"0\"&MONTH($B153),2),Transakcijas!$D:$D,\"Aprēķins\",Transakcijas!$H:$H,\"Pamatsumma\",Transakcijas!$K:$K,\"<>\"&\"FIFO*\",Transakcijas!$K:$K,\"<>\"&\"Iemaksas atbrīvošana\")","v":0},null,null,{"$f":"SUMIFS(Transakcijas!$R:$R,Transakcijas!$Q:$Q,$B$141,Transakcijas!$O:$O,YEAR($B153),Transakcijas!$P:$P,RIGHT(\"0\"&MONTH($B153),2),Transakcijas!$D:$D,\"Aprēķins\",Transakcijas!$H:$H,\"Nokavējuma nauda\",Transakcijas!$K:$K,\"<>\"&\"FIFO*\",Transakcijas!$K:$K,\"<>\"&\"Iemaksas atbrīvošana\")","v":0},{"$f":"SUMIFS(Transakcijas!$R:$R,Transakcijas!$Q:$Q,$B$141,Transakcijas!$O:$O,YEAR($B153),Transakcijas!$P:$P,RIGHT(\"0\"&MONTH($B153),2),Transakcijas!$D:$D,\"Aprēķins\",Transakcijas!$H:$H,\"Soda nauda\",Transakcijas!$K:$K,\"<>\"&\"FIFO*\",Transakcijas!$K:$K,\"<>\"&\"Iemaksas atbrīvošana\")","v":0},{"$f":"SUMIFS(Transakcijas!$R:$R,Transakcijas!$Q:$Q,$B$141,Transakcijas!$O:$O,YEAR($B153),Transakcijas!$P:$P,RIGHT(\"0\"&MONTH($B153),2),Transakcijas!$D:$D,\"Iemaksa\",Transakcijas!$K:$K,\"<>\"&\"Izejošā maksājuma anulēšana\")\n+SUMIFS(Transakcijas!$R:$R,Transakcijas!$Q:$Q,$B$141,Transakcijas!$O:$O,YEAR($B153),Transakcijas!$P:$P,RIGHT(\"0\"&MONTH($B153),2),Transakcijas!$D:$D,\"Atmaksa\",Transakcijas!$K:$K,\"Iemaksas atbrīvošana\")","v":0},{"$f":"SUMIFS(Transakcijas!$R:$R,Transakcijas!$Q:$Q,$B$141,Transakcijas!$O:$O,YEAR($B153),Transakcijas!$P:$P,RIGHT(\"0\"&MONTH($B153),2),Transakcijas!$D:$D,\"Atmaksa\",Transakcijas!$K:$K,\"<>\"&\"Iemaksas atbrīvošana\")\n+SUMIFS(Transakcijas!$R:$R,Transakcijas!$Q:$Q,$B$141,Transakcijas!$O:$O,YEAR($B153),Transakcijas!$P:$P,RIGHT(\"0\"&MONTH($B153),2),Transakcijas!$D:$D,\"Iemaksa\",Transakcijas!$K:$K,\"Izejošā maksājuma anulēšana\")","v":0},{"$f":"SUMIFS(Transakcijas!$R:$R,Transakcijas!$Q:$Q,$B$141,Transakcijas!$O:$O,YEAR($B153),Transakcijas!$P:$P,RIGHT(\"0\"&MONTH($B153),2),Transakcijas!$K:$K,\"FIFO savstarpējā segšana\")\n+SUMIFS(Transakcijas!$R:$R,Transakcijas!$Q:$Q,$B$141,Transakcijas!$O:$O,YEAR($B153),Transakcijas!$P:$P,RIGHT(\"0\"&MONTH($B153),2),Transakcijas!$D:$D,\"Aprēķins\",Transakcijas!$K:$K,\"Iemaksas atbrīvošana\")","v":0},{"$f":"SUMIFS(Transakcijas!$R:$R,Transakcijas!$Q:$Q,$B$141,Transakcijas!$O:$O,YEAR($B153),Transakcijas!$P:$P,RIGHT(\"0\"&MONTH($B153),2))-SUM(D153:K153)","v":0},0,{"$f":"ROUND(SUMIFS(Transakcijas!$R:$R,Transakcijas!$Q:$Q,$B$141,Transakcijas!$N:$N,\"<=\"&$B153,Transakcijas!$H:$H,\"Pamatsumma\"),2)","v":0},{"$f":"ROUND(SUMIFS(Transakcijas!$R:$R,Transakcijas!$Q:$Q,$B$141,Transakcijas!$N:$N,\"<=\"&$B153,Transakcijas!$H:$H,\"Nokavējuma nauda\"),2)","v":0},{"$f":"ROUND(SUMIFS(Transakcijas!$R:$R,Transakcijas!$Q:$Q,$B$141,Transakcijas!$N:$N,\"<=\"&$B153,Transakcijas!$H:$H,\"Soda nauda\"),2)","v":0}]
[null,"Kopā",{"$f":"C142","v":0},{"$f":"SUM(D142:D153)","v":0},null,null,{"$f":"SUM(G142:G153)","v":0},0,0,0,0,0,0]
[]
[null,{"$f":"DATE(YEAR($M$4),MONTH($M$4)+2,0)","v":"2025-01-31"},{"$f":"IF(B156=\"\",0,M154)","v":0},{"$f":"SUMIFS(Transakcijas!$R:$R,Transakcijas!$Q:$Q,$B$141,Transakcijas!$O:$O,YEAR($B156),Transakcijas!$P:$P,RIGHT(\"0\"&MONTH($B156),2),Transakcijas!$D:$D,\"Aprēķins\",Transakcijas!$H:$H,\"Pamatsumma\",Transakcijas!$K:$K,\"<>\"&\"FIFO*\",Transakcijas!$K:$K,\"<>\"&\"Iemaksas atbrīvošana\")","v":0},null,null,{"$f":"SUMIFS(Transakcijas!$R:$R,Transakcijas!$Q:$Q,$B$141,Transakcijas!$O:$O,YEAR($B156),Transakcijas!$P:$P,RIGHT(\"0\"&MONTH($B156),2),Transakcijas!$D:$D,\"Aprēķins\",Transakcijas!$H:$H,\"Nokavējuma nauda\",Transakcijas!$K:$K,\"<>\"&\"FIFO*\",Transakcijas!$K:$K,\"<>\"&\"Iemaksas atbrīvošana\")","v":0},{"$f":"SUMIFS(Transakcijas!$R:$R,Transakcijas!$Q:$Q,$B$141,Transakcijas!$O:$O,YEAR($B156),Transakcijas!$P:$P,RIGHT(\"0\"&MONTH($B156),2),Transakcijas!$D:$D,\"Aprēķins\",Transakcijas!$H:$H,\"Soda nauda\",Transakcijas!$K:$K,\"<>\"&\"FIFO*\",Transakcijas!$K:$K,\"<>\"&\"Iemaksas atbrīvošana\")","v":0},{"$f":"SUMIFS(Transakcijas!$R:$R,Transakcijas!$Q:$Q,$B$141,Transakcijas!$O:$O,YEAR($B156),Transakcijas!$P:$P,RIGHT(\"0\"&MONTH($B156),2),Transakcijas!$D:$D,\"Iemaksa\",Transakcijas!$K:$K,\"<>\"&\"Izejošā maksājuma anulēšana\")\n+SUMIFS(Transakcijas!$R:$R,Transakcijas!$Q:$Q,$B$141,Transakcijas!$O:$O,YEAR($B156),Transakcijas!$P:$P,RIGHT(\"0\"&MONTH($B156),2),Transakcijas!$D:$D,\"Atmaksa\",Transakcijas!$K:$K,\"Iemaksas atbrīvošana\")","v":0},{"$f":"SUMIFS(Transakcijas!$R:$R,Transakcijas!$Q:$Q,$B$141,Transakcijas!$O:$O,YEAR($B156),Transakcijas!$P:$P,RIGHT(\"0\"&MONTH($B156),2),Transakcijas!$D:$D,\"Atmaksa\",Transakcijas!$K:$K,\"<>\"&\"Iemaksas atbrīvošana\")\n+SUMIFS(Transakcijas!$R:$R,Transakcijas!$Q:$Q,$B$141,Transakcijas!$O:$O,YEAR($B156),Transakcijas!$P:$P,RIGHT(\"0\"&MONTH($B156),2),Transakcijas!$D:$D,\"Iemaksa\",Transakcijas!$K:$K,\"Izejošā maksājuma anulēšana\")","v":0},{"$f":"SUMIFS(Transakcijas!$R:$R,Transakcijas!$Q:$Q,$B$141,Transakcijas!$O:$O,YEAR($B156),Transakcijas!$P:$P,RIGHT(\"0\"&MONTH($B156),2),Transakcijas!$K:$K,\"FIFO savstarpējā segšana\")\n+SUMIFS(Transakcijas!$R:$R,Transakcijas!$Q:$Q,$B$141,Transakcijas!$O:$O,YEAR($B156),Transakcijas!$P:$P,RIGHT(\"0\"&MONTH($B156),2),Transakcijas!$D:$D,\"Aprēķins\",Transakcijas!$K:$K,\"Iemaksas atbrīvošana\")","v":0},{"$f":"SUMIFS(Transakcijas!$R:$R,Transakcijas!$Q:$Q,$B$141,Transakcijas!$O:$O,YEAR($B156),Transakcijas!$P:$P,RIGHT(\"0\"&MONTH($B156),2))-SUM(D156:K156)","v":0},{"$f":"SUM(C156:L156)","v":0},{"$f":"ROUND(SUMIFS(Transakcijas!$R:$R,Transakcijas!$Q:$Q,$B$141,Transakcijas!$N:$N,\"<=\"&$B156,Transakcijas!$H:$H,\"Pamatsumma\"),2)","v":0},{"$f":"ROUND(SUMIFS(Transakcijas!$R:$R,Transakcijas!$Q:$Q,$B$141,Transakcijas!$N:$N,\"<=\"&$B156,Transakcijas!$H:$H,\"Nokavējuma nauda\"),2)","v":0},{"$f":"ROUND(SUMIFS(Transakcijas!$R:$R,Transakcijas!$Q:$Q,$B$141,Transakcijas!$N:$N,\"<=\"&$B156,Transakcijas!$H:$H,\"Soda nauda\"),2)","v":0}]
[]
[null,{"$f":"B14","v":"Soda naudas"},"Atlikums uz perioda sākumu","Aprēķināts","Ieturēts","Aprēķinas (nerezid.)","Aprēķināta nokav. nauda  ","Aprēķināta\n soda nauda  ","Samaksāts\nAtbrīvots","Atmaksāts","Pārvietots \n(Savst.segš.)","Cita \nkustība","Atlikums uz perioda beigām","Pamat-\nsumma","Nokav. \nnauda  ","Soda \nnauda  "]
[null,{"$f":"DATE(YEAR($C$4),MONTH($C$4)+1,0)","v":"2024-01-31"},{"$f":"C14","v":0},{"$f":"SUMIFS(Transakcijas!$R:$R,Transakcijas!$Q:$Q,$B$158,Transakcijas!$O:$O,YEAR($B159),Transakcijas!$P:$P,RIGHT(\"0\"&MONTH($B159),2),Transakcijas!$D:$D,\"Aprēķins\",Transakcijas!$H:$H,\"Pamatsumma\",Transakcijas!$K:$K,\"<>\"&\"FIFO*\",Transakcijas!$K:$K,\"<>\"&\"Iemaksas atbrīvošana\")","v":0},null,null,{"$f":"SUMIFS(Transakcijas!$R:$R,Transakcijas!$Q:$Q,$B$158,Transakcijas!$O:$O,YEAR($B159),Transakcijas!$P:$P,RIGHT(\"0\"&MONTH($B159),2),Transakcijas!$D:$D,\"Aprēķins\",Transakcijas!$H:$H,\"Nokavējuma nauda\",Transakcijas!$K:$K,\"<>\"&\"FIFO*\",Transakcijas!$K:$K,\"<>\"&\"Iemaksas atbrīvošana\")","v":0},{"$f":"SUMIFS(Transakcijas!$R:$R,Transakcijas!$Q:$Q,$B$158,Transakcijas!$O:$O,YEAR($B159),Transakcijas!$P:$P,RIGHT(\"0\"&MONTH($B159),2),Transakcijas!$D:$D,\"Aprēķins\",Transakcijas!$H:$H,\"Soda nauda\",Transakcijas!$K:$K,\"<>\"&\"FIFO*\",Transakcijas!$K:$K,\"<>\"&\"Iemaksas atbrīvošana\")","v":0},{"$f":"SUMIFS(Transakcijas!$R:$R,Transakcijas!$Q:$Q,$B$158,Transakcijas!$O:$O,YEAR($B159),Transakcijas!$P:$P,RIGHT(\"0\"&MONTH($B159),2),Transakcijas!$D:$D,\"Iemaksa\",Transakcijas!$K:$K,\"<>\"&\"Izejošā maksājuma anulēšana\")\n+SUMIFS(Transakcijas!$R:$R,Transakcijas!$Q:$Q,$B$158,Transakcijas!$O:$O,YEAR($B159),Transakcijas!$P:$P,RIGHT(\"0\"&MONTH($B159),2),Transakcijas!$D:$D,\"Atmaksa\",Transakcijas!$K:$K,\"Iemaksas atbrīvošana\")","v":0},{"$f":"SUMIFS(Transakcijas!$R:$R,Transakcijas!$Q:$Q,$B$158,Transakcijas!$O:$O,YEAR($B159),Transakcijas!$P:$P,RIGHT(\"0\"&MONTH($B159),2),Transakcijas!$D:$D,\"Atmaksa\",Transakcijas!$K:$K,\"<>\"&\"Iemaksas atbrīvošana\")\n+SUMIFS(Transakcijas!$R:$R,Transakcijas!$Q:$Q,$B$158,Transakcijas!$O:$O,YEAR($B159),Transakcijas!$P:$P,RIGHT(\"0\"&MONTH($B159),2),Transakcijas!$D:$D,\"Iemaksa\",Transakcijas!$K:$K,\"Izejošā maksājuma anulēšana\")","v":0},{"$f":"SUMIFS(Transakcijas!$R:$R,Transakcijas!$Q:$Q,$B$158,Transakcijas!$O:$O,YEAR($B159),Transakcijas!$P:$P,RIGHT(\"0\"&MONTH($B159),2),Transakcijas!$K:$K,\"FIFO savstarpējā segšana\")\n+SUMIFS(Transakcijas!$R:$R,Transakcijas!$Q:$Q,$B$158,Transakcijas!$O:$O,YEAR($B159),Transakcijas!$P:$P,RIGHT(\"0\"&MONTH($B159),2),Transakcijas!$D:$D,\"Aprēķins\",Transakcijas!$K:$K,\"Iemaksas atbrīvošana\")","v":0},{"$f":"SUMIFS(Transakcijas!$R:$R,Transakcijas!$Q:$Q,$B$158,Transakcijas!$O:$O,YEAR($B159),Transakcijas!$P:$P,RIGHT(\"0\"&MONTH($B159),2))-SUM(D159:K159)","v":0},{"$f":"SUM(C159:L159)","v":0},{"$f":"ROUND(SUMIFS(Transakcijas!$R:$R,Transakcijas!$Q:$Q,$B$158,Transakcijas!$N:$N,\"<=\"&$B159,Transakcijas!$H:$H,\"Pamatsumma\"),2)","v":0},{"$f":"ROUND(SUMIFS(Transakcijas!$R:$R,Transakcijas!$Q:$Q,$B$158,Transakcijas!$N:$N,\"<=\"&$B159,Transakcijas!$H:$H,\"Nokavējuma nauda\"),2)","v":0},{"$f":"ROUND(SUMIFS(Transakcijas!$R:$R,Transakcijas!$Q:$Q,$B$158,Transakcijas!$N:$N,\"<=\"&$B159,Transakcijas!$H:$H,\"Soda nauda\"),2)","v":0}]
[null,{"$f":"IF(IF(B159=\"\",$M$4+1,DATE(YEAR(B159),MONTH(B159)+2,0))<=$M$4,DATE(YEAR(B159),MONTH(B159)+2,0),\"\")","v":"2024-02-29"},{"$f":"IF(B160=\"\",0,M159)","v":0},{"$f":"SUMIFS(Transakcijas!$R:$R,Transakcijas!$Q:$Q,$B$158,Transakcijas!$O:$O,YEAR($B160),Transakcijas!$P:$P,RIGHT(\"0\"&MONTH($B160),2),Transakcijas!$D:$D,\"Aprēķins\",Transakcijas!$H:$H,\"Pamatsumma\",Transakcijas!$K:$K,\"<>\"&\"FIFO*\",Transakcijas!$K:$K,\"<>\"&\"Iemaksas atbrīvošana\")","v":0},null,null,{"$f":"SUMIFS(Transakcijas!$R:$R,Transakcijas!$Q:$Q,$B$158,Transakcijas!$O:$O,YEAR($B160),Transakcijas!$P:$P,RIGHT(\"0\"&MONTH($B160),2),Transakcijas!$D:$D,\"Aprēķins\",Transakcijas!$H:$H,\"Nokavējuma nauda\",Transakcijas!$K:$K,\"<>\"&\"FIFO*\",Transakcijas!$K:$K,\"<>\"&\"Iemaksas atbrīvošana\")","v":0},{"$f":"SUMIFS(Transakcijas!$R:$R,Transakcijas!$Q:$Q,$B$158,Transakcijas!$O:$O,YEAR($B160),Transakcijas!$P:$P,RIGHT(\"0\"&MONTH($B160),2),Transakcijas!$D:$D,\"Aprēķins\",Transakcijas!$H:$H,\"Soda nauda\",Transakcijas!$K:$K,\"<>\"&\"FIFO*\",Transakcijas!$K:$K,\"<>\"&\"Iemaksas atbrīvošana\")","v":0},{"$f":"SUMIFS(Transakcijas!$R:$R,Transakcijas!$Q:$Q,$B$158,Transakcijas!$O:$O,YEAR($B160),Transakcijas!$P:$P,RIGHT(\"0\"&MONTH($B160),2),Transakcijas!$D:$D,\"Iemaksa\",Transakcijas!$K:$K,\"<>\"&\"Izejošā maksājuma anulēšana\")\n+SUMIFS(Transakcijas!$R:$R,Transakcijas!$Q:$Q,$B$158,Transakcijas!$O:$O,YEAR($B160),Transakcijas!$P:$P,RIGHT(\"0\"&MONTH($B160),2),Transakcijas!$D:$D,\"Atmaksa\",Transakcijas!$K:$K,\"Iemaksas atbrīvošana\")","v":0},{"$f":"SUMIFS(Transakcijas!$R:$R,Transakcijas!$Q:$Q,$B$158,Transakcijas!$O:$O,YEAR($B160),Transakcijas!$P:$P,RIGHT(\"0\"&MONTH($B160),2),Transakcijas!$D:$D,\"Atmaksa\",Transakcijas!$K:$K,\"<>\"&\"Iemaksas atbrīvošana\")\n+SUMIFS(Transakcijas!$R:$R,Transakcijas!$Q:$Q,$B$158,Transakcijas!$O:$O,YEAR($B160),Transakcijas!$P:$P,RIGHT(\"0\"&MONTH($B160),2),Transakcijas!$D:$D,\"Iemaksa\",Transakcijas!$K:$K,\"Izejošā maksājuma anulēšana\")","v":0},{"$f":"SUMIFS(Transakcijas!$R:$R,Transakcijas!$Q:$Q,$B$158,Transakcijas!$O:$O,YEAR($B160),Transakcijas!$P:$P,RIGHT(\"0\"&MONTH($B160),2),Transakcijas!$K:$K,\"FIFO savstarpējā segšana\")\n+SUMIFS(Transakcijas!$R:$R,Transakcijas!$Q:$Q,$B$158,Transakcijas!$O:$O,YEAR($B160),Transakcijas!$P:$P,RIGHT(\"0\"&MONTH($B160),2),Transakcijas!$D:$D,\"Aprēķins\",Transakcijas!$K:$K,\"Iemaksas atbrīvošana\")","v":0},{"$f":"SUMIFS(Transakcijas!$R:$R,Transakcijas!$Q:$Q,$B$158,Transakcijas!$O:$O,YEAR($B160),Transakcijas!$P:$P,RIGHT(\"0\"&MONTH($B160),2))-SUM(D160:K160)","v":0},0,{"$f":"ROUND(SUMIFS(Transakcijas!$R:$R,Transakcijas!$Q:$Q,$B$158,Transakcijas!$N:$N,\"<=\"&$B160,Transakcijas!$H:$H,\"Pamatsumma\"),2)","v":0},{"$f":"ROUND(SUMIFS(Transakcijas!$R:$R,Transakcijas!$Q:$Q,$B$158,Transakcijas!$N:$N,\"<=\"&$B160,Transakcijas!$H:$H,\"Nokavējuma nauda\"),2)","v":0},{"$f":"ROUND(SUMIFS(Transakcijas!$R:$R,Transakcijas!$Q:$Q,$B$158,Transakcijas!$N:$N,\"<=\"&$B160,Transakcijas!$H:$H,\"Soda nauda\"),2)","v":0}]
[null,"2024-03-31",0,{"$f":"SUMIFS(Transakcijas!$R:$R,Transakcijas!$Q:$Q,$B$158,Transakcijas!$O:$O,YEAR($B161),Transakcijas!$P:$P,RIGHT(\"0\"&MONTH($B161),2),Transakcijas!$D:$D,\"Aprēķins\",Transakcijas!$H:$H,\"Pamatsumma\",Transakcijas!$K:$K,\"<>\"&\"FIFO*\",Transakcijas!$K:$K,\"<>\"&\"Iemaksas atbrīvošana\")","v":0},null,null,{"$f":"SUMIFS(Transakcijas!$R:$R,Transakcijas!$Q:$Q,$B$158,Transakcijas!$O:$O,YEAR($B161),Transakcijas!$P:$P,RIGHT(\"0\"&MONTH($B161),2),Transakcijas!$D:$D,\"Aprēķins\",Transakcijas!$H:$H,\"Nokavējuma nauda\",Transakcijas!$K:$K,\"<>\"&\"FIFO*\",Transakcijas!$K:$K,\"<>\"&\"Iemaksas atbrīvošana\")","v":0},{"$f":"SUMIFS(Transakcijas!$R:$R,Transakcijas!$Q:$Q,$B$158,Transakcijas!$O:$O,YEAR($B161),Transakcijas!$P:$P,RIGHT(\"0\"&MONTH($B161),2),Transakcijas!$D:$D,\"Aprēķins\",Transakcijas!$H:$H,\"Soda nauda\",Transakcijas!$K:$K,\"<>\"&\"FIFO*\",Transakcijas!$K:$K,\"<>\"&\"Iemaksas atbrīvošana\")","v":0},{"$f":"SUMIFS(Transakcijas!$R:$R,Transakcijas!$Q:$Q,$B$158,Transakcijas!$O:$O,YEAR($B161),Transakcijas!$P:$P,RIGHT(\"0\"&MONTH($B161),2),Transakcijas!$D:$D,\"Iemaksa\",Transakcijas!$K:$K,\"<>\"&\"Izejošā maksājuma anulēšana\")\n+SUMIFS(Transakcijas!$R:$R,Transakcijas!$Q:$Q,$B$158,Transakcijas!$O:$O,YEAR($B161),Transakcijas!$P:$P,RIGHT(\"0\"&MONTH($B161),2),Transakcijas!$D:$D,\"Atmaksa\",Transakcijas!$K:$K,\"Iemaksas atbrīvošana\")","v":0},{"$f":"SUMIFS(Transakcijas!$R:$R,Transakcijas!$Q:$Q,$B$158,Transakcijas!$O:$O,YEAR($B161),Transakcijas!$P:$P,RIGHT(\"0\"&MONTH($B161),2),Transakcijas!$D:$D,\"Atmaksa\",Transakcijas!$K:$K,\"<>\"&\"Iemaksas atbrīvošana\")\n+SUMIFS(Transakcijas!$R:$R,Transakcijas!$Q:$Q,$B$158,Transakcijas!$O:$O,YEAR($B161),Transakcijas!$P:$P,RIGHT(\"0\"&MONTH($B161),2),Transakcijas!$D:$D,\"Iemaksa\",Transakcijas!$K:$K,\"Izejošā maksājuma anulēšana\")","v":0},{"$f":"SUMIFS(Transakcijas!$R:$R,Transakcijas!$Q:$Q,$B$158,Transakcijas!$O:$O,YEAR($B161),Transakcijas!$P:$P,RIGHT(\"0\"&MONTH($B161),2),Transakcijas!$K:$K,\"FIFO savstarpējā segšana\")\n+SUMIFS(Transakcijas!$R:$R,Transakcijas!$Q:$Q,$B$158,Transakcijas!$O:$O,YEAR($B161),Transakcijas!$P:$P,RIGHT(\"0\"&MONTH($B161),2),Transakcijas!$D:$D,\"Aprēķins\",Transakcijas!$K:$K,\"Iemaksas atbrīvošana\")","v":0},{"$f":"SUMIFS(Transakcijas!$R:$R,Transakcijas!$Q:$Q,$B$158,Transakcijas!$O:$O,YEAR($B161),Transakcijas!$P:$P,RIGHT(\"0\"&MONTH($B161),2))-SUM(D161:K161)","v":0},0,{"$f":"ROUND(SUMIFS(Transakcijas!$R:$R,Transakcijas!$Q:$Q,$B$158,Transakcijas!$N:$N,\"<=\"&$B161,Transakcijas!$H:$H,\"Pamatsumma\"),2)","v":0},{"$f":"ROUND(SUMIFS(Transakcijas!$R:$R,Transakcijas!$Q:$Q,$B$158,Transakcijas!$N:$N,\"<=\"&$B161,Transakcijas!$H:$H,\"Nokavējuma nauda\"),2)","v":0},{"$f":"ROUND(SUMIFS(Transakcijas!$R:$R,Transakcijas!$Q:$Q,$B$158,Transakcijas!$N:$N,\"<=\"&$B161,Transakcijas!$H:$H,\"Soda nauda\"),2)","v":0}]
[null,"2024-04-30",0,{"$f":"SUMIFS(Transakcijas!$R:$R,Transakcijas!$Q:$Q,$B$158,Transakcijas!$O:$O,YEAR($B162),Transakcijas!$P:$P,RIGHT(\"0\"&MONTH($B162),2),Transakcijas!$D:$D,\"Aprēķins\",Transakcijas!$H:$H,\"Pamatsumma\",Transakcijas!$K:$K,\"<>\"&\"FIFO*\",Transakcijas!$K:$K,\"<>\"&\"Iemaksas atbrīvošana\")","v":0},null,null,{"$f":"SUMIFS(Transakcijas!$R:$R,Transakcijas!$Q:$Q,$B$158,Transakcijas!$O:$O,YEAR($B162),Transakcijas!$P:$P,RIGHT(\"0\"&MONTH($B162),2),Transakcijas!$D:$D,\"Aprēķins\",Transakcijas!$H:$H,\"Nokavējuma nauda\",Transakcijas!$K:$K,\"<>\"&\"FIFO*\",Transakcijas!$K:$K,\"<>\"&\"Iemaksas atbrīvošana\")","v":0},{"$f":"SUMIFS(Transakcijas!$R:$R,Transakcijas!$Q:$Q,$B$158,Transakcijas!$O:$O,YEAR($B162),Transakcijas!$P:$P,RIGHT(\"0\"&MONTH($B162),2),Transakcijas!$D:$D,\"Aprēķins\",Transakcijas!$H:$H,\"Soda nauda\",Transakcijas!$K:$K,\"<>\"&\"FIFO*\",Transakcijas!$K:$K,\"<>\"&\"Iemaksas atbrīvošana\")","v":0},{"$f":"SUMIFS(Transakcijas!$R:$R,Transakcijas!$Q:$Q,$B$158,Transakcijas!$O:$O,YEAR($B162),Transakcijas!$P:$P,RIGHT(\"0\"&MONTH($B162),2),Transakcijas!$D:$D,\"Iemaksa\",Transakcijas!$K:$K,\"<>\"&\"Izejošā maksājuma anulēšana\")\n+SUMIFS(Transakcijas!$R:$R,Transakcijas!$Q:$Q,$B$158,Transakcijas!$O:$O,YEAR($B162),Transakcijas!$P:$P,RIGHT(\"0\"&MONTH($B162),2),Transakcijas!$D:$D,\"Atmaksa\",Transakcijas!$K:$K,\"Iemaksas atbrīvošana\")","v":0},{"$f":"SUMIFS(Transakcijas!$R:$R,Transakcijas!$Q:$Q,$B$158,Transakcijas!$O:$O,YEAR($B162),Transakcijas!$P:$P,RIGHT(\"0\"&MONTH($B162),2),Transakcijas!$D:$D,\"Atmaksa\",Transakcijas!$K:$K,\"<>\"&\"Iemaksas atbrīvošana\")\n+SUMIFS(Transakcijas!$R:$R,Transakcijas!$Q:$Q,$B$158,Transakcijas!$O:$O,YEAR($B162),Transakcijas!$P:$P,RIGHT(\"0\"&MONTH($B162),2),Transakcijas!$D:$D,\"Iemaksa\",Transakcijas!$K:$K,\"Izejošā maksājuma anulēšana\")","v":0},{"$f":"SUMIFS(Transakcijas!$R:$R,Transakcijas!$Q:$Q,$B$158,Transakcijas!$O:$O,YEAR($B162),Transakcijas!$P:$P,RIGHT(\"0\"&MONTH($B162),2),Transakcijas!$K:$K,\"FIFO savstarpējā segšana\")\n+SUMIFS(Transakcijas!$R:$R,Transakcijas!$Q:$Q,$B$158,Transakcijas!$O:$O,YEAR($B162),Transakcijas!$P:$P,RIGHT(\"0\"&MONTH($B162),2),Transakcijas!$D:$D,\"Aprēķins\",Transakcijas!$K:$K,\"Iemaksas atbrīvošana\")","v":0},{"$f":"SUMIFS(Transakcijas!$R:$R,Transakcijas!$Q:$Q,$B$158,Transakcijas!$O:$O,YEAR($B162),Transakcijas!$P:$P,RIGHT(\"0\"&MONTH($B162),2))-SUM(D162:K162)","v":0},0,{"$f":"ROUND(SUMIFS(Transakcijas!$R:$R,Transakcijas!$Q:$Q,$B$158,Transakcijas!$N:$N,\"<=\"&$B162,Transakcijas!$H:$H,\"Pamatsumma\"),2)","v":0},{"$f":"ROUND(SUMIFS(Transakcijas!$R:$R,Transakcijas!$Q:$Q,$B$158,Transakcijas!$N:$N,\"<=\"&$B162,Transakcijas!$H:$H,\"Nokavējuma nauda\"),2)","v":0},{"$f":"ROUND(SUMIFS(Transakcijas!$R:$R,Transakcijas!$Q:$Q,$B$158,Transakcijas!$N:$N,\"<=\"&$B162,Transakcijas!$H:$H,\"Soda nauda\"),2)","v":0}]
[null,"2024-05-31",0,{"$f":"SUMIFS(Transakcijas!$R:$R,Transakcijas!$Q:$Q,$B$158,Transakcijas!$O:$O,YEAR($B163),Transakcijas!$P:$P,RIGHT(\"0\"&MONTH($B163),2),Transakcijas!$D:$D,\"Aprēķins\",Transakcijas!$H:$H,\"Pamatsumma\",Transakcijas!$K:$K,\"<>\"&\"FIFO*\",Transakcijas!$K:$K,\"<>\"&\"Iemaksas atbrīvošana\")","v":0},null,null,{"$f":"SUMIFS(Transakcijas!$R:$R,Transakcijas!$Q:$Q,$B$158,Transakcijas!$O:$O,YEAR($B163),Transakcijas!$P:$P,RIGHT(\"0\"&MONTH($B163),2),Transakcijas!$D:$D,\"Aprēķins\",Transakcijas!$H:$H,\"Nokavējuma nauda\",Transakcijas!$K:$K,\"<>\"&\"FIFO*\",Transakcijas!$K:$K,\"<>\"&\"Iemaksas atbrīvošana\")","v":0},{"$f":"SUMIFS(Transakcijas!$R:$R,Transakcijas!$Q:$Q,$B$158,Transakcijas!$O:$O,YEAR($B163),Transakcijas!$P:$P,RIGHT(\"0\"&MONTH($B163),2),Transakcijas!$D:$D,\"Aprēķins\",Transakcijas!$H:$H,\"Soda nauda\",Transakcijas!$K:$K,\"<>\"&\"FIFO*\",Transakcijas!$K:$K,\"<>\"&\"Iemaksas atbrīvošana\")","v":0},{"$f":"SUMIFS(Transakcijas!$R:$R,Transakcijas!$Q:$Q,$B$158,Transakcijas!$O:$O,YEAR($B163),Transakcijas!$P:$P,RIGHT(\"0\"&MONTH($B163),2),Transakcijas!$D:$D,\"Iemaksa\",Transakcijas!$K:$K,\"<>\"&\"Izejošā maksājuma anulēšana\")\n+SUMIFS(Transakcijas!$R:$R,Transakcijas!$Q:$Q,$B$158,Transakcijas!$O:$O,YEAR($B163),Transakcijas!$P:$P,RIGHT(\"0\"&MONTH($B163),2),Transakcijas!$D:$D,\"Atmaksa\",Transakcijas!$K:$K,\"Iemaksas atbrīvošana\")","v":0},{"$f":"SUMIFS(Transakcijas!$R:$R,Transakcijas!$Q:$Q,$B$158,Transakcijas!$O:$O,YEAR($B163),Transakcijas!$P:$P,RIGHT(\"0\"&MONTH($B163),2),Transakcijas!$D:$D,\"Atmaksa\",Transakcijas!$K:$K,\"<>\"&\"Iemaksas atbrīvošana\")\n+SUMIFS(Transakcijas!$R:$R,Transakcijas!$Q:$Q,$B$158,Transakcijas!$O:$O,YEAR($B163),Transakcijas!$P:$P,RIGHT(\"0\"&MONTH($B163),2),Transakcijas!$D:$D,\"Iemaksa\",Transakcijas!$K:$K,\"Izejošā maksājuma anulēšana\")","v":0},{"$f":"SUMIFS(Transakcijas!$R:$R,Transakcijas!$Q:$Q,$B$158,Transakcijas!$O:$O,YEAR($B163),Transakcijas!$P:$P,RIGHT(\"0\"&MONTH($B163),2),Transakcijas!$K:$K,\"FIFO savstarpējā segšana\")\n+SUMIFS(Transakcijas!$R:$R,Transakcijas!$Q:$Q,$B$158,Transakcijas!$O:$O,YEAR($B163),Transakcijas!$P:$P,RIGHT(\"0\"&MONTH($B163),2),Transakcijas!$D:$D,\"Aprēķins\",Transakcijas!$K:$K,\"Iemaksas atbrīvošana\")","v":0},{"$f":"SUMIFS(Transakcijas!$R:$R,Transakcijas!$Q:$Q,$B$158,Transakcijas!$O:$O,YEAR($B163),Transakcijas!$P:$P,RIGHT(\"0\"&MONTH($B163),2))-SUM(D163:K163)","v":0},0,{"$f":"ROUND(SUMIFS(Transakcijas!$R:$R,Transakcijas!$Q:$Q,$B$158,Transakcijas!$N:$N,\"<=\"&$B163,Transakcijas!$H:$H,\"Pamatsumma\"),2)","v":0},{"$f":"ROUND(SUMIFS(Transakcijas!$R:$R,Transakcijas!$Q:$Q,$B$158,Transakcijas!$N:$N,\"<=\"&$B163,Transakcijas!$H:$H,\"Nokavējuma nauda\"),2)","v":0},{"$f":"ROUND(SUMIFS(Transakcijas!$R:$R,Transakcijas!$Q:$Q,$B$158,Transakcijas!$N:$N,\"<=\"&$B163,Transakcijas!$H:$H,\"Soda nauda\"),2)","v":0}]
[null,"2024-06-30",0,{"$f":"SUMIFS(Transakcijas!$R:$R,Transakcijas!$Q:$Q,$B$158,Transakcijas!$O:$O,YEAR($B164),Transakcijas!$P:$P,RIGHT(\"0\"&MONTH($B164),2),Transakcijas!$D:$D,\"Aprēķins\",Transakcijas!$H:$H,\"Pamatsumma\",Transakcijas!$K:$K,\"<>\"&\"FIFO*\",Transakcijas!$K:$K,\"<>\"&\"Iemaksas atbrīvošana\")","v":0},null,null,{"$f":"SUMIFS(Transakcijas!$R:$R,Transakcijas!$Q:$Q,$B$158,Transakcijas!$O:$O,YEAR($B164),Transakcijas!$P:$P,RIGHT(\"0\"&MONTH($B164),2),Transakcijas!$D:$D,\"Aprēķins\",Transakcijas!$H:$H,\"Nokavējuma nauda\",Transakcijas!$K:$K,\"<>\"&\"FIFO*\",Transakcijas!$K:$K,\"<>\"&\"Iemaksas atbrīvošana\")","v":0},{"$f":"SUMIFS(Transakcijas!$R:$R,Transakcijas!$Q:$Q,$B$158,Transakcijas!$O:$O,YEAR($B164),Transakcijas!$P:$P,RIGHT(\"0\"&MONTH($B164),2),Transakcijas!$D:$D,\"Aprēķins\",Transakcijas!$H:$H,\"Soda nauda\",Transakcijas!$K:$K,\"<>\"&\"FIFO*\",Transakcijas!$K:$K,\"<>\"&\"Iemaksas atbrīvošana\")","v":0},{"$f":"SUMIFS(Transakcijas!$R:$R,Transakcijas!$Q:$Q,$B$158,Transakcijas!$O:$O,YEAR($B164),Transakcijas!$P:$P,RIGHT(\"0\"&MONTH($B164),2),Transakcijas!$D:$D,\"Iemaksa\",Transakcijas!$K:$K,\"<>\"&\"Izejošā maksājuma anulēšana\")\n+SUMIFS(Transakcijas!$R:$R,Transakcijas!$Q:$Q,$B$158,Transakcijas!$O:$O,YEAR($B164),Transakcijas!$P:$P,RIGHT(\"0\"&MONTH($B164),2),Transakcijas!$D:$D,\"Atmaksa\",Transakcijas!$K:$K,\"Iemaksas atbrīvošana\")","v":0},{"$f":"SUMIFS(Transakcijas!$R:$R,Transakcijas!$Q:$Q,$B$158,Transakcijas!$O:$O,YEAR($B164),Transakcijas!$P:$P,RIGHT(\"0\"&MONTH($B164),2),Transakcijas!$D:$D,\"Atmaksa\",Transakcijas!$K:$K,\"<>\"&\"Iemaksas atbrīvošana\")\n+SUMIFS(Transakcijas!$R:$R,Transakcijas!$Q:$Q,$B$158,Transakcijas!$O:$O,YEAR($B164),Transakcijas!$P:$P,RIGHT(\"0\"&MONTH($B164),2),Transakcijas!$D:$D,\"Iemaksa\",Transakcijas!$K:$K,\"Izejošā maksājuma anulēšana\")","v":0},{"$f":"SUMIFS(Transakcijas!$R:$R,Transakcijas!$Q:$Q,$B$158,Transakcijas!$O:$O,YEAR($B164),Transakcijas!$P:$P,RIGHT(\"0\"&MONTH($B164),2),Transakcijas!$K:$K,\"FIFO savstarpējā segšana\")\n+SUMIFS(Transakcijas!$R:$R,Transakcijas!$Q:$Q,$B$158,Transakcijas!$O:$O,YEAR($B164),Transakcijas!$P:$P,RIGHT(\"0\"&MONTH($B164),2),Transakcijas!$D:$D,\"Aprēķins\",Transakcijas!$K:$K,\"Iemaksas atbrīvošana\")","v":0},{"$f":"SUMIFS(Transakcijas!$R:$R,Transakcijas!$Q:$Q,$B$158,Transakcijas!$O:$O,YEAR($B164),Transakcijas!$P:$P,RIGHT(\"0\"&MONTH($B164),2))-SUM(D164:K164)","v":0},0,{"$f":"ROUND(SUMIFS(Transakcijas!$R:$R,Transakcijas!$Q:$Q,$B$158,Transakcijas!$N:$N,\"<=\"&$B164,Transakcijas!$H:$H,\"Pamatsumma\"),2)","v":0},{"$f":"ROUND(SUMIFS(Transakcijas!$R:$R,Transakcijas!$Q:$Q,$B$158,Transakcijas!$N:$N,\"<=\"&$B164,Transakcijas!$H:$H,\"Nokavējuma nauda\"),2)","v":0},{"$f":"ROUND(SUMIFS(Transakcijas!$R:$R,Transakcijas!$Q:$Q,$B$158,Transakcijas!$N:$N,\"<=\"&$B164,Transakcijas!$H:$H,\"Soda nauda\"),2)","v":0}]
[null,"2024-07-31",0,{"$f":"SUMIFS(Transakcijas!$R:$R,Transakcijas!$Q:$Q,$B$158,Transakcijas!$O:$O,YEAR($B165),Transakcijas!$P:$P,RIGHT(\"0\"&MONTH($B165),2),Transakcijas!$D:$D,\"Aprēķins\",Transakcijas!$H:$H,\"Pamatsumma\",Transakcijas!$K:$K,\"<>\"&\"FIFO*\",Transakcijas!$K:$K,\"<>\"&\"Iemaksas atbrīvošana\")","v":0},null,null,{"$f":"SUMIFS(Transakcijas!$R:$R,Transakcijas!$Q:$Q,$B$158,Transakcijas!$O:$O,YEAR($B165),Transakcijas!$P:$P,RIGHT(\"0\"&MONTH($B165),2),Transakcijas!$D:$D,\"Aprēķins\",Transakcijas!$H:$H,\"Nokavējuma nauda\",Transakcijas!$K:$K,\"<>\"&\"FIFO*\",Transakcijas!$K:$K,\"<>\"&\"Iemaksas atbrīvošana\")","v":0},{"$f":"SUMIFS(Transakcijas!$R:$R,Transakcijas!$Q:$Q,$B$158,Transakcijas!$O:$O,YEAR($B165),Transakcijas!$P:$P,RIGHT(\"0\"&MONTH($B165),2),Transakcijas!$D:$D,\"Aprēķins\",Transakcijas!$H:$H,\"Soda nauda\",Transakcijas!$K:$K,\"<>\"&\"FIFO*\",Transakcijas!$K:$K,\"<>\"&\"Iemaksas atbrīvošana\")","v":0},{"$f":"SUMIFS(Transakcijas!$R:$R,Transakcijas!$Q:$Q,$B$158,Transakcijas!$O:$O,YEAR($B165),Transakcijas!$P:$P,RIGHT(\"0\"&MONTH($B165),2),Transakcijas!$D:$D,\"Iemaksa\",Transakcijas!$K:$K,\"<>\"&\"Izejošā maksājuma anulēšana\")\n+SUMIFS(Transakcijas!$R:$R,Transakcijas!$Q:$Q,$B$158,Transakcijas!$O:$O,YEAR($B165),Transakcijas!$P:$P,RIGHT(\"0\"&MONTH($B165),2),Transakcijas!$D:$D,\"Atmaksa\",Transakcijas!$K:$K,\"Iemaksas atbrīvošana\")","v":0},{"$f":"SUMIFS(Transakcijas!$R:$R,Transakcijas!$Q:$Q,$B$158,Transakcijas!$O:$O,YEAR($B165),Transakcijas!$P:$P,RIGHT(\"0\"&MONTH($B165),2),Transakcijas!$D:$D,\"Atmaksa\",Transakcijas!$K:$K,\"<>\"&\"Iemaksas atbrīvošana\")\n+SUMIFS(Transakcijas!$R:$R,Transakcijas!$Q:$Q,$B$158,Transakcijas!$O:$O,YEAR($B165),Transakcijas!$P:$P,RIGHT(\"0\"&MONTH($B165),2),Transakcijas!$D:$D,\"Iemaksa\",Transakcijas!$K:$K,\"Izejošā maksājuma anulēšana\")","v":0},{"$f":"SUMIFS(Transakcijas!$R:$R,Transakcijas!$Q:$Q,$B$158,Transakcijas!$O:$O,YEAR($B165),Transakcijas!$P:$P,RIGHT(\"0\"&MONTH($B165),2),Transakcijas!$K:$K,\"FIFO savstarpējā segšana\")\n+SUMIFS(Transakcijas!$R:$R,Transakcijas!$Q:$Q,$B$158,Transakcijas!$O:$O,YEAR($B165),Transakcijas!$P:$P,RIGHT(\"0\"&MONTH($B165),2),Transakcijas!$D:$D,\"Aprēķins\",Transakcijas!$K:$K,\"Iemaksas atbrīvošana\")","v":0},{"$f":"SUMIFS(Transakcijas!$R:$R,Transakcijas!$Q:$Q,$B$158,Transakcijas!$O:$O,YEAR($B165),Transakcijas!$P:$P,RIGHT(\"0\"&MONTH($B165),2))-SUM(D165:K165)","v":0},0,{"$f":"ROUND(SUMIFS(Transakcijas!$R:$R,Transakcijas!$Q:$Q,$B$158,Transakcijas!$N:$N,\"<=\"&$B165,Transakcijas!$H:$H,\"Pamatsumma\"),2)","v":0},{"$f":"ROUND(SUMIFS(Transakcijas!$R:$R,Transakcijas!$Q:$Q,$B$158,Transakcijas!$N:$N,\"<=\"&$B165,Transakcijas!$H:$H,\"Nokavējuma nauda\"),2)","v":0},{"$f":"ROUND(SUMIFS(Transakcijas!$R:$R,Transakcijas!$Q:$Q,$B$158,Transakcijas!$N:$N,\"<=\"&$B165,Transakcijas!$H:$H,\"Soda nauda\"),2)","v":0}]
[null,"2024-08-31",0,{"$f":"SUMIFS(Transakcijas!$R:$R,Transakcijas!$Q:$Q,$B$158,Transakcijas!$O:$O,YEAR($B166),Transakcijas!$P:$P,RIGHT(\"0\"&MONTH($B166),2),Transakcijas!$D:$D,\"Aprēķins\",Transakcijas!$H:$H,\"Pamatsumma\",Transakcijas!$K:$K,\"<>\"&\"FIFO*\",Transakcijas!$K:$K,\"<>\"&\"Iemaksas atbrīvošana\")","v":0},null,null,{"$f":"SUMIFS(Transakcijas!$R:$R,Transakcijas!$Q:$Q,$B$158,Transakcijas!$O:$O,YEAR($B166),Transakcijas!$P:$P,RIGHT(\"0\"&MONTH($B166),2),Transakcijas!$D:$D,\"Aprēķins\",Transakcijas!$H:$H,\"Nokavējuma nauda\",Transakcijas!$K:$K,\"<>\"&\"FIFO*\",Transakcijas!$K:$K,\"<>\"&\"Iemaksas atbrīvošana\")","v":0},{"$f":"SUMIFS(Transakcijas!$R:$R,Transakcijas!$Q:$Q,$B$158,Transakcijas!$O:$O,YEAR($B166),Transakcijas!$P:$P,RIGHT(\"0\"&MONTH($B166),2),Transakcijas!$D:$D,\"Aprēķins\",Transakcijas!$H:$H,\"Soda nauda\",Transakcijas!$K:$K,\"<>\"&\"FIFO*\",Transakcijas!$K:$K,\"<>\"&\"Iemaksas atbrīvošana\")","v":0},{"$f":"SUMIFS(Transakcijas!$R:$R,Transakcijas!$Q:$Q,$B$158,Transakcijas!$O:$O,YEAR($B166),Transakcijas!$P:$P,RIGHT(\"0\"&MONTH($B166),2),Transakcijas!$D:$D,\"Iemaksa\",Transakcijas!$K:$K,\"<>\"&\"Izejošā maksājuma anulēšana\")\n+SUMIFS(Transakcijas!$R:$R,Transakcijas!$Q:$Q,$B$158,Transakcijas!$O:$O,YEAR($B166),Transakcijas!$P:$P,RIGHT(\"0\"&MONTH($B166),2),Transakcijas!$D:$D,\"Atmaksa\",Transakcijas!$K:$K,\"Iemaksas atbrīvošana\")","v":0},{"$f":"SUMIFS(Transakcijas!$R:$R,Transakcijas!$Q:$Q,$B$158,Transakcijas!$O:$O,YEAR($B166),Transakcijas!$P:$P,RIGHT(\"0\"&MONTH($B166),2),Transakcijas!$D:$D,\"Atmaksa\",Transakcijas!$K:$K,\"<>\"&\"Iemaksas atbrīvošana\")\n+SUMIFS(Transakcijas!$R:$R,Transakcijas!$Q:$Q,$B$158,Transakcijas!$O:$O,YEAR($B166),Transakcijas!$P:$P,RIGHT(\"0\"&MONTH($B166),2),Transakcijas!$D:$D,\"Iemaksa\",Transakcijas!$K:$K,\"Izejošā maksājuma anulēšana\")","v":0},{"$f":"SUMIFS(Transakcijas!$R:$R,Transakcijas!$Q:$Q,$B$158,Transakcijas!$O:$O,YEAR($B166),Transakcijas!$P:$P,RIGHT(\"0\"&MONTH($B166),2),Transakcijas!$K:$K,\"FIFO savstarpējā segšana\")\n+SUMIFS(Transakcijas!$R:$R,Transakcijas!$Q:$Q,$B$158,Transakcijas!$O:$O,YEAR($B166),Transakcijas!$P:$P,RIGHT(\"0\"&MONTH($B166),2),Transakcijas!$D:$D,\"Aprēķins\",Transakcijas!$K:$K,\"Iemaksas atbrīvošana\")","v":0},{"$f":"SUMIFS(Transakcijas!$R:$R,Transakcijas!$Q:$Q,$B$158,Transakcijas!$O:$O,YEAR($B166),Transakcijas!$P:$P,RIGHT(\"0\"&MONTH($B166),2))-SUM(D166:K166)","v":0},0,{"$f":"ROUND(SUMIFS(Transakcijas!$R:$R,Transakcijas!$Q:$Q,$B$158,Transakcijas!$N:$N,\"<=\"&$B166,Transakcijas!$H:$H,\"Pamatsumma\"),2)","v":0},{"$f":"ROUND(SUMIFS(Transakcijas!$R:$R,Transakcijas!$Q:$Q,$B$158,Transakcijas!$N:$N,\"<=\"&$B166,Transakcijas!$H:$H,\"Nokavējuma nauda\"),2)","v":0},{"$f":"ROUND(SUMIFS(Transakcijas!$R:$R,Transakcijas!$Q:$Q,$B$158,Transakcijas!$N:$N,\"<=\"&$B166,Transakcijas!$H:$H,\"Soda nauda\"),2)","v":0}]
[null,"2024-09-30",0,{"$f":"SUMIFS(Transakcijas!$R:$R,Transakcijas!$Q:$Q,$B$158,Transakcijas!$O:$O,YEAR($B167),Transakcijas!$P:$P,RIGHT(\"0\"&MONTH($B167),2),Transakcijas!$D:$D,\"Aprēķins\",Transakcijas!$H:$H,\"Pamatsumma\",Transakcijas!$K:$K,\"<>\"&\"FIFO*\",Transakcijas!$K:$K,\"<>\"&\"Iemaksas atbrīvošana\")","v":0},null,null,{"$f":"SUMIFS(Transakcijas!$R:$R,Transakcijas!$Q:$Q,$B$158,Transakcijas!$O:$O,YEAR($B167),Transakcijas!$P:$P,RIGHT(\"0\"&MONTH($B167),2),Transakcijas!$D:$D,\"Aprēķins\",Transakcijas!$H:$H,\"Nokavējuma nauda\",Transakcijas!$K:$K,\"<>\"&\"FIFO*\",Transakcijas!$K:$K,\"<>\"&\"Iemaksas atbrīvošana\")","v":0},{"$f":"SUMIFS(Transakcijas!$R:$R,Transakcijas!$Q:$Q,$B$158,Transakcijas!$O:$O,YEAR($B167),Transakcijas!$P:$P,RIGHT(\"0\"&MONTH($B167),2),Transakcijas!$D:$D,\"Aprēķins\",Transakcijas!$H:$H,\"Soda nauda\",Transakcijas!$K:$K,\"<>\"&\"FIFO*\",Transakcijas!$K:$K,\"<>\"&\"Iemaksas atbrīvošana\")","v":0},{"$f":"SUMIFS(Transakcijas!$R:$R,Transakcijas!$Q:$Q,$B$158,Transakcijas!$O:$O,YEAR($B167),Transakcijas!$P:$P,RIGHT(\"0\"&MONTH($B167),2),Transakcijas!$D:$D,\"Iemaksa\",Transakcijas!$K:$K,\"<>\"&\"Izejošā maksājuma anulēšana\")\n+SUMIFS(Transakcijas!$R:$R,Transakcijas!$Q:$Q,$B$158,Transakcijas!$O:$O,YEAR($B167),Transakcijas!$P:$P,RIGHT(\"0\"&MONTH($B167),2),Transakcijas!$D:$D,\"Atmaksa\",Transakcijas!$K:$K,\"Iemaksas atbrīvošana\")","v":0},{"$f":"SUMIFS(Transakcijas!$R:$R,Transakcijas!$Q:$Q,$B$158,Transakcijas!$O:$O,YEAR($B167),Transakcijas!$P:$P,RIGHT(\"0\"&MONTH($B167),2),Transakcijas!$D:$D,\"Atmaksa\",Transakcijas!$K:$K,\"<>\"&\"Iemaksas atbrīvošana\")\n+SUMIFS(Transakcijas!$R:$R,Transakcijas!$Q:$Q,$B$158,Transakcijas!$O:$O,YEAR($B167),Transakcijas!$P:$P,RIGHT(\"0\"&MONTH($B167),2),Transakcijas!$D:$D,\"Iemaksa\",Transakcijas!$K:$K,\"Izejošā maksājuma anulēšana\")","v":0},{"$f":"SUMIFS(Transakcijas!$R:$R,Transakcijas!$Q:$Q,$B$158,Transakcijas!$O:$O,YEAR($B167),Transakcijas!$P:$P,RIGHT(\"0\"&MONTH($B167),2),Transakcijas!$K:$K,\"FIFO savstarpējā segšana\")\n+SUMIFS(Transakcijas!$R:$R,Transakcijas!$Q:$Q,$B$158,Transakcijas!$O:$O,YEAR($B167),Transakcijas!$P:$P,RIGHT(\"0\"&MONTH($B167),2),Transakcijas!$D:$D,\"Aprēķins\",Transakcijas!$K:$K,\"Iemaksas atbrīvošana\")","v":0},{"$f":"SUMIFS(Transakcijas!$R:$R,Transakcijas!$Q:$Q,$B$158,Transakcijas!$O:$O,YEAR($B167),Transakcijas!$P:$P,RIGHT(\"0\"&MONTH($B167),2))-SUM(D167:K167)","v":0},0,{"$f":"ROUND(SUMIFS(Transakcijas!$R:$R,Transakcijas!$Q:$Q,$B$158,Transakcijas!$N:$N,\"<=\"&$B167,Transakcijas!$H:$H,\"Pamatsumma\"),2)","v":0},{"$f":"ROUND(SUMIFS(Transakcijas!$R:$R,Transakcijas!$Q:$Q,$B$158,Transakcijas!$N:$N,\"<=\"&$B167,Transakcijas!$H:$H,\"Nokavējuma nauda\"),2)","v":0},{"$f":"ROUND(SUMIFS(Transakcijas!$R:$R,Transakcijas!$Q:$Q,$B$158,Transakcijas!$N:$N,\"<=\"&$B167,Transakcijas!$H:$H,\"Soda nauda\"),2)","v":0}]
[null,"2024-10-31",0,{"$f":"SUMIFS(Transakcijas!$R:$R,Transakcijas!$Q:$Q,$B$158,Transakcijas!$O:$O,YEAR($B168),Transakcijas!$P:$P,RIGHT(\"0\"&MONTH($B168),2),Transakcijas!$D:$D,\"Aprēķins\",Transakcijas!$H:$H,\"Pamatsumma\",Transakcijas!$K:$K,\"<>\"&\"FIFO*\",Transakcijas!$K:$K,\"<>\"&\"Iemaksas atbrīvošana\")","v":0},null,null,{"$f":"SUMIFS(Transakcijas!$R:$R,Transakcijas!$Q:$Q,$B$158,Transakcijas!$O:$O,YEAR($B168),Transakcijas!$P:$P,RIGHT(\"0\"&MONTH($B168),2),Transakcijas!$D:$D,\"Aprēķins\",Transakcijas!$H:$H,\"Nokavējuma nauda\",Transakcijas!$K:$K,\"<>\"&\"FIFO*\",Transakcijas!$K:$K,\"<>\"&\"Iemaksas atbrīvošana\")","v":0},{"$f":"SUMIFS(Transakcijas!$R:$R,Transakcijas!$Q:$Q,$B$158,Transakcijas!$O:$O,YEAR($B168),Transakcijas!$P:$P,RIGHT(\"0\"&MONTH($B168),2),Transakcijas!$D:$D,\"Aprēķins\",Transakcijas!$H:$H,\"Soda nauda\",Transakcijas!$K:$K,\"<>\"&\"FIFO*\",Transakcijas!$K:$K,\"<>\"&\"Iemaksas atbrīvošana\")","v":0},{"$f":"SUMIFS(Transakcijas!$R:$R,Transakcijas!$Q:$Q,$B$158,Transakcijas!$O:$O,YEAR($B168),Transakcijas!$P:$P,RIGHT(\"0\"&MONTH($B168),2),Transakcijas!$D:$D,\"Iemaksa\",Transakcijas!$K:$K,\"<>\"&\"Izejošā maksājuma anulēšana\")\n+SUMIFS(Transakcijas!$R:$R,Transakcijas!$Q:$Q,$B$158,Transakcijas!$O:$O,YEAR($B168),Transakcijas!$P:$P,RIGHT(\"0\"&MONTH($B168),2),Transakcijas!$D:$D,\"Atmaksa\",Transakcijas!$K:$K,\"Iemaksas atbrīvošana\")","v":0},{"$f":"SUMIFS(Transakcijas!$R:$R,Transakcijas!$Q:$Q,$B$158,Transakcijas!$O:$O,YEAR($B168),Transakcijas!$P:$P,RIGHT(\"0\"&MONTH($B168),2),Transakcijas!$D:$D,\"Atmaksa\",Transakcijas!$K:$K,\"<>\"&\"Iemaksas atbrīvošana\")\n+SUMIFS(Transakcijas!$R:$R,Transakcijas!$Q:$Q,$B$158,Transakcijas!$O:$O,YEAR($B168),Transakcijas!$P:$P,RIGHT(\"0\"&MONTH($B168),2),Transakcijas!$D:$D,\"Iemaksa\",Transakcijas!$K:$K,\"Izejošā maksājuma anulēšana\")","v":0},{"$f":"SUMIFS(Transakcijas!$R:$R,Transakcijas!$Q:$Q,$B$158,Transakcijas!$O:$O,YEAR($B168),Transakcijas!$P:$P,RIGHT(\"0\"&MONTH($B168),2),Transakcijas!$K:$K,\"FIFO savstarpējā segšana\")\n+SUMIFS(Transakcijas!$R:$R,Transakcijas!$Q:$Q,$B$158,Transakcijas!$O:$O,YEAR($B168),Transakcijas!$P:$P,RIGHT(\"0\"&MONTH($B168),2),Transakcijas!$D:$D,\"Aprēķins\",Transakcijas!$K:$K,\"Iemaksas atbrīvošana\")","v":0},{"$f":"SUMIFS(Transakcijas!$R:$R,Transakcijas!$Q:$Q,$B$158,Transakcijas!$O:$O,YEAR($B168),Transakcijas!$P:$P,RIGHT(\"0\"&MONTH($B168),2))-SUM(D168:K168)","v":0},0,{"$f":"ROUND(SUMIFS(Transakcijas!$R:$R,Transakcijas!$Q:$Q,$B$158,Transakcijas!$N:$N,\"<=\"&$B168,Transakcijas!$H:$H,\"Pamatsumma\"),2)","v":0},{"$f":"ROUND(SUMIFS(Transakcijas!$R:$R,Transakcijas!$Q:$Q,$B$158,Transakcijas!$N:$N,\"<=\"&$B168,Transakcijas!$H:$H,\"Nokavējuma nauda\"),2)","v":0},{"$f":"ROUND(SUMIFS(Transakcijas!$R:$R,Transakcijas!$Q:$Q,$B$158,Transakcijas!$N:$N,\"<=\"&$B168,Transakcijas!$H:$H,\"Soda nauda\"),2)","v":0}]
[null,"2024-11-30",0,{"$f":"SUMIFS(Transakcijas!$R:$R,Transakcijas!$Q:$Q,$B$158,Transakcijas!$O:$O,YEAR($B169),Transakcijas!$P:$P,RIGHT(\"0\"&MONTH($B169),2),Transakcijas!$D:$D,\"Aprēķins\",Transakcijas!$H:$H,\"Pamatsumma\",Transakcijas!$K:$K,\"<>\"&\"FIFO*\",Transakcijas!$K:$K,\"<>\"&\"Iemaksas atbrīvošana\")","v":0},null,null,{"$f":"SUMIFS(Transakcijas!$R:$R,Transakcijas!$Q:$Q,$B$158,Transakcijas!$O:$O,YEAR($B169),Transakcijas!$P:$P,RIGHT(\"0\"&MONTH($B169),2),Transakcijas!$D:$D,\"Aprēķins\",Transakcijas!$H:$H,\"Nokavējuma nauda\",Transakcijas!$K:$K,\"<>\"&\"FIFO*\",Transakcijas!$K:$K,\"<>\"&\"Iemaksas atbrīvošana\")","v":0},{"$f":"SUMIFS(Transakcijas!$R:$R,Transakcijas!$Q:$Q,$B$158,Transakcijas!$O:$O,YEAR($B169),Transakcijas!$P:$P,RIGHT(\"0\"&MONTH($B169),2),Transakcijas!$D:$D,\"Aprēķins\",Transakcijas!$H:$H,\"Soda nauda\",Transakcijas!$K:$K,\"<>\"&\"FIFO*\",Transakcijas!$K:$K,\"<>\"&\"Iemaksas atbrīvošana\")","v":0},{"$f":"SUMIFS(Transakcijas!$R:$R,Transakcijas!$Q:$Q,$B$158,Transakcijas!$O:$O,YEAR($B169),Transakcijas!$P:$P,RIGHT(\"0\"&MONTH($B169),2),Transakcijas!$D:$D,\"Iemaksa\",Transakcijas!$K:$K,\"<>\"&\"Izejošā maksājuma anulēšana\")\n+SUMIFS(Transakcijas!$R:$R,Transakcijas!$Q:$Q,$B$158,Transakcijas!$O:$O,YEAR($B169),Transakcijas!$P:$P,RIGHT(\"0\"&MONTH($B169),2),Transakcijas!$D:$D,\"Atmaksa\",Transakcijas!$K:$K,\"Iemaksas atbrīvošana\")","v":0},{"$f":"SUMIFS(Transakcijas!$R:$R,Transakcijas!$Q:$Q,$B$158,Transakcijas!$O:$O,YEAR($B169),Transakcijas!$P:$P,RIGHT(\"0\"&MONTH($B169),2),Transakcijas!$D:$D,\"Atmaksa\",Transakcijas!$K:$K,\"<>\"&\"Iemaksas atbrīvošana\")\n+SUMIFS(Transakcijas!$R:$R,Transakcijas!$Q:$Q,$B$158,Transakcijas!$O:$O,YEAR($B169),Transakcijas!$P:$P,RIGHT(\"0\"&MONTH($B169),2),Transakcijas!$D:$D,\"Iemaksa\",Transakcijas!$K:$K,\"Izejošā maksājuma anulēšana\")","v":0},{"$f":"SUMIFS(Transakcijas!$R:$R,Transakcijas!$Q:$Q,$B$158,Transakcijas!$O:$O,YEAR($B169),Transakcijas!$P:$P,RIGHT(\"0\"&MONTH($B169),2),Transakcijas!$K:$K,\"FIFO savstarpējā segšana\")\n+SUMIFS(Transakcijas!$R:$R,Transakcijas!$Q:$Q,$B$158,Transakcijas!$O:$O,YEAR($B169),Transakcijas!$P:$P,RIGHT(\"0\"&MONTH($B169),2),Transakcijas!$D:$D,\"Aprēķins\",Transakcijas!$K:$K,\"Iemaksas atbrīvošana\")","v":0},{"$f":"SUMIFS(Transakcijas!$R:$R,Transakcijas!$Q:$Q,$B$158,Transakcijas!$O:$O,YEAR($B169),Transakcijas!$P:$P,RIGHT(\"0\"&MONTH($B169),2))-SUM(D169:K169)","v":0},0,{"$f":"ROUND(SUMIFS(Transakcijas!$R:$R,Transakcijas!$Q:$Q,$B$158,Transakcijas!$N:$N,\"<=\"&$B169,Transakcijas!$H:$H,\"Pamatsumma\"),2)","v":0},{"$f":"ROUND(SUMIFS(Transakcijas!$R:$R,Transakcijas!$Q:$Q,$B$158,Transakcijas!$N:$N,\"<=\"&$B169,Transakcijas!$H:$H,\"Nokavējuma nauda\"),2)","v":0},{"$f":"ROUND(SUMIFS(Transakcijas!$R:$R,Transakcijas!$Q:$Q,$B$158,Transakcijas!$N:$N,\"<=\"&$B169,Transakcijas!$H:$H,\"Soda nauda\"),2)","v":0}]
[null,"2024-12-31",0,{"$f":"SUMIFS(Transakcijas!$R:$R,Transakcijas!$Q:$Q,$B$158,Transakcijas!$O:$O,YEAR($B170),Transakcijas!$P:$P,RIGHT(\"0\"&MONTH($B170),2),Transakcijas!$D:$D,\"Aprēķins\",Transakcijas!$H:$H,\"Pamatsumma\",Transakcijas!$K:$K,\"<>\"&\"FIFO*\",Transakcijas!$K:$K,\"<>\"&\"Iemaksas atbrīvošana\")","v":0},null,null,{"$f":"SUMIFS(Transakcijas!$R:$R,Transakcijas!$Q:$Q,$B$158,Transakcijas!$O:$O,YEAR($B170),Transakcijas!$P:$P,RIGHT(\"0\"&MONTH($B170),2),Transakcijas!$D:$D,\"Aprēķins\",Transakcijas!$H:$H,\"Nokavējuma nauda\",Transakcijas!$K:$K,\"<>\"&\"FIFO*\",Transakcijas!$K:$K,\"<>\"&\"Iemaksas atbrīvošana\")","v":0},{"$f":"SUMIFS(Transakcijas!$R:$R,Transakcijas!$Q:$Q,$B$158,Transakcijas!$O:$O,YEAR($B170),Transakcijas!$P:$P,RIGHT(\"0\"&MONTH($B170),2),Transakcijas!$D:$D,\"Aprēķins\",Transakcijas!$H:$H,\"Soda nauda\",Transakcijas!$K:$K,\"<>\"&\"FIFO*\",Transakcijas!$K:$K,\"<>\"&\"Iemaksas atbrīvošana\")","v":0},{"$f":"SUMIFS(Transakcijas!$R:$R,Transakcijas!$Q:$Q,$B$158,Transakcijas!$O:$O,YEAR($B170),Transakcijas!$P:$P,RIGHT(\"0\"&MONTH($B170),2),Transakcijas!$D:$D,\"Iemaksa\",Transakcijas!$K:$K,\"<>\"&\"Izejošā maksājuma anulēšana\")\n+SUMIFS(Transakcijas!$R:$R,Transakcijas!$Q:$Q,$B$158,Transakcijas!$O:$O,YEAR($B170),Transakcijas!$P:$P,RIGHT(\"0\"&MONTH($B170),2),Transakcijas!$D:$D,\"Atmaksa\",Transakcijas!$K:$K,\"Iemaksas atbrīvošana\")","v":0},{"$f":"SUMIFS(Transakcijas!$R:$R,Transakcijas!$Q:$Q,$B$158,Transakcijas!$O:$O,YEAR($B170),Transakcijas!$P:$P,RIGHT(\"0\"&MONTH($B170),2),Transakcijas!$D:$D,\"Atmaksa\",Transakcijas!$K:$K,\"<>\"&\"Iemaksas atbrīvošana\")\n+SUMIFS(Transakcijas!$R:$R,Transakcijas!$Q:$Q,$B$158,Transakcijas!$O:$O,YEAR($B170),Transakcijas!$P:$P,RIGHT(\"0\"&MONTH($B170),2),Transakcijas!$D:$D,\"Iemaksa\",Transakcijas!$K:$K,\"Izejošā maksājuma anulēšana\")","v":0},{"$f":"SUMIFS(Transakcijas!$R:$R,Transakcijas!$Q:$Q,$B$158,Transakcijas!$O:$O,YEAR($B170),Transakcijas!$P:$P,RIGHT(\"0\"&MONTH($B170),2),Transakcijas!$K:$K,\"FIFO savstarpējā segšana\")\n+SUMIFS(Transakcijas!$R:$R,Transakcijas!$Q:$Q,$B$158,Transakcijas!$O:$O,YEAR($B170),Transakcijas!$P:$P,RIGHT(\"0\"&MONTH($B170),2),Transakcijas!$D:$D,\"Aprēķins\",Transakcijas!$K:$K,\"Iemaksas atbrīvošana\")","v":0},{"$f":"SUMIFS(Transakcijas!$R:$R,Transakcijas!$Q:$Q,$B$158,Transakcijas!$O:$O,YEAR($B170),Transakcijas!$P:$P,RIGHT(\"0\"&MONTH($B170),2))-SUM(D170:K170)","v":0},0,{"$f":"ROUND(SUMIFS(Transakcijas!$R:$R,Transakcijas!$Q:$Q,$B$158,Transakcijas!$N:$N,\"<=\"&$B170,Transakcijas!$H:$H,\"Pamatsumma\"),2)","v":0},{"$f":"ROUND(SUMIFS(Transakcijas!$R:$R,Transakcijas!$Q:$Q,$B$158,Transakcijas!$N:$N,\"<=\"&$B170,Transakcijas!$H:$H,\"Nokavējuma nauda\"),2)","v":0},{"$f":"ROUND(SUMIFS(Transakcijas!$R:$R,Transakcijas!$Q:$Q,$B$158,Transakcijas!$N:$N,\"<=\"&$B170,Transakcijas!$H:$H,\"Soda nauda\"),2)","v":0}]
[null,"Kopā",{"$f":"C159","v":0},{"$f":"SUM(D159:D170)","v":0},null,null,{"$f":"SUM(G159:G170)","v":0},0,0,0,0,0,0]
[]
[null,{"$f":"DATE(YEAR($M$4),MONTH($M$4)+2,0)","v":"2025-01-31"},{"$f":"IF(B173=\"\",0,M171)","v":0},{"$f":"SUMIFS(Transakcijas!$R:$R,Transakcijas!$Q:$Q,$B$158,Transakcijas!$O:$O,YEAR($B173),Transakcijas!$P:$P,RIGHT(\"0\"&MONTH($B173),2),Transakcijas!$D:$D,\"Aprēķins\",Transakcijas!$H:$H,\"Pamatsumma\",Transakcijas!$K:$K,\"<>\"&\"FIFO*\",Transakcijas!$K:$K,\"<>\"&\"Iemaksas atbrīvošana\")","v":0},null,null,{"$f":"SUMIFS(Transakcijas!$R:$R,Transakcijas!$Q:$Q,$B$158,Transakcijas!$O:$O,YEAR($B173),Transakcijas!$P:$P,RIGHT(\"0\"&MONTH($B173),2),Transakcijas!$D:$D,\"Aprēķins\",Transakcijas!$H:$H,\"Nokavējuma nauda\",Transakcijas!$K:$K,\"<>\"&\"FIFO*\",Transakcijas!$K:$K,\"<>\"&\"Iemaksas atbrīvošana\")","v":0},{"$f":"SUMIFS(Transakcijas!$R:$R,Transakcijas!$Q:$Q,$B$158,Transakcijas!$O:$O,YEAR($B173),Transakcijas!$P:$P,RIGHT(\"0\"&MONTH($B173),2),Transakcijas!$D:$D,\"Aprēķins\",Transakcijas!$H:$H,\"Soda nauda\",Transakcijas!$K:$K,\"<>\"&\"FIFO*\",Transakcijas!$K:$K,\"<>\"&\"Iemaksas atbrīvošana\")","v":0},{"$f":"SUMIFS(Transakcijas!$R:$R,Transakcijas!$Q:$Q,$B$158,Transakcijas!$O:$O,YEAR($B173),Transakcijas!$P:$P,RIGHT(\"0\"&MONTH($B173),2),Transakcijas!$D:$D,\"Iemaksa\",Transakcijas!$K:$K,\"<>\"&\"Izejošā maksājuma anulēšana\")\n+SUMIFS(Transakcijas!$R:$R,Transakcijas!$Q:$Q,$B$158,Transakcijas!$O:$O,YEAR($B173),Transakcijas!$P:$P,RIGHT(\"0\"&MONTH($B173),2),Transakcijas!$D:$D,\"Atmaksa\",Transakcijas!$K:$K,\"Iemaksas atbrīvošana\")","v":0},{"$f":"SUMIFS(Transakcijas!$R:$R,Transakcijas!$Q:$Q,$B$158,Transakcijas!$O:$O,YEAR($B173),Transakcijas!$P:$P,RIGHT(\"0\"&MONTH($B173),2),Transakcijas!$D:$D,\"Atmaksa\",Transakcijas!$K:$K,\"<>\"&\"Iemaksas atbrīvošana\")\n+SUMIFS(Transakcijas!$R:$R,Transakcijas!$Q:$Q,$B$158,Transakcijas!$O:$O,YEAR($B173),Transakcijas!$P:$P,RIGHT(\"0\"&MONTH($B173),2),Transakcijas!$D:$D,\"Iemaksa\",Transakcijas!$K:$K,\"Izejošā maksājuma anulēšana\")","v":0},{"$f":"SUMIFS(Transakcijas!$R:$R,Transakcijas!$Q:$Q,$B$158,Transakcijas!$O:$O,YEAR($B173),Transakcijas!$P:$P,RIGHT(\"0\"&MONTH($B173),2),Transakcijas!$K:$K,\"FIFO savstarpējā segšana\")\n+SUMIFS(Transakcijas!$R:$R,Transakcijas!$Q:$Q,$B$158,Transakcijas!$O:$O,YEAR($B173),Transakcijas!$P:$P,RIGHT(\"0\"&MONTH($B173),2),Transakcijas!$D:$D,\"Aprēķins\",Transakcijas!$K:$K,\"Iemaksas atbrīvošana\")","v":0},{"$f":"SUMIFS(Transakcijas!$R:$R,Transakcijas!$Q:$Q,$B$158,Transakcijas!$O:$O,YEAR($B173),Transakcijas!$P:$P,RIGHT(\"0\"&MONTH($B173),2))-SUM(D173:K173)","v":0},{"$f":"SUM(C173:L173)","v":0},{"$f":"ROUND(SUMIFS(Transakcijas!$R:$R,Transakcijas!$Q:$Q,$B$158,Transakcijas!$N:$N,\"<=\"&$B173,Transakcijas!$H:$H,\"Pamatsumma\"),2)","v":0},{"$f":"ROUND(SUMIFS(Transakcijas!$R:$R,Transakcijas!$Q:$Q,$B$158,Transakcijas!$N:$N,\"<=\"&$B173,Transakcijas!$H:$H,\"Nokavējuma nauda\"),2)","v":0},{"$f":"ROUND(SUMIFS(Transakcijas!$R:$R,Transakcijas!$Q:$Q,$B$158,Transakcijas!$N:$N,\"<=\"&$B173,Transakcijas!$H:$H,\"Soda nauda\"),2)","v":0}]

{"sheet":"Kustība – EDS termiņi","index":8,"n_rows":9,"n_cols":7,"rows_kept":9,"cut":false,"hidden":true,"merged":[[1,1,1,2]]}
[]
[null,{"$f":"Transakcijas!$C$4","v":0}]
[]
[null,"Sum of EUR",null,null,null,"Gads","Men."]
[null,null,null,null,null,"(blank)","Grand Total"]
[null,"Nodoklis","Aprēķina \npamatojums","Aprēķins / \nMaksājums","Papildus informācija","(blank)"]
[null,"(blank)","(blank)","(blank)","(blank)"]
[null,"(blank) Total"]
[null,"Grand Total"]

{"sheet":"Kopsavilkums – VG periodi","index":9,"n_rows":155,"n_cols":24,"rows_kept":155,"cut":false,"hidden":false,"merged":[[1,5,1,12],[3,1,4,1],[19,1,19,12]]}
[]
[null,{"$f":"Transakcijas!$C$4","v":0},null,null,null,"NODOKĻU KOPSAVILKUMS PĒC EDS DATIEM aprēķina datums = atskaites periods VIRSGRĀMATĀ"]
[]
[null,"NODOKĻI",{"$f":"'Kopsavilkums Bilance'!G4","v":"2024-01-01"},"Aprēķināts","Ieturēts IIN\nMin. VSAOI","Apr.nerezid.\nUniv.IF VSAOI","Aprēķināta nokav. nauda  ","Aprēķināta\n soda nauda  ","Samaksāts\nAtbrīvots","Atmaksāts","Pārvietots \n(Savst.segš.)","Cita \nkustība",{"$f":"'Kopsavilkums Bilance'!Q4","v":"2024-12-31"},"Pamat-\nsumma","Nokav. \nnauda  ","Soda \nnauda  ",null,"Nodoklis","Periods","Aprēķins\nVG dati","Aprēķina \nkontrole",null,"Beigu saldo\nVG dati","Beigu saldo\nkontrole"]
[null,null,"EUR","EUR","EUR","EUR","EUR","EUR","EUR","EUR","EUR","EUR","EUR","EUR","EUR","EUR",null,null,null,"EUR","EUR",null,"EUR","EUR"]
[null,"VSAOI",{"$f":"SUMIFS(Transakcijas!$R:$R,Transakcijas!$S:$S,\"<\"&C$4,Transakcijas!$Q:$Q,$B6)","v":0},{"$f":"D35","v":0},{"$f":"E35","v":0},0,{"$f":"G35","v":0},0,0,0,0,0,{"$f":"SUM(C6:L6)","v":0},{"$f":"SUMIFS(N$23:N$35,$B$23:$B$35,\">=\"&$M$4,$B$23:$B$35,\"<=\"&$M$4)","v":0},{"$f":"SUMIFS(O$23:O$35,$B$23:$B$35,\">=\"&$M$4,$B$23:$B$35,\"<=\"&$M$4)","v":0},{"$f":"SUMIFS(P$23:P$35,$B$23:$B$35,\">=\"&$M$4,$B$23:$B$35,\"<=\"&$M$4)","v":0},null,{"$f":"B6","v":"VSAOI"},"Kopā",{"$f":"SUM(T23:T34)","v":0},{"$f":"SUM(D6:F6)+T6","v":0}]
[null,"IIN",{"$f":"SUMIFS(Transakcijas!$R:$R,Transakcijas!$S:$S,\"<\"&C$4,Transakcijas!$Q:$Q,$B7)","v":0},{"$f":"D50","v":0},{"$f":"E50","v":0},0,0,0,0,0,0,0,0,{"$f":"SUMIFS(N$38:N$50,$B$23:$B$35,\">=\"&$M$4,$B$23:$B$35,\"<=\"&$M$4)","v":0},{"$f":"SUMIFS(O$38:O$50,$B$23:$B$35,\">=\"&$M$4,$B$23:$B$35,\"<=\"&$M$4)","v":0},{"$f":"SUMIFS(P$38:P$50,$B$23:$B$35,\">=\"&$M$4,$B$23:$B$35,\"<=\"&$M$4)","v":0},null,{"$f":"B7","v":"IIN"},"Kopā",{"$f":"SUM(T38:T49)","v":0},{"$f":"SUM(D7:F7)+T7","v":0}]
[null,"Riska nodeva",{"$f":"SUMIFS(Transakcijas!$R:$R,Transakcijas!$S:$S,\"<\"&C$4,Transakcijas!$Q:$Q,$B8)","v":0},{"$f":"D65","v":0},null,null,{"$f":"G65","v":0},0,0,0,0,0,0,{"$f":"SUMIFS(N$53:N$65,$B$23:$B$35,\">=\"&$M$4,$B$23:$B$35,\"<=\"&$M$4)","v":0},{"$f":"SUMIFS(O$53:O$65,$B$23:$B$35,\">=\"&$M$4,$B$23:$B$35,\"<=\"&$M$4)","v":0},{"$f":"SUMIFS(P$53:P$65,$B$23:$B$35,\">=\"&$M$4,$B$23:$B$35,\"<=\"&$M$4)","v":0},null,"Riska nodeva","Kopā",{"$f":"SUM(T53:T64)","v":0},0]
[null,"PVN ",{"$f":"SUMIFS(Transakcijas!$R:$R,Transakcijas!$S:$S,\"<\"&C$4,Transakcijas!$Q:$Q,$B9)","v":0},{"$f":"D80","v":0},null,null,{"$f":"G80","v":0},0,0,0,0,0,0,{"$f":"SUMIFS(N$68:N$80,$B$23:$B$35,\">=\"&$M$4,$B$23:$B$35,\"<=\"&$M$4)","v":0},{"$f":"SUMIFS(O$68:O$80,$B$23:$B$35,\">=\"&$M$4,$B$23:$B$35,\"<=\"&$M$4)","v":0},{"$f":"SUMIFS(P$68:P$80,$B$23:$B$35,\">=\"&$M$4,$B$23:$B$35,\"<=\"&$M$4)","v":0},null,"PVN ","Kopā",{"$f":"SUM(T68:T79)","v":0},0]
[null,"UIN",{"$f":"SUMIFS(Transakcijas!$R:$R,Transakcijas!$S:$S,\"<\"&C$4,Transakcijas!$Q:$Q,$B10)","v":0},{"$f":"D95","v":0},null,null,{"$f":"G95","v":0},0,0,0,0,0,0,{"$f":"SUMIFS(N$83:N$95,$B$23:$B$35,\">=\"&$M$4,$B$23:$B$35,\"<=\"&$M$4)","v":0},{"$f":"SUMIFS(O$83:O$95,$B$23:$B$35,\">=\"&$M$4,$B$23:$B$35,\"<=\"&$M$4)","v":0},{"$f":"SUMIFS(P$83:P$95,$B$23:$B$35,\">=\"&$M$4,$B$23:$B$35,\"<=\"&$M$4)","v":0},null,"UIN","Kopā",{"$f":"SUM(T83:T94)","v":0},0]
[null,"DRN",{"$f":"SUMIFS(Transakcijas!$R:$R,Transakcijas!$S:$S,\"<\"&C$4,Transakcijas!$Q:$Q,$B11)","v":0},{"$f":"D110","v":0},null,null,{"$f":"G110","v":0},0,0,0,0,0,0,{"$f":"SUMIFS(N$98:N$110,$B$23:$B$35,\">=\"&$M$4,$B$23:$B$35,\"<=\"&$M$4)","v":0},{"$f":"SUMIFS(O$98:O$110,$B$23:$B$35,\">=\"&$M$4,$B$23:$B$35,\"<=\"&$M$4)","v":0},{"$f":"SUMIFS(P$98:P$110,$B$23:$B$35,\">=\"&$M$4,$B$23:$B$35,\"<=\"&$M$4)","v":0},null,"DRN","Kopā",{"$f":"SUM(T98:T109)","v":0},0]
[null,"AN",{"$f":"SUMIFS(Transakcijas!$R:$R,Transakcijas!$S:$S,\"<\"&C$4,Transakcijas!$Q:$Q,$B12)","v":0},{"$f":"D125","v":0},null,null,{"$f":"G125","v":0},0,0,0,0,0,0,{"$f":"SUMIFS(N$113:N$125,$B$23:$B$35,\">=\"&$M$4,$B$23:$B$35,\"<=\"&$M$4)","v":0},{"$f":"SUMIFS(O$113:O$125,$B$23:$B$35,\">=\"&$M$4,$B$23:$B$35,\"<=\"&$M$4)","v":0},{"$f":"SUMIFS(P$113:P$125,$B$23:$B$35,\">=\"&$M$4,$B$23:$B$35,\"<=\"&$M$4)","v":0},null,"AN","Kopā",{"$f":"SUM(T113:T124)","v":0},0]
[null,"MUN",{"$f":"SUMIFS(Transakcijas!$R:$R,Transakcijas!$S:$S,\"<\"&C$4,Transakcijas!$Q:$Q,$B13)","v":0},{"$f":"D140","v":0},null,null,{"$f":"G140","v":0},0,0,0,0,0,0,{"$f":"SUMIFS(N$128:N$140,$B$23:$B$35,\">=\"&$M$4,$B$23:$B$35,\"<=\"&$M$4)","v":0},{"$f":"SUMIFS(O$128:O$140,$B$23:$B$35,\">=\"&$M$4,$B$23:$B$35,\"<=\"&$M$4)","v":0},{"$f":"SUMIFS(P$128:P$140,$B$23:$B$35,\">=\"&$M$4,$B$23:$B$35,\"<=\"&$M$4)","v":0},null,"MUN","Kopā",{"$f":"SUM(T128:T139)","v":0},0]
[null,"Soda naudas",{"$f":"SUMIFS(Transakcijas!$R:$R,Transakcijas!$S:$S,\"<\"&C$4,Transakcijas!$Q:$Q,$B14)","v":0},{"$f":"D155","v":0},null,null,{"$f":"G155","v":0},0,0,0,0,0,0,{"$f":"SUMIFS(N$143:N$155,$B$23:$B$35,\">=\"&$M$4,$B$23:$B$35,\"<=\"&$M$4)","v":0},{"$f":"SUMIFS(O$143:O$155,$B$23:$B$35,\">=\"&$M$4,$B$23:$B$35,\"<=\"&$M$4)","v":0},{"$f":"SUMIFS(P$143:P$155,$B$23:$B$35,\">=\"&$M$4,$B$23:$B$35,\"<=\"&$M$4)","v":0},null,"Soda naudas","Kopā",{"$f":"SUM(T143:T154)","v":0},0]
[null,"Kopā",{"$f":"SUM(C6:C13)","v":0},0,0,0,0,0,0,0,0,0,0,{"$f":"SUM(N6:N14)","v":0},{"$f":"SUM(O6:O14)","v":0},{"$f":"SUM(P6:P14)","v":0}]
[]
[null,"T.sk. - Parāds budžetam",{"$f":"SUMIF(C6:C14,\"<0\",C6:C14)","v":0},null,null,null,null,null,null,null,null,null,{"$f":"SUMIF(M6:M14,\"<0\",M6:M14)","v":0}]
[null,"T.sk. - (Pārmaksa) ",{"$f":"C15-C17","v":0},null,null,null,null,null,null,null,null,null,{"$f":"M15-M17","v":0}]
[]
[null,"NODOKĻU KOPSAVILKUMS PĒC EDS DATIEM aprēķina datums = atskaites periods VIRSGRĀMATĀ"]
[]
[null,{"$f":"B6","v":"VSAOI"},"Atlikums uz perioda sākumu",{"$f":"D$4","v":"Aprēķināts"},{"$f":"E$4","v":"Ieturēts IIN\nMin. VSAOI"},"Apr.nerezid.\nUniv.IF VSAOI","Aprēķināta nokav. nauda  ","Aprēķināta\n soda nauda  ","Samaksāts\nAtbrīvots","Atmaksāts","Pārvietots \n(Savst.segš.)","Cita \nkustība","Atlikums uz perioda beigām","Pamat-\nsumma","Nokav. \nnauda  ","Soda \nnauda  "]
[null,{"$f":"DATE(YEAR($C$4),MONTH($C$4)+1,0)","v":"2024-01-31"},{"$f":"C6","v":0},{"$f":"SUMIFS(Transakcijas!$R:$R,Transakcijas!$Q:$Q,$B$22,Transakcijas!$T:$T,YEAR($B23),Transakcijas!$U:$U,RIGHT(\"0\"&MONTH($B23),2),Transakcijas!$D:$D,\"Aprēķins\",Transakcijas!$H:$H,\"Pamatsumma\",Transakcijas!$K:$K,\"<>\"&\"FIFO*\",Transakcijas!$K:$K,\"<>\"&\"Iemaksas atbrīvošana\",Transakcijas!$F:$F,\"Darba devēja ziņojums\")","v":0},{"$f":"SUMIFS(Transakcijas!$R:$R,Transakcijas!$Q:$Q,$B$22,Transakcijas!$T:$T,YEAR($B23),Transakcijas!$U:$U,RIGHT(\"0\"&MONTH($B23),2),Transakcijas!$D:$D,\"Aprēķins\",Transakcijas!$H:$H,\"Pamatsumma\",Transakcijas!$K:$K,\"<>\"&\"FIFO*\",Transakcijas!$K:$K,\"<>\"&\"Iemaksas atbrīvošana\",Transakcijas!$F:$F,\"Minimālās VSAOI*\")","v":0},{"$f":"SUMIFS(Transakcijas!$R:$R,Transakcijas!$Q:$Q,$B$22,Transakcijas!$T:$T,YEAR($B23),Transakcijas!$U:$U,RIGHT(\"0\"&MONTH($B23),2),Transakcijas!$D:$D,\"Aprēķins\",Transakcijas!$H:$H,\"Pamatsumma\",Transakcijas!$K:$K,\"<>\"&\"FIFO*\",Transakcijas!$K:$K,\"<>\"&\"Iemaksas atbrīvošana\")-D23-E23","v":0},{"$f":"SUMIFS(Transakcijas!$R:$R,Transakcijas!$Q:$Q,$B$22,Transakcijas!$T:$T,YEAR($B23),Transakcijas!$U:$U,RIGHT(\"0\"&MONTH($B23),2),Transakcijas!$D:$D,\"Aprēķins\",Transakcijas!$H:$H,\"Nokavējuma nauda\",Transakcijas!$K:$K,\"<>\"&\"FIFO*\",Transakcijas!$K:$K,\"<>\"&\"Iemaksas atbrīvošana\")","v":0},{"$f":"SUMIFS(Transakcijas!$R:$R,Transakcijas!$Q:$Q,$B$22,Transakcijas!$T:$T,YEAR($B23),Transakcijas!$U:$U,RIGHT(\"0\"&MONTH($B23),2),Transakcijas!$D:$D,\"Aprēķins\",Transakcijas!$H:$H,\"Soda nauda\",Transakcijas!$K:$K,\"<>\"&\"FIFO*\",Transakcijas!$K:$K,\"<>\"&\"Iemaksas atbrīvošana\")","v":0},{"$f":"SUMIFS(Transakcijas!$R:$R,Transakcijas!$Q:$Q,$B$22,Transakcijas!$T:$T,YEAR($B23),Transakcijas!$U:$U,RIGHT(\"0\"&MONTH($B23),2),Transakcijas!$D:$D,\"Iemaksa\",Transakcijas!$K:$K,\"<>\"&\"Izejošā maksājuma anulēšana\")\n+SUMIFS(Transakcijas!$R:$R,Transakcijas!$Q:$Q,$B$22,Transakcijas!$T:$T,YEAR($B23),Transakcijas!$U:$U,RIGHT(\"0\"&MONTH($B23),2),Transakcijas!$D:$D,\"Atmaksa\",Transakcijas!$K:$K,\"Iemaksas atbrīvošana\")","v":0},{"$f":"SUMIFS(Transakcijas!$R:$R,Transakcijas!$Q:$Q,$B$22,Transakcijas!$T:$T,YEAR($B23),Transakcijas!$U:$U,RIGHT(\"0\"&MONTH($B23),2),Transakcijas!$D:$D,\"Atmaksa\",Transakcijas!$K:$K,\"<>\"&\"Iemaksas atbrīvošana\")\n+SUMIFS(Transakcijas!$R:$R,Transakcijas!$Q:$Q,$B$22,Transakcijas!$T:$T,YEAR($B23),Transakcijas!$U:$U,RIGHT(\"0\"&MONTH($B23),2),Transakcijas!$D:$D,\"Iemaksa\",Transakcijas!$K:$K,\"Izejošā maksājuma anulēšana\")","v":0},{"$f":"SUMIFS(Transakcijas!$R:$R,Transakcijas!$Q:$Q,$B$22,Transakcijas!$T:$T,YEAR($B23),Transakcijas!$U:$U,RIGHT(\"0\"&MONTH($B23),2),Transakcijas!$K:$K,\"FIFO savstarpējā segšana\")\n+SUMIFS(Transakcijas!$R:$R,Transakcijas!$Q:$Q,$B$22,Transakcijas!$T:$T,YEAR($B23),Transakcijas!$U:$U,RIGHT(\"0\"&MONTH($B23),2),Transakcijas!$D:$D,\"Aprēķins\",Transakcijas!$K:$K,\"Iemaksas atbrīvošana\")","v":0},{"$f":"SUMIFS(Transakcijas!$R:$R,Transakcijas!$Q:$Q,$B$22,Transakcijas!$T:$T,YEAR($B23),Transakcijas!$U:$U,RIGHT(\"0\"&MONTH($B23),2))-SUM(D23:K23)","v":0},{"$f":"SUM(C23:L23)","v":0},{"$f":"ROUND(SUMIFS(Transakcijas!$R:$R,Transakcijas!$Q:$Q,$B$22,Transakcijas!$S:$S,\"<=\"&$B23,Transakcijas!$H:$H,\"Pamatsumma\"),2)","v":0},{"$f":"ROUND(SUMIFS(Transakcijas!$R:$R,Transakcijas!$Q:$Q,$B$22,Transakcijas!$S:$S,\"<=\"&$B23,Transakcijas!$H:$H,\"Nokavējuma nauda\"),2)","v":0},{"$f":"ROUND(SUMIFS(Transakcijas!$R:$R,Transakcijas!$Q:$Q,$B$22,Transakcijas!$S:$S,\"<=\"&$B23,Transakcijas!$H:$H,\"Soda nauda\"),2)","v":0},null,{"$f":"B22","v":"VSAOI"},{"$f":"B23","v":"2024-01-31"},null,{"$f":"SUM(D23:F23)+T23","v":0},null,null,{"$f":"IF(W23<>\"\",M23+W23,0)","v":0}]
[null,{"$f":"IF(IF(B23=\"\",$M$4+1,DATE(YEAR(B23),MONTH(B23)+2,0))<=$M$4,DATE(YEAR(B23),MONTH(B23)+2,0),\"\")","v":"2024-02-29"},{"$f":"IF(B24=\"\",0,M23)","v":0},{"$f":"SUMIFS(Transakcijas!$R:$R,Transakcijas!$Q:$Q,$B$22,Transakcijas!$T:$T,YEAR($B24),Transakcijas!$U:$U,RIGHT(\"0\"&MONTH($B24),2),Transakcijas!$D:$D,\"Aprēķins\",Transakcijas!$H:$H,\"Pamatsumma\",Transakcijas!$K:$K,\"<>\"&\"FIFO*\",Transakcijas!$K:$K,\"<>\"&\"Iemaksas atbrīvošana\",Transakcijas!$F:$F,\"Darba devēja ziņojums\")","v":0},{"$f":"SUMIFS(Transakcijas!$R:$R,Transakcijas!$Q:$Q,$B$22,Transakcijas!$T:$T,YEAR($B24),Transakcijas!$U:$U,RIGHT(\"0\"&MONTH($B24),2),Transakcijas!$D:$D,\"Aprēķins\",Transakcijas!$H:$H,\"Pamatsumma\",Transakcijas!$K:$K,\"<>\"&\"FIFO*\",Transakcijas!$K:$K,\"<>\"&\"Iemaksas atbrīvošana\",Transakcijas!$F:$F,\"Minimālās VSAOI*\")","v":0},{"$f":"SUMIFS(Transakcijas!$R:$R,Transakcijas!$Q:$Q,$B$22,Transakcijas!$T:$T,YEAR($B24),Transakcijas!$U:$U,RIGHT(\"0\"&MONTH($B24),2),Transakcijas!$D:$D,\"Aprēķins\",Transakcijas!$H:$H,\"Pamatsumma\",Transakcijas!$K:$K,\"<>\"&\"FIFO*\",Transakcijas!$K:$K,\"<>\"&\"Iemaksas atbrīvošana\")-D24-E24","v":0},{"$f":"SUMIFS(Transakcijas!$R:$R,Transakcijas!$Q:$Q,$B$22,Transakcijas!$T:$T,YEAR($B24),Transakcijas!$U:$U,RIGHT(\"0\"&MONTH($B24),2),Transakcijas!$D:$D,\"Aprēķins\",Transakcijas!$H:$H,\"Nokavējuma nauda\",Transakcijas!$K:$K,\"<>\"&\"FIFO*\",Transakcijas!$K:$K,\"<>\"&\"Iemaksas atbrīvošana\")","v":0},{"$f":"SUMIFS(Transakcijas!$R:$R,Transakcijas!$Q:$Q,$B$22,Transakcijas!$T:$T,YEAR($B24),Transakcijas!$U:$U,RIGHT(\"0\"&MONTH($B24),2),Transakcijas!$D:$D,\"Aprēķins\",Transakcijas!$H:$H,\"Soda nauda\",Transakcijas!$K:$K,\"<>\"&\"FIFO*\",Transakcijas!$K:$K,\"<>\"&\"Iemaksas atbrīvošana\")","v":0},{"$f":"SUMIFS(Transakcijas!$R:$R,Transakcijas!$Q:$Q,$B$22,Transakcijas!$T:$T,YEAR($B24),Transakcijas!$U:$U,RIGHT(\"0\"&MONTH($B24),2),Transakcijas!$D:$D,\"Iemaksa\",Transakcijas!$K:$K,\"<>\"&\"Izejošā maksājuma anulēšana\")\n+SUMIFS(Transakcijas!$R:$R,Transakcijas!$Q:$Q,$B$22,Transakcijas!$T:$T,YEAR($B24),Transakcijas!$U:$U,RIGHT(\"0\"&MONTH($B24),2),Transakcijas!$D:$D,\"Atmaksa\",Transakcijas!$K:$K,\"Iemaksas atbrīvošana\")","v":0},{"$f":"SUMIFS(Transakcijas!$R:$R,Transakcijas!$Q:$Q,$B$22,Transakcijas!$T:$T,YEAR($B24),Transakcijas!$U:$U,RIGHT(\"0\"&MONTH($B24),2),Transakcijas!$D:$D,\"Atmaksa\",Transakcijas!$K:$K,\"<>\"&\"Iemaksas atbrīvošana\")\n+SUMIFS(Transakcijas!$R:$R,Transakcijas!$Q:$Q,$B$22,Transakcijas!$T:$T,YEAR($B24),Transakcijas!$U:$U,RIGHT(\"0\"&MONTH($B24),2),Transakcijas!$D:$D,\"Iemaksa\",Transakcijas!$K:$K,\"Izejošā maksājuma anulēšana\")","v":0},{"$f":"SUMIFS(Transakcijas!$R:$R,Transakcijas!$Q:$Q,$B$22,Transakcijas!$T:$T,YEAR($B24),Transakcijas!$U:$U,RIGHT(\"0\"&MONTH($B24),2),Transakcijas!$K:$K,\"FIFO savstarpējā segšana\")\n+SUMIFS(Transakcijas!$R:$R,Transakcijas!$Q:$Q,$B$22,Transakcijas!$T:$T,YEAR($B24),Transakcijas!$U:$U,RIGHT(\"0\"&MONTH($B24),2),Transakcijas!$D:$D,\"Aprēķins\",Transakcijas!$K:$K,\"Iemaksas atbrīvošana\")","v":0},{"$f":"SUMIFS(Transakcijas!$R:$R,Transakcijas!$Q:$Q,$B$22,Transakcijas!$T:$T,YEAR($B24),Transakcijas!$U:$U,RIGHT(\"0\"&MONTH($B24),2))-SUM(D24:K24)","v":0},0,{"$f":"ROUND(SUMIFS(Transakcijas!$R:$R,Transakcijas!$Q:$Q,$B$22,Transakcijas!$S:$S,\"<=\"&$B24,Transakcijas!$H:$H,\"Pamatsumma\"),2)","v":0},{"$f":"ROUND(SUMIFS(Transakcijas!$R:$R,Transakcijas!$Q:$Q,$B$22,Transakcijas!$S:$S,\"<=\"&$B24,Transakcijas!$H:$H,\"Nokavējuma nauda\"),2)","v":0},{"$f":"ROUND(SUMIFS(Transakcijas!$R:$R,Transakcijas!$Q:$Q,$B$22,Transakcijas!$S:$S,\"<=\"&$B24,Transakcijas!$H:$H,\"Soda nauda\"),2)","v":0},null,{"$f":"B22","v":"VSAOI"},{"$f":"B24","v":"2024-02-29"},null,0,null,null,{"$f":"IF(W24<>\"\",M24+W24,0)","v":0}]
[null,"2024-03-31",0,{"$f":"SUMIFS(Transakcijas!$R:$R,Transakcijas!$Q:$Q,$B$22,Transakcijas!$T:$T,YEAR($B25),Transakcijas!$U:$U,RIGHT(\"0\"&MONTH($B25),2),Transakcijas!$D:$D,\"Aprēķins\",Transakcijas!$H:$H,\"Pamatsumma\",Transakcijas!$K:$K,\"<>\"&\"FIFO*\",Transakcijas!$K:$K,\"<>\"&\"Iemaksas atbrīvošana\",Transakcijas!$F:$F,\"Darba devēja ziņojums\")","v":0},{"$f":"SUMIFS(Transakcijas!$R:$R,Transakcijas!$Q:$Q,$B$22,Transakcijas!$T:$T,YEAR($B25),Transakcijas!$U:$U,RIGHT(\"0\"&MONTH($B25),2),Transakcijas!$D:$D,\"Aprēķins\",Transakcijas!$H:$H,\"Pamatsumma\",Transakcijas!$K:$K,\"<>\"&\"FIFO*\",Transakcijas!$K:$K,\"<>\"&\"Iemaksas atbrīvošana\",Transakcijas!$F:$F,\"Minimālās VSAOI*\")","v":0},{"$f":"SUMIFS(Transakcijas!$R:$R,Transakcijas!$Q:$Q,$B$22,Transakcijas!$T:$T,YEAR($B25),Transakcijas!$U:$U,RIGHT(\"0\"&MONTH($B25),2),Transakcijas!$D:$D,\"Aprēķins\",Transakcijas!$H:$H,\"Pamatsumma\",Transakcijas!$K:$K,\"<>\"&\"FIFO*\",Transakcijas!$K:$K,\"<>\"&\"Iemaksas atbrīvošana\")-D25-E25","v":0},{"$f":"SUMIFS(Transakcijas!$R:$R,Transakcijas!$Q:$Q,$B$22,Transakcijas!$T:$T,YEAR($B25),Transakcijas!$U:$U,RIGHT(\"0\"&MONTH($B25),2),Transakcijas!$D:$D,\"Aprēķins\",Transakcijas!$H:$H,\"Nokavējuma nauda\",Transakcijas!$K:$K,\"<>\"&\"FIFO*\",Transakcijas!$K:$K,\"<>\"&\"Iemaksas atbrīvošana\")","v":0},{"$f":"SUMIFS(Transakcijas!$R:$R,Transakcijas!$Q:$Q,$B$22,Transakcijas!$T:$T,YEAR($B25),Transakcijas!$U:$U,RIGHT(\"0\"&MONTH($B25),2),Transakcijas!$D:$D,\"Aprēķins\",Transakcijas!$H:$H,\"Soda nauda\",Transakcijas!$K:$K,\"<>\"&\"FIFO*\",Transakcijas!$K:$K,\"<>\"&\"Iemaksas atbrīvošana\")","v":0},{"$f":"SUMIFS(Transakcijas!$R:$R,Transakcijas!$Q:$Q,$B$22,Transakcijas!$T:$T,YEAR($B25),Transakcijas!$U:$U,RIGHT(\"0\"&MONTH($B25),2),Transakcijas!$D:$D,\"Iemaksa\",Transakcijas!$K:$K,\"<>\"&\"Izejošā maksājuma anulēšana\")\n+SUMIFS(Transakcijas!$R:$R,Transakcijas!$Q:$Q,$B$22,Transakcijas!$T:$T,YEAR($B25),Transakcijas!$U:$U,RIGHT(\"0\"&MONTH($B25),2),Transakcijas!$D:$D,\"Atmaksa\",Transakcijas!$K:$K,\"Iemaksas atbrīvošana\")","v":0},{"$f":"SUMIFS(Transakcijas!$R:$R,Transakcijas!$Q:$Q,$B$22,Transakcijas!$T:$T,YEAR($B25),Transakcijas!$U:$U,RIGHT(\"0\"&MONTH($B25),2),Transakcijas!$D:$D,\"Atmaksa\",Transakcijas!$K:$K,\"<>\"&\"Iemaksas atbrīvošana\")\n+SUMIFS(Transakcijas!$R:$R,Transakcijas!$Q:$Q,$B$22,Transakcijas!$T:$T,YEAR($B25),Transakcijas!$U:$U,RIGHT(\"0\"&MONTH($B25),2),Transakcijas!$D:$D,\"Iemaksa\",Transakcijas!$K:$K,\"Izejošā maksājuma anulēšana\")","v":0},{"$f":"SUMIFS(Transakcijas!$R:$R,Transakcijas!$Q:$Q,$B$22,Transakcijas!$T:$T,YEAR($B25),Transakcijas!$U:$U,RIGHT(\"0\"&MONTH($B25),2),Transakcijas!$K:$K,\"FIFO savstarpējā segšana\")\n+SUMIFS(Transakcijas!$R:$R,Transakcijas!$Q:$Q,$B$22,Transakcijas!$T:$T,YEAR($B25),Transakcijas!$U:$U,RIGHT(\"0\"&MONTH($B25),2),Transakcijas!$D:$D,\"Aprēķins\",Transakcijas!$K:$K,\"Iemaksas atbrīvošana\")","v":0},{"$f":"SUMIFS(Transakcijas!$R:$R,Transakcijas!$Q:$Q,$B$22,Transakcijas!$T:$T,YEAR($B25),Transakcijas!$U:$U,RIGHT(\"0\"&MONTH($B25),2))-SUM(D25:K25)","v":0},0,{"$f":"ROUND(SUMIFS(Transakcijas!$R:$R,Transakcijas!$Q:$Q,$B$22,Transakcijas!$S:$S,\"<=\"&$B25,Transakcijas!$H:$H,\"Pamatsumma\"),2)","v":0},{"$f":"ROUND(SUMIFS(Transakcijas!$R:$R,Transakcijas!$Q:$Q,$B$22,Transakcijas!$S:$S,\"<=\"&$B25,Transakcijas!$H:$H,\"Nokavējuma nauda\"),2)","v":0},{"$f":"ROUND(SUMIFS(Transakcijas!$R:$R,Transakcijas!$Q:$Q,$B$22,Transakcijas!$S:$S,\"<=\"&$B25,Transakcijas!$H:$H,\"Soda nauda\"),2)","v":0},null,{"$f":"B22","v":"VSAOI"},"2024-03-31",null,0,null,null,0]
[null,"2024-04-30",0,{"$f":"SUMIFS(Transakcijas!$R:$R,Transakcijas!$Q:$Q,$B$22,Transakcijas!$T:$T,YEAR($B26),Transakcijas!$U:$U,RIGHT(\"0\"&MONTH($B26),2),Transakcijas!$D:$D,\"Aprēķins\",Transakcijas!$H:$H,\"Pamatsumma\",Transakcijas!$K:$K,\"<>\"&\"FIFO*\",Transakcijas!$K:$K,\"<>\"&\"Iemaksas atbrīvošana\",Transakcijas!$F:$F,\"Darba devēja ziņojums\")","v":0},{"$f":"SUMIFS(Transakcijas!$R:$R,Transakcijas!$Q:$Q,$B$22,Transakcijas!$T:$T,YEAR($B26),Transakcijas!$U:$U,RIGHT(\"0\"&MONTH($B26),2),Transakcijas!$D:$D,\"Aprēķins\",Transakcijas!$H:$H,\"Pamatsumma\",Transakcijas!$K:$K,\"<>\"&\"FIFO*\",Transakcijas!$K:$K,\"<>\"&\"Iemaksas atbrīvošana\",Transakcijas!$F:$F,\"Minimālās VSAOI*\")","v":0},{"$f":"SUMIFS(Transakcijas!$R:$R,Transakcijas!$Q:$Q,$B$22,Transakcijas!$T:$T,YEAR($B26),Transakcijas!$U:$U,RIGHT(\"0\"&MONTH($B26),2),Transakcijas!$D:$D,\"Aprēķins\",Transakcijas!$H:$H,\"Pamatsumma\",Transakcijas!$K:$K,\"<>\"&\"FIFO*\",Transakcijas!$K:$K,\"<>\"&\"Iemaksas atbrīvošana\")-D26-E26","v":0},{"$f":"SUMIFS(Transakcijas!$R:$R,Transakcijas!$Q:$Q,$B$22,Transakcijas!$T:$T,YEAR($B26),Transakcijas!$U:$U,RIGHT(\"0\"&MONTH($B26),2),Transakcijas!$D:$D,\"Aprēķins\",Transakcijas!$H:$H,\"Nokavējuma nauda\",Transakcijas!$K:$K,\"<>\"&\"FIFO*\",Transakcijas!$K:$K,\"<>\"&\"Iemaksas atbrīvošana\")","v":0},{"$f":"SUMIFS(Transakcijas!$R:$R,Transakcijas!$Q:$Q,$B$22,Transakcijas!$T:$T,YEAR($B26),Transakcijas!$U:$U,RIGHT(\"0\"&MONTH($B26),2),Transakcijas!$D:$D,\"Aprēķins\",Transakcijas!$H:$H,\"Soda nauda\",Transakcijas!$K:$K,\"<>\"&\"FIFO*\",Transakcijas!$K:$K,\"<>\"&\"Iemaksas atbrīvošana\")","v":0},{"$f":"SUMIFS(Transakcijas!$R:$R,Transakcijas!$Q:$Q,$B$22,Transakcijas!$T:$T,YEAR($B26),Transakcijas!$U:$U,RIGHT(\"0\"&MONTH($B26),2),Transakcijas!$D:$D,\"Iemaksa\",Transakcijas!$K:$K,\"<>\"&\"Izejošā maksājuma anulēšana\")\n+SUMIFS(Transakcijas!$R:$R,Transakcijas!$Q:$Q,$B$22,Transakcijas!$T:$T,YEAR($B26),Transakcijas!$U:$U,RIGHT(\"0\"&MONTH($B26),2),Transakcijas!$D:$D,\"Atmaksa\",Transakcijas!$K:$K,\"Iemaksas atbrīvošana\")","v":0},{"$f":"SUMIFS(Transakcijas!$R:$R,Transakcijas!$Q:$Q,$B$22,Transakcijas!$T:$T,YEAR($B26),Transakcijas!$U:$U,RIGHT(\"0\"&MONTH($B26),2),Transakcijas!$D:$D,\"Atmaksa\",Transakcijas!$K:$K,\"<>\"&\"Iemaksas atbrīvošana\")\n+SUMIFS(Transakcijas!$R:$R,Transakcijas!$Q:$Q,$B$22,Transakcijas!$T:$T,YEAR($B26),Transakcijas!$U:$U,RIGHT(\"0\"&MONTH($B26),2),Transakcijas!$D:$D,\"Iemaksa\",Transakcijas!$K:$K,\"Izejošā maksājuma anulēšana\")","v":0},{"$f":"SUMIFS(Transakcijas!$R:$R,Transakcijas!$Q:$Q,$B$22,Transakcijas!$T:$T,YEAR($B26),Transakcijas!$U:$U,RIGHT(\"0\"&MONTH($B26),2),Transakcijas!$K:$K,\"FIFO savstarpējā segšana\")\n+SUMIFS(Transakcijas!$R:$R,Transakcijas!$Q:$Q,$B$22,Transakcijas!$T:$T,YEAR($B26),Transakcijas!$U:$U,RIGHT(\"0\"&MONTH($B26),2),Transakcijas!$D:$D,\"Aprēķins\",Transakcijas!$K:$K,\"Iemaksas atbrīvošana\")","v":0},{"$f":"SUMIFS(Transakcijas!$R:$R,Transakcijas!$Q:$Q,$B$22,Transakcijas!$T:$T,YEAR($B26),Transakcijas!$U:$U,RIGHT(\"0\"&MONTH($B26),2))-SUM(D26:K26)","v":0},0,{"$f":"ROUND(SUMIFS(Transakcijas!$R:$R,Transakcijas!$Q:$Q,$B$22,Transakcijas!$S:$S,\"<=\"&$B26,Transakcijas!$H:$H,\"Pamatsumma\"),2)","v":0},{"$f":"ROUND(SUMIFS(Transakcijas!$R:$R,Transakcijas!$Q:$Q,$B$22,Transakcijas!$S:$S,\"<=\"&$B26,Transakcijas!$H:$H,\"Nokavējuma nauda\"),2)","v":0},{"$f":"ROUND(SUMIFS(Transakcijas!$R:$R,Transakcijas!$Q:$Q,$B$22,Transakcijas!$S:$S,\"<=\"&$B26,Transakcijas!$H:$H,\"Soda nauda\"),2)","v":0},null,{"$f":"B22","v":"VSAOI"},"2024-04-30",null,0,null,null,0]
[null,"2024-05-31",0,{"$f":"SUMIFS(Transakcijas!$R:$R,Transakcijas!$Q:$Q,$B$22,Transakcijas!$T:$T,YEAR($B27),Transakcijas!$U:$U,RIGHT(\"0\"&MONTH($B27),2),Transakcijas!$D:$D,\"Aprēķins\",Transakcijas!$H:$H,\"Pamatsumma\",Transakcijas!$K:$K,\"<>\"&\"FIFO*\",Transakcijas!$K:$K,\"<>\"&\"Iemaksas atbrīvošana\",Transakcijas!$F:$F,\"Darba devēja ziņojums\")","v":0},{"$f":"SUMIFS(Transakcijas!$R:$R,Transakcijas!$Q:$Q,$B$22,Transakcijas!$T:$T,YEAR($B27),Transakcijas!$U:$U,RIGHT(\"0\"&MONTH($B27),2),Transakcijas!$D:$D,\"Aprēķins\",Transakcijas!$H:$H,\"Pamatsumma\",Transakcijas!$K:$K,\"<>\"&\"FIFO*\",Transakcijas!$K:$K,\"<>\"&\"Iemaksas atbrīvošana\",Transakcijas!$F:$F,\"Minimālās VSAOI*\")","v":0},{"$f":"SUMIFS(Transakcijas!$R:$R,Transakcijas!$Q:$Q,$B$22,Transakcijas!$T:$T,YEAR($B27),Transakcijas!$U:$U,RIGHT(\"0\"&MONTH($B27),2),Transakcijas!$D:$D,\"Aprēķins\",Transakcijas!$H:$H,\"Pamatsumma\",Transakcijas!$K:$K,\"<>\"&\"FIFO*\",Transakcijas!$K:$K,\"<>\"&\"Iemaksas atbrīvošana\")-D27-E27","v":0},{"$f":"SUMIFS(Transakcijas!$R:$R,Transakcijas!$Q:$Q,$B$22,Transakcijas!$T:$T,YEAR($B27),Transakcijas!$U:$U,RIGHT(\"0\"&MONTH($B27),2),Transakcijas!$D:$D,\"Aprēķins\",Transakcijas!$H:$H,\"Nokavējuma nauda\",Transakcijas!$K:$K,\"<>\"&\"FIFO*\",Transakcijas!$K:$K,\"<>\"&\"Iemaksas atbrīvošana\")","v":0},{"$f":"SUMIFS(Transakcijas!$R:$R,Transakcijas!$Q:$Q,$B$22,Transakcijas!$T:$T,YEAR($B27),Transakcijas!$U:$U,RIGHT(\"0\"&MONTH($B27),2),Transakcijas!$D:$D,\"Aprēķins\",Transakcijas!$H:$H,\"Soda nauda\",Transakcijas!$K:$K,\"<>\"&\"FIFO*\",Transakcijas!$K:$K,\"<>\"&\"Iemaksas atbrīvošana\")","v":0},{"$f":"SUMIFS(Transakcijas!$R:$R,Transakcijas!$Q:$Q,$B$22,Transakcijas!$T:$T,YEAR($B27),Transakcijas!$U:$U,RIGHT(\"0\"&MONTH($B27),2),Transakcijas!$D:$D,\"Iemaksa\",Transakcijas!$K:$K,\"<>\"&\"Izejošā maksājuma anulēšana\")\n+SUMIFS(Transakcijas!$R:$R,Transakcijas!$Q:$Q,$B$22,Transakcijas!$T:$T,YEAR($B27),Transakcijas!$U:$U,RIGHT(\"0\"&MONTH($B27),2),Transakcijas!$D:$D,\"Atmaksa\",Transakcijas!$K:$K,\"Iemaksas atbrīvošana\")","v":0},{"$f":"SUMIFS(Transakcijas!$R:$R,Transakcijas!$Q:$Q,$B$22,Transakcijas!$T:$T,YEAR($B27),Transakcijas!$U:$U,RIGHT(\"0\"&MONTH($B27),2),Transakcijas!$D:$D,\"Atmaksa\",Transakcijas!$K:$K,\"<>\"&\"Iemaksas atbrīvošana\")\n+SUMIFS(Transakcijas!$R:$R,Transakcijas!$Q:$Q,$B$22,Transakcijas!$T:$T,YEAR($B27),Transakcijas!$U:$U,RIGHT(\"0\"&MONTH($B27),2),Transakcijas!$D:$D,\"Iemaksa\",Transakcijas!$K:$K,\"Izejošā maksājuma anulēšana\")","v":0},{"$f":"SUMIFS(Transakcijas!$R:$R,Transakcijas!$Q:$Q,$B$22,Transakcijas!$T:$T,YEAR($B27),Transakcijas!$U:$U,RIGHT(\"0\"&MONTH($B27),2),Transakcijas!$K:$K,\"FIFO savstarpējā segšana\")\n+SUMIFS(Transakcijas!$R:$R,Transakcijas!$Q:$Q,$B$22,Transakcijas!$T:$T,YEAR($B27),Transakcijas!$U:$U,RIGHT(\"0\"&MONTH($B27),2),Transakcijas!$D:$D,\"Aprēķins\",Transakcijas!$K:$K,\"Iemaksas atbrīvošana\")","v":0},{"$f":"SUMIFS(Transakcijas!$R:$R,Transakcijas!$Q:$Q,$B$22,Transakcijas!$T:$T,YEAR($B27),Transakcijas!$U:$U,RIGHT(\"0\"&MONTH($B27),2))-SUM(D27:K27)","v":0},0,{"$f":"ROUND(SUMIFS(Transakcijas!$R:$R,Transakcijas!$Q:$Q,$B$22,Transakcijas!$S:$S,\"<=\"&$B27,Transakcijas!$H:$H,\"Pamatsumma\"),2)","v":0},{"$f":"ROUND(SUMIFS(Transakcijas!$R:$R,Transakcijas!$Q:$Q,$B$22,Transakcijas!$S:$S,\"<=\"&$B27,Transakcijas!$H:$H,\"Nokavējuma nauda\"),2)","v":0},{"$f":"ROUND(SUMIFS(Transakcijas!$R:$R,Transakcijas!$Q:$Q,$B$22,Transakcijas!$S:$S,\"<=\"&$B27,Transakcijas!$H:$H,\"Soda nauda\"),2)","v":0},null,{"$f":"B22","v":"VSAOI"},"2024-05-31",null,0,null,null,0]
[null,"2024-06-30",0,{"$f":"SUMIFS(Transakcijas!$R:$R,Transakcijas!$Q:$Q,$B$22,Transakcijas!$T:$T,YEAR($B28),Transakcijas!$U:$U,RIGHT(\"0\"&MONTH($B28),2),Transakcijas!$D:$D,\"Aprēķins\",Transakcijas!$H:$H,\"Pamatsumma\",Transakcijas!$K:$K,\"<>\"&\"FIFO*\",Transakcijas!$K:$K,\"<>\"&\"Iemaksas atbrīvošana\",Transakcijas!$F:$F,\"Darba devēja ziņojums\")","v":0},{"$f":"SUMIFS(Transakcijas!$R:$R,Transakcijas!$Q:$Q,$B$22,Transakcijas!$T:$T,YEAR($B28),Transakcijas!$U:$U,RIGHT(\"0\"&MONTH($B28),2),Transakcijas!$D:$D,\"Aprēķins\",Transakcijas!$H:$H,\"Pamatsumma\",Transakcijas!$K:$K,\"<>\"&\"FIFO*\",Transakcijas!$K:$K,\"<>\"&\"Iemaksas atbrīvošana\",Transakcijas!$F:$F,\"Minimālās VSAOI*\")","v":0},{"$f":"SUMIFS(Transakcijas!$R:$R,Transakcijas!$Q:$Q,$B$22,Transakcijas!$T:$T,YEAR($B28),Transakcijas!$U:$U,RIGHT(\"0\"&MONTH($B28),2),Transakcijas!$D:$D,\"Aprēķins\",Transakcijas!$H:$H,\"Pamatsumma\",Transakcijas!$K:$K,\"<>\"&\"FIFO*\",Transakcijas!$K:$K,\"<>\"&\"Iemaksas atbrīvošana\")-D28-E28","v":0},{"$f":"SUMIFS(Transakcijas!$R:$R,Transakcijas!$Q:$Q,$B$22,Transakcijas!$T:$T,YEAR($B28),Transakcijas!$U:$U,RIGHT(\"0\"&MONTH($B28),2),Transakcijas!$D:$D,\"Aprēķins\",Transakcijas!$H:$H,\"Nokavējuma nauda\",Transakcijas!$K:$K,\"<>\"&\"FIFO*\",Transakcijas!$K:$K,\"<>\"&\"Iemaksas atbrīvošana\")","v":0},{"$f":"SUMIFS(Transakcijas!$R:$R,Transakcijas!$Q:$Q,$B$22,Transakcijas!$T:$T,YEAR($B28),Transakcijas!$U:$U,RIGHT(\"0\"&MONTH($B28),2),Transakcijas!$D:$D,\"Aprēķins\",Transakcijas!$H:$H,\"Soda nauda\",Transakcijas!$K:$K,\"<>\"&\"FIFO*\",Transakcijas!$K:$K,\"<>\"&\"Iemaksas atbrīvošana\")","v":0},{"$f":"SUMIFS(Transakcijas!$R:$R,Transakcijas!$Q:$Q,$B$22,Transakcijas!$T:$T,YEAR($B28),Transakcijas!$U:$U,RIGHT(\"0\"&MONTH($B28),2),Transakcijas!$D:$D,\"Iemaksa\",Transakcijas!$K:$K,\"<>\"&\"Izejošā maksājuma anulēšana\")\n+SUMIFS(Transakcijas!$R:$R,Transakcijas!$Q:$Q,$B$22,Transakcijas!$T:$T,YEAR($B28),Transakcijas!$U:$U,RIGHT(\"0\"&MONTH($B28),2),Transakcijas!$D:$D,\"Atmaksa\",Transakcijas!$K:$K,\"Iemaksas atbrīvošana\")","v":0},{"$f":"SUMIFS(Transakcijas!$R:$R,Transakcijas!$Q:$Q,$B$22,Transakcijas!$T:$T,YEAR($B28),Transakcijas!$U:$U,RIGHT(\"0\"&MONTH($B28),2),Transakcijas!$D:$D,\"Atmaksa\",Transakcijas!$K:$K,\"<>\"&\"Iemaksas atbrīvošana\")\n+SUMIFS(Transakcijas!$R:$R,Transakcijas!$Q:$Q,$B$22,Transakcijas!$T:$T,YEAR($B28),Transakcijas!$U:$U,RIGHT(\"0\"&MONTH($B28),2),Transakcijas!$D:$D,\"Iemaksa\",Transakcijas!$K:$K,\"Izejošā maksājuma anulēšana\")","v":0},{"$f":"SUMIFS(Transakcijas!$R:$R,Transakcijas!$Q:$Q,$B$22,Transakcijas!$T:$T,YEAR($B28),Transakcijas!$U:$U,RIGHT(\"0\"&MONTH($B28),2),Transakcijas!$K:$K,\"FIFO savstarpējā segšana\")\n+SUMIFS(Transakcijas!$R:$R,Transakcijas!$Q:$Q,$B$22,Transakcijas!$T:$T,YEAR($B28),Transakcijas!$U:$U,RIGHT(\"0\"&MONTH($B28),2),Transakcijas!$D:$D,\"Aprēķins\",Transakcijas!$K:$K,\"Iemaksas atbrīvošana\")","v":0},{"$f":"SUMIFS(Transakcijas!$R:$R,Transakcijas!$Q:$Q,$B$22,Transakcijas!$T:$T,YEAR($B28),Transakcijas!$U:$U,RIGHT(\"0\"&MONTH($B28),2))-SUM(D28:K28)","v":0},0,{"$f":"ROUND(SUMIFS(Transakcijas!$R:$R,Transakcijas!$Q:$Q,$B$22,Transakcijas!$S:$S,\"<=\"&$B28,Transakcijas!$H:$H,\"Pamatsumma\"),2)","v":0},{"$f":"ROUND(SUMIFS(Transakcijas!$R:$R,Transakcijas!$Q:$Q,$B$22,Transakcijas!$S:$S,\"<=\"&$B28,Transakcijas!$H:$H,\"Nokavējuma nauda\"),2)","v":0},{"$f":"ROUND(SUMIFS(Transakcijas!$R:$R,Transakcijas!$Q:$Q,$B$22,Transakcijas!$S:$S,\"<=\"&$B28,Transakcijas!$H:$H,\"Soda nauda\"),2)","v":0},null,{"$f":"B22","v":"VSAOI"},"2024-06-30",null,0,null,null,0]
[null,"2024-07-31",0,{"$f":"SUMIFS(Transakcijas!$R:$R,Transakcijas!$Q:$Q,$B$22,Transakcijas!$T:$T,YEAR($B29),Transakcijas!$U:$U,RIGHT(\"0\"&MONTH($B29),2),Transakcijas!$D:$D,\"Aprēķins\",Transakcijas!$H:$H,\"Pamatsumma\",Transakcijas!$K:$K,\"<>\"&\"FIFO*\",Transakcijas!$K:$K,\"<>\"&\"Iemaksas atbrīvošana\",Transakcijas!$F:$F,\"Darba devēja ziņojums\")","v":0},{"$f":"SUMIFS(Transakcijas!$R:$R,Transakcijas!$Q:$Q,$B$22,Transakcijas!$T:$T,YEAR($B29),Transakcijas!$U:$U,RIGHT(\"0\"&MONTH($B29),2),Transakcijas!$D:$D,\"Aprēķins\",Transakcijas!$H:$H,\"Pamatsumma\",Transakcijas!$K:$K,\"<>\"&\"FIFO*\",Transakcijas!$K:$K,\"<>\"&\"Iemaksas atbrīvošana\",Transakcijas!$F:$F,\"Minimālās VSAOI*\")","v":0},{"$f":"SUMIFS(Transakcijas!$R:$R,Transakcijas!$Q:$Q,$B$22,Transakcijas!$T:$T,YEAR($B29),Transakcijas!$U:$U,RIGHT(\"0\"&MONTH($B29),2),Transakcijas!$D:$D,\"Aprēķins\",Transakcijas!$H:$H,\"Pamatsumma\",Transakcijas!$K:$K,\"<>\"&\"FIFO*\",Transakcijas!$K:$K,\"<>\"&\"Iemaksas atbrīvošana\")-D29-E29","v":0},{"$f":"SUMIFS(Transakcijas!$R:$R,Transakcijas!$Q:$Q,$B$22,Transakcijas!$T:$T,YEAR($B29),Transakcijas!$U:$U,RIGHT(\"0\"&MONTH($B29),2),Transakcijas!$D:$D,\"Aprēķins\",Transakcijas!$H:$H,\"Nokavējuma nauda\",Transakcijas!$K:$K,\"<>\"&\"FIFO*\",Transakcijas!$K:$K,\"<>\"&\"Iemaksas atbrīvošana\")","v":0},{"$f":"SUMIFS(Transakcijas!$R:$R,Transakcijas!$Q:$Q,$B$22,Transakcijas!$T:$T,YEAR($B29),Transakcijas!$U:$U,RIGHT(\"0\"&MONTH($B29),2),Transakcijas!$D:$D,\"Aprēķins\",Transakcijas!$H:$H,\"Soda nauda\",Transakcijas!$K:$K,\"<>\"&\"FIFO*\",Transakcijas!$K:$K,\"<>\"&\"Iemaksas atbrīvošana\")","v":0},{"$f":"SUMIFS(Transakcijas!$R:$R,Transakcijas!$Q:$Q,$B$22,Transakcijas!$T:$T,YEAR($B29),Transakcijas!$U:$U,RIGHT(\"0\"&MONTH($B29),2),Transakcijas!$D:$D,\"Iemaksa\",Transakcijas!$K:$K,\"<>\"&\"Izejošā maksājuma anulēšana\")\n+SUMIFS(Transakcijas!$R:$R,Transakcijas!$Q:$Q,$B$22,Transakcijas!$T:$T,YEAR($B29),Transakcijas!$U:$U,RIGHT(\"0\"&MONTH($B29),2),Transakcijas!$D:$D,\"Atmaksa\",Transakcijas!$K:$K,\"Iemaksas atbrīvošana\")","v":0},{"$f":"SUMIFS(Transakcijas!$R:$R,Transakcijas!$Q:$Q,$B$22,Transakcijas!$T:$T,YEAR($B29),Transakcijas!$U:$U,RIGHT(\"0\"&MONTH($B29),2),Transakcijas!$D:$D,\"Atmaksa\",Transakcijas!$K:$K,\"<>\"&\"Iemaksas atbrīvošana\")\n+SUMIFS(Transakcijas!$R:$R,Transakcijas!$Q:$Q,$B$22,Transakcijas!$T:$T,YEAR($B29),Transakcijas!$U:$U,RIGHT(\"0\"&MONTH($B29),2),Transakcijas!$D:$D,\"Iemaksa\",Transakcijas!$K:$K,\"Izejošā maksājuma anulēšana\")","v":0},{"$f":"SUMIFS(Transakcijas!$R:$R,Transakcijas!$Q:$Q,$B$22,Transakcijas!$T:$T,YEAR($B29),Transakcijas!$U:$U,RIGHT(\"0\"&MONTH($B29),2),Transakcijas!$K:$K,\"FIFO savstarpējā segšana\")\n+SUMIFS(Transakcijas!$R:$R,Transakcijas!$Q:$Q,$B$22,Transakcijas!$T:$T,YEAR($B29),Transakcijas!$U:$U,RIGHT(\"0\"&MONTH($B29),2),Transakcijas!$D:$D,\"Aprēķins\",Transakcijas!$K:$K,\"Iemaksas atbrīvošana\")","v":0},{"$f":"SUMIFS(Transakcijas!$R:$R,Transakcijas!$Q:$Q,$B$22,Transakcijas!$T:$T,YEAR($B29),Transakcijas!$U:$U,RIGHT(\"0\"&MONTH($B29),2))-SUM(D29:K29)","v":0},0,{"$f":"ROUND(SUMIFS(Transakcijas!$R:$R,Transakcijas!$Q:$Q,$B$22,Transakcijas!$S:$S,\"<=\"&$B29,Transakcijas!$H:$H,\"Pamatsumma\"),2)","v":0},{"$f":"ROUND(SUMIFS(Transakcijas!$R:$R,Transakcijas!$Q:$Q,$B$22,Transakcijas!$S:$S,\"<=\"&$B29,Transakcijas!$H:$H,\"Nokavējuma nauda\"),2)","v":0},{"$f":"ROUND(SUMIFS(Transakcijas!$R:$R,Transakcijas!$Q:$Q,$B$22,Transakcijas!$S:$S,\"<=\"&$B29,Transakcijas!$H:$H,\"Soda nauda\"),2)","v":0},null,{"$f":"B22","v":"VSAOI"},"2024-07-31",null,0,null,null,0]
[null,"2024-08-31",0,{"$f":"SUMIFS(Transakcijas!$R:$R,Transakcijas!$Q:$Q,$B$22,Transakcijas!$T:$T,YEAR($B30),Transakcijas!$U:$U,RIGHT(\"0\"&MONTH($B30),2),Transakcijas!$D:$D,\"Aprēķins\",Transakcijas!$H:$H,\"Pamatsumma\",Transakcijas!$K:$K,\"<>\"&\"FIFO*\",Transakcijas!$K:$K,\"<>\"&\"Iemaksas atbrīvošana\",Transakcijas!$F:$F,\"Darba devēja ziņojums\")","v":0},{"$f":"SUMIFS(Transakcijas!$R:$R,Transakcijas!$Q:$Q,$B$22,Transakcijas!$T:$T,YEAR($B30),Transakcijas!$U:$U,RIGHT(\"0\"&MONTH($B30),2),Transakcijas!$D:$D,\"Aprēķins\",Transakcijas!$H:$H,\"Pamatsumma\",Transakcijas!$K:$K,\"<>\"&\"FIFO*\",Transakcijas!$K:$K,\"<>\"&\"Iemaksas atbrīvošana\",Transakcijas!$F:$F,\"Minimālās VSAOI*\")","v":0},{"$f":"SUMIFS(Transakcijas!$R:$R,Transakcijas!$Q:$Q,$B$22,Transakcijas!$T:$T,YEAR($B30),Transakcijas!$U:$U,RIGHT(\"0\"&MONTH($B30),2),Transakcijas!$D:$D,\"Aprēķins\",Transakcijas!$H:$H,\"Pamatsumma\",Transakcijas!$K:$K,\"<>\"&\"FIFO*\",Transakcijas!$K:$K,\"<>\"&\"Iemaksas atbrīvošana\")-D30-E30","v":0},{"$f":"SUMIFS(Transakcijas!$R:$R,Transakcijas!$Q:$Q,$B$22,Transakcijas!$T:$T,YEAR($B30),Transakcijas!$U:$U,RIGHT(\"0\"&MONTH($B30),2),Transakcijas!$D:$D,\"Aprēķins\",Transakcijas!$H:$H,\"Nokavējuma nauda\",Transakcijas!$K:$K,\"<>\"&\"FIFO*\",Transakcijas!$K:$K,\"<>\"&\"Iemaksas atbrīvošana\")","v":0},{"$f":"SUMIFS(Transakcijas!$R:$R,Transakcijas!$Q:$Q,$B$22,Transakcijas!$T:$T,YEAR($B30),Transakcijas!$U:$U,RIGHT(\"0\"&MONTH($B30),2),Transakcijas!$D:$D,\"Aprēķins\",Transakcijas!$H:$H,\"Soda nauda\",Transakcijas!$K:$K,\"<>\"&\"FIFO*\",Transakcijas!$K:$K,\"<>\"&\"Iemaksas atbrīvošana\")","v":0},{"$f":"SUMIFS(Transakcijas!$R:$R,Transakcijas!$Q:$Q,$B$22,Transakcijas!$T:$T,YEAR($B30),Transakcijas!$U:$U,RIGHT(\"0\"&MONTH($B30),2),Transakcijas!$D:$D,\"Iemaksa\",Transakcijas!$K:$K,\"<>\"&\"Izejošā maksājuma anulēšana\")\n+SUMIFS(Transakcijas!$R:$R,Transakcijas!$Q:$Q,$B$22,Transakcijas!$T:$T,YEAR($B30),Transakcijas!$U:$U,RIGHT(\"0\"&MONTH($B30),2),Transakcijas!$D:$D,\"Atmaksa\",Transakcijas!$K:$K,\"Iemaksas atbrīvošana\")","v":0},{"$f":"SUMIFS(Transakcijas!$R:$R,Transakcijas!$Q:$Q,$B$22,Transakcijas!$T:$T,YEAR($B30),Transakcijas!$U:$U,RIGHT(\"0\"&MONTH($B30),2),Transakcijas!$D:$D,\"Atmaksa\",Transakcijas!$K:$K,\"<>\"&\"Iemaksas atbrīvošana\")\n+SUMIFS(Transakcijas!$R:$R,Transakcijas!$Q:$Q,$B$22,Transakcijas!$T:$T,YEAR($B30),Transakcijas!$U:$U,RIGHT(\"0\"&MONTH($B30),2),Transakcijas!$D:$D,\"Iemaksa\",Transakcijas!$K:$K,\"Izejošā maksājuma anulēšana\")","v":0},{"$f":"SUMIFS(Transakcijas!$R:$R,Transakcijas!$Q:$Q,$B$22,Transakcijas!$T:$T,YEAR($B30),Transakcijas!$U:$U,RIGHT(\"0\"&MONTH($B30),2),Transakcijas!$K:$K,\"FIFO savstarpējā segšana\")\n+SUMIFS(Transakcijas!$R:$R,Transakcijas!$Q:$Q,$B$22,Transakcijas!$T:$T,YEAR($B30),Transakcijas!$U:$U,RIGHT(\"0\"&MONTH($B30),2),Transakcijas!$D:$D,\"Aprēķins\",Transakcijas!$K:$K,\"Iemaksas atbrīvošana\")","v":0},{"$f":"SUMIFS(Transakcijas!$R:$R,Transakcijas!$Q:$Q,$B$22,Transakcijas!$T:$T,YEAR($B30),Transakcijas!$U:$U,RIGHT(\"0\"&MONTH($B30),2))-SUM(D30:K30)","v":0},0,{"$f":"ROUND(SUMIFS(Transakcijas!$R:$R,Transakcijas!$Q:$Q,$B$22,Transakcijas!$S:$S,\"<=\"&$B30,Transakcijas!$H:$H,\"Pamatsumma\"),2)","v":0},{"$f":"ROUND(SUMIFS(Transakcijas!$R:$R,Transakcijas!$Q:$Q,$B$22,Transakcijas!$S:$S,\"<=\"&$B30,Transakcijas!$H:$H,\"Nokavējuma nauda\"),2)","v":0},{"$f":"ROUND(SUMIFS(Transakcijas!$R:$R,Transakcijas!$Q:$Q,$B$22,Transakcijas!$S:$S,\"<=\"&$B30,Transakcijas!$H:$H,\"Soda nauda\"),2)","v":0},null,{"$f":"B22","v":"VSAOI"},"2024-08-31",null,0,null,null,0]
[null,"2024-09-30",0,{"$f":"SUMIFS(Transakcijas!$R:$R,Transakcijas!$Q:$Q,$B$22,Transakcijas!$T:$T,YEAR($B31),Transakcijas!$U:$U,RIGHT(\"0\"&MONTH($B31),2),Transakcijas!$D:$D,\"Aprēķins\",Transakcijas!$H:$H,\"Pamatsumma\",Transakcijas!$K:$K,\"<>\"&\"FIFO*\",Transakcijas!$K:$K,\"<>\"&\"Iemaksas atbrīvošana\",Transakcijas!$F:$F,\"Darba devēja ziņojums\")","v":0},{"$f":"SUMIFS(Transakcijas!$R:$R,Transakcijas!$Q:$Q,$B$22,Transakcijas!$T:$T,YEAR($B31),Transakcijas!$U:$U,RIGHT(\"0\"&MONTH($B31),2),Transakcijas!$D:$D,\"Aprēķins\",Transakcijas!$H:$H,\"Pamatsumma\",Transakcijas!$K:$K,\"<>\"&\"FIFO*\",Transakcijas!$K:$K,\"<>\"&\"Iemaksas atbrīvošana\",Transakcijas!$F:$F,\"Minimālās VSAOI*\")","v":0},{"$f":"SUMIFS(Transakcijas!$R:$R,Transakcijas!$Q:$Q,$B$22,Transakcijas!$T:$T,YEAR($B31),Transakcijas!$U:$U,RIGHT(\"0\"&MONTH($B31),2),Transakcijas!$D:$D,\"Aprēķins\",Transakcijas!$H:$H,\"Pamatsumma\",Transakcijas!$K:$K,\"<>\"&\"FIFO*\",Transakcijas!$K:$K,\"<>\"&\"Iemaksas atbrīvošana\")-D31-E31","v":0},{"$f":"SUMIFS(Transakcijas!$R:$R,Transakcijas!$Q:$Q,$B$22,Transakcijas!$T:$T,YEAR($B31),Transakcijas!$U:$U,RIGHT(\"0\"&MONTH($B31),2),Transakcijas!$D:$D,\"Aprēķins\",Transakcijas!$H:$H,\"Nokavējuma nauda\",Transakcijas!$K:$K,\"<>\"&\"FIFO*\",Transakcijas!$K:$K,\"<>\"&\"Iemaksas atbrīvošana\")","v":0},{"$f":"SUMIFS(Transakcijas!$R:$R,Transakcijas!$Q:$Q,$B$22,Transakcijas!$T:$T,YEAR($B31),Transakcijas!$U:$U,RIGHT(\"0\"&MONTH($B31),2),Transakcijas!$D:$D,\"Aprēķins\",Transakcijas!$H:$H,\"Soda nauda\",Transakcijas!$K:$K,\"<>\"&\"FIFO*\",Transakcijas!$K:$K,\"<>\"&\"Iemaksas atbrīvošana\")","v":0},{"$f":"SUMIFS(Transakcijas!$R:$R,Transakcijas!$Q:$Q,$B$22,Transakcijas!$T:$T,YEAR($B31),Transakcijas!$U:$U,RIGHT(\"0\"&MONTH($B31),2),Transakcijas!$D:$D,\"Iemaksa\",Transakcijas!$K:$K,\"<>\"&\"Izejošā maksājuma anulēšana\")\n+SUMIFS(Transakcijas!$R:$R,Transakcijas!$Q:$Q,$B$22,Transakcijas!$T:$T,YEAR($B31),Transakcijas!$U:$U,RIGHT(\"0\"&MONTH($B31),2),Transakcijas!$D:$D,\"Atmaksa\",Transakcijas!$K:$K,\"Iemaksas atbrīvošana\")","v":0},{"$f":"SUMIFS(Transakcijas!$R:$R,Transakcijas!$Q:$Q,$B$22,Transakcijas!$T:$T,YEAR($B31),Transakcijas!$U:$U,RIGHT(\"0\"&MONTH($B31),2),Transakcijas!$D:$D,\"Atmaksa\",Transakcijas!$K:$K,\"<>\"&\"Iemaksas atbrīvošana\")\n+SUMIFS(Transakcijas!$R:$R,Transakcijas!$Q:$Q,$B$22,Transakcijas!$T:$T,YEAR($B31),Transakcijas!$U:$U,RIGHT(\"0\"&MONTH($B31),2),Transakcijas!$D:$D,\"Iemaksa\",Transakcijas!$K:$K,\"Izejošā maksājuma anulēšana\")","v":0},{"$f":"SUMIFS(Transakcijas!$R:$R,Transakcijas!$Q:$Q,$B$22,Transakcijas!$T:$T,YEAR($B31),Transakcijas!$U:$U,RIGHT(\"0\"&MONTH($B31),2),Transakcijas!$K:$K,\"FIFO savstarpējā segšana\")\n+SUMIFS(Transakcijas!$R:$R,Transakcijas!$Q:$Q,$B$22,Transakcijas!$T:$T,YEAR($B31),Transakcijas!$U:$U,RIGHT(\"0\"&MONTH($B31),2),Transakcijas!$D:$D,\"Aprēķins\",Transakcijas!$K:$K,\"Iemaksas atbrīvošana\")","v":0},{"$f":"SUMIFS(Transakcijas!$R:$R,Transakcijas!$Q:$Q,$B$22,Transakcijas!$T:$T,YEAR($B31),Transakcijas!$U:$U,RIGHT(\"0\"&MONTH($B31),2))-SUM(D31:K31)","v":0},0,{"$f":"ROUND(SUMIFS(Transakcijas!$R:$R,Transakcijas!$Q:$Q,$B$22,Transakcijas!$S:$S,\"<=\"&$B31,Transakcijas!$H:$H,\"Pamatsumma\"),2)","v":0},{"$f":"ROUND(SUMIFS(Transakcijas!$R:$R,Transakcijas!$Q:$Q,$B$22,Transakcijas!$S:$S,\"<=\"&$B31,Transakcijas!$H:$H,\"Nokavējuma nauda\"),2)","v":0},{"$f":"ROUND(SUMIFS(Transakcijas!$R:$R,Transakcijas!$Q:$Q,$B$22,Transakcijas!$S:$S,\"<=\"&$B31,Transakcijas!$H:$H,\"Soda nauda\"),2)","v":0},null,{"$f":"B22","v":"VSAOI"},"2024-09-30",null,0,null,null,0]
[null,"2024-10-31",0,{"$f":"SUMIFS(Transakcijas!$R:$R,Transakcijas!$Q:$Q,$B$22,Transakcijas!$T:$T,YEAR($B32),Transakcijas!$U:$U,RIGHT(\"0\"&MONTH($B32),2),Transakcijas!$D:$D,\"Aprēķins\",Transakcijas!$H:$H,\"Pamatsumma\",Transakcijas!$K:$K,\"<>\"&\"FIFO*\",Transakcijas!$K:$K,\"<>\"&\"Iemaksas atbrīvošana\",Transakcijas!$F:$F,\"Darba devēja ziņojums\")","v":0},{"$f":"SUMIFS(Transakcijas!$R:$R,Transakcijas!$Q:$Q,$B$22,Transakcijas!$T:$T,YEAR($B32),Transakcijas!$U:$U,RIGHT(\"0\"&MONTH($B32),2),Transakcijas!$D:$D,\"Aprēķins\",Transakcijas!$H:$H,\"Pamatsumma\",Transakcijas!$K:$K,\"<>\"&\"FIFO*\",Transakcijas!$K:$K,\"<>\"&\"Iemaksas atbrīvošana\",Transakcijas!$F:$F,\"Minimālās VSAOI*\")","v":0},{"$f":"SUMIFS(Transakcijas!$R:$R,Transakcijas!$Q:$Q,$B$22,Transakcijas!$T:$T,YEAR($B32),Transakcijas!$U:$U,RIGHT(\"0\"&MONTH($B32),2),Transakcijas!$D:$D,\"Aprēķins\",Transakcijas!$H:$H,\"Pamatsumma\",Transakcijas!$K:$K,\"<>\"&\"FIFO*\",Transakcijas!$K:$K,\"<>\"&\"Iemaksas atbrīvošana\")-D32-E32","v":0},{"$f":"SUMIFS(Transakcijas!$R:$R,Transakcijas!$Q:$Q,$B$22,Transakcijas!$T:$T,YEAR($B32),Transakcijas!$U:$U,RIGHT(\"0\"&MONTH($B32),2),Transakcijas!$D:$D,\"Aprēķins\",Transakcijas!$H:$H,\"Nokavējuma nauda\",Transakcijas!$K:$K,\"<>\"&\"FIFO*\",Transakcijas!$K:$K,\"<>\"&\"Iemaksas atbrīvošana\")","v":0},{"$f":"SUMIFS(Transakcijas!$R:$R,Transakcijas!$Q:$Q,$B$22,Transakcijas!$T:$T,YEAR($B32),Transakcijas!$U:$U,RIGHT(\"0\"&MONTH($B32),2),Transakcijas!$D:$D,\"Aprēķins\",Transakcijas!$H:$H,\"Soda nauda\",Transakcijas!$K:$K,\"<>\"&\"FIFO*\",Transakcijas!$K:$K,\"<>\"&\"Iemaksas atbrīvošana\")","v":0},{"$f":"SUMIFS(Transakcijas!$R:$R,Transakcijas!$Q:$Q,$B$22,Transakcijas!$T:$T,YEAR($B32),Transakcijas!$U:$U,RIGHT(\"0\"&MONTH($B32),2),Transakcijas!$D:$D,\"Iemaksa\",Transakcijas!$K:$K,\"<>\"&\"Izejošā maksājuma anulēšana\")\n+SUMIFS(Transakcijas!$R:$R,Transakcijas!$Q:$Q,$B$22,Transakcijas!$T:$T,YEAR($B32),Transakcijas!$U:$U,RIGHT(\"0\"&MONTH($B32),2),Transakcijas!$D:$D,\"Atmaksa\",Transakcijas!$K:$K,\"Iemaksas atbrīvošana\")","v":0},{"$f":"SUMIFS(Transakcijas!$R:$R,Transakcijas!$Q:$Q,$B$22,Transakcijas!$T:$T,YEAR($B32),Transakcijas!$U:$U,RIGHT(\"0\"&MONTH($B32),2),Transakcijas!$D:$D,\"Atmaksa\",Transakcijas!$K:$K,\"<>\"&\"Iemaksas atbrīvošana\")\n+SUMIFS(Transakcijas!$R:$R,Transakcijas!$Q:$Q,$B$22,Transakcijas!$T:$T,YEAR($B32),Transakcijas!$U:$U,RIGHT(\"0\"&MONTH($B32),2),Transakcijas!$D:$D,\"Iemaksa\",Transakcijas!$K:$K,\"Izejošā maksājuma anulēšana\")","v":0},{"$f":"SUMIFS(Transakcijas!$R:$R,Transakcijas!$Q:$Q,$B$22,Transakcijas!$T:$T,YEAR($B32),Transakcijas!$U:$U,RIGHT(\"0\"&MONTH($B32),2),Transakcijas!$K:$K,\"FIFO savstarpējā segšana\")\n+SUMIFS(Transakcijas!$R:$R,Transakcijas!$Q:$Q,$B$22,Transakcijas!$T:$T,YEAR($B32),Transakcijas!$U:$U,RIGHT(\"0\"&MONTH($B32),2),Transakcijas!$D:$D,\"Aprēķins\",Transakcijas!$K:$K,\"Iemaksas atbrīvošana\")","v":0},{"$f":"SUMIFS(Transakcijas!$R:$R,Transakcijas!$Q:$Q,$B$22,Transakcijas!$T:$T,YEAR($B32),Transakcijas!$U:$U,RIGHT(\"0\"&MONTH($B32),2))-SUM(D32:K32)","v":0},0,{"$f":"ROUND(SUMIFS(Transakcijas!$R:$R,Transakcijas!$Q:$Q,$B$22,Transakcijas!$S:$S,\"<=\"&$B32,Transakcijas!$H:$H,\"Pamatsumma\"),2)","v":0},{"$f":"ROUND(SUMIFS(Transakcijas!$R:$R,Transakcijas!$Q:$Q,$B$22,Transakcijas!$S:$S,\"<=\"&$B32,Transakcijas!$H:$H,\"Nokavējuma nauda\"),2)","v":0},{"$f":"ROUND(SUMIFS(Transakcijas!$R:$R,Transakcijas!$Q:$Q,$B$22,Transakcijas!$S:$S,\"<=\"&$B32,Transakcijas!$H:$H,\"Soda nauda\"),2)","v":0},null,{"$f":"B22","v":"VSAOI"},"2024-10-31",null,0,null,null,0]
[null,"2024-11-30",0,{"$f":"SUMIFS(Transakcijas!$R:$R,Transakcijas!$Q:$Q,$B$22,Transakcijas!$T:$T,YEAR($B33),Transakcijas!$U:$U,RIGHT(\"0\"&MONTH($B33),2),Transakcijas!$D:$D,\"Aprēķins\",Transakcijas!$H:$H,\"Pamatsumma\",Transakcijas!$K:$K,\"<>\"&\"FIFO*\",Transakcijas!$K:$K,\"<>\"&\"Iemaksas atbrīvošana\",Transakcijas!$F:$F,\"Darba devēja ziņojums\")","v":0},{"$f":"SUMIFS(Transakcijas!$R:$R,Transakcijas!$Q:$Q,$B$22,Transakcijas!$T:$T,YEAR($B33),Transakcijas!$U:$U,RIGHT(\"0\"&MONTH($B33),2),Transakcijas!$D:$D,\"Aprēķins\",Transakcijas!$H:$H,\"Pamatsumma\",Transakcijas!$K:$K,\"<>\"&\"FIFO*\",Transakcijas!$K:$K,\"<>\"&\"Iemaksas atbrīvošana\",Transakcijas!$F:$F,\"Minimālās VSAOI*\")","v":0},{"$f":"SUMIFS(Transakcijas!$R:$R,Transakcijas!$Q:$Q,$B$22,Transakcijas!$T:$T,YEAR($B33),Transakcijas!$U:$U,RIGHT(\"0\"&MONTH($B33),2),Transakcijas!$D:$D,\"Aprēķins\",Transakcijas!$H:$H,\"Pamatsumma\",Transakcijas!$K:$K,\"<>\"&\"FIFO*\",Transakcijas!$K:$K,\"<>\"&\"Iemaksas atbrīvošana\")-D33-E33","v":0},{"$f":"SUMIFS(Transakcijas!$R:$R,Transakcijas!$Q:$Q,$B$22,Transakcijas!$T:$T,YEAR($B33),Transakcijas!$U:$U,RIGHT(\"0\"&MONTH($B33),2),Transakcijas!$D:$D,\"Aprēķins\",Transakcijas!$H:$H,\"Nokavējuma nauda\",Transakcijas!$K:$K,\"<>\"&\"FIFO*\",Transakcijas!$K:$K,\"<>\"&\"Iemaksas atbrīvošana\")","v":0},{"$f":"SUMIFS(Transakcijas!$R:$R,Transakcijas!$Q:$Q,$B$22,Transakcijas!$T:$T,YEAR($B33),Transakcijas!$U:$U,RIGHT(\"0\"&MONTH($B33),2),Transakcijas!$D:$D,\"Aprēķins\",Transakcijas!$H:$H,\"Soda nauda\",Transakcijas!$K:$K,\"<>\"&\"FIFO*\",Transakcijas!$K:$K,\"<>\"&\"Iemaksas atbrīvošana\")","v":0},{"$f":"SUMIFS(Transakcijas!$R:$R,Transakcijas!$Q:$Q,$B$22,Transakcijas!$T:$T,YEAR($B33),Transakcijas!$U:$U,RIGHT(\"0\"&MONTH($B33),2),Transakcijas!$D:$D,\"Iemaksa\",Transakcijas!$K:$K,\"<>\"&\"Izejošā maksājuma anulēšana\")\n+SUMIFS(Transakcijas!$R:$R,Transakcijas!$Q:$Q,$B$22,Transakcijas!$T:$T,YEAR($B33),Transakcijas!$U:$U,RIGHT(\"0\"&MONTH($B33),2),Transakcijas!$D:$D,\"Atmaksa\",Transakcijas!$K:$K,\"Iemaksas atbrīvošana\")","v":0},{"$f":"SUMIFS(Transakcijas!$R:$R,Transakcijas!$Q:$Q,$B$22,Transakcijas!$T:$T,YEAR($B33),Transakcijas!$U:$U,RIGHT(\"0\"&MONTH($B33),2),Transakcijas!$D:$D,\"Atmaksa\",Transakcijas!$K:$K,\"<>\"&\"Iemaksas atbrīvošana\")\n+SUMIFS(Transakcijas!$R:$R,Transakcijas!$Q:$Q,$B$22,Transakcijas!$T:$T,YEAR($B33),Transakcijas!$U:$U,RIGHT(\"0\"&MONTH($B33),2),Transakcijas!$D:$D,\"Iemaksa\",Transakcijas!$K:$K,\"Izejošā maksājuma anulēšana\")","v":0},{"$f":"SUMIFS(Transakcijas!$R:$R,Transakcijas!$Q:$Q,$B$22,Transakcijas!$T:$T,YEAR($B33),Transakcijas!$U:$U,RIGHT(\"0\"&MONTH($B33),2),Transakcijas!$K:$K,\"FIFO savstarpējā segšana\")\n+SUMIFS(Transakcijas!$R:$R,Transakcijas!$Q:$Q,$B$22,Transakcijas!$T:$T,YEAR($B33),Transakcijas!$U:$U,RIGHT(\"0\"&MONTH($B33),2),Transakcijas!$D:$D,\"Aprēķins\",Transakcijas!$K:$K,\"Iemaksas atbrīvošana\")","v":0},{"$f":"SUMIFS(Transakcijas!$R:$R,Transakcijas!$Q:$Q,$B$22,Transakcijas!$T:$T,YEAR($B33),Transakcijas!$U:$U,RIGHT(\"0\"&MONTH($B33),2))-SUM(D33:K33)","v":0},0,{"$f":"ROUND(SUMIFS(Transakcijas!$R:$R,Transakcijas!$Q:$Q,$B$22,Transakcijas!$S:$S,\"<=\"&$B33,Transakcijas!$H:$H,\"Pamatsumma\"),2)","v":0},{"$f":"ROUND(SUMIFS(Transakcijas!$R:$R,Transakcijas!$Q:$Q,$B$22,Transakcijas!$S:$S,\"<=\"&$B33,Transakcijas!$H:$H,\"Nokavējuma nauda\"),2)","v":0},{"$f":"ROUND(SUMIFS(Transakcijas!$R:$R,Transakcijas!$Q:$Q,$B$22,Transakcijas!$S:$S,\"<=\"&$B33,Transakcijas!$H:$H,\"Soda nauda\"),2)","v":0},null,{"$f":"B22","v":"VSAOI"},"2024-11-30",null,0,null,null,0]
[null,"2024-12-31",0,{"$f":"SUMIFS(Transakcijas!$R:$R,Transakcijas!$Q:$Q,$B$22,Transakcijas!$T:$T,YEAR($B34),Transakcijas!$U:$U,RIGHT(\"0\"&MONTH($B34),2),Transakcijas!$D:$D,\"Aprēķins\",Transakcijas!$H:$H,\"Pamatsumma\",Transakcijas!$K:$K,\"<>\"&\"FIFO*\",Transakcijas!$K:$K,\"<>\"&\"Iemaksas atbrīvošana\",Transakcijas!$F:$F,\"Darba devēja ziņojums\")","v":0},{"$f":"SUMIFS(Transakcijas!$R:$R,Transakcijas!$Q:$Q,$B$22,Transakcijas!$T:$T,YEAR($B34),Transakcijas!$U:$U,RIGHT(\"0\"&MONTH($B34),2),Transakcijas!$D:$D,\"Aprēķins\",Transakcijas!$H:$H,\"Pamatsumma\",Transakcijas!$K:$K,\"<>\"&\"FIFO*\",Transakcijas!$K:$K,\"<>\"&\"Iemaksas atbrīvošana\",Transakcijas!$F:$F,\"Minimālās VSAOI*\")","v":0},{"$f":"SUMIFS(Transakcijas!$R:$R,Transakcijas!$Q:$Q,$B$22,Transakcijas!$T:$T,YEAR($B34),Transakcijas!$U:$U,RIGHT(\"0\"&MONTH($B34),2),Transakcijas!$D:$D,\"Aprēķins\",Transakcijas!$H:$H,\"Pamatsumma\",Transakcijas!$K:$K,\"<>\"&\"FIFO*\",Transakcijas!$K:$K,\"<>\"&\"Iemaksas atbrīvošana\")-D34-E34","v":0},{"$f":"SUMIFS(Transakcijas!$R:$R,Transakcijas!$Q:$Q,$B$22,Transakcijas!$T:$T,YEAR($B34),Transakcijas!$U:$U,RIGHT(\"0\"&MONTH($B34),2),Transakcijas!$D:$D,\"Aprēķins\",Transakcijas!$H:$H,\"Nokavējuma nauda\",Transakcijas!$K:$K,\"<>\"&\"FIFO*\",Transakcijas!$K:$K,\"<>\"&\"Iemaksas atbrīvošana\")","v":0},{"$f":"SUMIFS(Transakcijas!$R:$R,Transakcijas!$Q:$Q,$B$22,Transakcijas!$T:$T,YEAR($B34),Transakcijas!$U:$U,RIGHT(\"0\"&MONTH($B34),2),Transakcijas!$D:$D,\"Aprēķins\",Transakcijas!$H:$H,\"Soda nauda\",Transakcijas!$K:$K,\"<>\"&\"FIFO*\",Transakcijas!$K:$K,\"<>\"&\"Iemaksas atbrīvošana\")","v":0},{"$f":"SUMIFS(Transakcijas!$R:$R,Transakcijas!$Q:$Q,$B$22,Transakcijas!$T:$T,YEAR($B34),Transakcijas!$U:$U,RIGHT(\"0\"&MONTH($B34),2),Transakcijas!$D:$D,\"Iemaksa\",Transakcijas!$K:$K,\"<>\"&\"Izejošā maksājuma anulēšana\")\n+SUMIFS(Transakcijas!$R:$R,Transakcijas!$Q:$Q,$B$22,Transakcijas!$T:$T,YEAR($B34),Transakcijas!$U:$U,RIGHT(\"0\"&MONTH($B34),2),Transakcijas!$D:$D,\"Atmaksa\",Transakcijas!$K:$K,\"Iemaksas atbrīvošana\")","v":0},{"$f":"SUMIFS(Transakcijas!$R:$R,Transakcijas!$Q:$Q,$B$22,Transakcijas!$T:$T,YEAR($B34),Transakcijas!$U:$U,RIGHT(\"0\"&MONTH($B34),2),Transakcijas!$D:$D,\"Atmaksa\",Transakcijas!$K:$K,\"<>\"&\"Iemaksas atbrīvošana\")\n+SUMIFS(Transakcijas!$R:$R,Transakcijas!$Q:$Q,$B$22,Transakcijas!$T:$T,YEAR($B34),Transakcijas!$U:$U,RIGHT(\"0\"&MONTH($B34),2),Transakcijas!$D:$D,\"Iemaksa\",Transakcijas!$K:$K,\"Izejošā maksājuma anulēšana\")","v":0},{"$f":"SUMIFS(Transakcijas!$R:$R,Transakcijas!$Q:$Q,$B$22,Transakcijas!$T:$T,YEAR($B34),Transakcijas!$U:$U,RIGHT(\"0\"&MONTH($B34),2),Transakcijas!$K:$K,\"FIFO savstarpējā segšana\")\n+SUMIFS(Transakcijas!$R:$R,Transakcijas!$Q:$Q,$B$22,Transakcijas!$T:$T,YEAR($B34),Transakcijas!$U:$U,RIGHT(\"0\"&MONTH($B34),2),Transakcijas!$D:$D,\"Aprēķins\",Transakcijas!$K:$K,\"Iemaksas atbrīvošana\")","v":0},{"$f":"SUMIFS(Transakcijas!$R:$R,Transakcijas!$Q:$Q,$B$22,Transakcijas!$T:$T,YEAR($B34),Transakcijas!$U:$U,RIGHT(\"0\"&MONTH($B34),2))-SUM(D34:K34)","v":0},0,{"$f":"ROUND(SUMIFS(Transakcijas!$R:$R,Transakcijas!$Q:$Q,$B$22,Transakcijas!$S:$S,\"<=\"&$B34,Transakcijas!$H:$H,\"Pamatsumma\"),2)","v":0},{"$f":"ROUND(SUMIFS(Transakcijas!$R:$R,Transakcijas!$Q:$Q,$B$22,Transakcijas!$S:$S,\"<=\"&$B34,Transakcijas!$H:$H,\"Nokavējuma nauda\"),2)","v":0},{"$f":"ROUND(SUMIFS(Transakcijas!$R:$R,Transakcijas!$Q:$Q,$B$22,Transakcijas!$S:$S,\"<=\"&$B34,Transakcijas!$H:$H,\"Soda nauda\"),2)","v":0},null,{"$f":"B22","v":"VSAOI"},"2024-12-31",null,0,null,null,0]
[null,"Kopā",{"$f":"C23","v":0},{"$f":"SUM(D23:D34)","v":0},0,0,{"$f":"SUM(G23:G34)","v":0},0,0,0,0,0,0]
[]
[null,{"$f":"B7","v":"IIN"},"Atlikums uz perioda sākumu",{"$f":"D$4","v":"Aprēķināts"},{"$f":"E$4","v":"Ieturēts IIN\nMin. VSAOI"},"Apr.nerezid.\nUniv.IF VSAOI","Aprēķināta nokav. nauda  ","Aprēķināta\n soda nauda  ","Samaksāts\nAtbrīvots","Atmaksāts","Pārvietots \n(Savst.segš.)","Cita \nkustība","Atlikums uz perioda beigām","Pamat-\nsumma","Nokav. \nnauda  ","Soda \nnauda  "]
[null,{"$f":"DATE(YEAR($C$4),MONTH($C$4)+1,0)","v":"2024-01-31"},{"$f":"C7","v":0},{"$f":"SUMIFS(Transakcijas!$R:$R,Transakcijas!$Q:$Q,$B$37,Transakcijas!$T:$T,YEAR($B38),Transakcijas!$U:$U,RIGHT(\"0\"&MONTH($B38),2),Transakcijas!$D:$D,\"Aprēķins\",Transakcijas!$H:$H,\"Pamatsumma\",Transakcijas!$K:$K,\"<>\"&\"FIFO*\",Transakcijas!$K:$K,\"<>\"&\"Iemaksas atbrīvošana\",Transakcijas!$F:$F,\"Darba devēja ziņojums\")","v":0},{"$f":"SUMIFS(Transakcijas!$R:$R,Transakcijas!$Q:$Q,$B$37,Transakcijas!$T:$T,YEAR($B38),Transakcijas!$U:$U,RIGHT(\"0\"&MONTH($B38),2),Transakcijas!$D:$D,\"Aprēķins\",Transakcijas!$H:$H,\"Pamatsumma\",Transakcijas!$K:$K,\"<>\"&\"FIFO*\",Transakcijas!$K:$K,\"<>\"&\"Iemaksas atbrīvošana\")-D38-F38","v":0},{"$f":"SUMIFS(Transakcijas!$R:$R,Transakcijas!$Q:$Q,$B$37,Transakcijas!$T:$T,YEAR($B38),Transakcijas!$U:$U,RIGHT(\"0\"&MONTH($B38),2),Transakcijas!$D:$D,\"Aprēķins\",Transakcijas!$H:$H,\"Pamatsumma\",Transakcijas!$K:$K,\"<>\"&\"FIFO*\",Transakcijas!$K:$K,\"<>\"&\"Iemaksas atbrīvošana\",Transakcijas!$F:$F,\"*nerezid*\")","v":0},{"$f":"SUMIFS(Transakcijas!$R:$R,Transakcijas!$Q:$Q,$B$37,Transakcijas!$T:$T,YEAR($B38),Transakcijas!$U:$U,RIGHT(\"0\"&MONTH($B38),2),Transakcijas!$D:$D,\"Aprēķins\",Transakcijas!$H:$H,\"Nokavējuma nauda\",Transakcijas!$K:$K,\"<>\"&\"FIFO*\",Transakcijas!$K:$K,\"<>\"&\"Iemaksas atbrīvošana\")","v":0},{"$f":"SUMIFS(Transakcijas!$R:$R,Transakcijas!$Q:$Q,$B$37,Transakcijas!$T:$T,YEAR($B38),Transakcijas!$U:$U,RIGHT(\"0\"&MONTH($B38),2),Transakcijas!$D:$D,\"Aprēķins\",Transakcijas!$H:$H,\"Soda nauda\",Transakcijas!$K:$K,\"<>\"&\"FIFO*\",Transakcijas!$K:$K,\"<>\"&\"Iemaksas atbrīvošana\")","v":0},{"$f":"SUMIFS(Transakcijas!$R:$R,Transakcijas!$Q:$Q,$B$37,Transakcijas!$T:$T,YEAR($B38),Transakcijas!$U:$U,RIGHT(\"0\"&MONTH($B38),2),Transakcijas!$D:$D,\"Iemaksa\",Transakcijas!$K:$K,\"<>\"&\"Izejošā maksājuma anulēšana\")\n+SUMIFS(Transakcijas!$R:$R,Transakcijas!$Q:$Q,$B$37,Transakcijas!$T:$T,YEAR($B38),Transakcijas!$U:$U,RIGHT(\"0\"&MONTH($B38),2),Transakcijas!$D:$D,\"Atmaksa\",Transakcijas!$K:$K,\"Iemaksas atbrīvošana\")","v":0},{"$f":"SUMIFS(Transakcijas!$R:$R,Transakcijas!$Q:$Q,$B$37,Transakcijas!$T:$T,YEAR($B38),Transakcijas!$U:$U,RIGHT(\"0\"&MONTH($B38),2),Transakcijas!$D:$D,\"Atmaksa\",Transakcijas!$K:$K,\"<>\"&\"Iemaksas atbrīvošana\")\n+SUMIFS(Transakcijas!$R:$R,Transakcijas!$Q:$Q,$B$37,Transakcijas!$T:$T,YEAR($B38),Transakcijas!$U:$U,RIGHT(\"0\"&MONTH($B38),2),Transakcijas!$D:$D,\"Iemaksa\",Transakcijas!$K:$K,\"Izejošā maksājuma anulēšana\")","v":0},{"$f":"SUMIFS(Transakcijas!$R:$R,Transakcijas!$Q:$Q,$B$37,Transakcijas!$T:$T,YEAR($B38),Transakcijas!$U:$U,RIGHT(\"0\"&MONTH($B38),2),Transakcijas!$K:$K,\"FIFO savstarpējā segšana\")\n+SUMIFS(Transakcijas!$R:$R,Transakcijas!$Q:$Q,$B$37,Transakcijas!$T:$T,YEAR($B38),Transakcijas!$U:$U,RIGHT(\"0\"&MONTH($B38),2),Transakcijas!$D:$D,\"Aprēķins\",Transakcijas!$K:$K,\"Iemaksas atbrīvošana\")","v":0},{"$f":"SUMIFS(Transakcijas!$R:$R,Transakcijas!$Q:$Q,$B$37,Transakcijas!$T:$T,YEAR($B38),Transakcijas!$U:$U,RIGHT(\"0\"&MONTH($B38),2))-SUM(D38:K38)","v":0},{"$f":"SUM(C38:L38)","v":0},{"$f":"ROUND(SUMIFS(Transakcijas!$R:$R,Transakcijas!$Q:$Q,$B$37,Transakcijas!$S:$S,\"<=\"&$B38,Transakcijas!$H:$H,\"Pamatsumma\"),2)","v":0},{"$f":"ROUND(SUMIFS(Transakcijas!$R:$R,Transakcijas!$Q:$Q,$B$37,Transakcijas!$S:$S,\"<=\"&$B38,Transakcijas!$H:$H,\"Nokavējuma nauda\"),2)","v":0},{"$f":"ROUND(SUMIFS(Transakcijas!$R:$R,Transakcijas!$Q:$Q,$B$37,Transakcijas!$S:$S,\"<=\"&$B38,Transakcijas!$H:$H,\"Soda nauda\"),2)","v":0},null,{"$f":"B37","v":"IIN"},{"$f":"B38","v":"2024-01-31"},null,{"$f":"SUM(D38:F38)+T38","v":0},null,null,{"$f":"IF(W38<>\"\",M38+W38,0)","v":0}]
[null,{"$f":"IF(IF(B38=\"\",$M$4+1,DATE(YEAR(B38),MONTH(B38)+2,0))<=$M$4,DATE(YEAR(B38),MONTH(B38)+2,0),\"\")","v":"2024-02-29"},{"$f":"IF(B39=\"\",0,M38)","v":0},{"$f":"SUMIFS(Transakcijas!$R:$R,Transakcijas!$Q:$Q,$B$37,Transakcijas!$T:$T,YEAR($B39),Transakcijas!$U:$U,RIGHT(\"0\"&MONTH($B39),2),Transakcijas!$D:$D,\"Aprēķins\",Transakcijas!$H:$H,\"Pamatsumma\",Transakcijas!$K:$K,\"<>\"&\"FIFO*\",Transakcijas!$K:$K,\"<>\"&\"Iemaksas atbrīvošana\",Transakcijas!$F:$F,\"Darba devēja ziņojums\")","v":0},{"$f":"SUMIFS(Transakcijas!$R:$R,Transakcijas!$Q:$Q,$B$37,Transakcijas!$T:$T,YEAR($B39),Transakcijas!$U:$U,RIGHT(\"0\"&MONTH($B39),2),Transakcijas!$D:$D,\"Aprēķins\",Transakcijas!$H:$H,\"Pamatsumma\",Transakcijas!$K:$K,\"<>\"&\"FIFO*\",Transakcijas!$K:$K,\"<>\"&\"Iemaksas atbrīvošana\")-D39-F39","v":0},{"$f":"SUMIFS(Transakcijas!$R:$R,Transakcijas!$Q:$Q,$B$37,Transakcijas!$T:$T,YEAR($B39),Transakcijas!$U:$U,RIGHT(\"0\"&MONTH($B39),2),Transakcijas!$D:$D,\"Aprēķins\",Transakcijas!$H:$H,\"Pamatsumma\",Transakcijas!$K:$K,\"<>\"&\"FIFO*\",Transakcijas!$K:$K,\"<>\"&\"Iemaksas atbrīvošana\",Transakcijas!$F:$F,\"*nerezid*\")","v":0},{"$f":"SUMIFS(Transakcijas!$R:$R,Transakcijas!$Q:$Q,$B$37,Transakcijas!$T:$T,YEAR($B39),Transakcijas!$U:$U,RIGHT(\"0\"&MONTH($B39),2),Transakcijas!$D:$D,\"Aprēķins\",Transakcijas!$H:$H,\"Nokavējuma nauda\",Transakcijas!$K:$K,\"<>\"&\"FIFO*\",Transakcijas!$K:$K,\"<>\"&\"Iemaksas atbrīvošana\")","v":0},{"$f":"SUMIFS(Transakcijas!$R:$R,Transakcijas!$Q:$Q,$B$37,Transakcijas!$T:$T,YEAR($B39),Transakcijas!$U:$U,RIGHT(\"0\"&MONTH($B39),2),Transakcijas!$D:$D,\"Aprēķins\",Transakcijas!$H:$H,\"Soda nauda\",Transakcijas!$K:$K,\"<>\"&\"FIFO*\",Transakcijas!$K:$K,\"<>\"&\"Iemaksas atbrīvošana\")","v":0},{"$f":"SUMIFS(Transakcijas!$R:$R,Transakcijas!$Q:$Q,$B$37,Transakcijas!$T:$T,YEAR($B39),Transakcijas!$U:$U,RIGHT(\"0\"&MONTH($B39),2),Transakcijas!$D:$D,\"Iemaksa\",Transakcijas!$K:$K,\"<>\"&\"Izejošā maksājuma anulēšana\")\n+SUMIFS(Transakcijas!$R:$R,Transakcijas!$Q:$Q,$B$37,Transakcijas!$T:$T,YEAR($B39),Transakcijas!$U:$U,RIGHT(\"0\"&MONTH($B39),2),Transakcijas!$D:$D,\"Atmaksa\",Transakcijas!$K:$K,\"Iemaksas atbrīvošana\")","v":0},{"$f":"SUMIFS(Transakcijas!$R:$R,Transakcijas!$Q:$Q,$B$37,Transakcijas!$T:$T,YEAR($B39),Transakcijas!$U:$U,RIGHT(\"0\"&MONTH($B39),2),Transakcijas!$D:$D,\"Atmaksa\",Transakcijas!$K:$K,\"<>\"&\"Iemaksas atbrīvošana\")\n+SUMIFS(Transakcijas!$R:$R,Transakcijas!$Q:$Q,$B$37,Transakcijas!$T:$T,YEAR($B39),Transakcijas!$U:$U,RIGHT(\"0\"&MONTH($B39),2),Transakcijas!$D:$D,\"Iemaksa\",Transakcijas!$K:$K,\"Izejošā maksājuma anulēšana\")","v":0},{"$f":"SUMIFS(Transakcijas!$R:$R,Transakcijas!$Q:$Q,$B$37,Transakcijas!$T:$T,YEAR($B39),Transakcijas!$U:$U,RIGHT(\"0\"&MONTH($B39),2),Transakcijas!$K:$K,\"FIFO savstarpējā segšana\")\n+SUMIFS(Transakcijas!$R:$R,Transakcijas!$Q:$Q,$B$37,Transakcijas!$T:$T,YEAR($B39),Transakcijas!$U:$U,RIGHT(\"0\"&MONTH($B39),2),Transakcijas!$D:$D,\"Aprēķins\",Transakcijas!$K:$K,\"Iemaksas atbrīvošana\")","v":0},{"$f":"SUMIFS(Transakcijas!$R:$R,Transakcijas!$Q:$Q,$B$37,Transakcijas!$T:$T,YEAR($B39),Transakcijas!$U:$U,RIGHT(\"0\"&MONTH($B39),2))-SUM(D39:K39)","v":0},0,{"$f":"ROUND(SUMIFS(Transakcijas!$R:$R,Transakcijas!$Q:$Q,$B$37,Transakcijas!$S:$S,\"<=\"&$B39,Transakcijas!$H:$H,\"Pamatsumma\"),2)","v":0},{"$f":"ROUND(SUMIFS(Transakcijas!$R:$R,Transakcijas!$Q:$Q,$B$37,Transakcijas!$S:$S,\"<=\"&$B39,Transakcijas!$H:$H,\"Nokavējuma nauda\"),2)","v":0},{"$f":"ROUND(SUMIFS(Transakcijas!$R:$R,Transakcijas!$Q:$Q,$B$37,Transakcijas!$S:$S,\"<=\"&$B39,Transakcijas!$H:$H,\"Soda nauda\"),2)","v":0},null,{"$f":"B37","v":"IIN"},{"$f":"B39","v":"2024-02-29"},null,0,null,null,0]
[null,"2024-03-31",0,{"$f":"SUMIFS(Transakcijas!$R:$R,Transakcijas!$Q:$Q,$B$37,Transakcijas!$T:$T,YEAR($B40),Transakcijas!$U:$U,RIGHT(\"0\"&MONTH($B40),2),Transakcijas!$D:$D,\"Aprēķins\",Transakcijas!$H:$H,\"Pamatsumma\",Transakcijas!$K:$K,\"<>\"&\"FIFO*\",Transakcijas!$K:$K,\"<>\"&\"Iemaksas atbrīvošana\",Transakcijas!$F:$F,\"Darba devēja ziņojums\")","v":0},{"$f":"SUMIFS(Transakcijas!$R:$R,Transakcijas!$Q:$Q,$B$37,Transakcijas!$T:$T,YEAR($B40),Transakcijas!$U:$U,RIGHT(\"0\"&MONTH($B40),2),Transakcijas!$D:$D,\"Aprēķins\",Transakcijas!$H:$H,\"Pamatsumma\",Transakcijas!$K:$K,\"<>\"&\"FIFO*\",Transakcijas!$K:$K,\"<>\"&\"Iemaksas atbrīvošana\")-D40-F40","v":0},{"$f":"SUMIFS(Transakcijas!$R:$R,Transakcijas!$Q:$Q,$B$37,Transakcijas!$T:$T,YEAR($B40),Transakcijas!$U:$U,RIGHT(\"0\"&MONTH($B40),2),Transakcijas!$D:$D,\"Aprēķins\",Transakcijas!$H:$H,\"Pamatsumma\",Transakcijas!$K:$K,\"<>\"&\"FIFO*\",Transakcijas!$K:$K,\"<>\"&\"Iemaksas atbrīvošana\",Transakcijas!$F:$F,\"*nerezid*\")","v":0},{"$f":"SUMIFS(Transakcijas!$R:$R,Transakcijas!$Q:$Q,$B$37,Transakcijas!$T:$T,YEAR($B40),Transakcijas!$U:$U,RIGHT(\"0\"&MONTH($B40),2),Transakcijas!$D:$D,\"Aprēķins\",Transakcijas!$H:$H,\"Nokavējuma nauda\",Transakcijas!$K:$K,\"<>\"&\"FIFO*\",Transakcijas!$K:$K,\"<>\"&\"Iemaksas atbrīvošana\")","v":0},{"$f":"SUMIFS(Transakcijas!$R:$R,Transakcijas!$Q:$Q,$B$37,Transakcijas!$T:$T,YEAR($B40),Transakcijas!$U:$U,RIGHT(\"0\"&MONTH($B40),2),Transakcijas!$D:$D,\"Aprēķins\",Transakcijas!$H:$H,\"Soda nauda\",Transakcijas!$K:$K,\"<>\"&\"FIFO*\",Transakcijas!$K:$K,\"<>\"&\"Iemaksas atbrīvošana\")","v":0},{"$f":"SUMIFS(Transakcijas!$R:$R,Transakcijas!$Q:$Q,$B$37,Transakcijas!$T:$T,YEAR($B40),Transakcijas!$U:$U,RIGHT(\"0\"&MONTH($B40),2),Transakcijas!$D:$D,\"Iemaksa\",Transakcijas!$K:$K,\"<>\"&\"Izejošā maksājuma anulēšana\")\n+SUMIFS(Transakcijas!$R:$R,Transakcijas!$Q:$Q,$B$37,Transakcijas!$T:$T,YEAR($B40),Transakcijas!$U:$U,RIGHT(\"0\"&MONTH($B40),2),Transakcijas!$D:$D,\"Atmaksa\",Transakcijas!$K:$K,\"Iemaksas atbrīvošana\")","v":0},{"$f":"SUMIFS(Transakcijas!$R:$R,Transakcijas!$Q:$Q,$B$37,Transakcijas!$T:$T,YEAR($B40),Transakcijas!$U:$U,RIGHT(\"0\"&MONTH($B40),2),Transakcijas!$D:$D,\"Atmaksa\",Transakcijas!$K:$K,\"<>\"&\"Iemaksas atbrīvošana\")\n+SUMIFS(Transakcijas!$R:$R,Transakcijas!$Q:$Q,$B$37,Transakcijas!$T:$T,YEAR($B40),Transakcijas!$U:$U,RIGHT(\"0\"&MONTH($B40),2),Transakcijas!$D:$D,\"Iemaksa\",Transakcijas!$K:$K,\"Izejošā maksājuma anulēšana\")","v":0},{"$f":"SUMIFS(Transakcijas!$R:$R,Transakcijas!$Q:$Q,$B$37,Transakcijas!$T:$T,YEAR($B40),Transakcijas!$U:$U,RIGHT(\"0\"&MONTH($B40),2),Transakcijas!$K:$K,\"FIFO savstarpējā segšana\")\n+SUMIFS(Transakcijas!$R:$R,Transakcijas!$Q:$Q,$B$37,Transakcijas!$T:$T,YEAR($B40),Transakcijas!$U:$U,RIGHT(\"0\"&MONTH($B40),2),Transakcijas!$D:$D,\"Aprēķins\",Transakcijas!$K:$K,\"Iemaksas atbrīvošana\")","v":0},{"$f":"SUMIFS(Transakcijas!$R:$R,Transakcijas!$Q:$Q,$B$37,Transakcijas!$T:$T,YEAR($B40),Transakcijas!$U:$U,RIGHT(\"0\"&MONTH($B40),2))-SUM(D40:K40)","v":0},0,{"$f":"ROUND(SUMIFS(Transakcijas!$R:$R,Transakcijas!$Q:$Q,$B$37,Transakcijas!$S:$S,\"<=\"&$B40,Transakcijas!$H:$H,\"Pamatsumma\"),2)","v":0},{"$f":"ROUND(SUMIFS(Transakcijas!$R:$R,Transakcijas!$Q:$Q,$B$37,Transakcijas!$S:$S,\"<=\"&$B40,Transakcijas!$H:$H,\"Nokavējuma nauda\"),2)","v":0},{"$f":"ROUND(SUMIFS(Transakcijas!$R:$R,Transakcijas!$Q:$Q,$B$37,Transakcijas!$S:$S,\"<=\"&$B40,Transakcijas!$H:$H,\"Soda nauda\"),2)","v":0},null,{"$f":"B37","v":"IIN"},"2024-03-31",null,0,null,null,0]
[null,"2024-04-30",0,{"$f":"SUMIFS(Transakcijas!$R:$R,Transakcijas!$Q:$Q,$B$37,Transakcijas!$T:$T,YEAR($B41),Transakcijas!$U:$U,RIGHT(\"0\"&MONTH($B41),2),Transakcijas!$D:$D,\"Aprēķins\",Transakcijas!$H:$H,\"Pamatsumma\",Transakcijas!$K:$K,\"<>\"&\"FIFO*\",Transakcijas!$K:$K,\"<>\"&\"Iemaksas atbrīvošana\",Transakcijas!$F:$F,\"Darba devēja ziņojums\")","v":0},{"$f":"SUMIFS(Transakcijas!$R:$R,Transakcijas!$Q:$Q,$B$37,Transakcijas!$T:$T,YEAR($B41),Transakcijas!$U:$U,RIGHT(\"0\"&MONTH($B41),2),Transakcijas!$D:$D,\"Aprēķins\",Transakcijas!$H:$H,\"Pamatsumma\",Transakcijas!$K:$K,\"<>\"&\"FIFO*\",Transakcijas!$K:$K,\"<>\"&\"Iemaksas atbrīvošana\")-D41-F41","v":0},{"$f":"SUMIFS(Transakcijas!$R:$R,Transakcijas!$Q:$Q,$B$37,Transakcijas!$T:$T,YEAR($B41),Transakcijas!$U:$U,RIGHT(\"0\"&MONTH($B41),2),Transakcijas!$D:$D,\"Aprēķins\",Transakcijas!$H:$H,\"Pamatsumma\",Transakcijas!$K:$K,\"<>\"&\"FIFO*\",Transakcijas!$K:$K,\"<>\"&\"Iemaksas atbrīvošana\",Transakcijas!$F:$F,\"*nerezid*\")","v":0},{"$f":"SUMIFS(Transakcijas!$R:$R,Transakcijas!$Q:$Q,$B$37,Transakcijas!$T:$T,YEAR($B41),Transakcijas!$U:$U,RIGHT(\"0\"&MONTH($B41),2),Transakcijas!$D:$D,\"Aprēķins\",Transakcijas!$H:$H,\"Nokavējuma nauda\",Transakcijas!$K:$K,\"<>\"&\"FIFO*\",Transakcijas!$K:$K,\"<>\"&\"Iemaksas atbrīvošana\")","v":0},{"$f":"SUMIFS(Transakcijas!$R:$R,Transakcijas!$Q:$Q,$B$37,Transakcijas!$T:$T,YEAR($B41),Transakcijas!$U:$U,RIGHT(\"0\"&MONTH($B41),2),Transakcijas!$D:$D,\"Aprēķins\",Transakcijas!$H:$H,\"Soda nauda\",Transakcijas!$K:$K,\"<>\"&\"FIFO*\",Transakcijas!$K:$K,\"<>\"&\"Iemaksas atbrīvošana\")","v":0},{"$f":"SUMIFS(Transakcijas!$R:$R,Transakcijas!$Q:$Q,$B$37,Transakcijas!$T:$T,YEAR($B41),Transakcijas!$U:$U,RIGHT(\"0\"&MONTH($B41),2),Transakcijas!$D:$D,\"Iemaksa\",Transakcijas!$K:$K,\"<>\"&\"Izejošā maksājuma anulēšana\")\n+SUMIFS(Transakcijas!$R:$R,Transakcijas!$Q:$Q,$B$37,Transakcijas!$T:$T,YEAR($B41),Transakcijas!$U:$U,RIGHT(\"0\"&MONTH($B41),2),Transakcijas!$D:$D,\"Atmaksa\",Transakcijas!$K:$K,\"Iemaksas atbrīvošana\")","v":0},{"$f":"SUMIFS(Transakcijas!$R:$R,Transakcijas!$Q:$Q,$B$37,Transakcijas!$T:$T,YEAR($B41),Transakcijas!$U:$U,RIGHT(\"0\"&MONTH($B41),2),Transakcijas!$D:$D,\"Atmaksa\",Transakcijas!$K:$K,\"<>\"&\"Iemaksas atbrīvošana\")\n+SUMIFS(Transakcijas!$R:$R,Transakcijas!$Q:$Q,$B$37,Transakcijas!$T:$T,YEAR($B41),Transakcijas!$U:$U,RIGHT(\"0\"&MONTH($B41),2),Transakcijas!$D:$D,\"Iemaksa\",Transakcijas!$K:$K,\"Izejošā maksājuma anulēšana\")","v":0},{"$f":"SUMIFS(Transakcijas!$R:$R,Transakcijas!$Q:$Q,$B$37,Transakcijas!$T:$T,YEAR($B41),Transakcijas!$U:$U,RIGHT(\"0\"&MONTH($B41),2),Transakcijas!$K:$K,\"FIFO savstarpējā segšana\")\n+SUMIFS(Transakcijas!$R:$R,Transakcijas!$Q:$Q,$B$37,Transakcijas!$T:$T,YEAR($B41),Transakcijas!$U:$U,RIGHT(\"0\"&MONTH($B41),2),Transakcijas!$D:$D,\"Aprēķins\",Transakcijas!$K:$K,\"Iemaksas atbrīvošana\")","v":0},{"$f":"SUMIFS(Transakcijas!$R:$R,Transakcijas!$Q:$Q,$B$37,Transakcijas!$T:$T,YEAR($B41),Transakcijas!$U:$U,RIGHT(\"0\"&MONTH($B41),2))-SUM(D41:K41)","v":0},0,{"$f":"ROUND(SUMIFS(Transakcijas!$R:$R,Transakcijas!$Q:$Q,$B$37,Transakcijas!$S:$S,\"<=\"&$B41,Transakcijas!$H:$H,\"Pamatsumma\"),2)","v":0},{"$f":"ROUND(SUMIFS(Transakcijas!$R:$R,Transakcijas!$Q:$Q,$B$37,Transakcijas!$S:$S,\"<=\"&$B41,Transakcijas!$H:$H,\"Nokavējuma nauda\"),2)","v":0},{"$f":"ROUND(SUMIFS(Transakcijas!$R:$R,Transakcijas!$Q:$Q,$B$37,Transakcijas!$S:$S,\"<=\"&$B41,Transakcijas!$H:$H,\"Soda nauda\"),2)","v":0},null,{"$f":"B37","v":"IIN"},"2024-04-30",null,0,null,null,0]
[null,"2024-05-31",0,{"$f":"SUMIFS(Transakcijas!$R:$R,Transakcijas!$Q:$Q,$B$37,Transakcijas!$T:$T,YEAR($B42),Transakcijas!$U:$U,RIGHT(\"0\"&MONTH($B42),2),Transakcijas!$D:$D,\"Aprēķins\",Transakcijas!$H:$H,\"Pamatsumma\",Transakcijas!$K:$K,\"<>\"&\"FIFO*\",Transakcijas!$K:$K,\"<>\"&\"Iemaksas atbrīvošana\",Transakcijas!$F:$F,\"Darba devēja ziņojums\")","v":0},{"$f":"SUMIFS(Transakcijas!$R:$R,Transakcijas!$Q:$Q,$B$37,Transakcijas!$T:$T,YEAR($B42),Transakcijas!$U:$U,RIGHT(\"0\"&MONTH($B42),2),Transakcijas!$D:$D,\"Aprēķins\",Transakcijas!$H:$H,\"Pamatsumma\",Transakcijas!$K:$K,\"<>\"&\"FIFO*\",Transakcijas!$K:$K,\"<>\"&\"Iemaksas atbrīvošana\")-D42-F42","v":0},{"$f":"SUMIFS(Transakcijas!$R:$R,Transakcijas!$Q:$Q,$B$37,Transakcijas!$T:$T,YEAR($B42),Transakcijas!$U:$U,RIGHT(\"0\"&MONTH($B42),2),Transakcijas!$D:$D,\"Aprēķins\",Transakcijas!$H:$H,\"Pamatsumma\",Transakcijas!$K:$K,\"<>\"&\"FIFO*\",Transakcijas!$K:$K,\"<>\"&\"Iemaksas atbrīvošana\",Transakcijas!$F:$F,\"*nerezid*\")","v":0},{"$f":"SUMIFS(Transakcijas!$R:$R,Transakcijas!$Q:$Q,$B$37,Transakcijas!$T:$T,YEAR($B42),Transakcijas!$U:$U,RIGHT(\"0\"&MONTH($B42),2),Transakcijas!$D:$D,\"Aprēķins\",Transakcijas!$H:$H,\"Nokavējuma nauda\",Transakcijas!$K:$K,\"<>\"&\"FIFO*\",Transakcijas!$K:$K,\"<>\"&\"Iemaksas atbrīvošana\")","v":0},{"$f":"SUMIFS(Transakcijas!$R:$R,Transakcijas!$Q:$Q,$B$37,Transakcijas!$T:$T,YEAR($B42),Transakcijas!$U:$U,RIGHT(\"0\"&MONTH($B42),2),Transakcijas!$D:$D,\"Aprēķins\",Transakcijas!$H:$H,\"Soda nauda\",Transakcijas!$K:$K,\"<>\"&\"FIFO*\",Transakcijas!$K:$K,\"<>\"&\"Iemaksas atbrīvošana\")","v":0},{"$f":"SUMIFS(Transakcijas!$R:$R,Transakcijas!$Q:$Q,$B$37,Transakcijas!$T:$T,YEAR($B42),Transakcijas!$U:$U,RIGHT(\"0\"&MONTH($B42),2),Transakcijas!$D:$D,\"Iemaksa\",Transakcijas!$K:$K,\"<>\"&\"Izejošā maksājuma anulēšana\")\n+SUMIFS(Transakcijas!$R:$R,Transakcijas!$Q:$Q,$B$37,Transakcijas!$T:$T,YEAR($B42),Transakcijas!$U:$U,RIGHT(\"0\"&MONTH($B42),2),Transakcijas!$D:$D,\"Atmaksa\",Transakcijas!$K:$K,\"Iemaksas atbrīvošana\")","v":0},{"$f":"SUMIFS(Transakcijas!$R:$R,Transakcijas!$Q:$Q,$B$37,Transakcijas!$T:$T,YEAR($B42),Transakcijas!$U:$U,RIGHT(\"0\"&MONTH($B42),2),Transakcijas!$D:$D,\"Atmaksa\",Transakcijas!$K:$K,\"<>\"&\"Iemaksas atbrīvošana\")\n+SUMIFS(Transakcijas!$R:$R,Transakcijas!$Q:$Q,$B$37,Transakcijas!$T:$T,YEAR($B42),Transakcijas!$U:$U,RIGHT(\"0\"&MONTH($B42),2),Transakcijas!$D:$D,\"Iemaksa\",Transakcijas!$K:$K,\"Izejošā maksājuma anulēšana\")","v":0},{"$f":"SUMIFS(Transakcijas!$R:$R,Transakcijas!$Q:$Q,$B$37,Transakcijas!$T:$T,YEAR($B42),Transakcijas!$U:$U,RIGHT(\"0\"&MONTH($B42),2),Transakcijas!$K:$K,\"FIFO savstarpējā segšana\")\n+SUMIFS(Transakcijas!$R:$R,Transakcijas!$Q:$Q,$B$37,Transakcijas!$T:$T,YEAR($B42),Transakcijas!$U:$U,RIGHT(\"0\"&MONTH($B42),2),Transakcijas!$D:$D,\"Aprēķins\",Transakcijas!$K:$K,\"Iemaksas atbrīvošana\")","v":0},{"$f":"SUMIFS(Transakcijas!$R:$R,Transakcijas!$Q:$Q,$B$37,Transakcijas!$T:$T,YEAR($B42),Transakcijas!$U:$U,RIGHT(\"0\"&MONTH($B42),2))-SUM(D42:K42)","v":0},0,{"$f":"ROUND(SUMIFS(Transakcijas!$R:$R,Transakcijas!$Q:$Q,$B$37,Transakcijas!$S:$S,\"<=\"&$B42,Transakcijas!$H:$H,\"Pamatsumma\"),2)","v":0},{"$f":"ROUND(SUMIFS(Transakcijas!$R:$R,Transakcijas!$Q:$Q,$B$37,Transakcijas!$S:$S,\"<=\"&$B42,Transakcijas!$H:$H,\"Nokavējuma nauda\"),2)","v":0},{"$f":"ROUND(SUMIFS(Transakcijas!$R:$R,Transakcijas!$Q:$Q,$B$37,Transakcijas!$S:$S,\"<=\"&$B42,Transakcijas!$H:$H,\"Soda nauda\"),2)","v":0},null,{"$f":"B37","v":"IIN"},"2024-05-31",null,0,null,null,0]
[null,"2024-06-30",0,{"$f":"SUMIFS(Transakcijas!$R:$R,Transakcijas!$Q:$Q,$B$37,Transakcijas!$T:$T,YEAR($B43),Transakcijas!$U:$U,RIGHT(\"0\"&MONTH($B43),2),Transakcijas!$D:$D,\"Aprēķins\",Transakcijas!$H:$H,\"Pamatsumma\",Transakcijas!$K:$K,\"<>\"&\"FIFO*\",Transakcijas!$K:$K,\"<>\"&\"Iemaksas atbrīvošana\",Transakcijas!$F:$F,\"Darba devēja ziņojums\")","v":0},{"$f":"SUMIFS(Transakcijas!$R:$R,Transakcijas!$Q:$Q,$B$37,Transakcijas!$T:$T,YEAR($B43),Transakcijas!$U:$U,RIGHT(\"0\"&MONTH($B43),2),Transakcijas!$D:$D,\"Aprēķins\",Transakcijas!$H:$H,\"Pamatsumma\",Transakcijas!$K:$K,\"<>\"&\"FIFO*\",Transakcijas!$K:$K,\"<>\"&\"Iemaksas atbrīvošana\")-D43-F43","v":0},{"$f":"SUMIFS(Transakcijas!$R:$R,Transakcijas!$Q:$Q,$B$37,Transakcijas!$T:$T,YEAR($B43),Transakcijas!$U:$U,RIGHT(\"0\"&MONTH($B43),2),Transakcijas!$D:$D,\"Aprēķins\",Transakcijas!$H:$H,\"Pamatsumma\",Transakcijas!$K:$K,\"<>\"&\"FIFO*\",Transakcijas!$K:$K,\"<>\"&\"Iemaksas atbrīvošana\",Transakcijas!$F:$F,\"*nerezid*\")","v":0},{"$f":"SUMIFS(Transakcijas!$R:$R,Transakcijas!$Q:$Q,$B$37,Transakcijas!$T:$T,YEAR($B43),Transakcijas!$U:$U,RIGHT(\"0\"&MONTH($B43),2),Transakcijas!$D:$D,\"Aprēķins\",Transakcijas!$H:$H,\"Nokavējuma nauda\",Transakcijas!$K:$K,\"<>\"&\"FIFO*\",Transakcijas!$K:$K,\"<>\"&\"Iemaksas atbrīvošana\")","v":0},{"$f":"SUMIFS(Transakcijas!$R:$R,Transakcijas!$Q:$Q,$B$37,Transakcijas!$T:$T,YEAR($B43),Transakcijas!$U:$U,RIGHT(\"0\"&MONTH($B43),2),Transakcijas!$D:$D,\"Aprēķins\",Transakcijas!$H:$H,\"Soda nauda\",Transakcijas!$K:$K,\"<>\"&\"FIFO*\",Transakcijas!$K:$K,\"<>\"&\"Iemaksas atbrīvošana\")","v":0},{"$f":"SUMIFS(Transakcijas!$R:$R,Transakcijas!$Q:$Q,$B$37,Transakcijas!$T:$T,YEAR($B43),Transakcijas!$U:$U,RIGHT(\"0\"&MONTH($B43),2),Transakcijas!$D:$D,\"Iemaksa\",Transakcijas!$K:$K,\"<>\"&\"Izejošā maksājuma anulēšana\")\n+SUMIFS(Transakcijas!$R:$R,Transakcijas!$Q:$Q,$B$37,Transakcijas!$T:$T,YEAR($B43),Transakcijas!$U:$U,RIGHT(\"0\"&MONTH($B43),2),Transakcijas!$D:$D,\"Atmaksa\",Transakcijas!$K:$K,\"Iemaksas atbrīvošana\")","v":0},{"$f":"SUMIFS(Transakcijas!$R:$R,Transakcijas!$Q:$Q,$B$37,Transakcijas!$T:$T,YEAR($B43),Transakcijas!$U:$U,RIGHT(\"0\"&MONTH($B43),2),Transakcijas!$D:$D,\"Atmaksa\",Transakcijas!$K:$K,\"<>\"&\"Iemaksas atbrīvošana\")\n+SUMIFS(Transakcijas!$R:$R,Transakcijas!$Q:$Q,$B$37,Transakcijas!$T:$T,YEAR($B43),Transakcijas!$U:$U,RIGHT(\"0\"&MONTH($B43),2),Transakcijas!$D:$D,\"Iemaksa\",Transakcijas!$K:$K,\"Izejošā maksājuma anulēšana\")","v":0},{"$f":"SUMIFS(Transakcijas!$R:$R,Transakcijas!$Q:$Q,$B$37,Transakcijas!$T:$T,YEAR($B43),Transakcijas!$U:$U,RIGHT(\"0\"&MONTH($B43),2),Transakcijas!$K:$K,\"FIFO savstarpējā segšana\")\n+SUMIFS(Transakcijas!$R:$R,Transakcijas!$Q:$Q,$B$37,Transakcijas!$T:$T,YEAR($B43),Transakcijas!$U:$U,RIGHT(\"0\"&MONTH($B43),2),Transakcijas!$D:$D,\"Aprēķins\",Transakcijas!$K:$K,\"Iemaksas atbrīvošana\")","v":0},{"$f":"SUMIFS(Transakcijas!$R:$R,Transakcijas!$Q:$Q,$B$37,Transakcijas!$T:$T,YEAR($B43),Transakcijas!$U:$U,RIGHT(\"0\"&MONTH($B43),2))-SUM(D43:K43)","v":0},0,{"$f":"ROUND(SUMIFS(Transakcijas!$R:$R,Transakcijas!$Q:$Q,$B$37,Transakcijas!$S:$S,\"<=\"&$B43,Transakcijas!$H:$H,\"Pamatsumma\"),2)","v":0},{"$f":"ROUND(SUMIFS(Transakcijas!$R:$R,Transakcijas!$Q:$Q,$B$37,Transakcijas!$S:$S,\"<=\"&$B43,Transakcijas!$H:$H,\"Nokavējuma nauda\"),2)","v":0},{"$f":"ROUND(SUMIFS(Transakcijas!$R:$R,Transakcijas!$Q:$Q,$B$37,Transakcijas!$S:$S,\"<=\"&$B43,Transakcijas!$H:$H,\"Soda nauda\"),2)","v":0},null,{"$f":"B37","v":"IIN"},"2024-06-30",null,0,null,null,0]
[null,"2024-07-31",0,{"$f":"SUMIFS(Transakcijas!$R:$R,Transakcijas!$Q:$Q,$B$37,Transakcijas!$T:$T,YEAR($B44),Transakcijas!$U:$U,RIGHT(\"0\"&MONTH($B44),2),Transakcijas!$D:$D,\"Aprēķins\",Transakcijas!$H:$H,\"Pamatsumma\",Transakcijas!$K:$K,\"<>\"&\"FIFO*\",Transakcijas!$K:$K,\"<>\"&\"Iemaksas atbrīvošana\",Transakcijas!$F:$F,\"Darba devēja ziņojums\")","v":0},{"$f":"SUMIFS(Transakcijas!$R:$R,Transakcijas!$Q:$Q,$B$37,Transakcijas!$T:$T,YEAR($B44),Transakcijas!$U:$U,RIGHT(\"0\"&MONTH($B44),2),Transakcijas!$D:$D,\"Aprēķins\",Transakcijas!$H:$H,\"Pamatsumma\",Transakcijas!$K:$K,\"<>\"&\"FIFO*\",Transakcijas!$K:$K,\"<>\"&\"Iemaksas atbrīvošana\")-D44-F44","v":0},{"$f":"SUMIFS(Transakcijas!$R:$R,Transakcijas!$Q:$Q,$B$37,Transakcijas!$T:$T,YEAR($B44),Transakcijas!$U:$U,RIGHT(\"0\"&MONTH($B44),2),Transakcijas!$D:$D,\"Aprēķins\",Transakcijas!$H:$H,\"Pamatsumma\",Transakcijas!$K:$K,\"<>\"&\"FIFO*\",Transakcijas!$K:$K,\"<>\"&\"Iemaksas atbrīvošana\",Transakcijas!$F:$F,\"*nerezid*\")","v":0},{"$f":"SUMIFS(Transakcijas!$R:$R,Transakcijas!$Q:$Q,$B$37,Transakcijas!$T:$T,YEAR($B44),Transakcijas!$U:$U,RIGHT(\"0\"&MONTH($B44),2),Transakcijas!$D:$D,\"Aprēķins\",Transakcijas!$H:$H,\"Nokavējuma nauda\",Transakcijas!$K:$K,\"<>\"&\"FIFO*\",Transakcijas!$K:$K,\"<>\"&\"Iemaksas atbrīvošana\")","v":0},{"$f":"SUMIFS(Transakcijas!$R:$R,Transakcijas!$Q:$Q,$B$37,Transakcijas!$T:$T,YEAR($B44),Transakcijas!$U:$U,RIGHT(\"0\"&MONTH($B44),2),Transakcijas!$D:$D,\"Aprēķins\",Transakcijas!$H:$H,\"Soda nauda\",Transakcijas!$K:$K,\"<>\"&\"FIFO*\",Transakcijas!$K:$K,\"<>\"&\"Iemaksas atbrīvošana\")","v":0},{"$f":"SUMIFS(Transakcijas!$R:$R,Transakcijas!$Q:$Q,$B$37,Transakcijas!$T:$T,YEAR($B44),Transakcijas!$U:$U,RIGHT(\"0\"&MONTH($B44),2),Transakcijas!$D:$D,\"Iemaksa\",Transakcijas!$K:$K,\"<>\"&\"Izejošā maksājuma anulēšana\")\n+SUMIFS(Transakcijas!$R:$R,Transakcijas!$Q:$Q,$B$37,Transakcijas!$T:$T,YEAR($B44),Transakcijas!$U:$U,RIGHT(\"0\"&MONTH($B44),2),Transakcijas!$D:$D,\"Atmaksa\",Transakcijas!$K:$K,\"Iemaksas atbrīvošana\")","v":0},{"$f":"SUMIFS(Transakcijas!$R:$R,Transakcijas!$Q:$Q,$B$37,Transakcijas!$T:$T,YEAR($B44),Transakcijas!$U:$U,RIGHT(\"0\"&MONTH($B44),2),Transakcijas!$D:$D,\"Atmaksa\",Transakcijas!$K:$K,\"<>\"&\"Iemaksas atbrīvošana\")\n+SUMIFS(Transakcijas!$R:$R,Transakcijas!$Q:$Q,$B$37,Transakcijas!$T:$T,YEAR($B44),Transakcijas!$U:$U,RIGHT(\"0\"&MONTH($B44),2),Transakcijas!$D:$D,\"Iemaksa\",Transakcijas!$K:$K,\"Izejošā maksājuma anulēšana\")","v":0},{"$f":"SUMIFS(Transakcijas!$R:$R,Transakcijas!$Q:$Q,$B$37,Transakcijas!$T:$T,YEAR($B44),Transakcijas!$U:$U,RIGHT(\"0\"&MONTH($B44),2),Transakcijas!$K:$K,\"FIFO savstarpējā segšana\")\n+SUMIFS(Transakcijas!$R:$R,Transakcijas!$Q:$Q,$B$37,Transakcijas!$T:$T,YEAR($B44),Transakcijas!$U:$U,RIGHT(\"0\"&MONTH($B44),2),Transakcijas!$D:$D,\"Aprēķins\",Transakcijas!$K:$K,\"Iemaksas atbrīvošana\")","v":0},{"$f":"SUMIFS(Transakcijas!$R:$R,Transakcijas!$Q:$Q,$B$37,Transakcijas!$T:$T,YEAR($B44),Transakcijas!$U:$U,RIGHT(\"0\"&MONTH($B44),2))-SUM(D44:K44)","v":0},0,{"$f":"ROUND(SUMIFS(Transakcijas!$R:$R,Transakcijas!$Q:$Q,$B$37,Transakcijas!$S:$S,\"<=\"&$B44,Transakcijas!$H:$H,\"Pamatsumma\"),2)","v":0},{"$f":"ROUND(SUMIFS(Transakcijas!$R:$R,Transakcijas!$Q:$Q,$B$37,Transakcijas!$S:$S,\"<=\"&$B44,Transakcijas!$H:$H,\"Nokavējuma nauda\"),2)","v":0},{"$f":"ROUND(SUMIFS(Transakcijas!$R:$R,Transakcijas!$Q:$Q,$B$37,Transakcijas!$S:$S,\"<=\"&$B44,Transakcijas!$H:$H,\"Soda nauda\"),2)","v":0},null,{"$f":"B37","v":"IIN"},"2024-07-31",null,0,null,null,0]
[null,"2024-08-31",0,{"$f":"SUMIFS(Transakcijas!$R:$R,Transakcijas!$Q:$Q,$B$37,Transakcijas!$T:$T,YEAR($B45),Transakcijas!$U:$U,RIGHT(\"0\"&MONTH($B45),2),Transakcijas!$D:$D,\"Aprēķins\",Transakcijas!$H:$H,\"Pamatsumma\",Transakcijas!$K:$K,\"<>\"&\"FIFO*\",Transakcijas!$K:$K,\"<>\"&\"Iemaksas atbrīvošana\",Transakcijas!$F:$F,\"Darba devēja ziņojums\")","v":0},{"$f":"SUMIFS(Transakcijas!$R:$R,Transakcijas!$Q:$Q,$B$37,Transakcijas!$T:$T,YEAR($B45),Transakcijas!$U:$U,RIGHT(\"0\"&MONTH($B45),2),Transakcijas!$D:$D,\"Aprēķins\",Transakcijas!$H:$H,\"Pamatsumma\",Transakcijas!$K:$K,\"<>\"&\"FIFO*\",Transakcijas!$K:$K,\"<>\"&\"Iemaksas atbrīvošana\")-D45-F45","v":0},{"$f":"SUMIFS(Transakcijas!$R:$R,Transakcijas!$Q:$Q,$B$37,Transakcijas!$T:$T,YEAR($B45),Transakcijas!$U:$U,RIGHT(\"0\"&MONTH($B45),2),Transakcijas!$D:$D,\"Aprēķins\",Transakcijas!$H:$H,\"Pamatsumma\",Transakcijas!$K:$K,\"<>\"&\"FIFO*\",Transakcijas!$K:$K,\"<>\"&\"Iemaksas atbrīvošana\",Transakcijas!$F:$F,\"*nerezid*\")","v":0},{"$f":"SUMIFS(Transakcijas!$R:$R,Transakcijas!$Q:$Q,$B$37,Transakcijas!$T:$T,YEAR($B45),Transakcijas!$U:$U,RIGHT(\"0\"&MONTH($B45),2),Transakcijas!$D:$D,\"Aprēķins\",Transakcijas!$H:$H,\"Nokavējuma nauda\",Transakcijas!$K:$K,\"<>\"&\"FIFO*\",Transakcijas!$K:$K,\"<>\"&\"Iemaksas atbrīvošana\")","v":0},{"$f":"SUMIFS(Transakcijas!$R:$R,Transakcijas!$Q:$Q,$B$37,Transakcijas!$T:$T,YEAR($B45),Transakcijas!$U:$U,RIGHT(\"0\"&MONTH($B45),2),Transakcijas!$D:$D,\"Aprēķins\",Transakcijas!$H:$H,\"Soda nauda\",Transakcijas!$K:$K,\"<>\"&\"FIFO*\",Transakcijas!$K:$K,\"<>\"&\"Iemaksas atbrīvošana\")","v":0},{"$f":"SUMIFS(Transakcijas!$R:$R,Transakcijas!$Q:$Q,$B$37,Transakcijas!$T:$T,YEAR($B45),Transakcijas!$U:$U,RIGHT(\"0\"&MONTH($B45),2),Transakcijas!$D:$D,\"Iemaksa\",Transakcijas!$K:$K,\"<>\"&\"Izejošā maksājuma anulēšana\")\n+SUMIFS(Transakcijas!$R:$R,Transakcijas!$Q:$Q,$B$37,Transakcijas!$T:$T,YEAR($B45),Transakcijas!$U:$U,RIGHT(\"0\"&MONTH($B45),2),Transakcijas!$D:$D,\"Atmaksa\",Transakcijas!$K:$K,\"Iemaksas atbrīvošana\")","v":0},{"$f":"SUMIFS(Transakcijas!$R:$R,Transakcijas!$Q:$Q,$B$37,Transakcijas!$T:$T,YEAR($B45),Transakcijas!$U:$U,RIGHT(\"0\"&MONTH($B45),2),Transakcijas!$D:$D,\"Atmaksa\",Transakcijas!$K:$K,\"<>\"&\"Iemaksas atbrīvošana\")\n+SUMIFS(Transakcijas!$R:$R,Transakcijas!$Q:$Q,$B$37,Transakcijas!$T:$T,YEAR($B45),Transakcijas!$U:$U,RIGHT(\"0\"&MONTH($B45),2),Transakcijas!$D:$D,\"Iemaksa\",Transakcijas!$K:$K,\"Izejošā maksājuma anulēšana\")","v":0},{"$f":"SUMIFS(Transakcijas!$R:$R,Transakcijas!$Q:$Q,$B$37,Transakcijas!$T:$T,YEAR($B45),Transakcijas!$U:$U,RIGHT(\"0\"&MONTH($B45),2),Transakcijas!$K:$K,\"FIFO savstarpējā segšana\")\n+SUMIFS(Transakcijas!$R:$R,Transakcijas!$Q:$Q,$B$37,Transakcijas!$T:$T,YEAR($B45),Transakcijas!$U:$U,RIGHT(\"0\"&MONTH($B45),2),Transakcijas!$D:$D,\"Aprēķins\",Transakcijas!$K:$K,\"Iemaksas atbrīvošana\")","v":0},{"$f":"SUMIFS(Transakcijas!$R:$R,Transakcijas!$Q:$Q,$B$37,Transakcijas!$T:$T,YEAR($B45),Transakcijas!$U:$U,RIGHT(\"0\"&MONTH($B45),2))-SUM(D45:K45)","v":0},0,{"$f":"ROUND(SUMIFS(Transakcijas!$R:$R,Transakcijas!$Q:$Q,$B$37,Transakcijas!$S:$S,\"<=\"&$B45,Transakcijas!$H:$H,\"Pamatsumma\"),2)","v":0},{"$f":"ROUND(SUMIFS(Transakcijas!$R:$R,Transakcijas!$Q:$Q,$B$37,Transakcijas!$S:$S,\"<=\"&$B45,Transakcijas!$H:$H,\"Nokavējuma nauda\"),2)","v":0},{"$f":"ROUND(SUMIFS(Transakcijas!$R:$R,Transakcijas!$Q:$Q,$B$37,Transakcijas!$S:$S,\"<=\"&$B45,Transakcijas!$H:$H,\"Soda nauda\"),2)","v":0},null,{"$f":"B37","v":"IIN"},"2024-08-31",null,0,null,null,0]
[null,"2024-09-30",0,{"$f":"SUMIFS(Transakcijas!$R:$R,Transakcijas!$Q:$Q,$B$37,Transakcijas!$T:$T,YEAR($B46),Transakcijas!$U:$U,RIGHT(\"0\"&MONTH($B46),2),Transakcijas!$D:$D,\"Aprēķins\",Transakcijas!$H:$H,\"Pamatsumma\",Transakcijas!$K:$K,\"<>\"&\"FIFO*\",Transakcijas!$K:$K,\"<>\"&\"Iemaksas atbrīvošana\",Transakcijas!$F:$F,\"Darba devēja ziņojums\")","v":0},{"$f":"SUMIFS(Transakcijas!$R:$R,Transakcijas!$Q:$Q,$B$37,Transakcijas!$T:$T,YEAR($B46),Transakcijas!$U:$U,RIGHT(\"0\"&MONTH($B46),2),Transakcijas!$D:$D,\"Aprēķins\",Transakcijas!$H:$H,\"Pamatsumma\",Transakcijas!$K:$K,\"<>\"&\"FIFO*\",Transakcijas!$K:$K,\"<>\"&\"Iemaksas atbrīvošana\")-D46-F46","v":0},{"$f":"SUMIFS(Transakcijas!$R:$R,Transakcijas!$Q:$Q,$B$37,Transakcijas!$T:$T,YEAR($B46),Transakcijas!$U:$U,RIGHT(\"0\"&MONTH($B46),2),Transakcijas!$D:$D,\"Aprēķins\",Transakcijas!$H:$H,\"Pamatsumma\",Transakcijas!$K:$K,\"<>\"&\"FIFO*\",Transakcijas!$K:$K,\"<>\"&\"Iemaksas atbrīvošana\",Transakcijas!$F:$F,\"*nerezid*\")","v":0},{"$f":"SUMIFS(Transakcijas!$R:$R,Transakcijas!$Q:$Q,$B$37,Transakcijas!$T:$T,YEAR($B46),Transakcijas!$U:$U,RIGHT(\"0\"&MONTH($B46),2),Transakcijas!$D:$D,\"Aprēķins\",Transakcijas!$H:$H,\"Nokavējuma nauda\",Transakcijas!$K:$K,\"<>\"&\"FIFO*\",Transakcijas!$K:$K,\"<>\"&\"Iemaksas atbrīvošana\")","v":0},{"$f":"SUMIFS(Transakcijas!$R:$R,Transakcijas!$Q:$Q,$B$37,Transakcijas!$T:$T,YEAR($B46),Transakcijas!$U:$U,RIGHT(\"0\"&MONTH($B46),2),Transakcijas!$D:$D,\"Aprēķins\",Transakcijas!$H:$H,\"Soda nauda\",Transakcijas!$K:$K,\"<>\"&\"FIFO*\",Transakcijas!$K:$K,\"<>\"&\"Iemaksas atbrīvošana\")","v":0},{"$f":"SUMIFS(Transakcijas!$R:$R,Transakcijas!$Q:$Q,$B$37,Transakcijas!$T:$T,YEAR($B46),Transakcijas!$U:$U,RIGHT(\"0\"&MONTH($B46),2),Transakcijas!$D:$D,\"Iemaksa\",Transakcijas!$K:$K,\"<>\"&\"Izejošā maksājuma anulēšana\")\n+SUMIFS(Transakcijas!$R:$R,Transakcijas!$Q:$Q,$B$37,Transakcijas!$T:$T,YEAR($B46),Transakcijas!$U:$U,RIGHT(\"0\"&MONTH($B46),2),Transakcijas!$D:$D,\"Atmaksa\",Transakcijas!$K:$K,\"Iemaksas atbrīvošana\")","v":0},{"$f":"SUMIFS(Transakcijas!$R:$R,Transakcijas!$Q:$Q,$B$37,Transakcijas!$T:$T,YEAR($B46),Transakcijas!$U:$U,RIGHT(\"0\"&MONTH($B46),2),Transakcijas!$D:$D,\"Atmaksa\",Transakcijas!$K:$K,\"<>\"&\"Iemaksas atbrīvošana\")\n+SUMIFS(Transakcijas!$R:$R,Transakcijas!$Q:$Q,$B$37,Transakcijas!$T:$T,YEAR($B46),Transakcijas!$U:$U,RIGHT(\"0\"&MONTH($B46),2),Transakcijas!$D:$D,\"Iemaksa\",Transakcijas!$K:$K,\"Izejošā maksājuma anulēšana\")","v":0},{"$f":"SUMIFS(Transakcijas!$R:$R,Transakcijas!$Q:$Q,$B$37,Transakcijas!$T:$T,YEAR($B46),Transakcijas!$U:$U,RIGHT(\"0\"&MONTH($B46),2),Transakcijas!$K:$K,\"FIFO savstarpējā segšana\")\n+SUMIFS(Transakcijas!$R:$R,Transakcijas!$Q:$Q,$B$37,Transakcijas!$T:$T,YEAR($B46),Transakcijas!$U:$U,RIGHT(\"0\"&MONTH($B46),2),Transakcijas!$D:$D,\"Aprēķins\",Transakcijas!$K:$K,\"Iemaksas atbrīvošana\")","v":0},{"$f":"SUMIFS(Transakcijas!$R:$R,Transakcijas!$Q:$Q,$B$37,Transakcijas!$T:$T,YEAR($B46),Transakcijas!$U:$U,RIGHT(\"0\"&MONTH($B46),2))-SUM(D46:K46)","v":0},0,{"$f":"ROUND(SUMIFS(Transakcijas!$R:$R,Transakcijas!$Q:$Q,$B$37,Transakcijas!$S:$S,\"<=\"&$B46,Transakcijas!$H:$H,\"Pamatsumma\"),2)","v":0},{"$f":"ROUND(SUMIFS(Transakcijas!$R:$R,Transakcijas!$Q:$Q,$B$37,Transakcijas!$S:$S,\"<=\"&$B46,Transakcijas!$H:$H,\"Nokavējuma nauda\"),2)","v":0},{"$f":"ROUND(SUMIFS(Transakcijas!$R:$R,Transakcijas!$Q:$Q,$B$37,Transakcijas!$S:$S,\"<=\"&$B46,Transakcijas!$H:$H,\"Soda nauda\"),2)","v":0},null,{"$f":"B37","v":"IIN"},"2024-09-30",null,0,null,null,0]
[null,"2024-10-31",0,{"$f":"SUMIFS(Transakcijas!$R:$R,Transakcijas!$Q:$Q,$B$37,Transakcijas!$T:$T,YEAR($B47),Transakcijas!$U:$U,RIGHT(\"0\"&MONTH($B47),2),Transakcijas!$D:$D,\"Aprēķins\",Transakcijas!$H:$H,\"Pamatsumma\",Transakcijas!$K:$K,\"<>\"&\"FIFO*\",Transakcijas!$K:$K,\"<>\"&\"Iemaksas atbrīvošana\",Transakcijas!$F:$F,\"Darba devēja ziņojums\")","v":0},{"$f":"SUMIFS(Transakcijas!$R:$R,Transakcijas!$Q:$Q,$B$37,Transakcijas!$T:$T,YEAR($B47),Transakcijas!$U:$U,RIGHT(\"0\"&MONTH($B47),2),Transakcijas!$D:$D,\"Aprēķins\",Transakcijas!$H:$H,\"Pamatsumma\",Transakcijas!$K:$K,\"<>\"&\"FIFO*\",Transakcijas!$K:$K,\"<>\"&\"Iemaksas atbrīvošana\")-D47-F47","v":0},{"$f":"SUMIFS(Transakcijas!$R:$R,Transakcijas!$Q:$Q,$B$37,Transakcijas!$T:$T,YEAR($B47),Transakcijas!$U:$U,RIGHT(\"0\"&MONTH($B47),2),Transakcijas!$D:$D,\"Aprēķins\",Transakcijas!$H:$H,\"Pamatsumma\",Transakcijas!$K:$K,\"<>\"&\"FIFO*\",Transakcijas!$K:$K,\"<>\"&\"Iemaksas atbrīvošana\",Transakcijas!$F:$F,\"*nerezid*\")","v":0},{"$f":"SUMIFS(Transakcijas!$R:$R,Transakcijas!$Q:$Q,$B$37,Transakcijas!$T:$T,YEAR($B47),Transakcijas!$U:$U,RIGHT(\"0\"&MONTH($B47),2),Transakcijas!$D:$D,\"Aprēķins\",Transakcijas!$H:$H,\"Nokavējuma nauda\",Transakcijas!$K:$K,\"<>\"&\"FIFO*\",Transakcijas!$K:$K,\"<>\"&\"Iemaksas atbrīvošana\")","v":0},{"$f":"SUMIFS(Transakcijas!$R:$R,Transakcijas!$Q:$Q,$B$37,Transakcijas!$T:$T,YEAR($B47),Transakcijas!$U:$U,RIGHT(\"0\"&MONTH($B47),2),Transakcijas!$D:$D,\"Aprēķins\",Transakcijas!$H:$H,\"Soda nauda\",Transakcijas!$K:$K,\"<>\"&\"FIFO*\",Transakcijas!$K:$K,\"<>\"&\"Iemaksas atbrīvošana\")","v":0},{"$f":"SUMIFS(Transakcijas!$R:$R,Transakcijas!$Q:$Q,$B$37,Transakcijas!$T:$T,YEAR($B47),Transakcijas!$U:$U,RIGHT(\"0\"&MONTH($B47),2),Transakcijas!$D:$D,\"Iemaksa\",Transakcijas!$K:$K,\"<>\"&\"Izejošā maksājuma anulēšana\")\n+SUMIFS(Transakcijas!$R:$R,Transakcijas!$Q:$Q,$B$37,Transakcijas!$T:$T,YEAR($B47),Transakcijas!$U:$U,RIGHT(\"0\"&MONTH($B47),2),Transakcijas!$D:$D,\"Atmaksa\",Transakcijas!$K:$K,\"Iemaksas atbrīvošana\")","v":0},{"$f":"SUMIFS(Transakcijas!$R:$R,Transakcijas!$Q:$Q,$B$37,Transakcijas!$T:$T,YEAR($B47),Transakcijas!$U:$U,RIGHT(\"0\"&MONTH($B47),2),Transakcijas!$D:$D,\"Atmaksa\",Transakcijas!$K:$K,\"<>\"&\"Iemaksas atbrīvošana\")\n+SUMIFS(Transakcijas!$R:$R,Transakcijas!$Q:$Q,$B$37,Transakcijas!$T:$T,YEAR($B47),Transakcijas!$U:$U,RIGHT(\"0\"&MONTH($B47),2),Transakcijas!$D:$D,\"Iemaksa\",Transakcijas!$K:$K,\"Izejošā maksājuma anulēšana\")","v":0},{"$f":"SUMIFS(Transakcijas!$R:$R,Transakcijas!$Q:$Q,$B$37,Transakcijas!$T:$T,YEAR($B47),Transakcijas!$U:$U,RIGHT(\"0\"&MONTH($B47),2),Transakcijas!$K:$K,\"FIFO savstarpējā segšana\")\n+SUMIFS(Transakcijas!$R:$R,Transakcijas!$Q:$Q,$B$37,Transakcijas!$T:$T,YEAR($B47),Transakcijas!$U:$U,RIGHT(\"0\"&MONTH($B47),2),Transakcijas!$D:$D,\"Aprēķins\",Transakcijas!$K:$K,\"Iemaksas atbrīvošana\")","v":0},{"$f":"SUMIFS(Transakcijas!$R:$R,Transakcijas!$Q:$Q,$B$37,Transakcijas!$T:$T,YEAR($B47),Transakcijas!$U:$U,RIGHT(\"0\"&MONTH($B47),2))-SUM(D47:K47)","v":0},0,{"$f":"ROUND(SUMIFS(Transakcijas!$R:$R,Transakcijas!$Q:$Q,$B$37,Transakcijas!$S:$S,\"<=\"&$B47,Transakcijas!$H:$H,\"Pamatsumma\"),2)","v":0},{"$f":"ROUND(SUMIFS(Transakcijas!$R:$R,Transakcijas!$Q:$Q,$B$37,Transakcijas!$S:$S,\"<=\"&$B47,Transakcijas!$H:$H,\"Nokavējuma nauda\"),2)","v":0},{"$f":"ROUND(SUMIFS(Transakcijas!$R:$R,Transakcijas!$Q:$Q,$B$37,Transakcijas!$S:$S,\"<=\"&$B47,Transakcijas!$H:$H,\"Soda nauda\"),2)","v":0},null,{"$f":"B37","v":"IIN"},"2024-10-31",null,0,null,null,0]
[null,"2024-11-30",0,{"$f":"SUMIFS(Transakcijas!$R:$R,Transakcijas!$Q:$Q,$B$37,Transakcijas!$T:$T,YEAR($B48),Transakcijas!$U:$U,RIGHT(\"0\"&MONTH($B48),2),Transakcijas!$D:$D,\"Aprēķins\",Transakcijas!$H:$H,\"Pamatsumma\",Transakcijas!$K:$K,\"<>\"&\"FIFO*\",Transakcijas!$K:$K,\"<>\"&\"Iemaksas atbrīvošana\",Transakcijas!$F:$F,\"Darba devēja ziņojums\")","v":0},{"$f":"SUMIFS(Transakcijas!$R:$R,Transakcijas!$Q:$Q,$B$37,Transakcijas!$T:$T,YEAR($B48),Transakcijas!$U:$U,RIGHT(\"0\"&MONTH($B48),2),Transakcijas!$D:$D,\"Aprēķins\",Transakcijas!$H:$H,\"Pamatsumma\",Transakcijas!$K:$K,\"<>\"&\"FIFO*\",Transakcijas!$K:$K,\"<>\"&\"Iemaksas atbrīvošana\")-D48-F48","v":0},{"$f":"SUMIFS(Transakcijas!$R:$R,Transakcijas!$Q:$Q,$B$37,Transakcijas!$T:$T,YEAR($B48),Transakcijas!$U:$U,RIGHT(\"0\"&MONTH($B48),2),Transakcijas!$D:$D,\"Aprēķins\",Transakcijas!$H:$H,\"Pamatsumma\",Transakcijas!$K:$K,\"<>\"&\"FIFO*\",Transakcijas!$K:$K,\"<>\"&\"Iemaksas atbrīvošana\",Transakcijas!$F:$F,\"*nerezid*\")","v":0},{"$f":"SUMIFS(Transakcijas!$R:$R,Transakcijas!$Q:$Q,$B$37,Transakcijas!$T:$T,YEAR($B48),Transakcijas!$U:$U,RIGHT(\"0\"&MONTH($B48),2),Transakcijas!$D:$D,\"Aprēķins\",Transakcijas!$H:$H,\"Nokavējuma nauda\",Transakcijas!$K:$K,\"<>\"&\"FIFO*\",Transakcijas!$K:$K,\"<>\"&\"Iemaksas atbrīvošana\")","v":0},{"$f":"SUMIFS(Transakcijas!$R:$R,Transakcijas!$Q:$Q,$B$37,Transakcijas!$T:$T,YEAR($B48),Transakcijas!$U:$U,RIGHT(\"0\"&MONTH($B48),2),Transakcijas!$D:$D,\"Aprēķins\",Transakcijas!$H:$H,\"Soda nauda\",Transakcijas!$K:$K,\"<>\"&\"FIFO*\",Transakcijas!$K:$K,\"<>\"&\"Iemaksas atbrīvošana\")","v":0},{"$f":"SUMIFS(Transakcijas!$R:$R,Transakcijas!$Q:$Q,$B$37,Transakcijas!$T:$T,YEAR($B48),Transakcijas!$U:$U,RIGHT(\"0\"&MONTH($B48),2),Transakcijas!$D:$D,\"Iemaksa\",Transakcijas!$K:$K,\"<>\"&\"Izejošā maksājuma anulēšana\")\n+SUMIFS(Transakcijas!$R:$R,Transakcijas!$Q:$Q,$B$37,Transakcijas!$T:$T,YEAR($B48),Transakcijas!$U:$U,RIGHT(\"0\"&MONTH($B48),2),Transakcijas!$D:$D,\"Atmaksa\",Transakcijas!$K:$K,\"Iemaksas atbrīvošana\")","v":0},{"$f":"SUMIFS(Transakcijas!$R:$R,Transakcijas!$Q:$Q,$B$37,Transakcijas!$T:$T,YEAR($B48),Transakcijas!$U:$U,RIGHT(\"0\"&MONTH($B48),2),Transakcijas!$D:$D,\"Atmaksa\",Transakcijas!$K:$K,\"<>\"&\"Iemaksas atbrīvošana\")\n+SUMIFS(Transakcijas!$R:$R,Transakcijas!$Q:$Q,$B$37,Transakcijas!$T:$T,YEAR($B48),Transakcijas!$U:$U,RIGHT(\"0\"&MONTH($B48),2),Transakcijas!$D:$D,\"Iemaksa\",Transakcijas!$K:$K,\"Izejošā maksājuma anulēšana\")","v":0},{"$f":"SUMIFS(Transakcijas!$R:$R,Transakcijas!$Q:$Q,$B$37,Transakcijas!$T:$T,YEAR($B48),Transakcijas!$U:$U,RIGHT(\"0\"&MONTH($B48),2),Transakcijas!$K:$K,\"FIFO savstarpējā segšana\")\n+SUMIFS(Transakcijas!$R:$R,Transakcijas!$Q:$Q,$B$37,Transakcijas!$T:$T,YEAR($B48),Transakcijas!$U:$U,RIGHT(\"0\"&MONTH($B48),2),Transakcijas!$D:$D,\"Aprēķins\",Transakcijas!$K:$K,\"Iemaksas atbrīvošana\")","v":0},{"$f":"SUMIFS(Transakcijas!$R:$R,Transakcijas!$Q:$Q,$B$37,Transakcijas!$T:$T,YEAR($B48),Transakcijas!$U:$U,RIGHT(\"0\"&MONTH($B48),2))-SUM(D48:K48)","v":0},0,{"$f":"ROUND(SUMIFS(Transakcijas!$R:$R,Transakcijas!$Q:$Q,$B$37,Transakcijas!$S:$S,\"<=\"&$B48,Transakcijas!$H:$H,\"Pamatsumma\"),2)","v":0},{"$f":"ROUND(SUMIFS(Transakcijas!$R:$R,Transakcijas!$Q:$Q,$B$37,Transakcijas!$S:$S,\"<=\"&$B48,Transakcijas!$H:$H,\"Nokavējuma nauda\"),2)","v":0},{"$f":"ROUND(SUMIFS(Transakcijas!$R:$R,Transakcijas!$Q:$Q,$B$37,Transakcijas!$S:$S,\"<=\"&$B48,Transakcijas!$H:$H,\"Soda nauda\"),2)","v":0},null,{"$f":"B37","v":"IIN"},"2024-11-30",null,0,null,null,0]
[null,"2024-12-31",0,{"$f":"SUMIFS(Transakcijas!$R:$R,Transakcijas!$Q:$Q,$B$37,Transakcijas!$T:$T,YEAR($B49),Transakcijas!$U:$U,RIGHT(\"0\"&MONTH($B49),2),Transakcijas!$D:$D,\"Aprēķins\",Transakcijas!$H:$H,\"Pamatsumma\",Transakcijas!$K:$K,\"<>\"&\"FIFO*\",Transakcijas!$K:$K,\"<>\"&\"Iemaksas atbrīvošana\",Transakcijas!$F:$F,\"Darba devēja ziņojums\")","v":0},{"$f":"SUMIFS(Transakcijas!$R:$R,Transakcijas!$Q:$Q,$B$37,Transakcijas!$T:$T,YEAR($B49),Transakcijas!$U:$U,RIGHT(\"0\"&MONTH($B49),2),Transakcijas!$D:$D,\"Aprēķins\",Transakcijas!$H:$H,\"Pamatsumma\",Transakcijas!$K:$K,\"<>\"&\"FIFO*\",Transakcijas!$K:$K,\"<>\"&\"Iemaksas atbrīvošana\")-D49-F49","v":0},{"$f":"SUMIFS(Transakcijas!$R:$R,Transakcijas!$Q:$Q,$B$37,Transakcijas!$T:$T,YEAR($B49),Transakcijas!$U:$U,RIGHT(\"0\"&MONTH($B49),2),Transakcijas!$D:$D,\"Aprēķins\",Transakcijas!$H:$H,\"Pamatsumma\",Transakcijas!$K:$K,\"<>\"&\"FIFO*\",Transakcijas!$K:$K,\"<>\"&\"Iemaksas atbrīvošana\",Transakcijas!$F:$F,\"*nerezid*\")","v":0},{"$f":"SUMIFS(Transakcijas!$R:$R,Transakcijas!$Q:$Q,$B$37,Transakcijas!$T:$T,YEAR($B49),Transakcijas!$U:$U,RIGHT(\"0\"&MONTH($B49),2),Transakcijas!$D:$D,\"Aprēķins\",Transakcijas!$H:$H,\"Nokavējuma nauda\",Transakcijas!$K:$K,\"<>\"&\"FIFO*\",Transakcijas!$K:$K,\"<>\"&\"Iemaksas atbrīvošana\")","v":0},{"$f":"SUMIFS(Transakcijas!$R:$R,Transakcijas!$Q:$Q,$B$37,Transakcijas!$T:$T,YEAR($B49),Transakcijas!$U:$U,RIGHT(\"0\"&MONTH($B49),2),Transakcijas!$D:$D,\"Aprēķins\",Transakcijas!$H:$H,\"Soda nauda\",Transakcijas!$K:$K,\"<>\"&\"FIFO*\",Transakcijas!$K:$K,\"<>\"&\"Iemaksas atbrīvošana\")","v":0},{"$f":"SUMIFS(Transakcijas!$R:$R,Transakcijas!$Q:$Q,$B$37,Transakcijas!$T:$T,YEAR($B49),Transakcijas!$U:$U,RIGHT(\"0\"&MONTH($B49),2),Transakcijas!$D:$D,\"Iemaksa\",Transakcijas!$K:$K,\"<>\"&\"Izejošā maksājuma anulēšana\")\n+SUMIFS(Transakcijas!$R:$R,Transakcijas!$Q:$Q,$B$37,Transakcijas!$T:$T,YEAR($B49),Transakcijas!$U:$U,RIGHT(\"0\"&MONTH($B49),2),Transakcijas!$D:$D,\"Atmaksa\",Transakcijas!$K:$K,\"Iemaksas atbrīvošana\")","v":0},{"$f":"SUMIFS(Transakcijas!$R:$R,Transakcijas!$Q:$Q,$B$37,Transakcijas!$T:$T,YEAR($B49),Transakcijas!$U:$U,RIGHT(\"0\"&MONTH($B49),2),Transakcijas!$D:$D,\"Atmaksa\",Transakcijas!$K:$K,\"<>\"&\"Iemaksas atbrīvošana\")\n+SUMIFS(Transakcijas!$R:$R,Transakcijas!$Q:$Q,$B$37,Transakcijas!$T:$T,YEAR($B49),Transakcijas!$U:$U,RIGHT(\"0\"&MONTH($B49),2),Transakcijas!$D:$D,\"Iemaksa\",Transakcijas!$K:$K,\"Izejošā maksājuma anulēšana\")","v":0},{"$f":"SUMIFS(Transakcijas!$R:$R,Transakcijas!$Q:$Q,$B$37,Transakcijas!$T:$T,YEAR($B49),Transakcijas!$U:$U,RIGHT(\"0\"&MONTH($B49),2),Transakcijas!$K:$K,\"FIFO savstarpējā segšana\")\n+SUMIFS(Transakcijas!$R:$R,Transakcijas!$Q:$Q,$B$37,Transakcijas!$T:$T,YEAR($B49),Transakcijas!$U:$U,RIGHT(\"0\"&MONTH($B49),2),Transakcijas!$D:$D,\"Aprēķins\",Transakcijas!$K:$K,\"Iemaksas atbrīvošana\")","v":0},{"$f":"SUMIFS(Transakcijas!$R:$R,Transakcijas!$Q:$Q,$B$37,Transakcijas!$T:$T,YEAR($B49),Transakcijas!$U:$U,RIGHT(\"0\"&MONTH($B49),2))-SUM(D49:K49)","v":0},0,{"$f":"ROUND(SUMIFS(Transakcijas!$R:$R,Transakcijas!$Q:$Q,$B$37,Transakcijas!$S:$S,\"<=\"&$B49,Transakcijas!$H:$H,\"Pamatsumma\"),2)","v":0},{"$f":"ROUND(SUMIFS(Transakcijas!$R:$R,Transakcijas!$Q:$Q,$B$37,Transakcijas!$S:$S,\"<=\"&$B49,Transakcijas!$H:$H,\"Nokavējuma nauda\"),2)","v":0},{"$f":"ROUND(SUMIFS(Transakcijas!$R:$R,Transakcijas!$Q:$Q,$B$37,Transakcijas!$S:$S,\"<=\"&$B49,Transakcijas!$H:$H,\"Soda nauda\"),2)","v":0},null,{"$f":"B37","v":"IIN"},"2024-12-31",null,0,null,null,0]
[null,"Kopā",{"$f":"C38","v":0},{"$f":"SUM(D38:D49)","v":0},0,0,{"$f":"SUM(G38:G49)","v":0},0,0,0,0,0,0]
[]
[null,{"$f":"B8","v":"Riska nodeva"},"Atlikums uz perioda sākumu",{"$f":"D$4","v":"Aprēķināts"},{"$f":"E$4","v":"Ieturēts IIN\nMin. VSAOI"},"Apr.nerezid.\nUniv.IF VSAOI","Aprēķināta nokav. nauda  ","Aprēķināta\n soda nauda  ","Samaksāts\nAtbrīvots","Atmaksāts","Pārvietots \n(Savst.segš.)","Cita \nkustība","Atlikums uz perioda beigām","Pamat-\nsumma","Nokav. \nnauda  ","Soda \nnauda  "]
[null,{"$f":"DATE(YEAR($C$4),MONTH($C$4)+1,0)","v":"2024-01-31"},{"$f":"C8","v":0},{"$f":"SUMIFS(Transakcijas!$R:$R,Transakcijas!$Q:$Q,$B$52,Transakcijas!$T:$T,YEAR($B53),Transakcijas!$U:$U,RIGHT(\"0\"&MONTH($B53),2),Transakcijas!$D:$D,\"Aprēķins\",Transakcijas!$H:$H,\"Pamatsumma\",Transakcijas!$K:$K,\"<>\"&\"FIFO*\",Transakcijas!$K:$K,\"<>\"&\"Iemaksas atbrīvošana\")","v":0},null,null,{"$f":"SUMIFS(Transakcijas!$R:$R,Transakcijas!$Q:$Q,$B$52,Transakcijas!$T:$T,YEAR($B53),Transakcijas!$U:$U,RIGHT(\"0\"&MONTH($B53),2),Transakcijas!$D:$D,\"Aprēķins\",Transakcijas!$H:$H,\"Nokavējuma nauda\",Transakcijas!$K:$K,\"<>\"&\"FIFO*\",Transakcijas!$K:$K,\"<>\"&\"Iemaksas atbrīvošana\")","v":0},{"$f":"SUMIFS(Transakcijas!$R:$R,Transakcijas!$Q:$Q,$B$52,Transakcijas!$T:$T,YEAR($B53),Transakcijas!$U:$U,RIGHT(\"0\"&MONTH($B53),2),Transakcijas!$D:$D,\"Aprēķins\",Transakcijas!$H:$H,\"Soda nauda\",Transakcijas!$K:$K,\"<>\"&\"FIFO*\",Transakcijas!$K:$K,\"<>\"&\"Iemaksas atbrīvošana\")","v":0},{"$f":"SUMIFS(Transakcijas!$R:$R,Transakcijas!$Q:$Q,$B$52,Transakcijas!$T:$T,YEAR($B53),Transakcijas!$U:$U,RIGHT(\"0\"&MONTH($B53),2),Transakcijas!$D:$D,\"Iemaksa\",Transakcijas!$K:$K,\"<>\"&\"Izejošā maksājuma anulēšana\")\n+SUMIFS(Transakcijas!$R:$R,Transakcijas!$Q:$Q,$B$52,Transakcijas!$T:$T,YEAR($B53),Transakcijas!$U:$U,RIGHT(\"0\"&MONTH($B53),2),Transakcijas!$D:$D,\"Atmaksa\",Transakcijas!$K:$K,\"Iemaksas atbrīvošana\")","v":0},{"$f":"SUMIFS(Transakcijas!$R:$R,Transakcijas!$Q:$Q,$B$52,Transakcijas!$T:$T,YEAR($B53),Transakcijas!$U:$U,RIGHT(\"0\"&MONTH($B53),2),Transakcijas!$D:$D,\"Atmaksa\",Transakcijas!$K:$K,\"<>\"&\"Iemaksas atbrīvošana\")\n+SUMIFS(Transakcijas!$R:$R,Transakcijas!$Q:$Q,$B$52,Transakcijas!$T:$T,YEAR($B53),Transakcijas!$U:$U,RIGHT(\"0\"&MONTH($B53),2),Transakcijas!$D:$D,\"Iemaksa\",Transakcijas!$K:$K,\"Izejošā maksājuma anulēšana\")","v":0},{"$f":"SUMIFS(Transakcijas!$R:$R,Transakcijas!$Q:$Q,$B$52,Transakcijas!$T:$T,YEAR($B53),Transakcijas!$U:$U,RIGHT(\"0\"&MONTH($B53),2),Transakcijas!$K:$K,\"FIFO savstarpējā segšana\")\n+SUMIFS(Transakcijas!$R:$R,Transakcijas!$Q:$Q,$B$52,Transakcijas!$T:$T,YEAR($B53),Transakcijas!$U:$U,RIGHT(\"0\"&MONTH($B53),2),Transakcijas!$D:$D,\"Aprēķins\",Transakcijas!$K:$K,\"Iemaksas atbrīvošana\")","v":0},{"$f":"SUMIFS(Transakcijas!$R:$R,Transakcijas!$Q:$Q,$B$52,Transakcijas!$T:$T,YEAR($B53),Transakcijas!$U:$U,RIGHT(\"0\"&MONTH($B53),2))-SUM(D53:K53)","v":0},{"$f":"SUM(C53:L53)","v":0},{"$f":"ROUND(SUMIFS(Transakcijas!$R:$R,Transakcijas!$Q:$Q,$B$52,Transakcijas!$S:$S,\"<=\"&$B53,Transakcijas!$H:$H,\"Pamatsumma\"),2)","v":0},{"$f":"ROUND(SUMIFS(Transakcijas!$R:$R,Transakcijas!$Q:$Q,$B$52,Transakcijas!$S:$S,\"<=\"&$B53,Transakcijas!$H:$H,\"Nokavējuma nauda\"),2)","v":0},{"$f":"ROUND(SUMIFS(Transakcijas!$R:$R,Transakcijas!$Q:$Q,$B$52,Transakcijas!$S:$S,\"<=\"&$B53,Transakcijas!$H:$H,\"Soda nauda\"),2)","v":0},null,{"$f":"B52","v":"Riska nodeva"},{"$f":"B53","v":"2024-01-31"},null,{"$f":"SUM(D53:F53)+T53","v":0},null,null,{"$f":"IF(W53<>\"\",M53+W53,0)","v":0}]
[null,{"$f":"IF(IF(B53=\"\",$M$4+1,DATE(YEAR(B53),MONTH(B53)+2,0))<=$M$4,DATE(YEAR(B53),MONTH(B53)+2,0),\"\")","v":"2024-02-29"},{"$f":"IF(B54=\"\",0,M53)","v":0},{"$f":"SUMIFS(Transakcijas!$R:$R,Transakcijas!$Q:$Q,$B$52,Transakcijas!$T:$T,YEAR($B54),Transakcijas!$U:$U,RIGHT(\"0\"&MONTH($B54),2),Transakcijas!$D:$D,\"Aprēķins\",Transakcijas!$H:$H,\"Pamatsumma\",Transakcijas!$K:$K,\"<>\"&\"FIFO*\",Transakcijas!$K:$K,\"<>\"&\"Iemaksas atbrīvošana\")","v":0},null,null,{"$f":"SUMIFS(Transakcijas!$R:$R,Transakcijas!$Q:$Q,$B$52,Transakcijas!$T:$T,YEAR($B54),Transakcijas!$U:$U,RIGHT(\"0\"&MONTH($B54),2),Transakcijas!$D:$D,\"Aprēķins\",Transakcijas!$H:$H,\"Nokavējuma nauda\",Transakcijas!$K:$K,\"<>\"&\"FIFO*\",Transakcijas!$K:$K,\"<>\"&\"Iemaksas atbrīvošana\")","v":0},{"$f":"SUMIFS(Transakcijas!$R:$R,Transakcijas!$Q:$Q,$B$52,Transakcijas!$T:$T,YEAR($B54),Transakcijas!$U:$U,RIGHT(\"0\"&MONTH($B54),2),Transakcijas!$D:$D,\"Aprēķins\",Transakcijas!$H:$H,\"Soda nauda\",Transakcijas!$K:$K,\"<>\"&\"FIFO*\",Transakcijas!$K:$K,\"<>\"&\"Iemaksas atbrīvošana\")","v":0},{"$f":"SUMIFS(Transakcijas!$R:$R,Transakcijas!$Q:$Q,$B$52,Transakcijas!$T:$T,YEAR($B54),Transakcijas!$U:$U,RIGHT(\"0\"&MONTH($B54),2),Transakcijas!$D:$D,\"Iemaksa\",Transakcijas!$K:$K,\"<>\"&\"Izejošā maksājuma anulēšana\")\n+SUMIFS(Transakcijas!$R:$R,Transakcijas!$Q:$Q,$B$52,Transakcijas!$T:$T,YEAR($B54),Transakcijas!$U:$U,RIGHT(\"0\"&MONTH($B54),2),Transakcijas!$D:$D,\"Atmaksa\",Transakcijas!$K:$K,\"Iemaksas atbrīvošana\")","v":0},{"$f":"SUMIFS(Transakcijas!$R:$R,Transakcijas!$Q:$Q,$B$52,Transakcijas!$T:$T,YEAR($B54),Transakcijas!$U:$U,RIGHT(\"0\"&MONTH($B54),2),Transakcijas!$D:$D,\"Atmaksa\",Transakcijas!$K:$K,\"<>\"&\"Iemaksas atbrīvošana\")\n+SUMIFS(Transakcijas!$R:$R,Transakcijas!$Q:$Q,$B$52,Transakcijas!$T:$T,YEAR($B54),Transakcijas!$U:$U,RIGHT(\"0\"&MONTH($B54),2),Transakcijas!$D:$D,\"Iemaksa\",Transakcijas!$K:$K,\"Izejošā maksājuma anulēšana\")","v":0},{"$f":"SUMIFS(Transakcijas!$R:$R,Transakcijas!$Q:$Q,$B$52,Transakcijas!$T:$T,YEAR($B54),Transakcijas!$U:$U,RIGHT(\"0\"&MONTH($B54),2),Transakcijas!$K:$K,\"FIFO savstarpējā segšana\")\n+SUMIFS(Transakcijas!$R:$R,Transakcijas!$Q:$Q,$B$52,Transakcijas!$T:$T,YEAR($B54),Transakcijas!$U:$U,RIGHT(\"0\"&MONTH($B54),2),Transakcijas!$D:$D,\"Aprēķins\",Transakcijas!$K:$K,\"Iemaksas atbrīvošana\")","v":0},{"$f":"SUMIFS(Transakcijas!$R:$R,Transakcijas!$Q:$Q,$B$52,Transakcijas!$T:$T,YEAR($B54),Transakcijas!$U:$U,RIGHT(\"0\"&MONTH($B54),2))-SUM(D54:K54)","v":0},0,{"$f":"ROUND(SUMIFS(Transakcijas!$R:$R,Transakcijas!$Q:$Q,$B$52,Transakcijas!$S:$S,\"<=\"&$B54,Transakcijas!$H:$H,\"Pamatsumma\"),2)","v":0},{"$f":"ROUND(SUMIFS(Transakcijas!$R:$R,Transakcijas!$Q:$Q,$B$52,Transakcijas!$S:$S,\"<=\"&$B54,Transakcijas!$H:$H,\"Nokavējuma nauda\"),2)","v":0},{"$f":"ROUND(SUMIFS(Transakcijas!$R:$R,Transakcijas!$Q:$Q,$B$52,Transakcijas!$S:$S,\"<=\"&$B54,Transakcijas!$H:$H,\"Soda nauda\"),2)","v":0},null,{"$f":"B52","v":"Riska nodeva"},{"$f":"B54","v":"2024-02-29"},null,0,null,null,0]
[null,"2024-03-31",0,{"$f":"SUMIFS(Transakcijas!$R:$R,Transakcijas!$Q:$Q,$B$52,Transakcijas!$T:$T,YEAR($B55),Transakcijas!$U:$U,RIGHT(\"0\"&MONTH($B55),2),Transakcijas!$D:$D,\"Aprēķins\",Transakcijas!$H:$H,\"Pamatsumma\",Transakcijas!$K:$K,\"<>\"&\"FIFO*\",Transakcijas!$K:$K,\"<>\"&\"Iemaksas atbrīvošana\")","v":0},null,null,{"$f":"SUMIFS(Transakcijas!$R:$R,Transakcijas!$Q:$Q,$B$52,Transakcijas!$T:$T,YEAR($B55),Transakcijas!$U:$U,RIGHT(\"0\"&MONTH($B55),2),Transakcijas!$D:$D,\"Aprēķins\",Transakcijas!$H:$H,\"Nokavējuma nauda\",Transakcijas!$K:$K,\"<>\"&\"FIFO*\",Transakcijas!$K:$K,\"<>\"&\"Iemaksas atbrīvošana\")","v":0},{"$f":"SUMIFS(Transakcijas!$R:$R,Transakcijas!$Q:$Q,$B$52,Transakcijas!$T:$T,YEAR($B55),Transakcijas!$U:$U,RIGHT(\"0\"&MONTH($B55),2),Transakcijas!$D:$D,\"Aprēķins\",Transakcijas!$H:$H,\"Soda nauda\",Transakcijas!$K:$K,\"<>\"&\"FIFO*\",Transakcijas!$K:$K,\"<>\"&\"Iemaksas atbrīvošana\")","v":0},{"$f":"SUMIFS(Transakcijas!$R:$R,Transakcijas!$Q:$Q,$B$52,Transakcijas!$T:$T,YEAR($B55),Transakcijas!$U:$U,RIGHT(\"0\"&MONTH($B55),2),Transakcijas!$D:$D,\"Iemaksa\",Transakcijas!$K:$K,\"<>\"&\"Izejošā maksājuma anulēšana\")\n+SUMIFS(Transakcijas!$R:$R,Transakcijas!$Q:$Q,$B$52,Transakcijas!$T:$T,YEAR($B55),Transakcijas!$U:$U,RIGHT(\"0\"&MONTH($B55),2),Transakcijas!$D:$D,\"Atmaksa\",Transakcijas!$K:$K,\"Iemaksas atbrīvošana\")","v":0},{"$f":"SUMIFS(Transakcijas!$R:$R,Transakcijas!$Q:$Q,$B$52,Transakcijas!$T:$T,YEAR($B55),Transakcijas!$U:$U,RIGHT(\"0\"&MONTH($B55),2),Transakcijas!$D:$D,\"Atmaksa\",Transakcijas!$K:$K,\"<>\"&\"Iemaksas atbrīvošana\")\n+SUMIFS(Transakcijas!$R:$R,Transakcijas!$Q:$Q,$B$52,Transakcijas!$T:$T,YEAR($B55),Transakcijas!$U:$U,RIGHT(\"0\"&MONTH($B55),2),Transakcijas!$D:$D,\"Iemaksa\",Transakcijas!$K:$K,\"Izejošā maksājuma anulēšana\")","v":0},{"$f":"SUMIFS(Transakcijas!$R:$R,Transakcijas!$Q:$Q,$B$52,Transakcijas!$T:$T,YEAR($B55),Transakcijas!$U:$U,RIGHT(\"0\"&MONTH($B55),2),Transakcijas!$K:$K,\"FIFO savstarpējā segšana\")\n+SUMIFS(Transakcijas!$R:$R,Transakcijas!$Q:$Q,$B$52,Transakcijas!$T:$T,YEAR($B55),Transakcijas!$U:$U,RIGHT(\"0\"&MONTH($B55),2),Transakcijas!$D:$D,\"Aprēķins\",Transakcijas!$K:$K,\"Iemaksas atbrīvošana\")","v":0},{"$f":"SUMIFS(Transakcijas!$R:$R,Transakcijas!$Q:$Q,$B$52,Transakcijas!$T:$T,YEAR($B55),Transakcijas!$U:$U,RIGHT(\"0\"&MONTH($B55),2))-SUM(D55:K55)","v":0},0,{"$f":"ROUND(SUMIFS(Transakcijas!$R:$R,Transakcijas!$Q:$Q,$B$52,Transakcijas!$S:$S,\"<=\"&$B55,Transakcijas!$H:$H,\"Pamatsumma\"),2)","v":0},{"$f":"ROUND(SUMIFS(Transakcijas!$R:$R,Transakcijas!$Q:$Q,$B$52,Transakcijas!$S:$S,\"<=\"&$B55,Transakcijas!$H:$H,\"Nokavējuma nauda\"),2)","v":0},{"$f":"ROUND(SUMIFS(Transakcijas!$R:$R,Transakcijas!$Q:$Q,$B$52,Transakcijas!$S:$S,\"<=\"&$B55,Transakcijas!$H:$H,\"Soda nauda\"),2)","v":0},null,{"$f":"B52","v":"Riska nodeva"},"2024-03-31",null,0,null,null,0]
[null,"2024-04-30",0,{"$f":"SUMIFS(Transakcijas!$R:$R,Transakcijas!$Q:$Q,$B$52,Transakcijas!$T:$T,YEAR($B56),Transakcijas!$U:$U,RIGHT(\"0\"&MONTH($B56),2),Transakcijas!$D:$D,\"Aprēķins\",Transakcijas!$H:$H,\"Pamatsumma\",Transakcijas!$K:$K,\"<>\"&\"FIFO*\",Transakcijas!$K:$K,\"<>\"&\"Iemaksas atbrīvošana\")","v":0},null,null,{"$f":"SUMIFS(Transakcijas!$R:$R,Transakcijas!$Q:$Q,$B$52,Transakcijas!$T:$T,YEAR($B56),Transakcijas!$U:$U,RIGHT(\"0\"&MONTH($B56),2),Transakcijas!$D:$D,\"Aprēķins\",Transakcijas!$H:$H,\"Nokavējuma nauda\",Transakcijas!$K:$K,\"<>\"&\"FIFO*\",Transakcijas!$K:$K,\"<>\"&\"Iemaksas atbrīvošana\")","v":0},{"$f":"SUMIFS(Transakcijas!$R:$R,Transakcijas!$Q:$Q,$B$52,Transakcijas!$T:$T,YEAR($B56),Transakcijas!$U:$U,RIGHT(\"0\"&MONTH($B56),2),Transakcijas!$D:$D,\"Aprēķins\",Transakcijas!$H:$H,\"Soda nauda\",Transakcijas!$K:$K,\"<>\"&\"FIFO*\",Transakcijas!$K:$K,\"<>\"&\"Iemaksas atbrīvošana\")","v":0},{"$f":"SUMIFS(Transakcijas!$R:$R,Transakcijas!$Q:$Q,$B$52,Transakcijas!$T:$T,YEAR($B56),Transakcijas!$U:$U,RIGHT(\"0\"&MONTH($B56),2),Transakcijas!$D:$D,\"Iemaksa\",Transakcijas!$K:$K,\"<>\"&\"Izejošā maksājuma anulēšana\")\n+SUMIFS(Transakcijas!$R:$R,Transakcijas!$Q:$Q,$B$52,Transakcijas!$T:$T,YEAR($B56),Transakcijas!$U:$U,RIGHT(\"0\"&MONTH($B56),2),Transakcijas!$D:$D,\"Atmaksa\",Transakcijas!$K:$K,\"Iemaksas atbrīvošana\")","v":0},{"$f":"SUMIFS(Transakcijas!$R:$R,Transakcijas!$Q:$Q,$B$52,Transakcijas!$T:$T,YEAR($B56),Transakcijas!$U:$U,RIGHT(\"0\"&MONTH($B56),2),Transakcijas!$D:$D,\"Atmaksa\",Transakcijas!$K:$K,\"<>\"&\"Iemaksas atbrīvošana\")\n+SUMIFS(Transakcijas!$R:$R,Transakcijas!$Q:$Q,$B$52,Transakcijas!$T:$T,YEAR($B56),Transakcijas!$U:$U,RIGHT(\"0\"&MONTH($B56),2),Transakcijas!$D:$D,\"Iemaksa\",Transakcijas!$K:$K,\"Izejošā maksājuma anulēšana\")","v":0},{"$f":"SUMIFS(Transakcijas!$R:$R,Transakcijas!$Q:$Q,$B$52,Transakcijas!$T:$T,YEAR($B56),Transakcijas!$U:$U,RIGHT(\"0\"&MONTH($B56),2),Transakcijas!$K:$K,\"FIFO savstarpējā segšana\")\n+SUMIFS(Transakcijas!$R:$R,Transakcijas!$Q:$Q,$B$52,Transakcijas!$T:$T,YEAR($B56),Transakcijas!$U:$U,RIGHT(\"0\"&MONTH($B56),2),Transakcijas!$D:$D,\"Aprēķins\",Transakcijas!$K:$K,\"Iemaksas atbrīvošana\")","v":0},{"$f":"SUMIFS(Transakcijas!$R:$R,Transakcijas!$Q:$Q,$B$52,Transakcijas!$T:$T,YEAR($B56),Transakcijas!$U:$U,RIGHT(\"0\"&MONTH($B56),2))-SUM(D56:K56)","v":0},0,{"$f":"ROUND(SUMIFS(Transakcijas!$R:$R,Transakcijas!$Q:$Q,$B$52,Transakcijas!$S:$S,\"<=\"&$B56,Transakcijas!$H:$H,\"Pamatsumma\"),2)","v":0},{"$f":"ROUND(SUMIFS(Transakcijas!$R:$R,Transakcijas!$Q:$Q,$B$52,Transakcijas!$S:$S,\"<=\"&$B56,Transakcijas!$H:$H,\"Nokavējuma nauda\"),2)","v":0},{"$f":"ROUND(SUMIFS(Transakcijas!$R:$R,Transakcijas!$Q:$Q,$B$52,Transakcijas!$S:$S,\"<=\"&$B56,Transakcijas!$H:$H,\"Soda nauda\"),2)","v":0},null,{"$f":"B52","v":"Riska nodeva"},"2024-04-30",null,0,null,null,0]
[null,"2024-05-31",0,{"$f":"SUMIFS(Transakcijas!$R:$R,Transakcijas!$Q:$Q,$B$52,Transakcijas!$T:$T,YEAR($B57),Transakcijas!$U:$U,RIGHT(\"0\"&MONTH($B57),2),Transakcijas!$D:$D,\"Aprēķins\",Transakcijas!$H:$H,\"Pamatsumma\",Transakcijas!$K:$K,\"<>\"&\"FIFO*\",Transakcijas!$K:$K,\"<>\"&\"Iemaksas atbrīvošana\")","v":0},null,null,{"$f":"SUMIFS(Transakcijas!$R:$R,Transakcijas!$Q:$Q,$B$52,Transakcijas!$T:$T,YEAR($B57),Transakcijas!$U:$U,RIGHT(\"0\"&MONTH($B57),2),Transakcijas!$D:$D,\"Aprēķins\",Transakcijas!$H:$H,\"Nokavējuma nauda\",Transakcijas!$K:$K,\"<>\"&\"FIFO*\",Transakcijas!$K:$K,\"<>\"&\"Iemaksas atbrīvošana\")","v":0},{"$f":"SUMIFS(Transakcijas!$R:$R,Transakcijas!$Q:$Q,$B$52,Transakcijas!$T:$T,YEAR($B57),Transakcijas!$U:$U,RIGHT(\"0\"&MONTH($B57),2),Transakcijas!$D:$D,\"Aprēķins\",Transakcijas!$H:$H,\"Soda nauda\",Transakcijas!$K:$K,\"<>\"&\"FIFO*\",Transakcijas!$K:$K,\"<>\"&\"Iemaksas atbrīvošana\")","v":0},{"$f":"SUMIFS(Transakcijas!$R:$R,Transakcijas!$Q:$Q,$B$52,Transakcijas!$T:$T,YEAR($B57),Transakcijas!$U:$U,RIGHT(\"0\"&MONTH($B57),2),Transakcijas!$D:$D,\"Iemaksa\",Transakcijas!$K:$K,\"<>\"&\"Izejošā maksājuma anulēšana\")\n+SUMIFS(Transakcijas!$R:$R,Transakcijas!$Q:$Q,$B$52,Transakcijas!$T:$T,YEAR($B57),Transakcijas!$U:$U,RIGHT(\"0\"&MONTH($B57),2),Transakcijas!$D:$D,\"Atmaksa\",Transakcijas!$K:$K,\"Iemaksas atbrīvošana\")","v":0},{"$f":"SUMIFS(Transakcijas!$R:$R,Transakcijas!$Q:$Q,$B$52,Transakcijas!$T:$T,YEAR($B57),Transakcijas!$U:$U,RIGHT(\"0\"&MONTH($B57),2),Transakcijas!$D:$D,\"Atmaksa\",Transakcijas!$K:$K,\"<>\"&\"Iemaksas atbrīvošana\")\n+SUMIFS(Transakcijas!$R:$R,Transakcijas!$Q:$Q,$B$52,Transakcijas!$T:$T,YEAR($B57),Transakcijas!$U:$U,RIGHT(\"0\"&MONTH($B57),2),Transakcijas!$D:$D,\"Iemaksa\",Transakcijas!$K:$K,\"Izejošā maksājuma anulēšana\")","v":0},{"$f":"SUMIFS(Transakcijas!$R:$R,Transakcijas!$Q:$Q,$B$52,Transakcijas!$T:$T,YEAR($B57),Transakcijas!$U:$U,RIGHT(\"0\"&MONTH($B57),2),Transakcijas!$K:$K,\"FIFO savstarpējā segšana\")\n+SUMIFS(Transakcijas!$R:$R,Transakcijas!$Q:$Q,$B$52,Transakcijas!$T:$T,YEAR($B57),Transakcijas!$U:$U,RIGHT(\"0\"&MONTH($B57),2),Transakcijas!$D:$D,\"Aprēķins\",Transakcijas!$K:$K,\"Iemaksas atbrīvošana\")","v":0},{"$f":"SUMIFS(Transakcijas!$R:$R,Transakcijas!$Q:$Q,$B$52,Transakcijas!$T:$T,YEAR($B57),Transakcijas!$U:$U,RIGHT(\"0\"&MONTH($B57),2))-SUM(D57:K57)","v":0},0,{"$f":"ROUND(SUMIFS(Transakcijas!$R:$R,Transakcijas!$Q:$Q,$B$52,Transakcijas!$S:$S,\"<=\"&$B57,Transakcijas!$H:$H,\"Pamatsumma\"),2)","v":0},{"$f":"ROUND(SUMIFS(Transakcijas!$R:$R,Transakcijas!$Q:$Q,$B$52,Transakcijas!$S:$S,\"<=\"&$B57,Transakcijas!$H:$H,\"Nokavējuma nauda\"),2)","v":0},{"$f":"ROUND(SUMIFS(Transakcijas!$R:$R,Transakcijas!$Q:$Q,$B$52,Transakcijas!$S:$S,\"<=\"&$B57,Transakcijas!$H:$H,\"Soda nauda\"),2)","v":0},null,{"$f":"B52","v":"Riska nodeva"},"2024-05-31",null,0,null,null,0]
[null,"2024-06-30",0,{"$f":"SUMIFS(Transakcijas!$R:$R,Transakcijas!$Q:$Q,$B$52,Transakcijas!$T:$T,YEAR($B58),Transakcijas!$U:$U,RIGHT(\"0\"&MONTH($B58),2),Transakcijas!$D:$D,\"Aprēķins\",Transakcijas!$H:$H,\"Pamatsumma\",Transakcijas!$K:$K,\"<>\"&\"FIFO*\",Transakcijas!$K:$K,\"<>\"&\"Iemaksas atbrīvošana\")","v":0},null,null,{"$f":"SUMIFS(Transakcijas!$R:$R,Transakcijas!$Q:$Q,$B$52,Transakcijas!$T:$T,YEAR($B58),Transakcijas!$U:$U,RIGHT(\"0\"&MONTH($B58),2),Transakcijas!$D:$D,\"Aprēķins\",Transakcijas!$H:$H,\"Nokavējuma nauda\",Transakcijas!$K:$K,\"<>\"&\"FIFO*\",Transakcijas!$K:$K,\"<>\"&\"Iemaksas atbrīvošana\")","v":0},{"$f":"SUMIFS(Transakcijas!$R:$R,Transakcijas!$Q:$Q,$B$52,Transakcijas!$T:$T,YEAR($B58),Transakcijas!$U:$U,RIGHT(\"0\"&MONTH($B58),2),Transakcijas!$D:$D,\"Aprēķins\",Transakcijas!$H:$H,\"Soda nauda\",Transakcijas!$K:$K,\"<>\"&\"FIFO*\",Transakcijas!$K:$K,\"<>\"&\"Iemaksas atbrīvošana\")","v":0},{"$f":"SUMIFS(Transakcijas!$R:$R,Transakcijas!$Q:$Q,$B$52,Transakcijas!$T:$T,YEAR($B58),Transakcijas!$U:$U,RIGHT(\"0\"&MONTH($B58),2),Transakcijas!$D:$D,\"Iemaksa\",Transakcijas!$K:$K,\"<>\"&\"Izejošā maksājuma anulēšana\")\n+SUMIFS(Transakcijas!$R:$R,Transakcijas!$Q:$Q,$B$52,Transakcijas!$T:$T,YEAR($B58),Transakcijas!$U:$U,RIGHT(\"0\"&MONTH($B58),2),Transakcijas!$D:$D,\"Atmaksa\",Transakcijas!$K:$K,\"Iemaksas atbrīvošana\")","v":0},{"$f":"SUMIFS(Transakcijas!$R:$R,Transakcijas!$Q:$Q,$B$52,Transakcijas!$T:$T,YEAR($B58),Transakcijas!$U:$U,RIGHT(\"0\"&MONTH($B58),2),Transakcijas!$D:$D,\"Atmaksa\",Transakcijas!$K:$K,\"<>\"&\"Iemaksas atbrīvošana\")\n+SUMIFS(Transakcijas!$R:$R,Transakcijas!$Q:$Q,$B$52,Transakcijas!$T:$T,YEAR($B58),Transakcijas!$U:$U,RIGHT(\"0\"&MONTH($B58),2),Transakcijas!$D:$D,\"Iemaksa\",Transakcijas!$K:$K,\"Izejošā maksājuma anulēšana\")","v":0},{"$f":"SUMIFS(Transakcijas!$R:$R,Transakcijas!$Q:$Q,$B$52,Transakcijas!$T:$T,YEAR($B58),Transakcijas!$U:$U,RIGHT(\"0\"&MONTH($B58),2),Transakcijas!$K:$K,\"FIFO savstarpējā segšana\")\n+SUMIFS(Transakcijas!$R:$R,Transakcijas!$Q:$Q,$B$52,Transakcijas!$T:$T,YEAR($B58),Transakcijas!$U:$U,RIGHT(\"0\"&MONTH($B58),2),Transakcijas!$D:$D,\"Aprēķins\",Transakcijas!$K:$K,\"Iemaksas atbrīvošana\")","v":0},{"$f":"SUMIFS(Transakcijas!$R:$R,Transakcijas!$Q:$Q,$B$52,Transakcijas!$T:$T,YEAR($B58),Transakcijas!$U:$U,RIGHT(\"0\"&MONTH($B58),2))-SUM(D58:K58)","v":0},0,{"$f":"ROUND(SUMIFS(Transakcijas!$R:$R,Transakcijas!$Q:$Q,$B$52,Transakcijas!$S:$S,\"<=\"&$B58,Transakcijas!$H:$H,\"Pamatsumma\"),2)","v":0},{"$f":"ROUND(SUMIFS(Transakcijas!$R:$R,Transakcijas!$Q:$Q,$B$52,Transakcijas!$S:$S,\"<=\"&$B58,Transakcijas!$H:$H,\"Nokavējuma nauda\"),2)","v":0},{"$f":"ROUND(SUMIFS(Transakcijas!$R:$R,Transakcijas!$Q:$Q,$B$52,Transakcijas!$S:$S,\"<=\"&$B58,Transakcijas!$H:$H,\"Soda nauda\"),2)","v":0},null,{"$f":"B52","v":"Riska nodeva"},"2024-06-30",null,0,null,null,0]
[null,"2024-07-31",0,{"$f":"SUMIFS(Transakcijas!$R:$R,Transakcijas!$Q:$Q,$B$52,Transakcijas!$T:$T,YEAR($B59),Transakcijas!$U:$U,RIGHT(\"0\"&MONTH($B59),2),Transakcijas!$D:$D,\"Aprēķins\",Transakcijas!$H:$H,\"Pamatsumma\",Transakcijas!$K:$K,\"<>\"&\"FIFO*\",Transakcijas!$K:$K,\"<>\"&\"Iemaksas atbrīvošana\")","v":0},null,null,{"$f":"SUMIFS(Transakcijas!$R:$R,Transakcijas!$Q:$Q,$B$52,Transakcijas!$T:$T,YEAR($B59),Transakcijas!$U:$U,RIGHT(\"0\"&MONTH($B59),2),Transakcijas!$D:$D,\"Aprēķins\",Transakcijas!$H:$H,\"Nokavējuma nauda\",Transakcijas!$K:$K,\"<>\"&\"FIFO*\",Transakcijas!$K:$K,\"<>\"&\"Iemaksas atbrīvošana\")","v":0},{"$f":"SUMIFS(Transakcijas!$R:$R,Transakcijas!$Q:$Q,$B$52,Transakcijas!$T:$T,YEAR($B59),Transakcijas!$U:$U,RIGHT(\"0\"&MONTH($B59),2),Transakcijas!$D:$D,\"Aprēķins\",Transakcijas!$H:$H,\"Soda nauda\",Transakcijas!$K:$K,\"<>\"&\"FIFO*\",Transakcijas!$K:$K,\"<>\"&\"Iemaksas atbrīvošana\")","v":0},{"$f":"SUMIFS(Transakcijas!$R:$R,Transakcijas!$Q:$Q,$B$52,Transakcijas!$T:$T,YEAR($B59),Transakcijas!$U:$U,RIGHT(\"0\"&MONTH($B59),2),Transakcijas!$D:$D,\"Iemaksa\",Transakcijas!$K:$K,\"<>\"&\"Izejošā maksājuma anulēšana\")\n+SUMIFS(Transakcijas!$R:$R,Transakcijas!$Q:$Q,$B$52,Transakcijas!$T:$T,YEAR($B59),Transakcijas!$U:$U,RIGHT(\"0\"&MONTH($B59),2),Transakcijas!$D:$D,\"Atmaksa\",Transakcijas!$K:$K,\"Iemaksas atbrīvošana\")","v":0},{"$f":"SUMIFS(Transakcijas!$R:$R,Transakcijas!$Q:$Q,$B$52,Transakcijas!$T:$T,YEAR($B59),Transakcijas!$U:$U,RIGHT(\"0\"&MONTH($B59),2),Transakcijas!$D:$D,\"Atmaksa\",Transakcijas!$K:$K,\"<>\"&\"Iemaksas atbrīvošana\")\n+SUMIFS(Transakcijas!$R:$R,Transakcijas!$Q:$Q,$B$52,Transakcijas!$T:$T,YEAR($B59),Transakcijas!$U:$U,RIGHT(\"0\"&MONTH($B59),2),Transakcijas!$D:$D,\"Iemaksa\",Transakcijas!$K:$K,\"Izejošā maksājuma anulēšana\")","v":0},{"$f":"SUMIFS(Transakcijas!$R:$R,Transakcijas!$Q:$Q,$B$52,Transakcijas!$T:$T,YEAR($B59),Transakcijas!$U:$U,RIGHT(\"0\"&MONTH($B59),2),Transakcijas!$K:$K,\"FIFO savstarpējā segšana\")\n+SUMIFS(Transakcijas!$R:$R,Transakcijas!$Q:$Q,$B$52,Transakcijas!$T:$T,YEAR($B59),Transakcijas!$U:$U,RIGHT(\"0\"&MONTH($B59),2),Transakcijas!$D:$D,\"Aprēķins\",Transakcijas!$K:$K,\"Iemaksas atbrīvošana\")","v":0},{"$f":"SUMIFS(Transakcijas!$R:$R,Transakcijas!$Q:$Q,$B$52,Transakcijas!$T:$T,YEAR($B59),Transakcijas!$U:$U,RIGHT(\"0\"&MONTH($B59),2))-SUM(D59:K59)","v":0},0,{"$f":"ROUND(SUMIFS(Transakcijas!$R:$R,Transakcijas!$Q:$Q,$B$52,Transakcijas!$S:$S,\"<=\"&$B59,Transakcijas!$H:$H,\"Pamatsumma\"),2)","v":0},{"$f":"ROUND(SUMIFS(Transakcijas!$R:$R,Transakcijas!$Q:$Q,$B$52,Transakcijas!$S:$S,\"<=\"&$B59,Transakcijas!$H:$H,\"Nokavējuma nauda\"),2)","v":0},{"$f":"ROUND(SUMIFS(Transakcijas!$R:$R,Transakcijas!$Q:$Q,$B$52,Transakcijas!$S:$S,\"<=\"&$B59,Transakcijas!$H:$H,\"Soda nauda\"),2)","v":0},null,{"$f":"B52","v":"Riska nodeva"},"2024-07-31",null,0,null,null,0]
[null,"2024-08-31",0,{"$f":"SUMIFS(Transakcijas!$R:$R,Transakcijas!$Q:$Q,$B$52,Transakcijas!$T:$T,YEAR($B60),Transakcijas!$U:$U,RIGHT(\"0\"&MONTH($B60),2),Transakcijas!$D:$D,\"Aprēķins\",Transakcijas!$H:$H,\"Pamatsumma\",Transakcijas!$K:$K,\"<>\"&\"FIFO*\",Transakcijas!$K:$K,\"<>\"&\"Iemaksas atbrīvošana\")","v":0},null,null,{"$f":"SUMIFS(Transakcijas!$R:$R,Transakcijas!$Q:$Q,$B$52,Transakcijas!$T:$T,YEAR($B60),Transakcijas!$U:$U,RIGHT(\"0\"&MONTH($B60),2),Transakcijas!$D:$D,\"Aprēķins\",Transakcijas!$H:$H,\"Nokavējuma nauda\",Transakcijas!$K:$K,\"<>\"&\"FIFO*\",Transakcijas!$K:$K,\"<>\"&\"Iemaksas atbrīvošana\")","v":0},{"$f":"SUMIFS(Transakcijas!$R:$R,Transakcijas!$Q:$Q,$B$52,Transakcijas!$T:$T,YEAR($B60),Transakcijas!$U:$U,RIGHT(\"0\"&MONTH($B60),2),Transakcijas!$D:$D,\"Aprēķins\",Transakcijas!$H:$H,\"Soda nauda\",Transakcijas!$K:$K,\"<>\"&\"FIFO*\",Transakcijas!$K:$K,\"<>\"&\"Iemaksas atbrīvošana\")","v":0},{"$f":"SUMIFS(Transakcijas!$R:$R,Transakcijas!$Q:$Q,$B$52,Transakcijas!$T:$T,YEAR($B60),Transakcijas!$U:$U,RIGHT(\"0\"&MONTH($B60),2),Transakcijas!$D:$D,\"Iemaksa\",Transakcijas!$K:$K,\"<>\"&\"Izejošā maksājuma anulēšana\")\n+SUMIFS(Transakcijas!$R:$R,Transakcijas!$Q:$Q,$B$52,Transakcijas!$T:$T,YEAR($B60),Transakcijas!$U:$U,RIGHT(\"0\"&MONTH($B60),2),Transakcijas!$D:$D,\"Atmaksa\",Transakcijas!$K:$K,\"Iemaksas atbrīvošana\")","v":0},{"$f":"SUMIFS(Transakcijas!$R:$R,Transakcijas!$Q:$Q,$B$52,Transakcijas!$T:$T,YEAR($B60),Transakcijas!$U:$U,RIGHT(\"0\"&MONTH($B60),2),Transakcijas!$D:$D,\"Atmaksa\",Transakcijas!$K:$K,\"<>\"&\"Iemaksas atbrīvošana\")\n+SUMIFS(Transakcijas!$R:$R,Transakcijas!$Q:$Q,$B$52,Transakcijas!$T:$T,YEAR($B60),Transakcijas!$U:$U,RIGHT(\"0\"&MONTH($B60),2),Transakcijas!$D:$D,\"Iemaksa\",Transakcijas!$K:$K,\"Izejošā maksājuma anulēšana\")","v":0},{"$f":"SUMIFS(Transakcijas!$R:$R,Transakcijas!$Q:$Q,$B$52,Transakcijas!$T:$T,YEAR($B60),Transakcijas!$U:$U,RIGHT(\"0\"&MONTH($B60),2),Transakcijas!$K:$K,\"FIFO savstarpējā segšana\")\n+SUMIFS(Transakcijas!$R:$R,Transakcijas!$Q:$Q,$B$52,Transakcijas!$T:$T,YEAR($B60),Transakcijas!$U:$U,RIGHT(\"0\"&MONTH($B60),2),Transakcijas!$D:$D,\"Aprēķins\",Transakcijas!$K:$K,\"Iemaksas atbrīvošana\")","v":0},{"$f":"SUMIFS(Transakcijas!$R:$R,Transakcijas!$Q:$Q,$B$52,Transakcijas!$T:$T,YEAR($B60),Transakcijas!$U:$U,RIGHT(\"0\"&MONTH($B60),2))-SUM(D60:K60)","v":0},0,{"$f":"ROUND(SUMIFS(Transakcijas!$R:$R,Transakcijas!$Q:$Q,$B$52,Transakcijas!$S:$S,\"<=\"&$B60,Transakcijas!$H:$H,\"Pamatsumma\"),2)","v":0},{"$f":"ROUND(SUMIFS(Transakcijas!$R:$R,Transakcijas!$Q:$Q,$B$52,Transakcijas!$S:$S,\"<=\"&$B60,Transakcijas!$H:$H,\"Nokavējuma nauda\"),2)","v":0},{"$f":"ROUND(SUMIFS(Transakcijas!$R:$R,Transakcijas!$Q:$Q,$B$52,Transakcijas!$S:$S,\"<=\"&$B60,Transakcijas!$H:$H,\"Soda nauda\"),2)","v":0},null,{"$f":"B52","v":"Riska nodeva"},"2024-08-31",null,0,null,null,0]
[null,"2024-09-30",0,{"$f":"SUMIFS(Transakcijas!$R:$R,Transakcijas!$Q:$Q,$B$52,Transakcijas!$T:$T,YEAR($B61),Transakcijas!$U:$U,RIGHT(\"0\"&MONTH($B61),2),Transakcijas!$D:$D,\"Aprēķins\",Transakcijas!$H:$H,\"Pamatsumma\",Transakcijas!$K:$K,\"<>\"&\"FIFO*\",Transakcijas!$K:$K,\"<>\"&\"Iemaksas atbrīvošana\")","v":0},null,null,{"$f":"SUMIFS(Transakcijas!$R:$R,Transakcijas!$Q:$Q,$B$52,Transakcijas!$T:$T,YEAR($B61),Transakcijas!$U:$U,RIGHT(\"0\"&MONTH($B61),2),Transakcijas!$D:$D,\"Aprēķins\",Transakcijas!$H:$H,\"Nokavējuma nauda\",Transakcijas!$K:$K,\"<>\"&\"FIFO*\",Transakcijas!$K:$K,\"<>\"&\"Iemaksas atbrīvošana\")","v":0},{"$f":"SUMIFS(Transakcijas!$R:$R,Transakcijas!$Q:$Q,$B$52,Transakcijas!$T:$T,YEAR($B61),Transakcijas!$U:$U,RIGHT(\"0\"&MONTH($B61),2),Transakcijas!$D:$D,\"Aprēķins\",Transakcijas!$H:$H,\"Soda nauda\",Transakcijas!$K:$K,\"<>\"&\"FIFO*\",Transakcijas!$K:$K,\"<>\"&\"Iemaksas atbrīvošana\")","v":0},{"$f":"SUMIFS(Transakcijas!$R:$R,Transakcijas!$Q:$Q,$B$52,Transakcijas!$T:$T,YEAR($B61),Transakcijas!$U:$U,RIGHT(\"0\"&MONTH($B61),2),Transakcijas!$D:$D,\"Iemaksa\",Transakcijas!$K:$K,\"<>\"&\"Izejošā maksājuma anulēšana\")\n+SUMIFS(Transakcijas!$R:$R,Transakcijas!$Q:$Q,$B$52,Transakcijas!$T:$T,YEAR($B61),Transakcijas!$U:$U,RIGHT(\"0\"&MONTH($B61),2),Transakcijas!$D:$D,\"Atmaksa\",Transakcijas!$K:$K,\"Iemaksas atbrīvošana\")","v":0},{"$f":"SUMIFS(Transakcijas!$R:$R,Transakcijas!$Q:$Q,$B$52,Transakcijas!$T:$T,YEAR($B61),Transakcijas!$U:$U,RIGHT(\"0\"&MONTH($B61),2),Transakcijas!$D:$D,\"Atmaksa\",Transakcijas!$K:$K,\"<>\"&\"Iemaksas atbrīvošana\")\n+SUMIFS(Transakcijas!$R:$R,Transakcijas!$Q:$Q,$B$52,Transakcijas!$T:$T,YEAR($B61),Transakcijas!$U:$U,RIGHT(\"0\"&MONTH($B61),2),Transakcijas!$D:$D,\"Iemaksa\",Transakcijas!$K:$K,\"Izejošā maksājuma anulēšana\")","v":0},{"$f":"SUMIFS(Transakcijas!$R:$R,Transakcijas!$Q:$Q,$B$52,Transakcijas!$T:$T,YEAR($B61),Transakcijas!$U:$U,RIGHT(\"0\"&MONTH($B61),2),Transakcijas!$K:$K,\"FIFO savstarpējā segšana\")\n+SUMIFS(Transakcijas!$R:$R,Transakcijas!$Q:$Q,$B$52,Transakcijas!$T:$T,YEAR($B61),Transakcijas!$U:$U,RIGHT(\"0\"&MONTH($B61),2),Transakcijas!$D:$D,\"Aprēķins\",Transakcijas!$K:$K,\"Iemaksas atbrīvošana\")","v":0},{"$f":"SUMIFS(Transakcijas!$R:$R,Transakcijas!$Q:$Q,$B$52,Transakcijas!$T:$T,YEAR($B61),Transakcijas!$U:$U,RIGHT(\"0\"&MONTH($B61),2))-SUM(D61:K61)","v":0},0,{"$f":"ROUND(SUMIFS(Transakcijas!$R:$R,Transakcijas!$Q:$Q,$B$52,Transakcijas!$S:$S,\"<=\"&$B61,Transakcijas!$H:$H,\"Pamatsumma\"),2)","v":0},{"$f":"ROUND(SUMIFS(Transakcijas!$R:$R,Transakcijas!$Q:$Q,$B$52,Transakcijas!$S:$S,\"<=\"&$B61,Transakcijas!$H:$H,\"Nokavējuma nauda\"),2)","v":0},{"$f":"ROUND(SUMIFS(Transakcijas!$R:$R,Transakcijas!$Q:$Q,$B$52,Transakcijas!$S:$S,\"<=\"&$B61,Transakcijas!$H:$H,\"Soda nauda\"),2)","v":0},null,{"$f":"B52","v":"Riska nodeva"},"2024-09-30",null,0,null,null,0]
[null,"2024-10-31",0,{"$f":"SUMIFS(Transakcijas!$R:$R,Transakcijas!$Q:$Q,$B$52,Transakcijas!$T:$T,YEAR($B62),Transakcijas!$U:$U,RIGHT(\"0\"&MONTH($B62),2),Transakcijas!$D:$D,\"Aprēķins\",Transakcijas!$H:$H,\"Pamatsumma\",Transakcijas!$K:$K,\"<>\"&\"FIFO*\",Transakcijas!$K:$K,\"<>\"&\"Iemaksas atbrīvošana\")","v":0},null,null,{"$f":"SUMIFS(Transakcijas!$R:$R,Transakcijas!$Q:$Q,$B$52,Transakcijas!$T:$T,YEAR($B62),Transakcijas!$U:$U,RIGHT(\"0\"&MONTH($B62),2),Transakcijas!$D:$D,\"Aprēķins\",Transakcijas!$H:$H,\"Nokavējuma nauda\",Transakcijas!$K:$K,\"<>\"&\"FIFO*\",Transakcijas!$K:$K,\"<>\"&\"Iemaksas atbrīvošana\")","v":0},{"$f":"SUMIFS(Transakcijas!$R:$R,Transakcijas!$Q:$Q,$B$52,Transakcijas!$T:$T,YEAR($B62),Transakcijas!$U:$U,RIGHT(\"0\"&MONTH($B62),2),Transakcijas!$D:$D,\"Aprēķins\",Transakcijas!$H:$H,\"Soda nauda\",Transakcijas!$K:$K,\"<>\"&\"FIFO*\",Transakcijas!$K:$K,\"<>\"&\"Iemaksas atbrīvošana\")","v":0},{"$f":"SUMIFS(Transakcijas!$R:$R,Transakcijas!$Q:$Q,$B$52,Transakcijas!$T:$T,YEAR($B62),Transakcijas!$U:$U,RIGHT(\"0\"&MONTH($B62),2),Transakcijas!$D:$D,\"Iemaksa\",Transakcijas!$K:$K,\"<>\"&\"Izejošā maksājuma anulēšana\")\n+SUMIFS(Transakcijas!$R:$R,Transakcijas!$Q:$Q,$B$52,Transakcijas!$T:$T,YEAR($B62),Transakcijas!$U:$U,RIGHT(\"0\"&MONTH($B62),2),Transakcijas!$D:$D,\"Atmaksa\",Transakcijas!$K:$K,\"Iemaksas atbrīvošana\")","v":0},{"$f":"SUMIFS(Transakcijas!$R:$R,Transakcijas!$Q:$Q,$B$52,Transakcijas!$T:$T,YEAR($B62),Transakcijas!$U:$U,RIGHT(\"0\"&MONTH($B62),2),Transakcijas!$D:$D,\"Atmaksa\",Transakcijas!$K:$K,\"<>\"&\"Iemaksas atbrīvošana\")\n+SUMIFS(Transakcijas!$R:$R,Transakcijas!$Q:$Q,$B$52,Transakcijas!$T:$T,YEAR($B62),Transakcijas!$U:$U,RIGHT(\"0\"&MONTH($B62),2),Transakcijas!$D:$D,\"Iemaksa\",Transakcijas!$K:$K,\"Izejošā maksājuma anulēšana\")","v":0},{"$f":"SUMIFS(Transakcijas!$R:$R,Transakcijas!$Q:$Q,$B$52,Transakcijas!$T:$T,YEAR($B62),Transakcijas!$U:$U,RIGHT(\"0\"&MONTH($B62),2),Transakcijas!$K:$K,\"FIFO savstarpējā segšana\")\n+SUMIFS(Transakcijas!$R:$R,Transakcijas!$Q:$Q,$B$52,Transakcijas!$T:$T,YEAR($B62),Transakcijas!$U:$U,RIGHT(\"0\"&MONTH($B62),2),Transakcijas!$D:$D,\"Aprēķins\",Transakcijas!$K:$K,\"Iemaksas atbrīvošana\")","v":0},{"$f":"SUMIFS(Transakcijas!$R:$R,Transakcijas!$Q:$Q,$B$52,Transakcijas!$T:$T,YEAR($B62),Transakcijas!$U:$U,RIGHT(\"0\"&MONTH($B62),2))-SUM(D62:K62)","v":0},0,{"$f":"ROUND(SUMIFS(Transakcijas!$R:$R,Transakcijas!$Q:$Q,$B$52,Transakcijas!$S:$S,\"<=\"&$B62,Transakcijas!$H:$H,\"Pamatsumma\"),2)","v":0},{"$f":"ROUND(SUMIFS(Transakcijas!$R:$R,Transakcijas!$Q:$Q,$B$52,Transakcijas!$S:$S,\"<=\"&$B62,Transakcijas!$H:$H,\"Nokavējuma nauda\"),2)","v":0},{"$f":"ROUND(SUMIFS(Transakcijas!$R:$R,Transakcijas!$Q:$Q,$B$52,Transakcijas!$S:$S,\"<=\"&$B62,Transakcijas!$H:$H,\"Soda nauda\"),2)","v":0},null,{"$f":"B52","v":"Riska nodeva"},"2024-10-31",null,0,null,null,0]
[null,"2024-11-30",0,{"$f":"SUMIFS(Transakcijas!$R:$R,Transakcijas!$Q:$Q,$B$52,Transakcijas!$T:$T,YEAR($B63),Transakcijas!$U:$U,RIGHT(\"0\"&MONTH($B63),2),Transakcijas!$D:$D,\"Aprēķins\",Transakcijas!$H:$H,\"Pamatsumma\",Transakcijas!$K:$K,\"<>\"&\"FIFO*\",Transakcijas!$K:$K,\"<>\"&\"Iemaksas atbrīvošana\")","v":0},null,null,{"$f":"SUMIFS(Transakcijas!$R:$R,Transakcijas!$Q:$Q,$B$52,Transakcijas!$T:$T,YEAR($B63),Transakcijas!$U:$U,RIGHT(\"0\"&MONTH($B63),2),Transakcijas!$D:$D,\"Aprēķins\",Transakcijas!$H:$H,\"Nokavējuma nauda\",Transakcijas!$K:$K,\"<>\"&\"FIFO*\",Transakcijas!$K:$K,\"<>\"&\"Iemaksas atbrīvošana\")","v":0},{"$f":"SUMIFS(Transakcijas!$R:$R,Transakcijas!$Q:$Q,$B$52,Transakcijas!$T:$T,YEAR($B63),Transakcijas!$U:$U,RIGHT(\"0\"&MONTH($B63),2),Transakcijas!$D:$D,\"Aprēķins\",Transakcijas!$H:$H,\"Soda nauda\",Transakcijas!$K:$K,\"<>\"&\"FIFO*\",Transakcijas!$K:$K,\"<>\"&\"Iemaksas atbrīvošana\")","v":0},{"$f":"SUMIFS(Transakcijas!$R:$R,Transakcijas!$Q:$Q,$B$52,Transakcijas!$T:$T,YEAR($B63),Transakcijas!$U:$U,RIGHT(\"0\"&MONTH($B63),2),Transakcijas!$D:$D,\"Iemaksa\",Transakcijas!$K:$K,\"<>\"&\"Izejošā maksājuma anulēšana\")\n+SUMIFS(Transakcijas!$R:$R,Transakcijas!$Q:$Q,$B$52,Transakcijas!$T:$T,YEAR($B63),Transakcijas!$U:$U,RIGHT(\"0\"&MONTH($B63),2),Transakcijas!$D:$D,\"Atmaksa\",Transakcijas!$K:$K,\"Iemaksas atbrīvošana\")","v":0},{"$f":"SUMIFS(Transakcijas!$R:$R,Transakcijas!$Q:$Q,$B$52,Transakcijas!$T:$T,YEAR($B63),Transakcijas!$U:$U,RIGHT(\"0\"&MONTH($B63),2),Transakcijas!$D:$D,\"Atmaksa\",Transakcijas!$K:$K,\"<>\"&\"Iemaksas atbrīvošana\")\n+SUMIFS(Transakcijas!$R:$R,Transakcijas!$Q:$Q,$B$52,Transakcijas!$T:$T,YEAR($B63),Transakcijas!$U:$U,RIGHT(\"0\"&MONTH($B63),2),Transakcijas!$D:$D,\"Iemaksa\",Transakcijas!$K:$K,\"Izejošā maksājuma anulēšana\")","v":0},{"$f":"SUMIFS(Transakcijas!$R:$R,Transakcijas!$Q:$Q,$B$52,Transakcijas!$T:$T,YEAR($B63),Transakcijas!$U:$U,RIGHT(\"0\"&MONTH($B63),2),Transakcijas!$K:$K,\"FIFO savstarpējā segšana\")\n+SUMIFS(Transakcijas!$R:$R,Transakcijas!$Q:$Q,$B$52,Transakcijas!$T:$T,YEAR($B63),Transakcijas!$U:$U,RIGHT(\"0\"&MONTH($B63),2),Transakcijas!$D:$D,\"Aprēķins\",Transakcijas!$K:$K,\"Iemaksas atbrīvošana\")","v":0},{"$f":"SUMIFS(Transakcijas!$R:$R,Transakcijas!$Q:$Q,$B$52,Transakcijas!$T:$T,YEAR($B63),Transakcijas!$U:$U,RIGHT(\"0\"&MONTH($B63),2))-SUM(D63:K63)","v":0},0,{"$f":"ROUND(SUMIFS(Transakcijas!$R:$R,Transakcijas!$Q:$Q,$B$52,Transakcijas!$S:$S,\"<=\"&$B63,Transakcijas!$H:$H,\"Pamatsumma\"),2)","v":0},{"$f":"ROUND(SUMIFS(Transakcijas!$R:$R,Transakcijas!$Q:$Q,$B$52,Transakcijas!$S:$S,\"<=\"&$B63,Transakcijas!$H:$H,\"Nokavējuma nauda\"),2)","v":0},{"$f":"ROUND(SUMIFS(Transakcijas!$R:$R,Transakcijas!$Q:$Q,$B$52,Transakcijas!$S:$S,\"<=\"&$B63,Transakcijas!$H:$H,\"Soda nauda\"),2)","v":0},null,{"$f":"B52","v":"Riska nodeva"},"2024-11-30",null,0,null,null,0]
[null,"2024-12-31",0,{"$f":"SUMIFS(Transakcijas!$R:$R,Transakcijas!$Q:$Q,$B$52,Transakcijas!$T:$T,YEAR($B64),Transakcijas!$U:$U,RIGHT(\"0\"&MONTH($B64),2),Transakcijas!$D:$D,\"Aprēķins\",Transakcijas!$H:$H,\"Pamatsumma\",Transakcijas!$K:$K,\"<>\"&\"FIFO*\",Transakcijas!$K:$K,\"<>\"&\"Iemaksas atbrīvošana\")","v":0},null,null,{"$f":"SUMIFS(Transakcijas!$R:$R,Transakcijas!$Q:$Q,$B$52,Transakcijas!$T:$T,YEAR($B64),Transakcijas!$U:$U,RIGHT(\"0\"&MONTH($B64),2),Transakcijas!$D:$D,\"Aprēķins\",Transakcijas!$H:$H,\"Nokavējuma nauda\",Transakcijas!$K:$K,\"<>\"&\"FIFO*\",Transakcijas!$K:$K,\"<>\"&\"Iemaksas atbrīvošana\")","v":0},{"$f":"SUMIFS(Transakcijas!$R:$R,Transakcijas!$Q:$Q,$B$52,Transakcijas!$T:$T,YEAR($B64),Transakcijas!$U:$U,RIGHT(\"0\"&MONTH($B64),2),Transakcijas!$D:$D,\"Aprēķins\",Transakcijas!$H:$H,\"Soda nauda\",Transakcijas!$K:$K,\"<>\"&\"FIFO*\",Transakcijas!$K:$K,\"<>\"&\"Iemaksas atbrīvošana\")","v":0},{"$f":"SUMIFS(Transakcijas!$R:$R,Transakcijas!$Q:$Q,$B$52,Transakcijas!$T:$T,YEAR($B64),Transakcijas!$U:$U,RIGHT(\"0\"&MONTH($B64),2),Transakcijas!$D:$D,\"Iemaksa\",Transakcijas!$K:$K,\"<>\"&\"Izejošā maksājuma anulēšana\")\n+SUMIFS(Transakcijas!$R:$R,Transakcijas!$Q:$Q,$B$52,Transakcijas!$T:$T,YEAR($B64),Transakcijas!$U:$U,RIGHT(\"0\"&MONTH($B64),2),Transakcijas!$D:$D,\"Atmaksa\",Transakcijas!$K:$K,\"Iemaksas atbrīvošana\")","v":0},{"$f":"SUMIFS(Transakcijas!$R:$R,Transakcijas!$Q:$Q,$B$52,Transakcijas!$T:$T,YEAR($B64),Transakcijas!$U:$U,RIGHT(\"0\"&MONTH($B64),2),Transakcijas!$D:$D,\"Atmaksa\",Transakcijas!$K:$K,\"<>\"&\"Iemaksas atbrīvošana\")\n+SUMIFS(Transakcijas!$R:$R,Transakcijas!$Q:$Q,$B$52,Transakcijas!$T:$T,YEAR($B64),Transakcijas!$U:$U,RIGHT(\"0\"&MONTH($B64),2),Transakcijas!$D:$D,\"Iemaksa\",Transakcijas!$K:$K,\"Izejošā maksājuma anulēšana\")","v":0},{"$f":"SUMIFS(Transakcijas!$R:$R,Transakcijas!$Q:$Q,$B$52,Transakcijas!$T:$T,YEAR($B64),Transakcijas!$U:$U,RIGHT(\"0\"&MONTH($B64),2),Transakcijas!$K:$K,\"FIFO savstarpējā segšana\")\n+SUMIFS(Transakcijas!$R:$R,Transakcijas!$Q:$Q,$B$52,Transakcijas!$T:$T,YEAR($B64),Transakcijas!$U:$U,RIGHT(\"0\"&MONTH($B64),2),Transakcijas!$D:$D,\"Aprēķins\",Transakcijas!$K:$K,\"Iemaksas atbrīvošana\")","v":0},{"$f":"SUMIFS(Transakcijas!$R:$R,Transakcijas!$Q:$Q,$B$52,Transakcijas!$T:$T,YEAR($B64),Transakcijas!$U:$U,RIGHT(\"0\"&MONTH($B64),2))-SUM(D64:K64)","v":0},0,{"$f":"ROUND(SUMIFS(Transakcijas!$R:$R,Transakcijas!$Q:$Q,$B$52,Transakcijas!$S:$S,\"<=\"&$B64,Transakcijas!$H:$H,\"Pamatsumma\"),2)","v":0},{"$f":"ROUND(SUMIFS(Transakcijas!$R:$R,Transakcijas!$Q:$Q,$B$52,Transakcijas!$S:$S,\"<=\"&$B64,Transakcijas!$H:$H,\"Nokavējuma nauda\"),2)","v":0},{"$f":"ROUND(SUMIFS(Transakcijas!$R:$R,Transakcijas!$Q:$Q,$B$52,Transakcijas!$S:$S,\"<=\"&$B64,Transakcijas!$H:$H,\"Soda nauda\"),2)","v":0},null,{"$f":"B52","v":"Riska nodeva"},"2024-12-31",null,0,null,null,0]
[null,"Kopā",{"$f":"C53","v":0},{"$f":"SUM(D53:D64)","v":0},null,null,{"$f":"SUM(G53:G64)","v":0},0,0,0,0,0,0]
[]
[null,{"$f":"B9","v":"PVN "},"Atlikums uz perioda sākumu",{"$f":"D$4","v":"Aprēķināts"},{"$f":"E$4","v":"Ieturēts IIN\nMin. VSAOI"},"Apr.nerezid.\nUniv.IF VSAOI","Aprēķināta nokav. nauda  ","Aprēķināta\n soda nauda  ","Samaksāts\nAtbrīvots","Atmaksāts","Pārvietots \n(Savst.segš.)","Cita \nkustība","Atlikums uz perioda beigām","Pamat-\nsumma","Nokav. \nnauda  ","Soda \nnauda  "]
[null,{"$f":"DATE(YEAR($C$4),MONTH($C$4)+1,0)","v":"2024-01-31"},{"$f":"C9","v":0},{"$f":"SUMIFS(Transakcijas!$R:$R,Transakcijas!$Q:$Q,$B$67,Transakcijas!$T:$T,YEAR($B68),Transakcijas!$U:$U,RIGHT(\"0\"&MONTH($B68),2),Transakcijas!$D:$D,\"Aprēķins\",Transakcijas!$H:$H,\"Pamatsumma\",Transakcijas!$K:$K,\"<>\"&\"FIFO*\",Transakcijas!$K:$K,\"<>\"&\"Iemaksas atbrīvošana\")","v":0},null,null,{"$f":"SUMIFS(Transakcijas!$R:$R,Transakcijas!$Q:$Q,$B$67,Transakcijas!$T:$T,YEAR($B68),Transakcijas!$U:$U,RIGHT(\"0\"&MONTH($B68),2),Transakcijas!$D:$D,\"Aprēķins\",Transakcijas!$H:$H,\"Nokavējuma nauda\",Transakcijas!$K:$K,\"<>\"&\"FIFO*\",Transakcijas!$K:$K,\"<>\"&\"Iemaksas atbrīvošana\")","v":0},{"$f":"SUMIFS(Transakcijas!$R:$R,Transakcijas!$Q:$Q,$B$67,Transakcijas!$T:$T,YEAR($B68),Transakcijas!$U:$U,RIGHT(\"0\"&MONTH($B68),2),Transakcijas!$D:$D,\"Aprēķins\",Transakcijas!$H:$H,\"Soda nauda\",Transakcijas!$K:$K,\"<>\"&\"FIFO*\",Transakcijas!$K:$K,\"<>\"&\"Iemaksas atbrīvošana\")","v":0},{"$f":"SUMIFS(Transakcijas!$R:$R,Transakcijas!$Q:$Q,$B$67,Transakcijas!$T:$T,YEAR($B68),Transakcijas!$U:$U,RIGHT(\"0\"&MONTH($B68),2),Transakcijas!$D:$D,\"Iemaksa\",Transakcijas!$K:$K,\"<>\"&\"Izejošā maksājuma anulēšana\")\n+SUMIFS(Transakcijas!$R:$R,Transakcijas!$Q:$Q,$B$67,Transakcijas!$T:$T,YEAR($B68),Transakcijas!$U:$U,RIGHT(\"0\"&MONTH($B68),2),Transakcijas!$D:$D,\"Atmaksa\",Transakcijas!$K:$K,\"Iemaksas atbrīvošana\")","v":0},{"$f":"SUMIFS(Transakcijas!$R:$R,Transakcijas!$Q:$Q,$B$67,Transakcijas!$T:$T,YEAR($B68),Transakcijas!$U:$U,RIGHT(\"0\"&MONTH($B68),2),Transakcijas!$D:$D,\"Atmaksa\",Transakcijas!$K:$K,\"<>\"&\"Iemaksas atbrīvošana\")\n+SUMIFS(Transakcijas!$R:$R,Transakcijas!$Q:$Q,$B$67,Transakcijas!$T:$T,YEAR($B68),Transakcijas!$U:$U,RIGHT(\"0\"&MONTH($B68),2),Transakcijas!$D:$D,\"Iemaksa\",Transakcijas!$K:$K,\"Izejošā maksājuma anulēšana\")","v":0},{"$f":"SUMIFS(Transakcijas!$R:$R,Transakcijas!$Q:$Q,$B$67,Transakcijas!$T:$T,YEAR($B68),Transakcijas!$U:$U,RIGHT(\"0\"&MONTH($B68),2),Transakcijas!$K:$K,\"FIFO savstarpējā segšana\")\n+SUMIFS(Transakcijas!$R:$R,Transakcijas!$Q:$Q,$B$67,Transakcijas!$T:$T,YEAR($B68),Transakcijas!$U:$U,RIGHT(\"0\"&MONTH($B68),2),Transakcijas!$D:$D,\"Aprēķins\",Transakcijas!$K:$K,\"Iemaksas atbrīvošana\")","v":0},{"$f":"SUMIFS(Transakcijas!$R:$R,Transakcijas!$Q:$Q,$B$67,Transakcijas!$T:$T,YEAR($B68),Transakcijas!$U:$U,RIGHT(\"0\"&MONTH($B68),2))-SUM(D68:K68)","v":0},{"$f":"SUM(C68:L68)","v":0},{"$f":"ROUND(SUMIFS(Transakcijas!$R:$R,Transakcijas!$Q:$Q,$B$67,Transakcijas!$S:$S,\"<=\"&$B68,Transakcijas!$H:$H,\"Pamatsumma\"),2)","v":0},{"$f":"ROUND(SUMIFS(Transakcijas!$R:$R,Transakcijas!$Q:$Q,$B$67,Transakcijas!$S:$S,\"<=\"&$B68,Transakcijas!$H:$H,\"Nokavējuma nauda\"),2)","v":0},{"$f":"ROUND(SUMIFS(Transakcijas!$R:$R,Transakcijas!$Q:$Q,$B$67,Transakcijas!$S:$S,\"<=\"&$B68,Transakcijas!$H:$H,\"Soda nauda\"),2)","v":0},null,{"$f":"B67","v":"PVN "},{"$f":"B68","v":"2024-01-31"},null,{"$f":"SUM(D68:F68)+T68","v":0},null,null,{"$f":"IF(W68<>\"\",M68+W68,0)","v":0}]
[null,{"$f":"IF(IF(B68=\"\",$M$4+1,DATE(YEAR(B68),MONTH(B68)+2,0))<=$M$4,DATE(YEAR(B68),MONTH(B68)+2,0),\"\")","v":"2024-02-29"},{"$f":"IF(B69=\"\",0,M68)","v":0},{"$f":"SUMIFS(Transakcijas!$R:$R,Transakcijas!$Q:$Q,$B$67,Transakcijas!$T:$T,YEAR($B69),Transakcijas!$U:$U,RIGHT(\"0\"&MONTH($B69),2),Transakcijas!$D:$D,\"Aprēķins\",Transakcijas!$H:$H,\"Pamatsumma\",Transakcijas!$K:$K,\"<>\"&\"FIFO*\",Transakcijas!$K:$K,\"<>\"&\"Iemaksas atbrīvošana\")","v":0},null,null,{"$f":"SUMIFS(Transakcijas!$R:$R,Transakcijas!$Q:$Q,$B$67,Transakcijas!$T:$T,YEAR($B69),Transakcijas!$U:$U,RIGHT(\"0\"&MONTH($B69),2),Transakcijas!$D:$D,\"Aprēķins\",Transakcijas!$H:$H,\"Nokavējuma nauda\",Transakcijas!$K:$K,\"<>\"&\"FIFO*\",Transakcijas!$K:$K,\"<>\"&\"Iemaksas atbrīvošana\")","v":0},{"$f":"SUMIFS(Transakcijas!$R:$R,Transakcijas!$Q:$Q,$B$67,Transakcijas!$T:$T,YEAR($B69),Transakcijas!$U:$U,RIGHT(\"0\"&MONTH($B69),2),Transakcijas!$D:$D,\"Aprēķins\",Transakcijas!$H:$H,\"Soda nauda\",Transakcijas!$K:$K,\"<>\"&\"FIFO*\",Transakcijas!$K:$K,\"<>\"&\"Iemaksas atbrīvošana\")","v":0},{"$f":"SUMIFS(Transakcijas!$R:$R,Transakcijas!$Q:$Q,$B$67,Transakcijas!$T:$T,YEAR($B69),Transakcijas!$U:$U,RIGHT(\"0\"&MONTH($B69),2),Transakcijas!$D:$D,\"Iemaksa\",Transakcijas!$K:$K,\"<>\"&\"Izejošā maksājuma anulēšana\")\n+SUMIFS(Transakcijas!$R:$R,Transakcijas!$Q:$Q,$B$67,Transakcijas!$T:$T,YEAR($B69),Transakcijas!$U:$U,RIGHT(\"0\"&MONTH($B69),2),Transakcijas!$D:$D,\"Atmaksa\",Transakcijas!$K:$K,\"Iemaksas atbrīvošana\")","v":0},{"$f":"SUMIFS(Transakcijas!$R:$R,Transakcijas!$Q:$Q,$B$67,Transakcijas!$T:$T,YEAR($B69),Transakcijas!$U:$U,RIGHT(\"0\"&MONTH($B69),2),Transakcijas!$D:$D,\"Atmaksa\",Transakcijas!$K:$K,\"<>\"&\"Iemaksas atbrīvošana\")\n+SUMIFS(Transakcijas!$R:$R,Transakcijas!$Q:$Q,$B$67,Transakcijas!$T:$T,YEAR($B69),Transakcijas!$U:$U,RIGHT(\"0\"&MONTH($B69),2),Transakcijas!$D:$D,\"Iemaksa\",Transakcijas!$K:$K,\"Izejošā maksājuma anulēšana\")","v":0},{"$f":"SUMIFS(Transakcijas!$R:$R,Transakcijas!$Q:$Q,$B$67,Transakcijas!$T:$T,YEAR($B69),Transakcijas!$U:$U,RIGHT(\"0\"&MONTH($B69),2),Transakcijas!$K:$K,\"FIFO savstarpējā segšana\")\n+SUMIFS(Transakcijas!$R:$R,Transakcijas!$Q:$Q,$B$67,Transakcijas!$T:$T,YEAR($B69),Transakcijas!$U:$U,RIGHT(\"0\"&MONTH($B69),2),Transakcijas!$D:$D,\"Aprēķins\",Transakcijas!$K:$K,\"Iemaksas atbrīvošana\")","v":0},{"$f":"SUMIFS(Transakcijas!$R:$R,Transakcijas!$Q:$Q,$B$67,Transakcijas!$T:$T,YEAR($B69),Transakcijas!$U:$U,RIGHT(\"0\"&MONTH($B69),2))-SUM(D69:K69)","v":0},0,{"$f":"ROUND(SUMIFS(Transakcijas!$R:$R,Transakcijas!$Q:$Q,$B$67,Transakcijas!$S:$S,\"<=\"&$B69,Transakcijas!$H:$H,\"Pamatsumma\"),2)","v":0},{"$f":"ROUND(SUMIFS(Transakcijas!$R:$R,Transakcijas!$Q:$Q,$B$67,Transakcijas!$S:$S,\"<=\"&$B69,Transakcijas!$H:$H,\"Nokavējuma nauda\"),2)","v":0},{"$f":"ROUND(SUMIFS(Transakcijas!$R:$R,Transakcijas!$Q:$Q,$B$67,Transakcijas!$S:$S,\"<=\"&$B69,Transakcijas!$H:$H,\"Soda nauda\"),2)","v":0},null,{"$f":"B67","v":"PVN "},{"$f":"B69","v":"2024-02-29"},null,0,null,null,0]
[null,"2024-03-31",0,{"$f":"SUMIFS(Transakcijas!$R:$R,Transakcijas!$Q:$Q,$B$67,Transakcijas!$T:$T,YEAR($B70),Transakcijas!$U:$U,RIGHT(\"0\"&MONTH($B70),2),Transakcijas!$D:$D,\"Aprēķins\",Transakcijas!$H:$H,\"Pamatsumma\",Transakcijas!$K:$K,\"<>\"&\"FIFO*\",Transakcijas!$K:$K,\"<>\"&\"Iemaksas atbrīvošana\")","v":0},null,null,{"$f":"SUMIFS(Transakcijas!$R:$R,Transakcijas!$Q:$Q,$B$67,Transakcijas!$T:$T,YEAR($B70),Transakcijas!$U:$U,RIGHT(\"0\"&MONTH($B70),2),Transakcijas!$D:$D,\"Aprēķins\",Transakcijas!$H:$H,\"Nokavējuma nauda\",Transakcijas!$K:$K,\"<>\"&\"FIFO*\",Transakcijas!$K:$K,\"<>\"&\"Iemaksas atbrīvošana\")","v":0},{"$f":"SUMIFS(Transakcijas!$R:$R,Transakcijas!$Q:$Q,$B$67,Transakcijas!$T:$T,YEAR($B70),Transakcijas!$U:$U,RIGHT(\"0\"&MONTH($B70),2),Transakcijas!$D:$D,\"Aprēķins\",Transakcijas!$H:$H,\"Soda nauda\",Transakcijas!$K:$K,\"<>\"&\"FIFO*\",Transakcijas!$K:$K,\"<>\"&\"Iemaksas atbrīvošana\")","v":0},{"$f":"SUMIFS(Transakcijas!$R:$R,Transakcijas!$Q:$Q,$B$67,Transakcijas!$T:$T,YEAR($B70),Transakcijas!$U:$U,RIGHT(\"0\"&MONTH($B70),2),Transakcijas!$D:$D,\"Iemaksa\",Transakcijas!$K:$K,\"<>\"&\"Izejošā maksājuma anulēšana\")\n+SUMIFS(Transakcijas!$R:$R,Transakcijas!$Q:$Q,$B$67,Transakcijas!$T:$T,YEAR($B70),Transakcijas!$U:$U,RIGHT(\"0\"&MONTH($B70),2),Transakcijas!$D:$D,\"Atmaksa\",Transakcijas!$K:$K,\"Iemaksas atbrīvošana\")","v":0},{"$f":"SUMIFS(Transakcijas!$R:$R,Transakcijas!$Q:$Q,$B$67,Transakcijas!$T:$T,YEAR($B70),Transakcijas!$U:$U,RIGHT(\"0\"&MONTH($B70),2),Transakcijas!$D:$D,\"Atmaksa\",Transakcijas!$K:$K,\"<>\"&\"Iemaksas atbrīvošana\")\n+SUMIFS(Transakcijas!$R:$R,Transakcijas!$Q:$Q,$B$67,Transakcijas!$T:$T,YEAR($B70),Transakcijas!$U:$U,RIGHT(\"0\"&MONTH($B70),2),Transakcijas!$D:$D,\"Iemaksa\",Transakcijas!$K:$K,\"Izejošā maksājuma anulēšana\")","v":0},{"$f":"SUMIFS(Transakcijas!$R:$R,Transakcijas!$Q:$Q,$B$67,Transakcijas!$T:$T,YEAR($B70),Transakcijas!$U:$U,RIGHT(\"0\"&MONTH($B70),2),Transakcijas!$K:$K,\"FIFO savstarpējā segšana\")\n+SUMIFS(Transakcijas!$R:$R,Transakcijas!$Q:$Q,$B$67,Transakcijas!$T:$T,YEAR($B70),Transakcijas!$U:$U,RIGHT(\"0\"&MONTH($B70),2),Transakcijas!$D:$D,\"Aprēķins\",Transakcijas!$K:$K,\"Iemaksas atbrīvošana\")","v":0},{"$f":"SUMIFS(Transakcijas!$R:$R,Transakcijas!$Q:$Q,$B$67,Transakcijas!$T:$T,YEAR($B70),Transakcijas!$U:$U,RIGHT(\"0\"&MONTH($B70),2))-SUM(D70:K70)","v":0},0,{"$f":"ROUND(SUMIFS(Transakcijas!$R:$R,Transakcijas!$Q:$Q,$B$67,Transakcijas!$S:$S,\"<=\"&$B70,Transakcijas!$H:$H,\"Pamatsumma\"),2)","v":0},{"$f":"ROUND(SUMIFS(Transakcijas!$R:$R,Transakcijas!$Q:$Q,$B$67,Transakcijas!$S:$S,\"<=\"&$B70,Transakcijas!$H:$H,\"Nokavējuma nauda\"),2)","v":0},{"$f":"ROUND(SUMIFS(Transakcijas!$R:$R,Transakcijas!$Q:$Q,$B$67,Transakcijas!$S:$S,\"<=\"&$B70,Transakcijas!$H:$H,\"Soda nauda\"),2)","v":0},null,{"$f":"B67","v":"PVN "},"2024-03-31",null,0,null,null,0]
[null,"2024-04-30",0,{"$f":"SUMIFS(Transakcijas!$R:$R,Transakcijas!$Q:$Q,$B$67,Transakcijas!$T:$T,YEAR($B71),Transakcijas!$U:$U,RIGHT(\"0\"&MONTH($B71),2),Transakcijas!$D:$D,\"Aprēķins\",Transakcijas!$H:$H,\"Pamatsumma\",Transakcijas!$K:$K,\"<>\"&\"FIFO*\",Transakcijas!$K:$K,\"<>\"&\"Iemaksas atbrīvošana\")","v":0},null,null,{"$f":"SUMIFS(Transakcijas!$R:$R,Transakcijas!$Q:$Q,$B$67,Transakcijas!$T:$T,YEAR($B71),Transakcijas!$U:$U,RIGHT(\"0\"&MONTH($B71),2),Transakcijas!$D:$D,\"Aprēķins\",Transakcijas!$H:$H,\"Nokavējuma nauda\",Transakcijas!$K:$K,\"<>\"&\"FIFO*\",Transakcijas!$K:$K,\"<>\"&\"Iemaksas atbrīvošana\")","v":0},{"$f":"SUMIFS(Transakcijas!$R:$R,Transakcijas!$Q:$Q,$B$67,Transakcijas!$T:$T,YEAR($B71),Transakcijas!$U:$U,RIGHT(\"0\"&MONTH($B71),2),Transakcijas!$D:$D,\"Aprēķins\",Transakcijas!$H:$H,\"Soda nauda\",Transakcijas!$K:$K,\"<>\"&\"FIFO*\",Transakcijas!$K:$K,\"<>\"&\"Iemaksas atbrīvošana\")","v":0},{"$f":"SUMIFS(Transakcijas!$R:$R,Transakcijas!$Q:$Q,$B$67,Transakcijas!$T:$T,YEAR($B71),Transakcijas!$U:$U,RIGHT(\"0\"&MONTH($B71),2),Transakcijas!$D:$D,\"Iemaksa\",Transakcijas!$K:$K,\"<>\"&\"Izejošā maksājuma anulēšana\")\n+SUMIFS(Transakcijas!$R:$R,Transakcijas!$Q:$Q,$B$67,Transakcijas!$T:$T,YEAR($B71),Transakcijas!$U:$U,RIGHT(\"0\"&MONTH($B71),2),Transakcijas!$D:$D,\"Atmaksa\",Transakcijas!$K:$K,\"Iemaksas atbrīvošana\")","v":0},{"$f":"SUMIFS(Transakcijas!$R:$R,Transakcijas!$Q:$Q,$B$67,Transakcijas!$T:$T,YEAR($B71),Transakcijas!$U:$U,RIGHT(\"0\"&MONTH($B71),2),Transakcijas!$D:$D,\"Atmaksa\",Transakcijas!$K:$K,\"<>\"&\"Iemaksas atbrīvošana\")\n+SUMIFS(Transakcijas!$R:$R,Transakcijas!$Q:$Q,$B$67,Transakcijas!$T:$T,YEAR($B71),Transakcijas!$U:$U,RIGHT(\"0\"&MONTH($B71),2),Transakcijas!$D:$D,\"Iemaksa\",Transakcijas!$K:$K,\"Izejošā maksājuma anulēšana\")","v":0},{"$f":"SUMIFS(Transakcijas!$R:$R,Transakcijas!$Q:$Q,$B$67,Transakcijas!$T:$T,YEAR($B71),Transakcijas!$U:$U,RIGHT(\"0\"&MONTH($B71),2),Transakcijas!$K:$K,\"FIFO savstarpējā segšana\")\n+SUMIFS(Transakcijas!$R:$R,Transakcijas!$Q:$Q,$B$67,Transakcijas!$T:$T,YEAR($B71),Transakcijas!$U:$U,RIGHT(\"0\"&MONTH($B71),2),Transakcijas!$D:$D,\"Aprēķins\",Transakcijas!$K:$K,\"Iemaksas atbrīvošana\")","v":0},{"$f":"SUMIFS(Transakcijas!$R:$R,Transakcijas!$Q:$Q,$B$67,Transakcijas!$T:$T,YEAR($B71),Transakcijas!$U:$U,RIGHT(\"0\"&MONTH($B71),2))-SUM(D71:K71)","v":0},0,{"$f":"ROUND(SUMIFS(Transakcijas!$R:$R,Transakcijas!$Q:$Q,$B$67,Transakcijas!$S:$S,\"<=\"&$B71,Transakcijas!$H:$H,\"Pamatsumma\"),2)","v":0},{"$f":"ROUND(SUMIFS(Transakcijas!$R:$R,Transakcijas!$Q:$Q,$B$67,Transakcijas!$S:$S,\"<=\"&$B71,Transakcijas!$H:$H,\"Nokavējuma nauda\"),2)","v":0},{"$f":"ROUND(SUMIFS(Transakcijas!$R:$R,Transakcijas!$Q:$Q,$B$67,Transakcijas!$S:$S,\"<=\"&$B71,Transakcijas!$H:$H,\"Soda nauda\"),2)","v":0},null,{"$f":"B67","v":"PVN "},"2024-04-30",null,0,null,null,0]
[null,"2024-05-31",0,{"$f":"SUMIFS(Transakcijas!$R:$R,Transakcijas!$Q:$Q,$B$67,Transakcijas!$T:$T,YEAR($B72),Transakcijas!$U:$U,RIGHT(\"0\"&MONTH($B72),2),Transakcijas!$D:$D,\"Aprēķins\",Transakcijas!$H:$H,\"Pamatsumma\",Transakcijas!$K:$K,\"<>\"&\"FIFO*\",Transakcijas!$K:$K,\"<>\"&\"Iemaksas atbrīvošana\")","v":0},null,null,{"$f":"SUMIFS(Transakcijas!$R:$R,Transakcijas!$Q:$Q,$B$67,Transakcijas!$T:$T,YEAR($B72),Transakcijas!$U:$U,RIGHT(\"0\"&MONTH($B72),2),Transakcijas!$D:$D,\"Aprēķins\",Transakcijas!$H:$H,\"Nokavējuma nauda\",Transakcijas!$K:$K,\"<>\"&\"FIFO*\",Transakcijas!$K:$K,\"<>\"&\"Iemaksas atbrīvošana\")","v":0},{"$f":"SUMIFS(Transakcijas!$R:$R,Transakcijas!$Q:$Q,$B$67,Transakcijas!$T:$T,YEAR($B72),Transakcijas!$U:$U,RIGHT(\"0\"&MONTH($B72),2),Transakcijas!$D:$D,\"Aprēķins\",Transakcijas!$H:$H,\"Soda nauda\",Transakcijas!$K:$K,\"<>\"&\"FIFO*\",Transakcijas!$K:$K,\"<>\"&\"Iemaksas atbrīvošana\")","v":0},{"$f":"SUMIFS(Transakcijas!$R:$R,Transakcijas!$Q:$Q,$B$67,Transakcijas!$T:$T,YEAR($B72),Transakcijas!$U:$U,RIGHT(\"0\"&MONTH($B72),2),Transakcijas!$D:$D,\"Iemaksa\",Transakcijas!$K:$K,\"<>\"&\"Izejošā maksājuma anulēšana\")\n+SUMIFS(Transakcijas!$R:$R,Transakcijas!$Q:$Q,$B$67,Transakcijas!$T:$T,YEAR($B72),Transakcijas!$U:$U,RIGHT(\"0\"&MONTH($B72),2),Transakcijas!$D:$D,\"Atmaksa\",Transakcijas!$K:$K,\"Iemaksas atbrīvošana\")","v":0},{"$f":"SUMIFS(Transakcijas!$R:$R,Transakcijas!$Q:$Q,$B$67,Transakcijas!$T:$T,YEAR($B72),Transakcijas!$U:$U,RIGHT(\"0\"&MONTH($B72),2),Transakcijas!$D:$D,\"Atmaksa\",Transakcijas!$K:$K,\"<>\"&\"Iemaksas atbrīvošana\")\n+SUMIFS(Transakcijas!$R:$R,Transakcijas!$Q:$Q,$B$67,Transakcijas!$T:$T,YEAR($B72),Transakcijas!$U:$U,RIGHT(\"0\"&MONTH($B72),2),Transakcijas!$D:$D,\"Iemaksa\",Transakcijas!$K:$K,\"Izejošā maksājuma anulēšana\")","v":0},{"$f":"SUMIFS(Transakcijas!$R:$R,Transakcijas!$Q:$Q,$B$67,Transakcijas!$T:$T,YEAR($B72),Transakcijas!$U:$U,RIGHT(\"0\"&MONTH($B72),2),Transakcijas!$K:$K,\"FIFO savstarpējā segšana\")\n+SUMIFS(Transakcijas!$R:$R,Transakcijas!$Q:$Q,$B$67,Transakcijas!$T:$T,YEAR($B72),Transakcijas!$U:$U,RIGHT(\"0\"&MONTH($B72),2),Transakcijas!$D:$D,\"Aprēķins\",Transakcijas!$K:$K,\"Iemaksas atbrīvošana\")","v":0},{"$f":"SUMIFS(Transakcijas!$R:$R,Transakcijas!$Q:$Q,$B$67,Transakcijas!$T:$T,YEAR($B72),Transakcijas!$U:$U,RIGHT(\"0\"&MONTH($B72),2))-SUM(D72:K72)","v":0},0,{"$f":"ROUND(SUMIFS(Transakcijas!$R:$R,Transakcijas!$Q:$Q,$B$67,Transakcijas!$S:$S,\"<=\"&$B72,Transakcijas!$H:$H,\"Pamatsumma\"),2)","v":0},{"$f":"ROUND(SUMIFS(Transakcijas!$R:$R,Transakcijas!$Q:$Q,$B$67,Transakcijas!$S:$S,\"<=\"&$B72,Transakcijas!$H:$H,\"Nokavējuma nauda\"),2)","v":0},{"$f":"ROUND(SUMIFS(Transakcijas!$R:$R,Transakcijas!$Q:$Q,$B$67,Transakcijas!$S:$S,\"<=\"&$B72,Transakcijas!$H:$H,\"Soda nauda\"),2)","v":0},null,{"$f":"B67","v":"PVN "},"2024-05-31",null,0,null,null,0]
[null,"2024-06-30",0,{"$f":"SUMIFS(Transakcijas!$R:$R,Transakcijas!$Q:$Q,$B$67,Transakcijas!$T:$T,YEAR($B73),Transakcijas!$U:$U,RIGHT(\"0\"&MONTH($B73),2),Transakcijas!$D:$D,\"Aprēķins\",Transakcijas!$H:$H,\"Pamatsumma\",Transakcijas!$K:$K,\"<>\"&\"FIFO*\",Transakcijas!$K:$K,\"<>\"&\"Iemaksas atbrīvošana\")","v":0},null,null,{"$f":"SUMIFS(Transakcijas!$R:$R,Transakcijas!$Q:$Q,$B$67,Transakcijas!$T:$T,YEAR($B73),Transakcijas!$U:$U,RIGHT(\"0\"&MONTH($B73),2),Transakcijas!$D:$D,\"Aprēķins\",Transakcijas!$H:$H,\"Nokavējuma nauda\",Transakcijas!$K:$K,\"<>\"&\"FIFO*\",Transakcijas!$K:$K,\"<>\"&\"Iemaksas atbrīvošana\")","v":0},{"$f":"SUMIFS(Transakcijas!$R:$R,Transakcijas!$Q:$Q,$B$67,Transakcijas!$T:$T,YEAR($B73),Transakcijas!$U:$U,RIGHT(\"0\"&MONTH($B73),2),Transakcijas!$D:$D,\"Aprēķins\",Transakcijas!$H:$H,\"Soda nauda\",Transakcijas!$K:$K,\"<>\"&\"FIFO*\",Transakcijas!$K:$K,\"<>\"&\"Iemaksas atbrīvošana\")","v":0},{"$f":"SUMIFS(Transakcijas!$R:$R,Transakcijas!$Q:$Q,$B$67,Transakcijas!$T:$T,YEAR($B73),Transakcijas!$U:$U,RIGHT(\"0\"&MONTH($B73),2),Transakcijas!$D:$D,\"Iemaksa\",Transakcijas!$K:$K,\"<>\"&\"Izejošā maksājuma anulēšana\")\n+SUMIFS(Transakcijas!$R:$R,Transakcijas!$Q:$Q,$B$67,Transakcijas!$T:$T,YEAR($B73),Transakcijas!$U:$U,RIGHT(\"0\"&MONTH($B73),2),Transakcijas!$D:$D,\"Atmaksa\",Transakcijas!$K:$K,\"Iemaksas atbrīvošana\")","v":0},{"$f":"SUMIFS(Transakcijas!$R:$R,Transakcijas!$Q:$Q,$B$67,Transakcijas!$T:$T,YEAR($B73),Transakcijas!$U:$U,RIGHT(\"0\"&MONTH($B73),2),Transakcijas!$D:$D,\"Atmaksa\",Transakcijas!$K:$K,\"<>\"&\"Iemaksas atbrīvošana\")\n+SUMIFS(Transakcijas!$R:$R,Transakcijas!$Q:$Q,$B$67,Transakcijas!$T:$T,YEAR($B73),Transakcijas!$U:$U,RIGHT(\"0\"&MONTH($B73),2),Transakcijas!$D:$D,\"Iemaksa\",Transakcijas!$K:$K,\"Izejošā maksājuma anulēšana\")","v":0},{"$f":"SUMIFS(Transakcijas!$R:$R,Transakcijas!$Q:$Q,$B$67,Transakcijas!$T:$T,YEAR($B73),Transakcijas!$U:$U,RIGHT(\"0\"&MONTH($B73),2),Transakcijas!$K:$K,\"FIFO savstarpējā segšana\")\n+SUMIFS(Transakcijas!$R:$R,Transakcijas!$Q:$Q,$B$67,Transakcijas!$T:$T,YEAR($B73),Transakcijas!$U:$U,RIGHT(\"0\"&MONTH($B73),2),Transakcijas!$D:$D,\"Aprēķins\",Transakcijas!$K:$K,\"Iemaksas atbrīvošana\")","v":0},{"$f":"SUMIFS(Transakcijas!$R:$R,Transakcijas!$Q:$Q,$B$67,Transakcijas!$T:$T,YEAR($B73),Transakcijas!$U:$U,RIGHT(\"0\"&MONTH($B73),2))-SUM(D73:K73)","v":0},0,{"$f":"ROUND(SUMIFS(Transakcijas!$R:$R,Transakcijas!$Q:$Q,$B$67,Transakcijas!$S:$S,\"<=\"&$B73,Transakcijas!$H:$H,\"Pamatsumma\"),2)","v":0},{"$f":"ROUND(SUMIFS(Transakcijas!$R:$R,Transakcijas!$Q:$Q,$B$67,Transakcijas!$S:$S,\"<=\"&$B73,Transakcijas!$H:$H,\"Nokavējuma nauda\"),2)","v":0},{"$f":"ROUND(SUMIFS(Transakcijas!$R:$R,Transakcijas!$Q:$Q,$B$67,Transakcijas!$S:$S,\"<=\"&$B73,Transakcijas!$H:$H,\"Soda nauda\"),2)","v":0},null,{"$f":"B67","v":"PVN "},"2024-06-30",null,0,null,null,0]
[null,"2024-07-31",0,{"$f":"SUMIFS(Transakcijas!$R:$R,Transakcijas!$Q:$Q,$B$67,Transakcijas!$T:$T,YEAR($B74),Transakcijas!$U:$U,RIGHT(\"0\"&MONTH($B74),2),Transakcijas!$D:$D,\"Aprēķins\",Transakcijas!$H:$H,\"Pamatsumma\",Transakcijas!$K:$K,\"<>\"&\"FIFO*\",Transakcijas!$K:$K,\"<>\"&\"Iemaksas atbrīvošana\")","v":0},null,null,{"$f":"SUMIFS(Transakcijas!$R:$R,Transakcijas!$Q:$Q,$B$67,Transakcijas!$T:$T,YEAR($B74),Transakcijas!$U:$U,RIGHT(\"0\"&MONTH($B74),2),Transakcijas!$D:$D,\"Aprēķins\",Transakcijas!$H:$H,\"Nokavējuma nauda\",Transakcijas!$K:$K,\"<>\"&\"FIFO*\",Transakcijas!$K:$K,\"<>\"&\"Iemaksas atbrīvošana\")","v":0},{"$f":"SUMIFS(Transakcijas!$R:$R,Transakcijas!$Q:$Q,$B$67,Transakcijas!$T:$T,YEAR($B74),Transakcijas!$U:$U,RIGHT(\"0\"&MONTH($B74),2),Transakcijas!$D:$D,\"Aprēķins\",Transakcijas!$H:$H,\"Soda nauda\",Transakcijas!$K:$K,\"<>\"&\"FIFO*\",Transakcijas!$K:$K,\"<>\"&\"Iemaksas atbrīvošana\")","v":0},{"$f":"SUMIFS(Transakcijas!$R:$R,Transakcijas!$Q:$Q,$B$67,Transakcijas!$T:$T,YEAR($B74),Transakcijas!$U:$U,RIGHT(\"0\"&MONTH($B74),2),Transakcijas!$D:$D,\"Iemaksa\",Transakcijas!$K:$K,\"<>\"&\"Izejošā maksājuma anulēšana\")\n+SUMIFS(Transakcijas!$R:$R,Transakcijas!$Q:$Q,$B$67,Transakcijas!$T:$T,YEAR($B74),Transakcijas!$U:$U,RIGHT(\"0\"&MONTH($B74),2),Transakcijas!$D:$D,\"Atmaksa\",Transakcijas!$K:$K,\"Iemaksas atbrīvošana\")","v":0},{"$f":"SUMIFS(Transakcijas!$R:$R,Transakcijas!$Q:$Q,$B$67,Transakcijas!$T:$T,YEAR($B74),Transakcijas!$U:$U,RIGHT(\"0\"&MONTH($B74),2),Transakcijas!$D:$D,\"Atmaksa\",Transakcijas!$K:$K,\"<>\"&\"Iemaksas atbrīvošana\")\n+SUMIFS(Transakcijas!$R:$R,Transakcijas!$Q:$Q,$B$67,Transakcijas!$T:$T,YEAR($B74),Transakcijas!$U:$U,RIGHT(\"0\"&MONTH($B74),2),Transakcijas!$D:$D,\"Iemaksa\",Transakcijas!$K:$K,\"Izejošā maksājuma anulēšana\")","v":0},{"$f":"SUMIFS(Transakcijas!$R:$R,Transakcijas!$Q:$Q,$B$67,Transakcijas!$T:$T,YEAR($B74),Transakcijas!$U:$U,RIGHT(\"0\"&MONTH($B74),2),Transakcijas!$K:$K,\"FIFO savstarpējā segšana\")\n+SUMIFS(Transakcijas!$R:$R,Transakcijas!$Q:$Q,$B$67,Transakcijas!$T:$T,YEAR($B74),Transakcijas!$U:$U,RIGHT(\"0\"&MONTH($B74),2),Transakcijas!$D:$D,\"Aprēķins\",Transakcijas!$K:$K,\"Iemaksas atbrīvošana\")","v":0},{"$f":"SUMIFS(Transakcijas!$R:$R,Transakcijas!$Q:$Q,$B$67,Transakcijas!$T:$T,YEAR($B74),Transakcijas!$U:$U,RIGHT(\"0\"&MONTH($B74),2))-SUM(D74:K74)","v":0},0,{"$f":"ROUND(SUMIFS(Transakcijas!$R:$R,Transakcijas!$Q:$Q,$B$67,Transakcijas!$S:$S,\"<=\"&$B74,Transakcijas!$H:$H,\"Pamatsumma\"),2)","v":0},{"$f":"ROUND(SUMIFS(Transakcijas!$R:$R,Transakcijas!$Q:$Q,$B$67,Transakcijas!$S:$S,\"<=\"&$B74,Transakcijas!$H:$H,\"Nokavējuma nauda\"),2)","v":0},{"$f":"ROUND(SUMIFS(Transakcijas!$R:$R,Transakcijas!$Q:$Q,$B$67,Transakcijas!$S:$S,\"<=\"&$B74,Transakcijas!$H:$H,\"Soda nauda\"),2)","v":0},null,{"$f":"B67","v":"PVN "},"2024-07-31",null,0,null,null,0]
[null,"2024-08-31",0,{"$f":"SUMIFS(Transakcijas!$R:$R,Transakcijas!$Q:$Q,$B$67,Transakcijas!$T:$T,YEAR($B75),Transakcijas!$U:$U,RIGHT(\"0\"&MONTH($B75),2),Transakcijas!$D:$D,\"Aprēķins\",Transakcijas!$H:$H,\"Pamatsumma\",Transakcijas!$K:$K,\"<>\"&\"FIFO*\",Transakcijas!$K:$K,\"<>\"&\"Iemaksas atbrīvošana\")","v":0},null,null,{"$f":"SUMIFS(Transakcijas!$R:$R,Transakcijas!$Q:$Q,$B$67,Transakcijas!$T:$T,YEAR($B75),Transakcijas!$U:$U,RIGHT(\"0\"&MONTH($B75),2),Transakcijas!$D:$D,\"Aprēķins\",Transakcijas!$H:$H,\"Nokavējuma nauda\",Transakcijas!$K:$K,\"<>\"&\"FIFO*\",Transakcijas!$K:$K,\"<>\"&\"Iemaksas atbrīvošana\")","v":0},{"$f":"SUMIFS(Transakcijas!$R:$R,Transakcijas!$Q:$Q,$B$67,Transakcijas!$T:$T,YEAR($B75),Transakcijas!$U:$U,RIGHT(\"0\"&MONTH($B75),2),Transakcijas!$D:$D,\"Aprēķins\",Transakcijas!$H:$H,\"Soda nauda\",Transakcijas!$K:$K,\"<>\"&\"FIFO*\",Transakcijas!$K:$K,\"<>\"&\"Iemaksas atbrīvošana\")","v":0},{"$f":"SUMIFS(Transakcijas!$R:$R,Transakcijas!$Q:$Q,$B$67,Transakcijas!$T:$T,YEAR($B75),Transakcijas!$U:$U,RIGHT(\"0\"&MONTH($B75),2),Transakcijas!$D:$D,\"Iemaksa\",Transakcijas!$K:$K,\"<>\"&\"Izejošā maksājuma anulēšana\")\n+SUMIFS(Transakcijas!$R:$R,Transakcijas!$Q:$Q,$B$67,Transakcijas!$T:$T,YEAR($B75),Transakcijas!$U:$U,RIGHT(\"0\"&MONTH($B75),2),Transakcijas!$D:$D,\"Atmaksa\",Transakcijas!$K:$K,\"Iemaksas atbrīvošana\")","v":0},{"$f":"SUMIFS(Transakcijas!$R:$R,Transakcijas!$Q:$Q,$B$67,Transakcijas!$T:$T,YEAR($B75),Transakcijas!$U:$U,RIGHT(\"0\"&MONTH($B75),2),Transakcijas!$D:$D,\"Atmaksa\",Transakcijas!$K:$K,\"<>\"&\"Iemaksas atbrīvošana\")\n+SUMIFS(Transakcijas!$R:$R,Transakcijas!$Q:$Q,$B$67,Transakcijas!$T:$T,YEAR($B75),Transakcijas!$U:$U,RIGHT(\"0\"&MONTH($B75),2),Transakcijas!$D:$D,\"Iemaksa\",Transakcijas!$K:$K,\"Izejošā maksājuma anulēšana\")","v":0},{"$f":"SUMIFS(Transakcijas!$R:$R,Transakcijas!$Q:$Q,$B$67,Transakcijas!$T:$T,YEAR($B75),Transakcijas!$U:$U,RIGHT(\"0\"&MONTH($B75),2),Transakcijas!$K:$K,\"FIFO savstarpējā segšana\")\n+SUMIFS(Transakcijas!$R:$R,Transakcijas!$Q:$Q,$B$67,Transakcijas!$T:$T,YEAR($B75),Transakcijas!$U:$U,RIGHT(\"0\"&MONTH($B75),2),Transakcijas!$D:$D,\"Aprēķins\",Transakcijas!$K:$K,\"Iemaksas atbrīvošana\")","v":0},{"$f":"SUMIFS(Transakcijas!$R:$R,Transakcijas!$Q:$Q,$B$67,Transakcijas!$T:$T,YEAR($B75),Transakcijas!$U:$U,RIGHT(\"0\"&MONTH($B75),2))-SUM(D75:K75)","v":0},0,{"$f":"ROUND(SUMIFS(Transakcijas!$R:$R,Transakcijas!$Q:$Q,$B$67,Transakcijas!$S:$S,\"<=\"&$B75,Transakcijas!$H:$H,\"Pamatsumma\"),2)","v":0},{"$f":"ROUND(SUMIFS(Transakcijas!$R:$R,Transakcijas!$Q:$Q,$B$67,Transakcijas!$S:$S,\"<=\"&$B75,Transakcijas!$H:$H,\"Nokavējuma nauda\"),2)","v":0},{"$f":"ROUND(SUMIFS(Transakcijas!$R:$R,Transakcijas!$Q:$Q,$B$67,Transakcijas!$S:$S,\"<=\"&$B75,Transakcijas!$H:$H,\"Soda nauda\"),2)","v":0},null,{"$f":"B67","v":"PVN "},"2024-08-31",null,0,null,null,0]
[null,"2024-09-30",0,{"$f":"SUMIFS(Transakcijas!$R:$R,Transakcijas!$Q:$Q,$B$67,Transakcijas!$T:$T,YEAR($B76),Transakcijas!$U:$U,RIGHT(\"0\"&MONTH($B76),2),Transakcijas!$D:$D,\"Aprēķins\",Transakcijas!$H:$H,\"Pamatsumma\",Transakcijas!$K:$K,\"<>\"&\"FIFO*\",Transakcijas!$K:$K,\"<>\"&\"Iemaksas atbrīvošana\")","v":0},null,null,{"$f":"SUMIFS(Transakcijas!$R:$R,Transakcijas!$Q:$Q,$B$67,Transakcijas!$T:$T,YEAR($B76),Transakcijas!$U:$U,RIGHT(\"0\"&MONTH($B76),2),Transakcijas!$D:$D,\"Aprēķins\",Transakcijas!$H:$H,\"Nokavējuma nauda\",Transakcijas!$K:$K,\"<>\"&\"FIFO*\",Transakcijas!$K:$K,\"<>\"&\"Iemaksas atbrīvošana\")","v":0},{"$f":"SUMIFS(Transakcijas!$R:$R,Transakcijas!$Q:$Q,$B$67,Transakcijas!$T:$T,YEAR($B76),Transakcijas!$U:$U,RIGHT(\"0\"&MONTH($B76),2),Transakcijas!$D:$D,\"Aprēķins\",Transakcijas!$H:$H,\"Soda nauda\",Transakcijas!$K:$K,\"<>\"&\"FIFO*\",Transakcijas!$K:$K,\"<>\"&\"Iemaksas atbrīvošana\")","v":0},{"$f":"SUMIFS(Transakcijas!$R:$R,Transakcijas!$Q:$Q,$B$67,Transakcijas!$T:$T,YEAR($B76),Transakcijas!$U:$U,RIGHT(\"0\"&MONTH($B76),2),Transakcijas!$D:$D,\"Iemaksa\",Transakcijas!$K:$K,\"<>\"&\"Izejošā maksājuma anulēšana\")\n+SUMIFS(Transakcijas!$R:$R,Transakcijas!$Q:$Q,$B$67,Transakcijas!$T:$T,YEAR($B76),Transakcijas!$U:$U,RIGHT(\"0\"&MONTH($B76),2),Transakcijas!$D:$D,\"Atmaksa\",Transakcijas!$K:$K,\"Iemaksas atbrīvošana\")","v":0},{"$f":"SUMIFS(Transakcijas!$R:$R,Transakcijas!$Q:$Q,$B$67,Transakcijas!$T:$T,YEAR($B76),Transakcijas!$U:$U,RIGHT(\"0\"&MONTH($B76),2),Transakcijas!$D:$D,\"Atmaksa\",Transakcijas!$K:$K,\"<>\"&\"Iemaksas atbrīvošana\")\n+SUMIFS(Transakcijas!$R:$R,Transakcijas!$Q:$Q,$B$67,Transakcijas!$T:$T,YEAR($B76),Transakcijas!$U:$U,RIGHT(\"0\"&MONTH($B76),2),Transakcijas!$D:$D,\"Iemaksa\",Transakcijas!$K:$K,\"Izejošā maksājuma anulēšana\")","v":0},{"$f":"SUMIFS(Transakcijas!$R:$R,Transakcijas!$Q:$Q,$B$67,Transakcijas!$T:$T,YEAR($B76),Transakcijas!$U:$U,RIGHT(\"0\"&MONTH($B76),2),Transakcijas!$K:$K,\"FIFO savstarpējā segšana\")\n+SUMIFS(Transakcijas!$R:$R,Transakcijas!$Q:$Q,$B$67,Transakcijas!$T:$T,YEAR($B76),Transakcijas!$U:$U,RIGHT(\"0\"&MONTH($B76),2),Transakcijas!$D:$D,\"Aprēķins\",Transakcijas!$K:$K,\"Iemaksas atbrīvošana\")","v":0},{"$f":"SUMIFS(Transakcijas!$R:$R,Transakcijas!$Q:$Q,$B$67,Transakcijas!$T:$T,YEAR($B76),Transakcijas!$U:$U,RIGHT(\"0\"&MONTH($B76),2))-SUM(D76:K76)","v":0},0,{"$f":"ROUND(SUMIFS(Transakcijas!$R:$R,Transakcijas!$Q:$Q,$B$67,Transakcijas!$S:$S,\"<=\"&$B76,Transakcijas!$H:$H,\"Pamatsumma\"),2)","v":0},{"$f":"ROUND(SUMIFS(Transakcijas!$R:$R,Transakcijas!$Q:$Q,$B$67,Transakcijas!$S:$S,\"<=\"&$B76,Transakcijas!$H:$H,\"Nokavējuma nauda\"),2)","v":0},{"$f":"ROUND(SUMIFS(Transakcijas!$R:$R,Transakcijas!$Q:$Q,$B$67,Transakcijas!$S:$S,\"<=\"&$B76,Transakcijas!$H:$H,\"Soda nauda\"),2)","v":0},null,{"$f":"B67","v":"PVN "},"2024-09-30",null,0,null,null,0]
[null,"2024-10-31",0,{"$f":"SUMIFS(Transakcijas!$R:$R,Transakcijas!$Q:$Q,$B$67,Transakcijas!$T:$T,YEAR($B77),Transakcijas!$U:$U,RIGHT(\"0\"&MONTH($B77),2),Transakcijas!$D:$D,\"Aprēķins\",Transakcijas!$H:$H,\"Pamatsumma\",Transakcijas!$K:$K,\"<>\"&\"FIFO*\",Transakcijas!$K:$K,\"<>\"&\"Iemaksas atbrīvošana\")","v":0},null,null,{"$f":"SUMIFS(Transakcijas!$R:$R,Transakcijas!$Q:$Q,$B$67,Transakcijas!$T:$T,YEAR($B77),Transakcijas!$U:$U,RIGHT(\"0\"&MONTH($B77),2),Transakcijas!$D:$D,\"Aprēķins\",Transakcijas!$H:$H,\"Nokavējuma nauda\",Transakcijas!$K:$K,\"<>\"&\"FIFO*\",Transakcijas!$K:$K,\"<>\"&\"Iemaksas atbrīvošana\")","v":0},{"$f":"SUMIFS(Transakcijas!$R:$R,Transakcijas!$Q:$Q,$B$67,Transakcijas!$T:$T,YEAR($B77),Transakcijas!$U:$U,RIGHT(\"0\"&MONTH($B77),2),Transakcijas!$D:$D,\"Aprēķins\",Transakcijas!$H:$H,\"Soda nauda\",Transakcijas!$K:$K,\"<>\"&\"FIFO*\",Transakcijas!$K:$K,\"<>\"&\"Iemaksas atbrīvošana\")","v":0},{"$f":"SUMIFS(Transakcijas!$R:$R,Transakcijas!$Q:$Q,$B$67,Transakcijas!$T:$T,YEAR($B77),Transakcijas!$U:$U,RIGHT(\"0\"&MONTH($B77),2),Transakcijas!$D:$D,\"Iemaksa\",Transakcijas!$K:$K,\"<>\"&\"Izejošā maksājuma anulēšana\")\n+SUMIFS(Transakcijas!$R:$R,Transakcijas!$Q:$Q,$B$67,Transakcijas!$T:$T,YEAR($B77),Transakcijas!$U:$U,RIGHT(\"0\"&MONTH($B77),2),Transakcijas!$D:$D,\"Atmaksa\",Transakcijas!$K:$K,\"Iemaksas atbrīvošana\")","v":0},{"$f":"SUMIFS(Transakcijas!$R:$R,Transakcijas!$Q:$Q,$B$67,Transakcijas!$T:$T,YEAR($B77),Transakcijas!$U:$U,RIGHT(\"0\"&MONTH($B77),2),Transakcijas!$D:$D,\"Atmaksa\",Transakcijas!$K:$K,\"<>\"&\"Iemaksas atbrīvošana\")\n+SUMIFS(Transakcijas!$R:$R,Transakcijas!$Q:$Q,$B$67,Transakcijas!$T:$T,YEAR($B77),Transakcijas!$U:$U,RIGHT(\"0\"&MONTH($B77),2),Transakcijas!$D:$D,\"Iemaksa\",Transakcijas!$K:$K,\"Izejošā maksājuma anulēšana\")","v":0},{"$f":"SUMIFS(Transakcijas!$R:$R,Transakcijas!$Q:$Q,$B$67,Transakcijas!$T:$T,YEAR($B77),Transakcijas!$U:$U,RIGHT(\"0\"&MONTH($B77),2),Transakcijas!$K:$K,\"FIFO savstarpējā segšana\")\n+SUMIFS(Transakcijas!$R:$R,Transakcijas!$Q:$Q,$B$67,Transakcijas!$T:$T,YEAR($B77),Transakcijas!$U:$U,RIGHT(\"0\"&MONTH($B77),2),Transakcijas!$D:$D,\"Aprēķins\",Transakcijas!$K:$K,\"Iemaksas atbrīvošana\")","v":0},{"$f":"SUMIFS(Transakcijas!$R:$R,Transakcijas!$Q:$Q,$B$67,Transakcijas!$T:$T,YEAR($B77),Transakcijas!$U:$U,RIGHT(\"0\"&MONTH($B77),2))-SUM(D77:K77)","v":0},0,{"$f":"ROUND(SUMIFS(Transakcijas!$R:$R,Transakcijas!$Q:$Q,$B$67,Transakcijas!$S:$S,\"<=\"&$B77,Transakcijas!$H:$H,\"Pamatsumma\"),2)","v":0},{"$f":"ROUND(SUMIFS(Transakcijas!$R:$R,Transakcijas!$Q:$Q,$B$67,Transakcijas!$S:$S,\"<=\"&$B77,Transakcijas!$H:$H,\"Nokavējuma nauda\"),2)","v":0},{"$f":"ROUND(SUMIFS(Transakcijas!$R:$R,Transakcijas!$Q:$Q,$B$67,Transakcijas!$S:$S,\"<=\"&$B77,Transakcijas!$H:$H,\"Soda nauda\"),2)","v":0},null,{"$f":"B67","v":"PVN "},"2024-10-31",null,0,null,null,0]
[null,"2024-11-30",0,{"$f":"SUMIFS(Transakcijas!$R:$R,Transakcijas!$Q:$Q,$B$67,Transakcijas!$T:$T,YEAR($B78),Transakcijas!$U:$U,RIGHT(\"0\"&MONTH($B78),2),Transakcijas!$D:$D,\"Aprēķins\",Transakcijas!$H:$H,\"Pamatsumma\",Transakcijas!$K:$K,\"<>\"&\"FIFO*\",Transakcijas!$K:$K,\"<>\"&\"Iemaksas atbrīvošana\")","v":0},null,null,{"$f":"SUMIFS(Transakcijas!$R:$R,Transakcijas!$Q:$Q,$B$67,Transakcijas!$T:$T,YEAR($B78),Transakcijas!$U:$U,RIGHT(\"0\"&MONTH($B78),2),Transakcijas!$D:$D,\"Aprēķins\",Transakcijas!$H:$H,\"Nokavējuma nauda\",Transakcijas!$K:$K,\"<>\"&\"FIFO*\",Transakcijas!$K:$K,\"<>\"&\"Iemaksas atbrīvošana\")","v":0},{"$f":"SUMIFS(Transakcijas!$R:$R,Transakcijas!$Q:$Q,$B$67,Transakcijas!$T:$T,YEAR($B78),Transakcijas!$U:$U,RIGHT(\"0\"&MONTH($B78),2),Transakcijas!$D:$D,\"Aprēķins\",Transakcijas!$H:$H,\"Soda nauda\",Transakcijas!$K:$K,\"<>\"&\"FIFO*\",Transakcijas!$K:$K,\"<>\"&\"Iemaksas atbrīvošana\")","v":0},{"$f":"SUMIFS(Transakcijas!$R:$R,Transakcijas!$Q:$Q,$B$67,Transakcijas!$T:$T,YEAR($B78),Transakcijas!$U:$U,RIGHT(\"0\"&MONTH($B78),2),Transakcijas!$D:$D,\"Iemaksa\",Transakcijas!$K:$K,\"<>\"&\"Izejošā maksājuma anulēšana\")\n+SUMIFS(Transakcijas!$R:$R,Transakcijas!$Q:$Q,$B$67,Transakcijas!$T:$T,YEAR($B78),Transakcijas!$U:$U,RIGHT(\"0\"&MONTH($B78),2),Transakcijas!$D:$D,\"Atmaksa\",Transakcijas!$K:$K,\"Iemaksas atbrīvošana\")","v":0},{"$f":"SUMIFS(Transakcijas!$R:$R,Transakcijas!$Q:$Q,$B$67,Transakcijas!$T:$T,YEAR($B78),Transakcijas!$U:$U,RIGHT(\"0\"&MONTH($B78),2),Transakcijas!$D:$D,\"Atmaksa\",Transakcijas!$K:$K,\"<>\"&\"Iemaksas atbrīvošana\")\n+SUMIFS(Transakcijas!$R:$R,Transakcijas!$Q:$Q,$B$67,Transakcijas!$T:$T,YEAR($B78),Transakcijas!$U:$U,RIGHT(\"0\"&MONTH($B78),2),Transakcijas!$D:$D,\"Iemaksa\",Transakcijas!$K:$K,\"Izejošā maksājuma anulēšana\")","v":0},{"$f":"SUMIFS(Transakcijas!$R:$R,Transakcijas!$Q:$Q,$B$67,Transakcijas!$T:$T,YEAR($B78),Transakcijas!$U:$U,RIGHT(\"0\"&MONTH($B78),2),Transakcijas!$K:$K,\"FIFO savstarpējā segšana\")\n+SUMIFS(Transakcijas!$R:$R,Transakcijas!$Q:$Q,$B$67,Transakcijas!$T:$T,YEAR($B78),Transakcijas!$U:$U,RIGHT(\"0\"&MONTH($B78),2),Transakcijas!$D:$D,\"Aprēķins\",Transakcijas!$K:$K,\"Iemaksas atbrīvošana\")","v":0},{"$f":"SUMIFS(Transakcijas!$R:$R,Transakcijas!$Q:$Q,$B$67,Transakcijas!$T:$T,YEAR($B78),Transakcijas!$U:$U,RIGHT(\"0\"&MONTH($B78),2))-SUM(D78:K78)","v":0},0,{"$f":"ROUND(SUMIFS(Transakcijas!$R:$R,Transakcijas!$Q:$Q,$B$67,Transakcijas!$S:$S,\"<=\"&$B78,Transakcijas!$H:$H,\"Pamatsumma\"),2)","v":0},{"$f":"ROUND(SUMIFS(Transakcijas!$R:$R,Transakcijas!$Q:$Q,$B$67,Transakcijas!$S:$S,\"<=\"&$B78,Transakcijas!$H:$H,\"Nokavējuma nauda\"),2)","v":0},{"$f":"ROUND(SUMIFS(Transakcijas!$R:$R,Transakcijas!$Q:$Q,$B$67,Transakcijas!$S:$S,\"<=\"&$B78,Transakcijas!$H:$H,\"Soda nauda\"),2)","v":0},null,{"$f":"B67","v":"PVN "},"2024-11-30",null,0,null,null,0]
[null,"2024-12-31",0,{"$f":"SUMIFS(Transakcijas!$R:$R,Transakcijas!$Q:$Q,$B$67,Transakcijas!$T:$T,YEAR($B79),Transakcijas!$U:$U,RIGHT(\"0\"&MONTH($B79),2),Transakcijas!$D:$D,\"Aprēķins\",Transakcijas!$H:$H,\"Pamatsumma\",Transakcijas!$K:$K,\"<>\"&\"FIFO*\",Transakcijas!$K:$K,\"<>\"&\"Iemaksas atbrīvošana\")","v":0},null,null,{"$f":"SUMIFS(Transakcijas!$R:$R,Transakcijas!$Q:$Q,$B$67,Transakcijas!$T:$T,YEAR($B79),Transakcijas!$U:$U,RIGHT(\"0\"&MONTH($B79),2),Transakcijas!$D:$D,\"Aprēķins\",Transakcijas!$H:$H,\"Nokavējuma nauda\",Transakcijas!$K:$K,\"<>\"&\"FIFO*\",Transakcijas!$K:$K,\"<>\"&\"Iemaksas atbrīvošana\")","v":0},{"$f":"SUMIFS(Transakcijas!$R:$R,Transakcijas!$Q:$Q,$B$67,Transakcijas!$T:$T,YEAR($B79),Transakcijas!$U:$U,RIGHT(\"0\"&MONTH($B79),2),Transakcijas!$D:$D,\"Aprēķins\",Transakcijas!$H:$H,\"Soda nauda\",Transakcijas!$K:$K,\"<>\"&\"FIFO*\",Transakcijas!$K:$K,\"<>\"&\"Iemaksas atbrīvošana\")","v":0},{"$f":"SUMIFS(Transakcijas!$R:$R,Transakcijas!$Q:$Q,$B$67,Transakcijas!$T:$T,YEAR($B79),Transakcijas!$U:$U,RIGHT(\"0\"&MONTH($B79),2),Transakcijas!$D:$D,\"Iemaksa\",Transakcijas!$K:$K,\"<>\"&\"Izejošā maksājuma anulēšana\")\n+SUMIFS(Transakcijas!$R:$R,Transakcijas!$Q:$Q,$B$67,Transakcijas!$T:$T,YEAR($B79),Transakcijas!$U:$U,RIGHT(\"0\"&MONTH($B79),2),Transakcijas!$D:$D,\"Atmaksa\",Transakcijas!$K:$K,\"Iemaksas atbrīvošana\")","v":0},{"$f":"SUMIFS(Transakcijas!$R:$R,Transakcijas!$Q:$Q,$B$67,Transakcijas!$T:$T,YEAR($B79),Transakcijas!$U:$U,RIGHT(\"0\"&MONTH($B79),2),Transakcijas!$D:$D,\"Atmaksa\",Transakcijas!$K:$K,\"<>\"&\"Iemaksas atbrīvošana\")\n+SUMIFS(Transakcijas!$R:$R,Transakcijas!$Q:$Q,$B$67,Transakcijas!$T:$T,YEAR($B79),Transakcijas!$U:$U,RIGHT(\"0\"&MONTH($B79),2),Transakcijas!$D:$D,\"Iemaksa\",Transakcijas!$K:$K,\"Izejošā maksājuma anulēšana\")","v":0},{"$f":"SUMIFS(Transakcijas!$R:$R,Transakcijas!$Q:$Q,$B$67,Transakcijas!$T:$T,YEAR($B79),Transakcijas!$U:$U,RIGHT(\"0\"&MONTH($B79),2),Transakcijas!$K:$K,\"FIFO savstarpējā segšana\")\n+SUMIFS(Transakcijas!$R:$R,Transakcijas!$Q:$Q,$B$67,Transakcijas!$T:$T,YEAR($B79),Transakcijas!$U:$U,RIGHT(\"0\"&MONTH($B79),2),Transakcijas!$D:$D,\"Aprēķins\",Transakcijas!$K:$K,\"Iemaksas atbrīvošana\")","v":0},{"$f":"SUMIFS(Transakcijas!$R:$R,Transakcijas!$Q:$Q,$B$67,Transakcijas!$T:$T,YEAR($B79),Transakcijas!$U:$U,RIGHT(\"0\"&MONTH($B79),2))-SUM(D79:K79)","v":0},0,{"$f":"ROUND(SUMIFS(Transakcijas!$R:$R,Transakcijas!$Q:$Q,$B$67,Transakcijas!$S:$S,\"<=\"&$B79,Transakcijas!$H:$H,\"Pamatsumma\"),2)","v":0},{"$f":"ROUND(SUMIFS(Transakcijas!$R:$R,Transakcijas!$Q:$Q,$B$67,Transakcijas!$S:$S,\"<=\"&$B79,Transakcijas!$H:$H,\"Nokavējuma nauda\"),2)","v":0},{"$f":"ROUND(SUMIFS(Transakcijas!$R:$R,Transakcijas!$Q:$Q,$B$67,Transakcijas!$S:$S,\"<=\"&$B79,Transakcijas!$H:$H,\"Soda nauda\"),2)","v":0},null,{"$f":"B67","v":"PVN "},"2024-12-31",null,0,null,null,0]
[null,"Kopā",{"$f":"C68","v":0},{"$f":"SUM(D68:D79)","v":0},null,null,{"$f":"SUM(G68:G79)","v":0},0,0,0,0,0,0]
[]
[null,{"$f":"B10","v":"UIN"},"Atlikums uz perioda sākumu",{"$f":"D$4","v":"Aprēķināts"},{"$f":"E$4","v":"Ieturēts IIN\nMin. VSAOI"},"Apr.nerezid.\nUniv.IF VSAOI","Aprēķināta nokav. nauda  ","Aprēķināta\n soda nauda  ","Samaksāts\nAtbrīvots","Atmaksāts","Pārvietots \n(Savst.segš.)","Cita \nkustība","Atlikums uz perioda beigām","Pamat-\nsumma","Nokav. \nnauda  ","Soda \nnauda  "]
[null,{"$f":"DATE(YEAR($C$4),MONTH($C$4)+1,0)","v":"2024-01-31"},{"$f":"C10","v":0},{"$f":"SUMIFS(Transakcijas!$R:$R,Transakcijas!$Q:$Q,$B$82,Transakcijas!$T:$T,YEAR($B83),Transakcijas!$U:$U,RIGHT(\"0\"&MONTH($B83),2),Transakcijas!$D:$D,\"Aprēķins\",Transakcijas!$H:$H,\"Pamatsumma\",Transakcijas!$K:$K,\"<>\"&\"FIFO*\",Transakcijas!$K:$K,\"<>\"&\"Iemaksas atbrīvošana\")","v":0},null,null,{"$f":"SUMIFS(Transakcijas!$R:$R,Transakcijas!$Q:$Q,$B$82,Transakcijas!$T:$T,YEAR($B83),Transakcijas!$U:$U,RIGHT(\"0\"&MONTH($B83),2),Transakcijas!$D:$D,\"Aprēķins\",Transakcijas!$H:$H,\"Nokavējuma nauda\",Transakcijas!$K:$K,\"<>\"&\"FIFO*\",Transakcijas!$K:$K,\"<>\"&\"Iemaksas atbrīvošana\")","v":0},{"$f":"SUMIFS(Transakcijas!$R:$R,Transakcijas!$Q:$Q,$B$82,Transakcijas!$T:$T,YEAR($B83),Transakcijas!$U:$U,RIGHT(\"0\"&MONTH($B83),2),Transakcijas!$D:$D,\"Aprēķins\",Transakcijas!$H:$H,\"Soda nauda\",Transakcijas!$K:$K,\"<>\"&\"FIFO*\",Transakcijas!$K:$K,\"<>\"&\"Iemaksas atbrīvošana\")","v":0},{"$f":"SUMIFS(Transakcijas!$R:$R,Transakcijas!$Q:$Q,$B$82,Transakcijas!$T:$T,YEAR($B83),Transakcijas!$U:$U,RIGHT(\"0\"&MONTH($B83),2),Transakcijas!$D:$D,\"Iemaksa\",Transakcijas!$K:$K,\"<>\"&\"Izejošā maksājuma anulēšana\")\n+SUMIFS(Transakcijas!$R:$R,Transakcijas!$Q:$Q,$B$82,Transakcijas!$T:$T,YEAR($B83),Transakcijas!$U:$U,RIGHT(\"0\"&MONTH($B83),2),Transakcijas!$D:$D,\"Atmaksa\",Transakcijas!$K:$K,\"Iemaksas atbrīvošana\")","v":0},{"$f":"SUMIFS(Transakcijas!$R:$R,Transakcijas!$Q:$Q,$B$82,Transakcijas!$T:$T,YEAR($B83),Transakcijas!$U:$U,RIGHT(\"0\"&MONTH($B83),2),Transakcijas!$D:$D,\"Atmaksa\",Transakcijas!$K:$K,\"<>\"&\"Iemaksas atbrīvošana\")\n+SUMIFS(Transakcijas!$R:$R,Transakcijas!$Q:$Q,$B$82,Transakcijas!$T:$T,YEAR($B83),Transakcijas!$U:$U,RIGHT(\"0\"&MONTH($B83),2),Transakcijas!$D:$D,\"Iemaksa\",Transakcijas!$K:$K,\"Izejošā maksājuma anulēšana\")","v":0},{"$f":"SUMIFS(Transakcijas!$R:$R,Transakcijas!$Q:$Q,$B$82,Transakcijas!$T:$T,YEAR($B83),Transakcijas!$U:$U,RIGHT(\"0\"&MONTH($B83),2),Transakcijas!$K:$K,\"FIFO savstarpējā segšana\")\n+SUMIFS(Transakcijas!$R:$R,Transakcijas!$Q:$Q,$B$82,Transakcijas!$T:$T,YEAR($B83),Transakcijas!$U:$U,RIGHT(\"0\"&MONTH($B83),2),Transakcijas!$D:$D,\"Aprēķins\",Transakcijas!$K:$K,\"Iemaksas atbrīvošana\")","v":0},{"$f":"SUMIFS(Transakcijas!$R:$R,Transakcijas!$Q:$Q,$B$82,Transakcijas!$T:$T,YEAR($B83),Transakcijas!$U:$U,RIGHT(\"0\"&MONTH($B83),2))-SUM(D83:K83)","v":0},{"$f":"SUM(C83:L83)","v":0},{"$f":"ROUND(SUMIFS(Transakcijas!$R:$R,Transakcijas!$Q:$Q,$B$82,Transakcijas!$S:$S,\"<=\"&$B83,Transakcijas!$H:$H,\"Pamatsumma\"),2)","v":0},{"$f":"ROUND(SUMIFS(Transakcijas!$R:$R,Transakcijas!$Q:$Q,$B$82,Transakcijas!$S:$S,\"<=\"&$B83,Transakcijas!$H:$H,\"Nokavējuma nauda\"),2)","v":0},{"$f":"ROUND(SUMIFS(Transakcijas!$R:$R,Transakcijas!$Q:$Q,$B$82,Transakcijas!$S:$S,\"<=\"&$B83,Transakcijas!$H:$H,\"Soda nauda\"),2)","v":0},null,{"$f":"B82","v":"UIN"},{"$f":"B83","v":"2024-01-31"},null,{"$f":"SUM(D83:F83)+T83","v":0},null,null,{"$f":"IF(W83<>\"\",M83+W83,0)","v":0}]
[null,{"$f":"IF(IF(B83=\"\",$M$4+1,DATE(YEAR(B83),MONTH(B83)+2,0))<=$M$4,DATE(YEAR(B83),MONTH(B83)+2,0),\"\")","v":"2024-02-29"},{"$f":"IF(B84=\"\",0,M83)","v":0},{"$f":"SUMIFS(Transakcijas!$R:$R,Transakcijas!$Q:$Q,$B$82,Transakcijas!$T:$T,YEAR($B84),Transakcijas!$U:$U,RIGHT(\"0\"&MONTH($B84),2),Transakcijas!$D:$D,\"Aprēķins\",Transakcijas!$H:$H,\"Pamatsumma\",Transakcijas!$K:$K,\"<>\"&\"FIFO*\",Transakcijas!$K:$K,\"<>\"&\"Iemaksas atbrīvošana\")","v":0},null,null,{"$f":"SUMIFS(Transakcijas!$R:$R,Transakcijas!$Q:$Q,$B$82,Transakcijas!$T:$T,YEAR($B84),Transakcijas!$U:$U,RIGHT(\"0\"&MONTH($B84),2),Transakcijas!$D:$D,\"Aprēķins\",Transakcijas!$H:$H,\"Nokavējuma nauda\",Transakcijas!$K:$K,\"<>\"&\"FIFO*\",Transakcijas!$K:$K,\"<>\"&\"Iemaksas atbrīvošana\")","v":0},{"$f":"SUMIFS(Transakcijas!$R:$R,Transakcijas!$Q:$Q,$B$82,Transakcijas!$T:$T,YEAR($B84),Transakcijas!$U:$U,RIGHT(\"0\"&MONTH($B84),2),Transakcijas!$D:$D,\"Aprēķins\",Transakcijas!$H:$H,\"Soda nauda\",Transakcijas!$K:$K,\"<>\"&\"FIFO*\",Transakcijas!$K:$K,\"<>\"&\"Iemaksas atbrīvošana\")","v":0},{"$f":"SUMIFS(Transakcijas!$R:$R,Transakcijas!$Q:$Q,$B$82,Transakcijas!$T:$T,YEAR($B84),Transakcijas!$U:$U,RIGHT(\"0\"&MONTH($B84),2),Transakcijas!$D:$D,\"Iemaksa\",Transakcijas!$K:$K,\"<>\"&\"Izejošā maksājuma anulēšana\")\n+SUMIFS(Transakcijas!$R:$R,Transakcijas!$Q:$Q,$B$82,Transakcijas!$T:$T,YEAR($B84),Transakcijas!$U:$U,RIGHT(\"0\"&MONTH($B84),2),Transakcijas!$D:$D,\"Atmaksa\",Transakcijas!$K:$K,\"Iemaksas atbrīvošana\")","v":0},{"$f":"SUMIFS(Transakcijas!$R:$R,Transakcijas!$Q:$Q,$B$82,Transakcijas!$T:$T,YEAR($B84),Transakcijas!$U:$U,RIGHT(\"0\"&MONTH($B84),2),Transakcijas!$D:$D,\"Atmaksa\",Transakcijas!$K:$K,\"<>\"&\"Iemaksas atbrīvošana\")\n+SUMIFS(Transakcijas!$R:$R,Transakcijas!$Q:$Q,$B$82,Transakcijas!$T:$T,YEAR($B84),Transakcijas!$U:$U,RIGHT(\"0\"&MONTH($B84),2),Transakcijas!$D:$D,\"Iemaksa\",Transakcijas!$K:$K,\"Izejošā maksājuma anulēšana\")","v":0},{"$f":"SUMIFS(Transakcijas!$R:$R,Transakcijas!$Q:$Q,$B$82,Transakcijas!$T:$T,YEAR($B84),Transakcijas!$U:$U,RIGHT(\"0\"&MONTH($B84),2),Transakcijas!$K:$K,\"FIFO savstarpējā segšana\")\n+SUMIFS(Transakcijas!$R:$R,Transakcijas!$Q:$Q,$B$82,Transakcijas!$T:$T,YEAR($B84),Transakcijas!$U:$U,RIGHT(\"0\"&MONTH($B84),2),Transakcijas!$D:$D,\"Aprēķins\",Transakcijas!$K:$K,\"Iemaksas atbrīvošana\")","v":0},{"$f":"SUMIFS(Transakcijas!$R:$R,Transakcijas!$Q:$Q,$B$82,Transakcijas!$T:$T,YEAR($B84),Transakcijas!$U:$U,RIGHT(\"0\"&MONTH($B84),2))-SUM(D84:K84)","v":0},0,{"$f":"ROUND(SUMIFS(Transakcijas!$R:$R,Transakcijas!$Q:$Q,$B$82,Transakcijas!$S:$S,\"<=\"&$B84,Transakcijas!$H:$H,\"Pamatsumma\"),2)","v":0},{"$f":"ROUND(SUMIFS(Transakcijas!$R:$R,Transakcijas!$Q:$Q,$B$82,Transakcijas!$S:$S,\"<=\"&$B84,Transakcijas!$H:$H,\"Nokavējuma nauda\"),2)","v":0},{"$f":"ROUND(SUMIFS(Transakcijas!$R:$R,Transakcijas!$Q:$Q,$B$82,Transakcijas!$S:$S,\"<=\"&$B84,Transakcijas!$H:$H,\"Soda nauda\"),2)","v":0},null,{"$f":"B82","v":"UIN"},{"$f":"B84","v":"2024-02-29"},null,0,null,null,0]
[null,"2024-03-31",0,{"$f":"SUMIFS(Transakcijas!$R:$R,Transakcijas!$Q:$Q,$B$82,Transakcijas!$T:$T,YEAR($B85),Transakcijas!$U:$U,RIGHT(\"0\"&MONTH($B85),2),Transakcijas!$D:$D,\"Aprēķins\",Transakcijas!$H:$H,\"Pamatsumma\",Transakcijas!$K:$K,\"<>\"&\"FIFO*\",Transakcijas!$K:$K,\"<>\"&\"Iemaksas atbrīvošana\")","v":0},null,null,{"$f":"SUMIFS(Transakcijas!$R:$R,Transakcijas!$Q:$Q,$B$82,Transakcijas!$T:$T,YEAR($B85),Transakcijas!$U:$U,RIGHT(\"0\"&MONTH($B85),2),Transakcijas!$D:$D,\"Aprēķins\",Transakcijas!$H:$H,\"Nokavējuma nauda\",Transakcijas!$K:$K,\"<>\"&\"FIFO*\",Transakcijas!$K:$K,\"<>\"&\"Iemaksas atbrīvošana\")","v":0},{"$f":"SUMIFS(Transakcijas!$R:$R,Transakcijas!$Q:$Q,$B$82,Transakcijas!$T:$T,YEAR($B85),Transakcijas!$U:$U,RIGHT(\"0\"&MONTH($B85),2),Transakcijas!$D:$D,\"Aprēķins\",Transakcijas!$H:$H,\"Soda nauda\",Transakcijas!$K:$K,\"<>\"&\"FIFO*\",Transakcijas!$K:$K,\"<>\"&\"Iemaksas atbrīvošana\")","v":0},{"$f":"SUMIFS(Transakcijas!$R:$R,Transakcijas!$Q:$Q,$B$82,Transakcijas!$T:$T,YEAR($B85),Transakcijas!$U:$U,RIGHT(\"0\"&MONTH($B85),2),Transakcijas!$D:$D,\"Iemaksa\",Transakcijas!$K:$K,\"<>\"&\"Izejošā maksājuma anulēšana\")\n+SUMIFS(Transakcijas!$R:$R,Transakcijas!$Q:$Q,$B$82,Transakcijas!$T:$T,YEAR($B85),Transakcijas!$U:$U,RIGHT(\"0\"&MONTH($B85),2),Transakcijas!$D:$D,\"Atmaksa\",Transakcijas!$K:$K,\"Iemaksas atbrīvošana\")","v":0},{"$f":"SUMIFS(Transakcijas!$R:$R,Transakcijas!$Q:$Q,$B$82,Transakcijas!$T:$T,YEAR($B85),Transakcijas!$U:$U,RIGHT(\"0\"&MONTH($B85),2),Transakcijas!$D:$D,\"Atmaksa\",Transakcijas!$K:$K,\"<>\"&\"Iemaksas atbrīvošana\")\n+SUMIFS(Transakcijas!$R:$R,Transakcijas!$Q:$Q,$B$82,Transakcijas!$T:$T,YEAR($B85),Transakcijas!$U:$U,RIGHT(\"0\"&MONTH($B85),2),Transakcijas!$D:$D,\"Iemaksa\",Transakcijas!$K:$K,\"Izejošā maksājuma anulēšana\")","v":0},{"$f":"SUMIFS(Transakcijas!$R:$R,Transakcijas!$Q:$Q,$B$82,Transakcijas!$T:$T,YEAR($B85),Transakcijas!$U:$U,RIGHT(\"0\"&MONTH($B85),2),Transakcijas!$K:$K,\"FIFO savstarpējā segšana\")\n+SUMIFS(Transakcijas!$R:$R,Transakcijas!$Q:$Q,$B$82,Transakcijas!$T:$T,YEAR($B85),Transakcijas!$U:$U,RIGHT(\"0\"&MONTH($B85),2),Transakcijas!$D:$D,\"Aprēķins\",Transakcijas!$K:$K,\"Iemaksas atbrīvošana\")","v":0},{"$f":"SUMIFS(Transakcijas!$R:$R,Transakcijas!$Q:$Q,$B$82,Transakcijas!$T:$T,YEAR($B85),Transakcijas!$U:$U,RIGHT(\"0\"&MONTH($B85),2))-SUM(D85:K85)","v":0},0,{"$f":"ROUND(SUMIFS(Transakcijas!$R:$R,Transakcijas!$Q:$Q,$B$82,Transakcijas!$S:$S,\"<=\"&$B85,Transakcijas!$H:$H,\"Pamatsumma\"),2)","v":0},{"$f":"ROUND(SUMIFS(Transakcijas!$R:$R,Transakcijas!$Q:$Q,$B$82,Transakcijas!$S:$S,\"<=\"&$B85,Transakcijas!$H:$H,\"Nokavējuma nauda\"),2)","v":0},{"$f":"ROUND(SUMIFS(Transakcijas!$R:$R,Transakcijas!$Q:$Q,$B$82,Transakcijas!$S:$S,\"<=\"&$B85,Transakcijas!$H:$H,\"Soda nauda\"),2)","v":0},null,{"$f":"B82","v":"UIN"},"2024-03-31",null,0,null,null,0]
[null,"2024-04-30",0,{"$f":"SUMIFS(Transakcijas!$R:$R,Transakcijas!$Q:$Q,$B$82,Transakcijas!$T:$T,YEAR($B86),Transakcijas!$U:$U,RIGHT(\"0\"&MONTH($B86),2),Transakcijas!$D:$D,\"Aprēķins\",Transakcijas!$H:$H,\"Pamatsumma\",Transakcijas!$K:$K,\"<>\"&\"FIFO*\",Transakcijas!$K:$K,\"<>\"&\"Iemaksas atbrīvošana\")","v":0},null,null,{"$f":"SUMIFS(Transakcijas!$R:$R,Transakcijas!$Q:$Q,$B$82,Transakcijas!$T:$T,YEAR($B86),Transakcijas!$U:$U,RIGHT(\"0\"&MONTH($B86),2),Transakcijas!$D:$D,\"Aprēķins\",Transakcijas!$H:$H,\"Nokavējuma nauda\",Transakcijas!$K:$K,\"<>\"&\"FIFO*\",Transakcijas!$K:$K,\"<>\"&\"Iemaksas atbrīvošana\")","v":0},{"$f":"SUMIFS(Transakcijas!$R:$R,Transakcijas!$Q:$Q,$B$82,Transakcijas!$T:$T,YEAR($B86),Transakcijas!$U:$U,RIGHT(\"0\"&MONTH($B86),2),Transakcijas!$D:$D,\"Aprēķins\",Transakcijas!$H:$H,\"Soda nauda\",Transakcijas!$K:$K,\"<>\"&\"FIFO*\",Transakcijas!$K:$K,\"<>\"&\"Iemaksas atbrīvošana\")","v":0},{"$f":"SUMIFS(Transakcijas!$R:$R,Transakcijas!$Q:$Q,$B$82,Transakcijas!$T:$T,YEAR($B86),Transakcijas!$U:$U,RIGHT(\"0\"&MONTH($B86),2),Transakcijas!$D:$D,\"Iemaksa\",Transakcijas!$K:$K,\"<>\"&\"Izejošā maksājuma anulēšana\")\n+SUMIFS(Transakcijas!$R:$R,Transakcijas!$Q:$Q,$B$82,Transakcijas!$T:$T,YEAR($B86),Transakcijas!$U:$U,RIGHT(\"0\"&MONTH($B86),2),Transakcijas!$D:$D,\"Atmaksa\",Transakcijas!$K:$K,\"Iemaksas atbrīvošana\")","v":0},{"$f":"SUMIFS(Transakcijas!$R:$R,Transakcijas!$Q:$Q,$B$82,Transakcijas!$T:$T,YEAR($B86),Transakcijas!$U:$U,RIGHT(\"0\"&MONTH($B86),2),Transakcijas!$D:$D,\"Atmaksa\",Transakcijas!$K:$K,\"<>\"&\"Iemaksas atbrīvošana\")\n+SUMIFS(Transakcijas!$R:$R,Transakcijas!$Q:$Q,$B$82,Transakcijas!$T:$T,YEAR($B86),Transakcijas!$U:$U,RIGHT(\"0\"&MONTH($B86),2),Transakcijas!$D:$D,\"Iemaksa\",Transakcijas!$K:$K,\"Izejošā maksājuma anulēšana\")","v":0},{"$f":"SUMIFS(Transakcijas!$R:$R,Transakcijas!$Q:$Q,$B$82,Transakcijas!$T:$T,YEAR($B86),Transakcijas!$U:$U,RIGHT(\"0\"&MONTH($B86),2),Transakcijas!$K:$K,\"FIFO savstarpējā segšana\")\n+SUMIFS(Transakcijas!$R:$R,Transakcijas!$Q:$Q,$B$82,Transakcijas!$T:$T,YEAR($B86),Transakcijas!$U:$U,RIGHT(\"0\"&MONTH($B86),2),Transakcijas!$D:$D,\"Aprēķins\",Transakcijas!$K:$K,\"Iemaksas atbrīvošana\")","v":0},{"$f":"SUMIFS(Transakcijas!$R:$R,Transakcijas!$Q:$Q,$B$82,Transakcijas!$T:$T,YEAR($B86),Transakcijas!$U:$U,RIGHT(\"0\"&MONTH($B86),2))-SUM(D86:K86)","v":0},0,{"$f":"ROUND(SUMIFS(Transakcijas!$R:$R,Transakcijas!$Q:$Q,$B$82,Transakcijas!$S:$S,\"<=\"&$B86,Transakcijas!$H:$H,\"Pamatsumma\"),2)","v":0},{"$f":"ROUND(SUMIFS(Transakcijas!$R:$R,Transakcijas!$Q:$Q,$B$82,Transakcijas!$S:$S,\"<=\"&$B86,Transakcijas!$H:$H,\"Nokavējuma nauda\"),2)","v":0},{"$f":"ROUND(SUMIFS(Transakcijas!$R:$R,Transakcijas!$Q:$Q,$B$82,Transakcijas!$S:$S,\"<=\"&$B86,Transakcijas!$H:$H,\"Soda nauda\"),2)","v":0},null,{"$f":"B82","v":"UIN"},"2024-04-30",null,0,null,null,0]
[null,"2024-05-31",0,{"$f":"SUMIFS(Transakcijas!$R:$R,Transakcijas!$Q:$Q,$B$82,Transakcijas!$T:$T,YEAR($B87),Transakcijas!$U:$U,RIGHT(\"0\"&MONTH($B87),2),Transakcijas!$D:$D,\"Aprēķins\",Transakcijas!$H:$H,\"Pamatsumma\",Transakcijas!$K:$K,\"<>\"&\"FIFO*\",Transakcijas!$K:$K,\"<>\"&\"Iemaksas atbrīvošana\")","v":0},null,null,{"$f":"SUMIFS(Transakcijas!$R:$R,Transakcijas!$Q:$Q,$B$82,Transakcijas!$T:$T,YEAR($B87),Transakcijas!$U:$U,RIGHT(\"0\"&MONTH($B87),2),Transakcijas!$D:$D,\"Aprēķins\",Transakcijas!$H:$H,\"Nokavējuma nauda\",Transakcijas!$K:$K,\"<>\"&\"FIFO*\",Transakcijas!$K:$K,\"<>\"&\"Iemaksas atbrīvošana\")","v":0},{"$f":"SUMIFS(Transakcijas!$R:$R,Transakcijas!$Q:$Q,$B$82,Transakcijas!$T:$T,YEAR($B87),Transakcijas!$U:$U,RIGHT(\"0\"&MONTH($B87),2),Transakcijas!$D:$D,\"Aprēķins\",Transakcijas!$H:$H,\"Soda nauda\",Transakcijas!$K:$K,\"<>\"&\"FIFO*\",Transakcijas!$K:$K,\"<>\"&\"Iemaksas atbrīvošana\")","v":0},{"$f":"SUMIFS(Transakcijas!$R:$R,Transakcijas!$Q:$Q,$B$82,Transakcijas!$T:$T,YEAR($B87),Transakcijas!$U:$U,RIGHT(\"0\"&MONTH($B87),2),Transakcijas!$D:$D,\"Iemaksa\",Transakcijas!$K:$K,\"<>\"&\"Izejošā maksājuma anulēšana\")\n+SUMIFS(Transakcijas!$R:$R,Transakcijas!$Q:$Q,$B$82,Transakcijas!$T:$T,YEAR($B87),Transakcijas!$U:$U,RIGHT(\"0\"&MONTH($B87),2),Transakcijas!$D:$D,\"Atmaksa\",Transakcijas!$K:$K,\"Iemaksas atbrīvošana\")","v":0},{"$f":"SUMIFS(Transakcijas!$R:$R,Transakcijas!$Q:$Q,$B$82,Transakcijas!$T:$T,YEAR($B87),Transakcijas!$U:$U,RIGHT(\"0\"&MONTH($B87),2),Transakcijas!$D:$D,\"Atmaksa\",Transakcijas!$K:$K,\"<>\"&\"Iemaksas atbrīvošana\")\n+SUMIFS(Transakcijas!$R:$R,Transakcijas!$Q:$Q,$B$82,Transakcijas!$T:$T,YEAR($B87),Transakcijas!$U:$U,RIGHT(\"0\"&MONTH($B87),2),Transakcijas!$D:$D,\"Iemaksa\",Transakcijas!$K:$K,\"Izejošā maksājuma anulēšana\")","v":0},{"$f":"SUMIFS(Transakcijas!$R:$R,Transakcijas!$Q:$Q,$B$82,Transakcijas!$T:$T,YEAR($B87),Transakcijas!$U:$U,RIGHT(\"0\"&MONTH($B87),2),Transakcijas!$K:$K,\"FIFO savstarpējā segšana\")\n+SUMIFS(Transakcijas!$R:$R,Transakcijas!$Q:$Q,$B$82,Transakcijas!$T:$T,YEAR($B87),Transakcijas!$U:$U,RIGHT(\"0\"&MONTH($B87),2),Transakcijas!$D:$D,\"Aprēķins\",Transakcijas!$K:$K,\"Iemaksas atbrīvošana\")","v":0},{"$f":"SUMIFS(Transakcijas!$R:$R,Transakcijas!$Q:$Q,$B$82,Transakcijas!$T:$T,YEAR($B87),Transakcijas!$U:$U,RIGHT(\"0\"&MONTH($B87),2))-SUM(D87:K87)","v":0},0,{"$f":"ROUND(SUMIFS(Transakcijas!$R:$R,Transakcijas!$Q:$Q,$B$82,Transakcijas!$S:$S,\"<=\"&$B87,Transakcijas!$H:$H,\"Pamatsumma\"),2)","v":0},{"$f":"ROUND(SUMIFS(Transakcijas!$R:$R,Transakcijas!$Q:$Q,$B$82,Transakcijas!$S:$S,\"<=\"&$B87,Transakcijas!$H:$H,\"Nokavējuma nauda\"),2)","v":0},{"$f":"ROUND(SUMIFS(Transakcijas!$R:$R,Transakcijas!$Q:$Q,$B$82,Transakcijas!$S:$S,\"<=\"&$B87,Transakcijas!$H:$H,\"Soda nauda\"),2)","v":0},null,{"$f":"B82","v":"UIN"},"2024-05-31",null,0,null,null,0]
[null,"2024-06-30",0,{"$f":"SUMIFS(Transakcijas!$R:$R,Transakcijas!$Q:$Q,$B$82,Transakcijas!$T:$T,YEAR($B88),Transakcijas!$U:$U,RIGHT(\"0\"&MONTH($B88),2),Transakcijas!$D:$D,\"Aprēķins\",Transakcijas!$H:$H,\"Pamatsumma\",Transakcijas!$K:$K,\"<>\"&\"FIFO*\",Transakcijas!$K:$K,\"<>\"&\"Iemaksas atbrīvošana\")","v":0},null,null,{"$f":"SUMIFS(Transakcijas!$R:$R,Transakcijas!$Q:$Q,$B$82,Transakcijas!$T:$T,YEAR($B88),Transakcijas!$U:$U,RIGHT(\"0\"&MONTH($B88),2),Transakcijas!$D:$D,\"Aprēķins\",Transakcijas!$H:$H,\"Nokavējuma nauda\",Transakcijas!$K:$K,\"<>\"&\"FIFO*\",Transakcijas!$K:$K,\"<>\"&\"Iemaksas atbrīvošana\")","v":0},{"$f":"SUMIFS(Transakcijas!$R:$R,Transakcijas!$Q:$Q,$B$82,Transakcijas!$T:$T,YEAR($B88),Transakcijas!$U:$U,RIGHT(\"0\"&MONTH($B88),2),Transakcijas!$D:$D,\"Aprēķins\",Transakcijas!$H:$H,\"Soda nauda\",Transakcijas!$K:$K,\"<>\"&\"FIFO*\",Transakcijas!$K:$K,\"<>\"&\"Iemaksas atbrīvošana\")","v":0},{"$f":"SUMIFS(Transakcijas!$R:$R,Transakcijas!$Q:$Q,$B$82,Transakcijas!$T:$T,YEAR($B88),Transakcijas!$U:$U,RIGHT(\"0\"&MONTH($B88),2),Transakcijas!$D:$D,\"Iemaksa\",Transakcijas!$K:$K,\"<>\"&\"Izejošā maksājuma anulēšana\")\n+SUMIFS(Transakcijas!$R:$R,Transakcijas!$Q:$Q,$B$82,Transakcijas!$T:$T,YEAR($B88),Transakcijas!$U:$U,RIGHT(\"0\"&MONTH($B88),2),Transakcijas!$D:$D,\"Atmaksa\",Transakcijas!$K:$K,\"Iemaksas atbrīvošana\")","v":0},{"$f":"SUMIFS(Transakcijas!$R:$R,Transakcijas!$Q:$Q,$B$82,Transakcijas!$T:$T,YEAR($B88),Transakcijas!$U:$U,RIGHT(\"0\"&MONTH($B88),2),Transakcijas!$D:$D,\"Atmaksa\",Transakcijas!$K:$K,\"<>\"&\"Iemaksas atbrīvošana\")\n+SUMIFS(Transakcijas!$R:$R,Transakcijas!$Q:$Q,$B$82,Transakcijas!$T:$T,YEAR($B88),Transakcijas!$U:$U,RIGHT(\"0\"&MONTH($B88),2),Transakcijas!$D:$D,\"Iemaksa\",Transakcijas!$K:$K,\"Izejošā maksājuma anulēšana\")","v":0},{"$f":"SUMIFS(Transakcijas!$R:$R,Transakcijas!$Q:$Q,$B$82,Transakcijas!$T:$T,YEAR($B88),Transakcijas!$U:$U,RIGHT(\"0\"&MONTH($B88),2),Transakcijas!$K:$K,\"FIFO savstarpējā segšana\")\n+SUMIFS(Transakcijas!$R:$R,Transakcijas!$Q:$Q,$B$82,Transakcijas!$T:$T,YEAR($B88),Transakcijas!$U:$U,RIGHT(\"0\"&MONTH($B88),2),Transakcijas!$D:$D,\"Aprēķins\",Transakcijas!$K:$K,\"Iemaksas atbrīvošana\")","v":0},{"$f":"SUMIFS(Transakcijas!$R:$R,Transakcijas!$Q:$Q,$B$82,Transakcijas!$T:$T,YEAR($B88),Transakcijas!$U:$U,RIGHT(\"0\"&MONTH($B88),2))-SUM(D88:K88)","v":0},0,{"$f":"ROUND(SUMIFS(Transakcijas!$R:$R,Transakcijas!$Q:$Q,$B$82,Transakcijas!$S:$S,\"<=\"&$B88,Transakcijas!$H:$H,\"Pamatsumma\"),2)","v":0},{"$f":"ROUND(SUMIFS(Transakcijas!$R:$R,Transakcijas!$Q:$Q,$B$82,Transakcijas!$S:$S,\"<=\"&$B88,Transakcijas!$H:$H,\"Nokavējuma nauda\"),2)","v":0},{"$f":"ROUND(SUMIFS(Transakcijas!$R:$R,Transakcijas!$Q:$Q,$B$82,Transakcijas!$S:$S,\"<=\"&$B88,Transakcijas!$H:$H,\"Soda nauda\"),2)","v":0},null,{"$f":"B82","v":"UIN"},"2024-06-30",null,0,null,null,0]
[null,"2024-07-31",0,{"$f":"SUMIFS(Transakcijas!$R:$R,Transakcijas!$Q:$Q,$B$82,Transakcijas!$T:$T,YEAR($B89),Transakcijas!$U:$U,RIGHT(\"0\"&MONTH($B89),2),Transakcijas!$D:$D,\"Aprēķins\",Transakcijas!$H:$H,\"Pamatsumma\",Transakcijas!$K:$K,\"<>\"&\"FIFO*\",Transakcijas!$K:$K,\"<>\"&\"Iemaksas atbrīvošana\")","v":0},null,null,{"$f":"SUMIFS(Transakcijas!$R:$R,Transakcijas!$Q:$Q,$B$82,Transakcijas!$T:$T,YEAR($B89),Transakcijas!$U:$U,RIGHT(\"0\"&MONTH($B89),2),Transakcijas!$D:$D,\"Aprēķins\",Transakcijas!$H:$H,\"Nokavējuma nauda\",Transakcijas!$K:$K,\"<>\"&\"FIFO*\",Transakcijas!$K:$K,\"<>\"&\"Iemaksas atbrīvošana\")","v":0},{"$f":"SUMIFS(Transakcijas!$R:$R,Transakcijas!$Q:$Q,$B$82,Transakcijas!$T:$T,YEAR($B89),Transakcijas!$U:$U,RIGHT(\"0\"&MONTH($B89),2),Transakcijas!$D:$D,\"Aprēķins\",Transakcijas!$H:$H,\"Soda nauda\",Transakcijas!$K:$K,\"<>\"&\"FIFO*\",Transakcijas!$K:$K,\"<>\"&\"Iemaksas atbrīvošana\")","v":0},{"$f":"SUMIFS(Transakcijas!$R:$R,Transakcijas!$Q:$Q,$B$82,Transakcijas!$T:$T,YEAR($B89),Transakcijas!$U:$U,RIGHT(\"0\"&MONTH($B89),2),Transakcijas!$D:$D,\"Iemaksa\",Transakcijas!$K:$K,\"<>\"&\"Izejošā maksājuma anulēšana\")\n+SUMIFS(Transakcijas!$R:$R,Transakcijas!$Q:$Q,$B$82,Transakcijas!$T:$T,YEAR($B89),Transakcijas!$U:$U,RIGHT(\"0\"&MONTH($B89),2),Transakcijas!$D:$D,\"Atmaksa\",Transakcijas!$K:$K,\"Iemaksas atbrīvošana\")","v":0},{"$f":"SUMIFS(Transakcijas!$R:$R,Transakcijas!$Q:$Q,$B$82,Transakcijas!$T:$T,YEAR($B89),Transakcijas!$U:$U,RIGHT(\"0\"&MONTH($B89),2),Transakcijas!$D:$D,\"Atmaksa\",Transakcijas!$K:$K,\"<>\"&\"Iemaksas atbrīvošana\")\n+SUMIFS(Transakcijas!$R:$R,Transakcijas!$Q:$Q,$B$82,Transakcijas!$T:$T,YEAR($B89),Transakcijas!$U:$U,RIGHT(\"0\"&MONTH($B89),2),Transakcijas!$D:$D,\"Iemaksa\",Transakcijas!$K:$K,\"Izejošā maksājuma anulēšana\")","v":0},{"$f":"SUMIFS(Transakcijas!$R:$R,Transakcijas!$Q:$Q,$B$82,Transakcijas!$T:$T,YEAR($B89),Transakcijas!$U:$U,RIGHT(\"0\"&MONTH($B89),2),Transakcijas!$K:$K,\"FIFO savstarpējā segšana\")\n+SUMIFS(Transakcijas!$R:$R,Transakcijas!$Q:$Q,$B$82,Transakcijas!$T:$T,YEAR($B89),Transakcijas!$U:$U,RIGHT(\"0\"&MONTH($B89),2),Transakcijas!$D:$D,\"Aprēķins\",Transakcijas!$K:$K,\"Iemaksas atbrīvošana\")","v":0},{"$f":"SUMIFS(Transakcijas!$R:$R,Transakcijas!$Q:$Q,$B$82,Transakcijas!$T:$T,YEAR($B89),Transakcijas!$U:$U,RIGHT(\"0\"&MONTH($B89),2))-SUM(D89:K89)","v":0},0,{"$f":"ROUND(SUMIFS(Transakcijas!$R:$R,Transakcijas!$Q:$Q,$B$82,Transakcijas!$S:$S,\"<=\"&$B89,Transakcijas!$H:$H,\"Pamatsumma\"),2)","v":0},{"$f":"ROUND(SUMIFS(Transakcijas!$R:$R,Transakcijas!$Q:$Q,$B$82,Transakcijas!$S:$S,\"<=\"&$B89,Transakcijas!$H:$H,\"Nokavējuma nauda\"),2)","v":0},{"$f":"ROUND(SUMIFS(Transakcijas!$R:$R,Transakcijas!$Q:$Q,$B$82,Transakcijas!$S:$S,\"<=\"&$B89,Transakcijas!$H:$H,\"Soda nauda\"),2)","v":0},null,{"$f":"B82","v":"UIN"},"2024-07-31",null,0,null,null,0]
[null,"2024-08-31",0,{"$f":"SUMIFS(Transakcijas!$R:$R,Transakcijas!$Q:$Q,$B$82,Transakcijas!$T:$T,YEAR($B90),Transakcijas!$U:$U,RIGHT(\"0\"&MONTH($B90),2),Transakcijas!$D:$D,\"Aprēķins\",Transakcijas!$H:$H,\"Pamatsumma\",Transakcijas!$K:$K,\"<>\"&\"FIFO*\",Transakcijas!$K:$K,\"<>\"&\"Iemaksas atbrīvošana\")","v":0},null,null,{"$f":"SUMIFS(Transakcijas!$R:$R,Transakcijas!$Q:$Q,$B$82,Transakcijas!$T:$T,YEAR($B90),Transakcijas!$U:$U,RIGHT(\"0\"&MONTH($B90),2),Transakcijas!$D:$D,\"Aprēķins\",Transakcijas!$H:$H,\"Nokavējuma nauda\",Transakcijas!$K:$K,\"<>\"&\"FIFO*\",Transakcijas!$K:$K,\"<>\"&\"Iemaksas atbrīvošana\")","v":0},{"$f":"SUMIFS(Transakcijas!$R:$R,Transakcijas!$Q:$Q,$B$82,Transakcijas!$T:$T,YEAR($B90),Transakcijas!$U:$U,RIGHT(\"0\"&MONTH($B90),2),Transakcijas!$D:$D,\"Aprēķins\",Transakcijas!$H:$H,\"Soda nauda\",Transakcijas!$K:$K,\"<>\"&\"FIFO*\",Transakcijas!$K:$K,\"<>\"&\"Iemaksas atbrīvošana\")","v":0},{"$f":"SUMIFS(Transakcijas!$R:$R,Transakcijas!$Q:$Q,$B$82,Transakcijas!$T:$T,YEAR($B90),Transakcijas!$U:$U,RIGHT(\"0\"&MONTH($B90),2),Transakcijas!$D:$D,\"Iemaksa\",Transakcijas!$K:$K,\"<>\"&\"Izejošā maksājuma anulēšana\")\n+SUMIFS(Transakcijas!$R:$R,Transakcijas!$Q:$Q,$B$82,Transakcijas!$T:$T,YEAR($B90),Transakcijas!$U:$U,RIGHT(\"0\"&MONTH($B90),2),Transakcijas!$D:$D,\"Atmaksa\",Transakcijas!$K:$K,\"Iemaksas atbrīvošana\")","v":0},{"$f":"SUMIFS(Transakcijas!$R:$R,Transakcijas!$Q:$Q,$B$82,Transakcijas!$T:$T,YEAR($B90),Transakcijas!$U:$U,RIGHT(\"0\"&MONTH($B90),2),Transakcijas!$D:$D,\"Atmaksa\",Transakcijas!$K:$K,\"<>\"&\"Iemaksas atbrīvošana\")\n+SUMIFS(Transakcijas!$R:$R,Transakcijas!$Q:$Q,$B$82,Transakcijas!$T:$T,YEAR($B90),Transakcijas!$U:$U,RIGHT(\"0\"&MONTH($B90),2),Transakcijas!$D:$D,\"Iemaksa\",Transakcijas!$K:$K,\"Izejošā maksājuma anulēšana\")","v":0},{"$f":"SUMIFS(Transakcijas!$R:$R,Transakcijas!$Q:$Q,$B$82,Transakcijas!$T:$T,YEAR($B90),Transakcijas!$U:$U,RIGHT(\"0\"&MONTH($B90),2),Transakcijas!$K:$K,\"FIFO savstarpējā segšana\")\n+SUMIFS(Transakcijas!$R:$R,Transakcijas!$Q:$Q,$B$82,Transakcijas!$T:$T,YEAR($B90),Transakcijas!$U:$U,RIGHT(\"0\"&MONTH($B90),2),Transakcijas!$D:$D,\"Aprēķins\",Transakcijas!$K:$K,\"Iemaksas atbrīvošana\")","v":0},{"$f":"SUMIFS(Transakcijas!$R:$R,Transakcijas!$Q:$Q,$B$82,Transakcijas!$T:$T,YEAR($B90),Transakcijas!$U:$U,RIGHT(\"0\"&MONTH($B90),2))-SUM(D90:K90)","v":0},0,{"$f":"ROUND(SUMIFS(Transakcijas!$R:$R,Transakcijas!$Q:$Q,$B$82,Transakcijas!$S:$S,\"<=\"&$B90,Transakcijas!$H:$H,\"Pamatsumma\"),2)","v":0},{"$f":"ROUND(SUMIFS(Transakcijas!$R:$R,Transakcijas!$Q:$Q,$B$82,Transakcijas!$S:$S,\"<=\"&$B90,Transakcijas!$H:$H,\"Nokavējuma nauda\"),2)","v":0},{"$f":"ROUND(SUMIFS(Transakcijas!$R:$R,Transakcijas!$Q:$Q,$B$82,Transakcijas!$S:$S,\"<=\"&$B90,Transakcijas!$H:$H,\"Soda nauda\"),2)","v":0},null,{"$f":"B82","v":"UIN"},"2024-08-31",null,0,null,null,0]
[null,"2024-09-30",0,{"$f":"SUMIFS(Transakcijas!$R:$R,Transakcijas!$Q:$Q,$B$82,Transakcijas!$T:$T,YEAR($B91),Transakcijas!$U:$U,RIGHT(\"0\"&MONTH($B91),2),Transakcijas!$D:$D,\"Aprēķins\",Transakcijas!$H:$H,\"Pamatsumma\",Transakcijas!$K:$K,\"<>\"&\"FIFO*\",Transakcijas!$K:$K,\"<>\"&\"Iemaksas atbrīvošana\")","v":0},null,null,{"$f":"SUMIFS(Transakcijas!$R:$R,Transakcijas!$Q:$Q,$B$82,Transakcijas!$T:$T,YEAR($B91),Transakcijas!$U:$U,RIGHT(\"0\"&MONTH($B91),2),Transakcijas!$D:$D,\"Aprēķins\",Transakcijas!$H:$H,\"Nokavējuma nauda\",Transakcijas!$K:$K,\"<>\"&\"FIFO*\",Transakcijas!$K:$K,\"<>\"&\"Iemaksas atbrīvošana\")","v":0},{"$f":"SUMIFS(Transakcijas!$R:$R,Transakcijas!$Q:$Q,$B$82,Transakcijas!$T:$T,YEAR($B91),Transakcijas!$U:$U,RIGHT(\"0\"&MONTH($B91),2),Transakcijas!$D:$D,\"Aprēķins\",Transakcijas!$H:$H,\"Soda nauda\",Transakcijas!$K:$K,\"<>\"&\"FIFO*\",Transakcijas!$K:$K,\"<>\"&\"Iemaksas atbrīvošana\")","v":0},{"$f":"SUMIFS(Transakcijas!$R:$R,Transakcijas!$Q:$Q,$B$82,Transakcijas!$T:$T,YEAR($B91),Transakcijas!$U:$U,RIGHT(\"0\"&MONTH($B91),2),Transakcijas!$D:$D,\"Iemaksa\",Transakcijas!$K:$K,\"<>\"&\"Izejošā maksājuma anulēšana\")\n+SUMIFS(Transakcijas!$R:$R,Transakcijas!$Q:$Q,$B$82,Transakcijas!$T:$T,YEAR($B91),Transakcijas!$U:$U,RIGHT(\"0\"&MONTH($B91),2),Transakcijas!$D:$D,\"Atmaksa\",Transakcijas!$K:$K,\"Iemaksas atbrīvošana\")","v":0},{"$f":"SUMIFS(Transakcijas!$R:$R,Transakcijas!$Q:$Q,$B$82,Transakcijas!$T:$T,YEAR($B91),Transakcijas!$U:$U,RIGHT(\"0\"&MONTH($B91),2),Transakcijas!$D:$D,\"Atmaksa\",Transakcijas!$K:$K,\"<>\"&\"Iemaksas atbrīvošana\")\n+SUMIFS(Transakcijas!$R:$R,Transakcijas!$Q:$Q,$B$82,Transakcijas!$T:$T,YEAR($B91),Transakcijas!$U:$U,RIGHT(\"0\"&MONTH($B91),2),Transakcijas!$D:$D,\"Iemaksa\",Transakcijas!$K:$K,\"Izejošā maksājuma anulēšana\")","v":0},{"$f":"SUMIFS(Transakcijas!$R:$R,Transakcijas!$Q:$Q,$B$82,Transakcijas!$T:$T,YEAR($B91),Transakcijas!$U:$U,RIGHT(\"0\"&MONTH($B91),2),Transakcijas!$K:$K,\"FIFO savstarpējā segšana\")\n+SUMIFS(Transakcijas!$R:$R,Transakcijas!$Q:$Q,$B$82,Transakcijas!$T:$T,YEAR($B91),Transakcijas!$U:$U,RIGHT(\"0\"&MONTH($B91),2),Transakcijas!$D:$D,\"Aprēķins\",Transakcijas!$K:$K,\"Iemaksas atbrīvošana\")","v":0},{"$f":"SUMIFS(Transakcijas!$R:$R,Transakcijas!$Q:$Q,$B$82,Transakcijas!$T:$T,YEAR($B91),Transakcijas!$U:$U,RIGHT(\"0\"&MONTH($B91),2))-SUM(D91:K91)","v":0},0,{"$f":"ROUND(SUMIFS(Transakcijas!$R:$R,Transakcijas!$Q:$Q,$B$82,Transakcijas!$S:$S,\"<=\"&$B91,Transakcijas!$H:$H,\"Pamatsumma\"),2)","v":0},{"$f":"ROUND(SUMIFS(Transakcijas!$R:$R,Transakcijas!$Q:$Q,$B$82,Transakcijas!$S:$S,\"<=\"&$B91,Transakcijas!$H:$H,\"Nokavējuma nauda\"),2)","v":0},{"$f":"ROUND(SUMIFS(Transakcijas!$R:$R,Transakcijas!$Q:$Q,$B$82,Transakcijas!$S:$S,\"<=\"&$B91,Transakcijas!$H:$H,\"Soda nauda\"),2)","v":0},null,{"$f":"B82","v":"UIN"},"2024-09-30",null,0,null,null,0]
[null,"2024-10-31",0,{"$f":"SUMIFS(Transakcijas!$R:$R,Transakcijas!$Q:$Q,$B$82,Transakcijas!$T:$T,YEAR($B92),Transakcijas!$U:$U,RIGHT(\"0\"&MONTH($B92),2),Transakcijas!$D:$D,\"Aprēķins\",Transakcijas!$H:$H,\"Pamatsumma\",Transakcijas!$K:$K,\"<>\"&\"FIFO*\",Transakcijas!$K:$K,\"<>\"&\"Iemaksas atbrīvošana\")","v":0},null,null,{"$f":"SUMIFS(Transakcijas!$R:$R,Transakcijas!$Q:$Q,$B$82,Transakcijas!$T:$T,YEAR($B92),Transakcijas!$U:$U,RIGHT(\"0\"&MONTH($B92),2),Transakcijas!$D:$D,\"Aprēķins\",Transakcijas!$H:$H,\"Nokavējuma nauda\",Transakcijas!$K:$K,\"<>\"&\"FIFO*\",Transakcijas!$K:$K,\"<>\"&\"Iemaksas atbrīvošana\")","v":0},{"$f":"SUMIFS(Transakcijas!$R:$R,Transakcijas!$Q:$Q,$B$82,Transakcijas!$T:$T,YEAR($B92),Transakcijas!$U:$U,RIGHT(\"0\"&MONTH($B92),2),Transakcijas!$D:$D,\"Aprēķins\",Transakcijas!$H:$H,\"Soda nauda\",Transakcijas!$K:$K,\"<>\"&\"FIFO*\",Transakcijas!$K:$K,\"<>\"&\"Iemaksas atbrīvošana\")","v":0},{"$f":"SUMIFS(Transakcijas!$R:$R,Transakcijas!$Q:$Q,$B$82,Transakcijas!$T:$T,YEAR($B92),Transakcijas!$U:$U,RIGHT(\"0\"&MONTH($B92),2),Transakcijas!$D:$D,\"Iemaksa\",Transakcijas!$K:$K,\"<>\"&\"Izejošā maksājuma anulēšana\")\n+SUMIFS(Transakcijas!$R:$R,Transakcijas!$Q:$Q,$B$82,Transakcijas!$T:$T,YEAR($B92),Transakcijas!$U:$U,RIGHT(\"0\"&MONTH($B92),2),Transakcijas!$D:$D,\"Atmaksa\",Transakcijas!$K:$K,\"Iemaksas atbrīvošana\")","v":0},{"$f":"SUMIFS(Transakcijas!$R:$R,Transakcijas!$Q:$Q,$B$82,Transakcijas!$T:$T,YEAR($B92),Transakcijas!$U:$U,RIGHT(\"0\"&MONTH($B92),2),Transakcijas!$D:$D,\"Atmaksa\",Transakcijas!$K:$K,\"<>\"&\"Iemaksas atbrīvošana\")\n+SUMIFS(Transakcijas!$R:$R,Transakcijas!$Q:$Q,$B$82,Transakcijas!$T:$T,YEAR($B92),Transakcijas!$U:$U,RIGHT(\"0\"&MONTH($B92),2),Transakcijas!$D:$D,\"Iemaksa\",Transakcijas!$K:$K,\"Izejošā maksājuma anulēšana\")","v":0},{"$f":"SUMIFS(Transakcijas!$R:$R,Transakcijas!$Q:$Q,$B$82,Transakcijas!$T:$T,YEAR($B92),Transakcijas!$U:$U,RIGHT(\"0\"&MONTH($B92),2),Transakcijas!$K:$K,\"FIFO savstarpējā segšana\")\n+SUMIFS(Transakcijas!$R:$R,Transakcijas!$Q:$Q,$B$82,Transakcijas!$T:$T,YEAR($B92),Transakcijas!$U:$U,RIGHT(\"0\"&MONTH($B92),2),Transakcijas!$D:$D,\"Aprēķins\",Transakcijas!$K:$K,\"Iemaksas atbrīvošana\")","v":0},{"$f":"SUMIFS(Transakcijas!$R:$R,Transakcijas!$Q:$Q,$B$82,Transakcijas!$T:$T,YEAR($B92),Transakcijas!$U:$U,RIGHT(\"0\"&MONTH($B92),2))-SUM(D92:K92)","v":0},0,{"$f":"ROUND(SUMIFS(Transakcijas!$R:$R,Transakcijas!$Q:$Q,$B$82,Transakcijas!$S:$S,\"<=\"&$B92,Transakcijas!$H:$H,\"Pamatsumma\"),2)","v":0},{"$f":"ROUND(SUMIFS(Transakcijas!$R:$R,Transakcijas!$Q:$Q,$B$82,Transakcijas!$S:$S,\"<=\"&$B92,Transakcijas!$H:$H,\"Nokavējuma nauda\"),2)","v":0},{"$f":"ROUND(SUMIFS(Transakcijas!$R:$R,Transakcijas!$Q:$Q,$B$82,Transakcijas!$S:$S,\"<=\"&$B92,Transakcijas!$H:$H,\"Soda nauda\"),2)","v":0},null,{"$f":"B82","v":"UIN"},"2024-10-31",null,0,null,null,0]
[null,"2024-11-30",0,{"$f":"SUMIFS(Transakcijas!$R:$R,Transakcijas!$Q:$Q,$B$82,Transakcijas!$T:$T,YEAR($B93),Transakcijas!$U:$U,RIGHT(\"0\"&MONTH($B93),2),Transakcijas!$D:$D,\"Aprēķins\",Transakcijas!$H:$H,\"Pamatsumma\",Transakcijas!$K:$K,\"<>\"&\"FIFO*\",Transakcijas!$K:$K,\"<>\"&\"Iemaksas atbrīvošana\")","v":0},null,null,{"$f":"SUMIFS(Transakcijas!$R:$R,Transakcijas!$Q:$Q,$B$82,Transakcijas!$T:$T,YEAR($B93),Transakcijas!$U:$U,RIGHT(\"0\"&MONTH($B93),2),Transakcijas!$D:$D,\"Aprēķins\",Transakcijas!$H:$H,\"Nokavējuma nauda\",Transakcijas!$K:$K,\"<>\"&\"FIFO*\",Transakcijas!$K:$K,\"<>\"&\"Iemaksas atbrīvošana\")","v":0},{"$f":"SUMIFS(Transakcijas!$R:$R,Transakcijas!$Q:$Q,$B$82,Transakcijas!$T:$T,YEAR($B93),Transakcijas!$U:$U,RIGHT(\"0\"&MONTH($B93),2),Transakcijas!$D:$D,\"Aprēķins\",Transakcijas!$H:$H,\"Soda nauda\",Transakcijas!$K:$K,\"<>\"&\"FIFO*\",Transakcijas!$K:$K,\"<>\"&\"Iemaksas atbrīvošana\")","v":0},{"$f":"SUMIFS(Transakcijas!$R:$R,Transakcijas!$Q:$Q,$B$82,Transakcijas!$T:$T,YEAR($B93),Transakcijas!$U:$U,RIGHT(\"0\"&MONTH($B93),2),Transakcijas!$D:$D,\"Iemaksa\",Transakcijas!$K:$K,\"<>\"&\"Izejošā maksājuma anulēšana\")\n+SUMIFS(Transakcijas!$R:$R,Transakcijas!$Q:$Q,$B$82,Transakcijas!$T:$T,YEAR($B93),Transakcijas!$U:$U,RIGHT(\"0\"&MONTH($B93),2),Transakcijas!$D:$D,\"Atmaksa\",Transakcijas!$K:$K,\"Iemaksas atbrīvošana\")","v":0},{"$f":"SUMIFS(Transakcijas!$R:$R,Transakcijas!$Q:$Q,$B$82,Transakcijas!$T:$T,YEAR($B93),Transakcijas!$U:$U,RIGHT(\"0\"&MONTH($B93),2),Transakcijas!$D:$D,\"Atmaksa\",Transakcijas!$K:$K,\"<>\"&\"Iemaksas atbrīvošana\")\n+SUMIFS(Transakcijas!$R:$R,Transakcijas!$Q:$Q,$B$82,Transakcijas!$T:$T,YEAR($B93),Transakcijas!$U:$U,RIGHT(\"0\"&MONTH($B93),2),Transakcijas!$D:$D,\"Iemaksa\",Transakcijas!$K:$K,\"Izejošā maksājuma anulēšana\")","v":0},{"$f":"SUMIFS(Transakcijas!$R:$R,Transakcijas!$Q:$Q,$B$82,Transakcijas!$T:$T,YEAR($B93),Transakcijas!$U:$U,RIGHT(\"0\"&MONTH($B93),2),Transakcijas!$K:$K,\"FIFO savstarpējā segšana\")\n+SUMIFS(Transakcijas!$R:$R,Transakcijas!$Q:$Q,$B$82,Transakcijas!$T:$T,YEAR($B93),Transakcijas!$U:$U,RIGHT(\"0\"&MONTH($B93),2),Transakcijas!$D:$D,\"Aprēķins\",Transakcijas!$K:$K,\"Iemaksas atbrīvošana\")","v":0},{"$f":"SUMIFS(Transakcijas!$R:$R,Transakcijas!$Q:$Q,$B$82,Transakcijas!$T:$T,YEAR($B93),Transakcijas!$U:$U,RIGHT(\"0\"&MONTH($B93),2))-SUM(D93:K93)","v":0},0,{"$f":"ROUND(SUMIFS(Transakcijas!$R:$R,Transakcijas!$Q:$Q,$B$82,Transakcijas!$S:$S,\"<=\"&$B93,Transakcijas!$H:$H,\"Pamatsumma\"),2)","v":0},{"$f":"ROUND(SUMIFS(Transakcijas!$R:$R,Transakcijas!$Q:$Q,$B$82,Transakcijas!$S:$S,\"<=\"&$B93,Transakcijas!$H:$H,\"Nokavējuma nauda\"),2)","v":0},{"$f":"ROUND(SUMIFS(Transakcijas!$R:$R,Transakcijas!$Q:$Q,$B$82,Transakcijas!$S:$S,\"<=\"&$B93,Transakcijas!$H:$H,\"Soda nauda\"),2)","v":0},null,{"$f":"B82","v":"UIN"},"2024-11-30",null,0,null,null,0]
[null,"2024-12-31",0,{"$f":"SUMIFS(Transakcijas!$R:$R,Transakcijas!$Q:$Q,$B$82,Transakcijas!$T:$T,YEAR($B94),Transakcijas!$U:$U,RIGHT(\"0\"&MONTH($B94),2),Transakcijas!$D:$D,\"Aprēķins\",Transakcijas!$H:$H,\"Pamatsumma\",Transakcijas!$K:$K,\"<>\"&\"FIFO*\",Transakcijas!$K:$K,\"<>\"&\"Iemaksas atbrīvošana\")","v":0},null,null,{"$f":"SUMIFS(Transakcijas!$R:$R,Transakcijas!$Q:$Q,$B$82,Transakcijas!$T:$T,YEAR($B94),Transakcijas!$U:$U,RIGHT(\"0\"&MONTH($B94),2),Transakcijas!$D:$D,\"Aprēķins\",Transakcijas!$H:$H,\"Nokavējuma nauda\",Transakcijas!$K:$K,\"<>\"&\"FIFO*\",Transakcijas!$K:$K,\"<>\"&\"Iemaksas atbrīvošana\")","v":0},{"$f":"SUMIFS(Transakcijas!$R:$R,Transakcijas!$Q:$Q,$B$82,Transakcijas!$T:$T,YEAR($B94),Transakcijas!$U:$U,RIGHT(\"0\"&MONTH($B94),2),Transakcijas!$D:$D,\"Aprēķins\",Transakcijas!$H:$H,\"Soda nauda\",Transakcijas!$K:$K,\"<>\"&\"FIFO*\",Transakcijas!$K:$K,\"<>\"&\"Iemaksas atbrīvošana\")","v":0},{"$f":"SUMIFS(Transakcijas!$R:$R,Transakcijas!$Q:$Q,$B$82,Transakcijas!$T:$T,YEAR($B94),Transakcijas!$U:$U,RIGHT(\"0\"&MONTH($B94),2),Transakcijas!$D:$D,\"Iemaksa\",Transakcijas!$K:$K,\"<>\"&\"Izejošā maksājuma anulēšana\")\n+SUMIFS(Transakcijas!$R:$R,Transakcijas!$Q:$Q,$B$82,Transakcijas!$T:$T,YEAR($B94),Transakcijas!$U:$U,RIGHT(\"0\"&MONTH($B94),2),Transakcijas!$D:$D,\"Atmaksa\",Transakcijas!$K:$K,\"Iemaksas atbrīvošana\")","v":0},{"$f":"SUMIFS(Transakcijas!$R:$R,Transakcijas!$Q:$Q,$B$82,Transakcijas!$T:$T,YEAR($B94),Transakcijas!$U:$U,RIGHT(\"0\"&MONTH($B94),2),Transakcijas!$D:$D,\"Atmaksa\",Transakcijas!$K:$K,\"<>\"&\"Iemaksas atbrīvošana\")\n+SUMIFS(Transakcijas!$R:$R,Transakcijas!$Q:$Q,$B$82,Transakcijas!$T:$T,YEAR($B94),Transakcijas!$U:$U,RIGHT(\"0\"&MONTH($B94),2),Transakcijas!$D:$D,\"Iemaksa\",Transakcijas!$K:$K,\"Izejošā maksājuma anulēšana\")","v":0},{"$f":"SUMIFS(Transakcijas!$R:$R,Transakcijas!$Q:$Q,$B$82,Transakcijas!$T:$T,YEAR($B94),Transakcijas!$U:$U,RIGHT(\"0\"&MONTH($B94),2),Transakcijas!$K:$K,\"FIFO savstarpējā segšana\")\n+SUMIFS(Transakcijas!$R:$R,Transakcijas!$Q:$Q,$B$82,Transakcijas!$T:$T,YEAR($B94),Transakcijas!$U:$U,RIGHT(\"0\"&MONTH($B94),2),Transakcijas!$D:$D,\"Aprēķins\",Transakcijas!$K:$K,\"Iemaksas atbrīvošana\")","v":0},{"$f":"SUMIFS(Transakcijas!$R:$R,Transakcijas!$Q:$Q,$B$82,Transakcijas!$T:$T,YEAR($B94),Transakcijas!$U:$U,RIGHT(\"0\"&MONTH($B94),2))-SUM(D94:K94)","v":0},0,{"$f":"ROUND(SUMIFS(Transakcijas!$R:$R,Transakcijas!$Q:$Q,$B$82,Transakcijas!$S:$S,\"<=\"&$B94,Transakcijas!$H:$H,\"Pamatsumma\"),2)","v":0},{"$f":"ROUND(SUMIFS(Transakcijas!$R:$R,Transakcijas!$Q:$Q,$B$82,Transakcijas!$S:$S,\"<=\"&$B94,Transakcijas!$H:$H,\"Nokavējuma nauda\"),2)","v":0},{"$f":"ROUND(SUMIFS(Transakcijas!$R:$R,Transakcijas!$Q:$Q,$B$82,Transakcijas!$S:$S,\"<=\"&$B94,Transakcijas!$H:$H,\"Soda nauda\"),2)","v":0},null,{"$f":"B82","v":"UIN"},"2024-12-31",null,0,null,null,0]
[null,"Kopā",{"$f":"C83","v":0},{"$f":"SUM(D83:D94)","v":0},null,null,{"$f":"SUM(G83:G94)","v":0},0,0,0,0,0,0]
[]
[null,{"$f":"B11","v":"DRN"},"Atlikums uz perioda sākumu",{"$f":"D$4","v":"Aprēķināts"},{"$f":"E$4","v":"Ieturēts IIN\nMin. VSAOI"},"Apr.nerezid.\nUniv.IF VSAOI","Aprēķināta nokav. nauda  ","Aprēķināta\n soda nauda  ","Samaksāts\nAtbrīvots","Atmaksāts","Pārvietots \n(Savst.segš.)","Cita \nkustība","Atlikums uz perioda beigām","Pamat-\nsumma","Nokav. \nnauda  ","Soda \nnauda  "]
[null,{"$f":"DATE(YEAR($C$4),MONTH($C$4)+1,0)","v":"2024-01-31"},{"$f":"C11","v":0},{"$f":"SUMIFS(Transakcijas!$R:$R,Transakcijas!$Q:$Q,$B$97,Transakcijas!$T:$T,YEAR($B98),Transakcijas!$U:$U,RIGHT(\"0\"&MONTH($B98),2),Transakcijas!$D:$D,\"Aprēķins\",Transakcijas!$H:$H,\"Pamatsumma\",Transakcijas!$K:$K,\"<>\"&\"FIFO*\",Transakcijas!$K:$K,\"<>\"&\"Iemaksas atbrīvošana\")","v":0},null,null,{"$f":"SUMIFS(Transakcijas!$R:$R,Transakcijas!$Q:$Q,$B$97,Transakcijas!$T:$T,YEAR($B98),Transakcijas!$U:$U,RIGHT(\"0\"&MONTH($B98),2),Transakcijas!$D:$D,\"Aprēķins\",Transakcijas!$H:$H,\"Nokavējuma nauda\",Transakcijas!$K:$K,\"<>\"&\"FIFO*\",Transakcijas!$K:$K,\"<>\"&\"Iemaksas atbrīvošana\")","v":0},{"$f":"SUMIFS(Transakcijas!$R:$R,Transakcijas!$Q:$Q,$B$97,Transakcijas!$T:$T,YEAR($B98),Transakcijas!$U:$U,RIGHT(\"0\"&MONTH($B98),2),Transakcijas!$D:$D,\"Aprēķins\",Transakcijas!$H:$H,\"Soda nauda\",Transakcijas!$K:$K,\"<>\"&\"FIFO*\",Transakcijas!$K:$K,\"<>\"&\"Iemaksas atbrīvošana\")","v":0},{"$f":"SUMIFS(Transakcijas!$R:$R,Transakcijas!$Q:$Q,$B$97,Transakcijas!$T:$T,YEAR($B98),Transakcijas!$U:$U,RIGHT(\"0\"&MONTH($B98),2),Transakcijas!$D:$D,\"Iemaksa\",Transakcijas!$K:$K,\"<>\"&\"Izejošā maksājuma anulēšana\")\n+SUMIFS(Transakcijas!$R:$R,Transakcijas!$Q:$Q,$B$97,Transakcijas!$T:$T,YEAR($B98),Transakcijas!$U:$U,RIGHT(\"0\"&MONTH($B98),2),Transakcijas!$D:$D,\"Atmaksa\",Transakcijas!$K:$K,\"Iemaksas atbrīvošana\")","v":0},{"$f":"SUMIFS(Transakcijas!$R:$R,Transakcijas!$Q:$Q,$B$97,Transakcijas!$T:$T,YEAR($B98),Transakcijas!$U:$U,RIGHT(\"0\"&MONTH($B98),2),Transakcijas!$D:$D,\"Atmaksa\",Transakcijas!$K:$K,\"<>\"&\"Iemaksas atbrīvošana\")\n+SUMIFS(Transakcijas!$R:$R,Transakcijas!$Q:$Q,$B$97,Transakcijas!$T:$T,YEAR($B98),Transakcijas!$U:$U,RIGHT(\"0\"&MONTH($B98),2),Transakcijas!$D:$D,\"Iemaksa\",Transakcijas!$K:$K,\"Izejošā maksājuma anulēšana\")","v":0},{"$f":"SUMIFS(Transakcijas!$R:$R,Transakcijas!$Q:$Q,$B$97,Transakcijas!$T:$T,YEAR($B98),Transakcijas!$U:$U,RIGHT(\"0\"&MONTH($B98),2),Transakcijas!$K:$K,\"FIFO savstarpējā segšana\")\n+SUMIFS(Transakcijas!$R:$R,Transakcijas!$Q:$Q,$B$97,Transakcijas!$T:$T,YEAR($B98),Transakcijas!$U:$U,RIGHT(\"0\"&MONTH($B98),2),Transakcijas!$D:$D,\"Aprēķins\",Transakcijas!$K:$K,\"Iemaksas atbrīvošana\")","v":0},{"$f":"SUMIFS(Transakcijas!$R:$R,Transakcijas!$Q:$Q,$B$97,Transakcijas!$T:$T,YEAR($B98),Transakcijas!$U:$U,RIGHT(\"0\"&MONTH($B98),2))-SUM(D98:K98)","v":0},{"$f":"SUM(C98:L98)","v":0},{"$f":"ROUND(SUMIFS(Transakcijas!$R:$R,Transakcijas!$Q:$Q,$B$97,Transakcijas!$S:$S,\"<=\"&$B98,Transakcijas!$H:$H,\"Pamatsumma\"),2)","v":0},{"$f":"ROUND(SUMIFS(Transakcijas!$R:$R,Transakcijas!$Q:$Q,$B$97,Transakcijas!$S:$S,\"<=\"&$B98,Transakcijas!$H:$H,\"Nokavējuma nauda\"),2)","v":0},{"$f":"ROUND(SUMIFS(Transakcijas!$R:$R,Transakcijas!$Q:$Q,$B$97,Transakcijas!$S:$S,\"<=\"&$B98,Transakcijas!$H:$H,\"Soda nauda\"),2)","v":0},null,{"$f":"B97","v":"DRN"},{"$f":"B98","v":"2024-01-31"},null,{"$f":"SUM(D98:F98)+T98","v":0},null,null,{"$f":"IF(W98<>\"\",M98+W98,0)","v":0}]
[null,{"$f":"IF(IF(B98=\"\",$M$4+1,DATE(YEAR(B98),MONTH(B98)+2,0))<=$M$4,DATE(YEAR(B98),MONTH(B98)+2,0),\"\")","v":"2024-02-29"},{"$f":"IF(B99=\"\",0,M98)","v":0},{"$f":"SUMIFS(Transakcijas!$R:$R,Transakcijas!$Q:$Q,$B$97,Transakcijas!$T:$T,YEAR($B99),Transakcijas!$U:$U,RIGHT(\"0\"&MONTH($B99),2),Transakcijas!$D:$D,\"Aprēķins\",Transakcijas!$H:$H,\"Pamatsumma\",Transakcijas!$K:$K,\"<>\"&\"FIFO*\",Transakcijas!$K:$K,\"<>\"&\"Iemaksas atbrīvošana\")","v":0},null,null,{"$f":"SUMIFS(Transakcijas!$R:$R,Transakcijas!$Q:$Q,$B$97,Transakcijas!$T:$T,YEAR($B99),Transakcijas!$U:$U,RIGHT(\"0\"&MONTH($B99),2),Transakcijas!$D:$D,\"Aprēķins\",Transakcijas!$H:$H,\"Nokavējuma nauda\",Transakcijas!$K:$K,\"<>\"&\"FIFO*\",Transakcijas!$K:$K,\"<>\"&\"Iemaksas atbrīvošana\")","v":0},{"$f":"SUMIFS(Transakcijas!$R:$R,Transakcijas!$Q:$Q,$B$97,Transakcijas!$T:$T,YEAR($B99),Transakcijas!$U:$U,RIGHT(\"0\"&MONTH($B99),2),Transakcijas!$D:$D,\"Aprēķins\",Transakcijas!$H:$H,\"Soda nauda\",Transakcijas!$K:$K,\"<>\"&\"FIFO*\",Transakcijas!$K:$K,\"<>\"&\"Iemaksas atbrīvošana\")","v":0},{"$f":"SUMIFS(Transakcijas!$R:$R,Transakcijas!$Q:$Q,$B$97,Transakcijas!$T:$T,YEAR($B99),Transakcijas!$U:$U,RIGHT(\"0\"&MONTH($B99),2),Transakcijas!$D:$D,\"Iemaksa\",Transakcijas!$K:$K,\"<>\"&\"Izejošā maksājuma anulēšana\")\n+SUMIFS(Transakcijas!$R:$R,Transakcijas!$Q:$Q,$B$97,Transakcijas!$T:$T,YEAR($B99),Transakcijas!$U:$U,RIGHT(\"0\"&MONTH($B99),2),Transakcijas!$D:$D,\"Atmaksa\",Transakcijas!$K:$K,\"Iemaksas atbrīvošana\")","v":0},{"$f":"SUMIFS(Transakcijas!$R:$R,Transakcijas!$Q:$Q,$B$97,Transakcijas!$T:$T,YEAR($B99),Transakcijas!$U:$U,RIGHT(\"0\"&MONTH($B99),2),Transakcijas!$D:$D,\"Atmaksa\",Transakcijas!$K:$K,\"<>\"&\"Iemaksas atbrīvošana\")\n+SUMIFS(Transakcijas!$R:$R,Transakcijas!$Q:$Q,$B$97,Transakcijas!$T:$T,YEAR($B99),Transakcijas!$U:$U,RIGHT(\"0\"&MONTH($B99),2),Transakcijas!$D:$D,\"Iemaksa\",Transakcijas!$K:$K,\"Izejošā maksājuma anulēšana\")","v":0},{"$f":"SUMIFS(Transakcijas!$R:$R,Transakcijas!$Q:$Q,$B$97,Transakcijas!$T:$T,YEAR($B99),Transakcijas!$U:$U,RIGHT(\"0\"&MONTH($B99),2),Transakcijas!$K:$K,\"FIFO savstarpējā segšana\")\n+SUMIFS(Transakcijas!$R:$R,Transakcijas!$Q:$Q,$B$97,Transakcijas!$T:$T,YEAR($B99),Transakcijas!$U:$U,RIGHT(\"0\"&MONTH($B99),2),Transakcijas!$D:$D,\"Aprēķins\",Transakcijas!$K:$K,\"Iemaksas atbrīvošana\")","v":0},{"$f":"SUMIFS(Transakcijas!$R:$R,Transakcijas!$Q:$Q,$B$97,Transakcijas!$T:$T,YEAR($B99),Transakcijas!$U:$U,RIGHT(\"0\"&MONTH($B99),2))-SUM(D99:K99)","v":0},0,{"$f":"ROUND(SUMIFS(Transakcijas!$R:$R,Transakcijas!$Q:$Q,$B$97,Transakcijas!$S:$S,\"<=\"&$B99,Transakcijas!$H:$H,\"Pamatsumma\"),2)","v":0},{"$f":"ROUND(SUMIFS(Transakcijas!$R:$R,Transakcijas!$Q:$Q,$B$97,Transakcijas!$S:$S,\"<=\"&$B99,Transakcijas!$H:$H,\"Nokavējuma nauda\"),2)","v":0},{"$f":"ROUND(SUMIFS(Transakcijas!$R:$R,Transakcijas!$Q:$Q,$B$97,Transakcijas!$S:$S,\"<=\"&$B99,Transakcijas!$H:$H,\"Soda nauda\"),2)","v":0},null,{"$f":"B97","v":"DRN"},{"$f":"B99","v":"2024-02-29"},null,0,null,null,0]
[null,"2024-03-31",0,{"$f":"SUMIFS(Transakcijas!$R:$R,Transakcijas!$Q:$Q,$B$97,Transakcijas!$T:$T,YEAR($B100),Transakcijas!$U:$U,RIGHT(\"0\"&MONTH($B100),2),Transakcijas!$D:$D,\"Aprēķins\",Transakcijas!$H:$H,\"Pamatsumma\",Transakcijas!$K:$K,\"<>\"&\"FIFO*\",Transakcijas!$K:$K,\"<>\"&\"Iemaksas atbrīvošana\")","v":0},null,null,{"$f":"SUMIFS(Transakcijas!$R:$R,Transakcijas!$Q:$Q,$B$97,Transakcijas!$T:$T,YEAR($B100),Transakcijas!$U:$U,RIGHT(\"0\"&MONTH($B100),2),Transakcijas!$D:$D,\"Aprēķins\",Transakcijas!$H:$H,\"Nokavējuma nauda\",Transakcijas!$K:$K,\"<>\"&\"FIFO*\",Transakcijas!$K:$K,\"<>\"&\"Iemaksas atbrīvošana\")","v":0},{"$f":"SUMIFS(Transakcijas!$R:$R,Transakcijas!$Q:$Q,$B$97,Transakcijas!$T:$T,YEAR($B100),Transakcijas!$U:$U,RIGHT(\"0\"&MONTH($B100),2),Transakcijas!$D:$D,\"Aprēķins\",Transakcijas!$H:$H,\"Soda nauda\",Transakcijas!$K:$K,\"<>\"&\"FIFO*\",Transakcijas!$K:$K,\"<>\"&\"Iemaksas atbrīvošana\")","v":0},{"$f":"SUMIFS(Transakcijas!$R:$R,Transakcijas!$Q:$Q,$B$97,Transakcijas!$T:$T,YEAR($B100),Transakcijas!$U:$U,RIGHT(\"0\"&MONTH($B100),2),Transakcijas!$D:$D,\"Iemaksa\",Transakcijas!$K:$K,\"<>\"&\"Izejošā maksājuma anulēšana\")\n+SUMIFS(Transakcijas!$R:$R,Transakcijas!$Q:$Q,$B$97,Transakcijas!$T:$T,YEAR($B100),Transakcijas!$U:$U,RIGHT(\"0\"&MONTH($B100),2),Transakcijas!$D:$D,\"Atmaksa\",Transakcijas!$K:$K,\"Iemaksas atbrīvošana\")","v":0},{"$f":"SUMIFS(Transakcijas!$R:$R,Transakcijas!$Q:$Q,$B$97,Transakcijas!$T:$T,YEAR($B100),Transakcijas!$U:$U,RIGHT(\"0\"&MONTH($B100),2),Transakcijas!$D:$D,\"Atmaksa\",Transakcijas!$K:$K,\"<>\"&\"Iemaksas atbrīvošana\")\n+SUMIFS(Transakcijas!$R:$R,Transakcijas!$Q:$Q,$B$97,Transakcijas!$T:$T,YEAR($B100),Transakcijas!$U:$U,RIGHT(\"0\"&MONTH($B100),2),Transakcijas!$D:$D,\"Iemaksa\",Transakcijas!$K:$K,\"Izejošā maksājuma anulēšana\")","v":0},{"$f":"SUMIFS(Transakcijas!$R:$R,Transakcijas!$Q:$Q,$B$97,Transakcijas!$T:$T,YEAR($B100),Transakcijas!$U:$U,RIGHT(\"0\"&MONTH($B100),2),Transakcijas!$K:$K,\"FIFO savstarpējā segšana\")\n+SUMIFS(Transakcijas!$R:$R,Transakcijas!$Q:$Q,$B$97,Transakcijas!$T:$T,YEAR($B100),Transakcijas!$U:$U,RIGHT(\"0\"&MONTH($B100),2),Transakcijas!$D:$D,\"Aprēķins\",Transakcijas!$K:$K,\"Iemaksas atbrīvošana\")","v":0},{"$f":"SUMIFS(Transakcijas!$R:$R,Transakcijas!$Q:$Q,$B$97,Transakcijas!$T:$T,YEAR($B100),Transakcijas!$U:$U,RIGHT(\"0\"&MONTH($B100),2))-SUM(D100:K100)","v":0},0,{"$f":"ROUND(SUMIFS(Transakcijas!$R:$R,Transakcijas!$Q:$Q,$B$97,Transakcijas!$S:$S,\"<=\"&$B100,Transakcijas!$H:$H,\"Pamatsumma\"),2)","v":0},{"$f":"ROUND(SUMIFS(Transakcijas!$R:$R,Transakcijas!$Q:$Q,$B$97,Transakcijas!$S:$S,\"<=\"&$B100,Transakcijas!$H:$H,\"Nokavējuma nauda\"),2)","v":0},{"$f":"ROUND(SUMIFS(Transakcijas!$R:$R,Transakcijas!$Q:$Q,$B$97,Transakcijas!$S:$S,\"<=\"&$B100,Transakcijas!$H:$H,\"Soda nauda\"),2)","v":0},null,{"$f":"B97","v":"DRN"},"2024-03-31",null,0,null,null,0]
[null,"2024-04-30",0,{"$f":"SUMIFS(Transakcijas!$R:$R,Transakcijas!$Q:$Q,$B$97,Transakcijas!$T:$T,YEAR($B101),Transakcijas!$U:$U,RIGHT(\"0\"&MONTH($B101),2),Transakcijas!$D:$D,\"Aprēķins\",Transakcijas!$H:$H,\"Pamatsumma\",Transakcijas!$K:$K,\"<>\"&\"FIFO*\",Transakcijas!$K:$K,\"<>\"&\"Iemaksas atbrīvošana\")","v":0},null,null,{"$f":"SUMIFS(Transakcijas!$R:$R,Transakcijas!$Q:$Q,$B$97,Transakcijas!$T:$T,YEAR($B101),Transakcijas!$U:$U,RIGHT(\"0\"&MONTH($B101),2),Transakcijas!$D:$D,\"Aprēķins\",Transakcijas!$H:$H,\"Nokavējuma nauda\",Transakcijas!$K:$K,\"<>\"&\"FIFO*\",Transakcijas!$K:$K,\"<>\"&\"Iemaksas atbrīvošana\")","v":0},{"$f":"SUMIFS(Transakcijas!$R:$R,Transakcijas!$Q:$Q,$B$97,Transakcijas!$T:$T,YEAR($B101),Transakcijas!$U:$U,RIGHT(\"0\"&MONTH($B101),2),Transakcijas!$D:$D,\"Aprēķins\",Transakcijas!$H:$H,\"Soda nauda\",Transakcijas!$K:$K,\"<>\"&\"FIFO*\",Transakcijas!$K:$K,\"<>\"&\"Iemaksas atbrīvošana\")","v":0},{"$f":"SUMIFS(Transakcijas!$R:$R,Transakcijas!$Q:$Q,$B$97,Transakcijas!$T:$T,YEAR($B101),Transakcijas!$U:$U,RIGHT(\"0\"&MONTH($B101),2),Transakcijas!$D:$D,\"Iemaksa\",Transakcijas!$K:$K,\"<>\"&\"Izejošā maksājuma anulēšana\")\n+SUMIFS(Transakcijas!$R:$R,Transakcijas!$Q:$Q,$B$97,Transakcijas!$T:$T,YEAR($B101),Transakcijas!$U:$U,RIGHT(\"0\"&MONTH($B101),2),Transakcijas!$D:$D,\"Atmaksa\",Transakcijas!$K:$K,\"Iemaksas atbrīvošana\")","v":0},{"$f":"SUMIFS(Transakcijas!$R:$R,Transakcijas!$Q:$Q,$B$97,Transakcijas!$T:$T,YEAR($B101),Transakcijas!$U:$U,RIGHT(\"0\"&MONTH($B101),2),Transakcijas!$D:$D,\"Atmaksa\",Transakcijas!$K:$K,\"<>\"&\"Iemaksas atbrīvošana\")\n+SUMIFS(Transakcijas!$R:$R,Transakcijas!$Q:$Q,$B$97,Transakcijas!$T:$T,YEAR($B101),Transakcijas!$U:$U,RIGHT(\"0\"&MONTH($B101),2),Transakcijas!$D:$D,\"Iemaksa\",Transakcijas!$K:$K,\"Izejošā maksājuma anulēšana\")","v":0},{"$f":"SUMIFS(Transakcijas!$R:$R,Transakcijas!$Q:$Q,$B$97,Transakcijas!$T:$T,YEAR($B101),Transakcijas!$U:$U,RIGHT(\"0\"&MONTH($B101),2),Transakcijas!$K:$K,\"FIFO savstarpējā segšana\")\n+SUMIFS(Transakcijas!$R:$R,Transakcijas!$Q:$Q,$B$97,Transakcijas!$T:$T,YEAR($B101),Transakcijas!$U:$U,RIGHT(\"0\"&MONTH($B101),2),Transakcijas!$D:$D,\"Aprēķins\",Transakcijas!$K:$K,\"Iemaksas atbrīvošana\")","v":0},{"$f":"SUMIFS(Transakcijas!$R:$R,Transakcijas!$Q:$Q,$B$97,Transakcijas!$T:$T,YEAR($B101),Transakcijas!$U:$U,RIGHT(\"0\"&MONTH($B101),2))-SUM(D101:K101)","v":0},0,{"$f":"ROUND(SUMIFS(Transakcijas!$R:$R,Transakcijas!$Q:$Q,$B$97,Transakcijas!$S:$S,\"<=\"&$B101,Transakcijas!$H:$H,\"Pamatsumma\"),2)","v":0},{"$f":"ROUND(SUMIFS(Transakcijas!$R:$R,Transakcijas!$Q:$Q,$B$97,Transakcijas!$S:$S,\"<=\"&$B101,Transakcijas!$H:$H,\"Nokavējuma nauda\"),2)","v":0},{"$f":"ROUND(SUMIFS(Transakcijas!$R:$R,Transakcijas!$Q:$Q,$B$97,Transakcijas!$S:$S,\"<=\"&$B101,Transakcijas!$H:$H,\"Soda nauda\"),2)","v":0},null,{"$f":"B97","v":"DRN"},"2024-04-30",null,0,null,null,0]
[null,"2024-05-31",0,{"$f":"SUMIFS(Transakcijas!$R:$R,Transakcijas!$Q:$Q,$B$97,Transakcijas!$T:$T,YEAR($B102),Transakcijas!$U:$U,RIGHT(\"0\"&MONTH($B102),2),Transakcijas!$D:$D,\"Aprēķins\",Transakcijas!$H:$H,\"Pamatsumma\",Transakcijas!$K:$K,\"<>\"&\"FIFO*\",Transakcijas!$K:$K,\"<>\"&\"Iemaksas atbrīvošana\")","v":0},null,null,{"$f":"SUMIFS(Transakcijas!$R:$R,Transakcijas!$Q:$Q,$B$97,Transakcijas!$T:$T,YEAR($B102),Transakcijas!$U:$U,RIGHT(\"0\"&MONTH($B102),2),Transakcijas!$D:$D,\"Aprēķins\",Transakcijas!$H:$H,\"Nokavējuma nauda\",Transakcijas!$K:$K,\"<>\"&\"FIFO*\",Transakcijas!$K:$K,\"<>\"&\"Iemaksas atbrīvošana\")","v":0},{"$f":"SUMIFS(Transakcijas!$R:$R,Transakcijas!$Q:$Q,$B$97,Transakcijas!$T:$T,YEAR($B102),Transakcijas!$U:$U,RIGHT(\"0\"&MONTH($B102),2),Transakcijas!$D:$D,\"Aprēķins\",Transakcijas!$H:$H,\"Soda nauda\",Transakcijas!$K:$K,\"<>\"&\"FIFO*\",Transakcijas!$K:$K,\"<>\"&\"Iemaksas atbrīvošana\")","v":0},{"$f":"SUMIFS(Transakcijas!$R:$R,Transakcijas!$Q:$Q,$B$97,Transakcijas!$T:$T,YEAR($B102),Transakcijas!$U:$U,RIGHT(\"0\"&MONTH($B102),2),Transakcijas!$D:$D,\"Iemaksa\",Transakcijas!$K:$K,\"<>\"&\"Izejošā maksājuma anulēšana\")\n+SUMIFS(Transakcijas!$R:$R,Transakcijas!$Q:$Q,$B$97,Transakcijas!$T:$T,YEAR($B102),Transakcijas!$U:$U,RIGHT(\"0\"&MONTH($B102),2),Transakcijas!$D:$D,\"Atmaksa\",Transakcijas!$K:$K,\"Iemaksas atbrīvošana\")","v":0},{"$f":"SUMIFS(Transakcijas!$R:$R,Transakcijas!$Q:$Q,$B$97,Transakcijas!$T:$T,YEAR($B102),Transakcijas!$U:$U,RIGHT(\"0\"&MONTH($B102),2),Transakcijas!$D:$D,\"Atmaksa\",Transakcijas!$K:$K,\"<>\"&\"Iemaksas atbrīvošana\")\n+SUMIFS(Transakcijas!$R:$R,Transakcijas!$Q:$Q,$B$97,Transakcijas!$T:$T,YEAR($B102),Transakcijas!$U:$U,RIGHT(\"0\"&MONTH($B102),2),Transakcijas!$D:$D,\"Iemaksa\",Transakcijas!$K:$K,\"Izejošā maksājuma anulēšana\")","v":0},{"$f":"SUMIFS(Transakcijas!$R:$R,Transakcijas!$Q:$Q,$B$97,Transakcijas!$T:$T,YEAR($B102),Transakcijas!$U:$U,RIGHT(\"0\"&MONTH($B102),2),Transakcijas!$K:$K,\"FIFO savstarpējā segšana\")\n+SUMIFS(Transakcijas!$R:$R,Transakcijas!$Q:$Q,$B$97,Transakcijas!$T:$T,YEAR($B102),Transakcijas!$U:$U,RIGHT(\"0\"&MONTH($B102),2),Transakcijas!$D:$D,\"Aprēķins\",Transakcijas!$K:$K,\"Iemaksas atbrīvošana\")","v":0},{"$f":"SUMIFS(Transakcijas!$R:$R,Transakcijas!$Q:$Q,$B$97,Transakcijas!$T:$T,YEAR($B102),Transakcijas!$U:$U,RIGHT(\"0\"&MONTH($B102),2))-SUM(D102:K102)","v":0},0,{"$f":"ROUND(SUMIFS(Transakcijas!$R:$R,Transakcijas!$Q:$Q,$B$97,Transakcijas!$S:$S,\"<=\"&$B102,Transakcijas!$H:$H,\"Pamatsumma\"),2)","v":0},{"$f":"ROUND(SUMIFS(Transakcijas!$R:$R,Transakcijas!$Q:$Q,$B$97,Transakcijas!$S:$S,\"<=\"&$B102,Transakcijas!$H:$H,\"Nokavējuma nauda\"),2)","v":0},{"$f":"ROUND(SUMIFS(Transakcijas!$R:$R,Transakcijas!$Q:$Q,$B$97,Transakcijas!$S:$S,\"<=\"&$B102,Transakcijas!$H:$H,\"Soda nauda\"),2)","v":0},null,{"$f":"B97","v":"DRN"},"2024-05-31",null,0,null,null,0]
[null,"2024-06-30",0,{"$f":"SUMIFS(Transakcijas!$R:$R,Transakcijas!$Q:$Q,$B$97,Transakcijas!$T:$T,YEAR($B103),Transakcijas!$U:$U,RIGHT(\"0\"&MONTH($B103),2),Transakcijas!$D:$D,\"Aprēķins\",Transakcijas!$H:$H,\"Pamatsumma\",Transakcijas!$K:$K,\"<>\"&\"FIFO*\",Transakcijas!$K:$K,\"<>\"&\"Iemaksas atbrīvošana\")","v":0},null,null,{"$f":"SUMIFS(Transakcijas!$R:$R,Transakcijas!$Q:$Q,$B$97,Transakcijas!$T:$T,YEAR($B103),Transakcijas!$U:$U,RIGHT(\"0\"&MONTH($B103),2),Transakcijas!$D:$D,\"Aprēķins\",Transakcijas!$H:$H,\"Nokavējuma nauda\",Transakcijas!$K:$K,\"<>\"&\"FIFO*\",Transakcijas!$K:$K,\"<>\"&\"Iemaksas atbrīvošana\")","v":0},{"$f":"SUMIFS(Transakcijas!$R:$R,Transakcijas!$Q:$Q,$B$97,Transakcijas!$T:$T,YEAR($B103),Transakcijas!$U:$U,RIGHT(\"0\"&MONTH($B103),2),Transakcijas!$D:$D,\"Aprēķins\",Transakcijas!$H:$H,\"Soda nauda\",Transakcijas!$K:$K,\"<>\"&\"FIFO*\",Transakcijas!$K:$K,\"<>\"&\"Iemaksas atbrīvošana\")","v":0},{"$f":"SUMIFS(Transakcijas!$R:$R,Transakcijas!$Q:$Q,$B$97,Transakcijas!$T:$T,YEAR($B103),Transakcijas!$U:$U,RIGHT(\"0\"&MONTH($B103),2),Transakcijas!$D:$D,\"Iemaksa\",Transakcijas!$K:$K,\"<>\"&\"Izejošā maksājuma anulēšana\")\n+SUMIFS(Transakcijas!$R:$R,Transakcijas!$Q:$Q,$B$97,Transakcijas!$T:$T,YEAR($B103),Transakcijas!$U:$U,RIGHT(\"0\"&MONTH($B103),2),Transakcijas!$D:$D,\"Atmaksa\",Transakcijas!$K:$K,\"Iemaksas atbrīvošana\")","v":0},{"$f":"SUMIFS(Transakcijas!$R:$R,Transakcijas!$Q:$Q,$B$97,Transakcijas!$T:$T,YEAR($B103),Transakcijas!$U:$U,RIGHT(\"0\"&MONTH($B103),2),Transakcijas!$D:$D,\"Atmaksa\",Transakcijas!$K:$K,\"<>\"&\"Iemaksas atbrīvošana\")\n+SUMIFS(Transakcijas!$R:$R,Transakcijas!$Q:$Q,$B$97,Transakcijas!$T:$T,YEAR($B103),Transakcijas!$U:$U,RIGHT(\"0\"&MONTH($B103),2),Transakcijas!$D:$D,\"Iemaksa\",Transakcijas!$K:$K,\"Izejošā maksājuma anulēšana\")","v":0},{"$f":"SUMIFS(Transakcijas!$R:$R,Transakcijas!$Q:$Q,$B$97,Transakcijas!$T:$T,YEAR($B103),Transakcijas!$U:$U,RIGHT(\"0\"&MONTH($B103),2),Transakcijas!$K:$K,\"FIFO savstarpējā segšana\")\n+SUMIFS(Transakcijas!$R:$R,Transakcijas!$Q:$Q,$B$97,Transakcijas!$T:$T,YEAR($B103),Transakcijas!$U:$U,RIGHT(\"0\"&MONTH($B103),2),Transakcijas!$D:$D,\"Aprēķins\",Transakcijas!$K:$K,\"Iemaksas atbrīvošana\")","v":0},{"$f":"SUMIFS(Transakcijas!$R:$R,Transakcijas!$Q:$Q,$B$97,Transakcijas!$T:$T,YEAR($B103),Transakcijas!$U:$U,RIGHT(\"0\"&MONTH($B103),2))-SUM(D103:K103)","v":0},0,{"$f":"ROUND(SUMIFS(Transakcijas!$R:$R,Transakcijas!$Q:$Q,$B$97,Transakcijas!$S:$S,\"<=\"&$B103,Transakcijas!$H:$H,\"Pamatsumma\"),2)","v":0},{"$f":"ROUND(SUMIFS(Transakcijas!$R:$R,Transakcijas!$Q:$Q,$B$97,Transakcijas!$S:$S,\"<=\"&$B103,Transakcijas!$H:$H,\"Nokavējuma nauda\"),2)","v":0},{"$f":"ROUND(SUMIFS(Transakcijas!$R:$R,Transakcijas!$Q:$Q,$B$97,Transakcijas!$S:$S,\"<=\"&$B103,Transakcijas!$H:$H,\"Soda nauda\"),2)","v":0},null,{"$f":"B97","v":"DRN"},"2024-06-30",null,0,null,null,0]
[null,"2024-07-31",0,{"$f":"SUMIFS(Transakcijas!$R:$R,Transakcijas!$Q:$Q,$B$97,Transakcijas!$T:$T,YEAR($B104),Transakcijas!$U:$U,RIGHT(\"0\"&MONTH($B104),2),Transakcijas!$D:$D,\"Aprēķins\",Transakcijas!$H:$H,\"Pamatsumma\",Transakcijas!$K:$K,\"<>\"&\"FIFO*\",Transakcijas!$K:$K,\"<>\"&\"Iemaksas atbrīvošana\")","v":0},null,null,{"$f":"SUMIFS(Transakcijas!$R:$R,Transakcijas!$Q:$Q,$B$97,Transakcijas!$T:$T,YEAR($B104),Transakcijas!$U:$U,RIGHT(\"0\"&MONTH($B104),2),Transakcijas!$D:$D,\"Aprēķins\",Transakcijas!$H:$H,\"Nokavējuma nauda\",Transakcijas!$K:$K,\"<>\"&\"FIFO*\",Transakcijas!$K:$K,\"<>\"&\"Iemaksas atbrīvošana\")","v":0},{"$f":"SUMIFS(Transakcijas!$R:$R,Transakcijas!$Q:$Q,$B$97,Transakcijas!$T:$T,YEAR($B104),Transakcijas!$U:$U,RIGHT(\"0\"&MONTH($B104),2),Transakcijas!$D:$D,\"Aprēķins\",Transakcijas!$H:$H,\"Soda nauda\",Transakcijas!$K:$K,\"<>\"&\"FIFO*\",Transakcijas!$K:$K,\"<>\"&\"Iemaksas atbrīvošana\")","v":0},{"$f":"SUMIFS(Transakcijas!$R:$R,Transakcijas!$Q:$Q,$B$97,Transakcijas!$T:$T,YEAR($B104),Transakcijas!$U:$U,RIGHT(\"0\"&MONTH($B104),2),Transakcijas!$D:$D,\"Iemaksa\",Transakcijas!$K:$K,\"<>\"&\"Izejošā maksājuma anulēšana\")\n+SUMIFS(Transakcijas!$R:$R,Transakcijas!$Q:$Q,$B$97,Transakcijas!$T:$T,YEAR($B104),Transakcijas!$U:$U,RIGHT(\"0\"&MONTH($B104),2),Transakcijas!$D:$D,\"Atmaksa\",Transakcijas!$K:$K,\"Iemaksas atbrīvošana\")","v":0},{"$f":"SUMIFS(Transakcijas!$R:$R,Transakcijas!$Q:$Q,$B$97,Transakcijas!$T:$T,YEAR($B104),Transakcijas!$U:$U,RIGHT(\"0\"&MONTH($B104),2),Transakcijas!$D:$D,\"Atmaksa\",Transakcijas!$K:$K,\"<>\"&\"Iemaksas atbrīvošana\")\n+SUMIFS(Transakcijas!$R:$R,Transakcijas!$Q:$Q,$B$97,Transakcijas!$T:$T,YEAR($B104),Transakcijas!$U:$U,RIGHT(\"0\"&MONTH($B104),2),Transakcijas!$D:$D,\"Iemaksa\",Transakcijas!$K:$K,\"Izejošā maksājuma anulēšana\")","v":0},{"$f":"SUMIFS(Transakcijas!$R:$R,Transakcijas!$Q:$Q,$B$97,Transakcijas!$T:$T,YEAR($B104),Transakcijas!$U:$U,RIGHT(\"0\"&MONTH($B104),2),Transakcijas!$K:$K,\"FIFO savstarpējā segšana\")\n+SUMIFS(Transakcijas!$R:$R,Transakcijas!$Q:$Q,$B$97,Transakcijas!$T:$T,YEAR($B104),Transakcijas!$U:$U,RIGHT(\"0\"&MONTH($B104),2),Transakcijas!$D:$D,\"Aprēķins\",Transakcijas!$K:$K,\"Iemaksas atbrīvošana\")","v":0},{"$f":"SUMIFS(Transakcijas!$R:$R,Transakcijas!$Q:$Q,$B$97,Transakcijas!$T:$T,YEAR($B104),Transakcijas!$U:$U,RIGHT(\"0\"&MONTH($B104),2))-SUM(D104:K104)","v":0},0,{"$f":"ROUND(SUMIFS(Transakcijas!$R:$R,Transakcijas!$Q:$Q,$B$97,Transakcijas!$S:$S,\"<=\"&$B104,Transakcijas!$H:$H,\"Pamatsumma\"),2)","v":0},{"$f":"ROUND(SUMIFS(Transakcijas!$R:$R,Transakcijas!$Q:$Q,$B$97,Transakcijas!$S:$S,\"<=\"&$B104,Transakcijas!$H:$H,\"Nokavējuma nauda\"),2)","v":0},{"$f":"ROUND(SUMIFS(Transakcijas!$R:$R,Transakcijas!$Q:$Q,$B$97,Transakcijas!$S:$S,\"<=\"&$B104,Transakcijas!$H:$H,\"Soda nauda\"),2)","v":0},null,{"$f":"B97","v":"DRN"},"2024-07-31",null,0,null,null,0]
[null,"2024-08-31",0,{"$f":"SUMIFS(Transakcijas!$R:$R,Transakcijas!$Q:$Q,$B$97,Transakcijas!$T:$T,YEAR($B105),Transakcijas!$U:$U,RIGHT(\"0\"&MONTH($B105),2),Transakcijas!$D:$D,\"Aprēķins\",Transakcijas!$H:$H,\"Pamatsumma\",Transakcijas!$K:$K,\"<>\"&\"FIFO*\",Transakcijas!$K:$K,\"<>\"&\"Iemaksas atbrīvošana\")","v":0},null,null,{"$f":"SUMIFS(Transakcijas!$R:$R,Transakcijas!$Q:$Q,$B$97,Transakcijas!$T:$T,YEAR($B105),Transakcijas!$U:$U,RIGHT(\"0\"&MONTH($B105),2),Transakcijas!$D:$D,\"Aprēķins\",Transakcijas!$H:$H,\"Nokavējuma nauda\",Transakcijas!$K:$K,\"<>\"&\"FIFO*\",Transakcijas!$K:$K,\"<>\"&\"Iemaksas atbrīvošana\")","v":0},{"$f":"SUMIFS(Transakcijas!$R:$R,Transakcijas!$Q:$Q,$B$97,Transakcijas!$T:$T,YEAR($B105),Transakcijas!$U:$U,RIGHT(\"0\"&MONTH($B105),2),Transakcijas!$D:$D,\"Aprēķins\",Transakcijas!$H:$H,\"Soda nauda\",Transakcijas!$K:$K,\"<>\"&\"FIFO*\",Transakcijas!$K:$K,\"<>\"&\"Iemaksas atbrīvošana\")","v":0},{"$f":"SUMIFS(Transakcijas!$R:$R,Transakcijas!$Q:$Q,$B$97,Transakcijas!$T:$T,YEAR($B105),Transakcijas!$U:$U,RIGHT(\"0\"&MONTH($B105),2),Transakcijas!$D:$D,\"Iemaksa\",Transakcijas!$K:$K,\"<>\"&\"Izejošā maksājuma anulēšana\")\n+SUMIFS(Transakcijas!$R:$R,Transakcijas!$Q:$Q,$B$97,Transakcijas!$T:$T,YEAR($B105),Transakcijas!$U:$U,RIGHT(\"0\"&MONTH($B105),2),Transakcijas!$D:$D,\"Atmaksa\",Transakcijas!$K:$K,\"Iemaksas atbrīvošana\")","v":0},{"$f":"SUMIFS(Transakcijas!$R:$R,Transakcijas!$Q:$Q,$B$97,Transakcijas!$T:$T,YEAR($B105),Transakcijas!$U:$U,RIGHT(\"0\"&MONTH($B105),2),Transakcijas!$D:$D,\"Atmaksa\",Transakcijas!$K:$K,\"<>\"&\"Iemaksas atbrīvošana\")\n+SUMIFS(Transakcijas!$R:$R,Transakcijas!$Q:$Q,$B$97,Transakcijas!$T:$T,YEAR($B105),Transakcijas!$U:$U,RIGHT(\"0\"&MONTH($B105),2),Transakcijas!$D:$D,\"Iemaksa\",Transakcijas!$K:$K,\"Izejošā maksājuma anulēšana\")","v":0},{"$f":"SUMIFS(Transakcijas!$R:$R,Transakcijas!$Q:$Q,$B$97,Transakcijas!$T:$T,YEAR($B105),Transakcijas!$U:$U,RIGHT(\"0\"&MONTH($B105),2),Transakcijas!$K:$K,\"FIFO savstarpējā segšana\")\n+SUMIFS(Transakcijas!$R:$R,Transakcijas!$Q:$Q,$B$97,Transakcijas!$T:$T,YEAR($B105),Transakcijas!$U:$U,RIGHT(\"0\"&MONTH($B105),2),Transakcijas!$D:$D,\"Aprēķins\",Transakcijas!$K:$K,\"Iemaksas atbrīvošana\")","v":0},{"$f":"SUMIFS(Transakcijas!$R:$R,Transakcijas!$Q:$Q,$B$97,Transakcijas!$T:$T,YEAR($B105),Transakcijas!$U:$U,RIGHT(\"0\"&MONTH($B105),2))-SUM(D105:K105)","v":0},0,{"$f":"ROUND(SUMIFS(Transakcijas!$R:$R,Transakcijas!$Q:$Q,$B$97,Transakcijas!$S:$S,\"<=\"&$B105,Transakcijas!$H:$H,\"Pamatsumma\"),2)","v":0},{"$f":"ROUND(SUMIFS(Transakcijas!$R:$R,Transakcijas!$Q:$Q,$B$97,Transakcijas!$S:$S,\"<=\"&$B105,Transakcijas!$H:$H,\"Nokavējuma nauda\"),2)","v":0},{"$f":"ROUND(SUMIFS(Transakcijas!$R:$R,Transakcijas!$Q:$Q,$B$97,Transakcijas!$S:$S,\"<=\"&$B105,Transakcijas!$H:$H,\"Soda nauda\"),2)","v":0},null,{"$f":"B97","v":"DRN"},"2024-08-31",null,0,null,null,0]
[null,"2024-09-30",0,{"$f":"SUMIFS(Transakcijas!$R:$R,Transakcijas!$Q:$Q,$B$97,Transakcijas!$T:$T,YEAR($B106),Transakcijas!$U:$U,RIGHT(\"0\"&MONTH($B106),2),Transakcijas!$D:$D,\"Aprēķins\",Transakcijas!$H:$H,\"Pamatsumma\",Transakcijas!$K:$K,\"<>\"&\"FIFO*\",Transakcijas!$K:$K,\"<>\"&\"Iemaksas atbrīvošana\")","v":0},null,null,{"$f":"SUMIFS(Transakcijas!$R:$R,Transakcijas!$Q:$Q,$B$97,Transakcijas!$T:$T,YEAR($B106),Transakcijas!$U:$U,RIGHT(\"0\"&MONTH($B106),2),Transakcijas!$D:$D,\"Aprēķins\",Transakcijas!$H:$H,\"Nokavējuma nauda\",Transakcijas!$K:$K,\"<>\"&\"FIFO*\",Transakcijas!$K:$K,\"<>\"&\"Iemaksas atbrīvošana\")","v":0},{"$f":"SUMIFS(Transakcijas!$R:$R,Transakcijas!$Q:$Q,$B$97,Transakcijas!$T:$T,YEAR($B106),Transakcijas!$U:$U,RIGHT(\"0\"&MONTH($B106),2),Transakcijas!$D:$D,\"Aprēķins\",Transakcijas!$H:$H,\"Soda nauda\",Transakcijas!$K:$K,\"<>\"&\"FIFO*\",Transakcijas!$K:$K,\"<>\"&\"Iemaksas atbrīvošana\")","v":0},{"$f":"SUMIFS(Transakcijas!$R:$R,Transakcijas!$Q:$Q,$B$97,Transakcijas!$T:$T,YEAR($B106),Transakcijas!$U:$U,RIGHT(\"0\"&MONTH($B106),2),Transakcijas!$D:$D,\"Iemaksa\",Transakcijas!$K:$K,\"<>\"&\"Izejošā maksājuma anulēšana\")\n+SUMIFS(Transakcijas!$R:$R,Transakcijas!$Q:$Q,$B$97,Transakcijas!$T:$T,YEAR($B106),Transakcijas!$U:$U,RIGHT(\"0\"&MONTH($B106),2),Transakcijas!$D:$D,\"Atmaksa\",Transakcijas!$K:$K,\"Iemaksas atbrīvošana\")","v":0},{"$f":"SUMIFS(Transakcijas!$R:$R,Transakcijas!$Q:$Q,$B$97,Transakcijas!$T:$T,YEAR($B106),Transakcijas!$U:$U,RIGHT(\"0\"&MONTH($B106),2),Transakcijas!$D:$D,\"Atmaksa\",Transakcijas!$K:$K,\"<>\"&\"Iemaksas atbrīvošana\")\n+SUMIFS(Transakcijas!$R:$R,Transakcijas!$Q:$Q,$B$97,Transakcijas!$T:$T,YEAR($B106),Transakcijas!$U:$U,RIGHT(\"0\"&MONTH($B106),2),Transakcijas!$D:$D,\"Iemaksa\",Transakcijas!$K:$K,\"Izejošā maksājuma anulēšana\")","v":0},{"$f":"SUMIFS(Transakcijas!$R:$R,Transakcijas!$Q:$Q,$B$97,Transakcijas!$T:$T,YEAR($B106),Transakcijas!$U:$U,RIGHT(\"0\"&MONTH($B106),2),Transakcijas!$K:$K,\"FIFO savstarpējā segšana\")\n+SUMIFS(Transakcijas!$R:$R,Transakcijas!$Q:$Q,$B$97,Transakcijas!$T:$T,YEAR($B106),Transakcijas!$U:$U,RIGHT(\"0\"&MONTH($B106),2),Transakcijas!$D:$D,\"Aprēķins\",Transakcijas!$K:$K,\"Iemaksas atbrīvošana\")","v":0},{"$f":"SUMIFS(Transakcijas!$R:$R,Transakcijas!$Q:$Q,$B$97,Transakcijas!$T:$T,YEAR($B106),Transakcijas!$U:$U,RIGHT(\"0\"&MONTH($B106),2))-SUM(D106:K106)","v":0},0,{"$f":"ROUND(SUMIFS(Transakcijas!$R:$R,Transakcijas!$Q:$Q,$B$97,Transakcijas!$S:$S,\"<=\"&$B106,Transakcijas!$H:$H,\"Pamatsumma\"),2)","v":0},{"$f":"ROUND(SUMIFS(Transakcijas!$R:$R,Transakcijas!$Q:$Q,$B$97,Transakcijas!$S:$S,\"<=\"&$B106,Transakcijas!$H:$H,\"Nokavējuma nauda\"),2)","v":0},{"$f":"ROUND(SUMIFS(Transakcijas!$R:$R,Transakcijas!$Q:$Q,$B$97,Transakcijas!$S:$S,\"<=\"&$B106,Transakcijas!$H:$H,\"Soda nauda\"),2)","v":0},null,{"$f":"B97","v":"DRN"},"2024-09-30",null,0,null,null,0]
[null,"2024-10-31",0,{"$f":"SUMIFS(Transakcijas!$R:$R,Transakcijas!$Q:$Q,$B$97,Transakcijas!$T:$T,YEAR($B107),Transakcijas!$U:$U,RIGHT(\"0\"&MONTH($B107),2),Transakcijas!$D:$D,\"Aprēķins\",Transakcijas!$H:$H,\"Pamatsumma\",Transakcijas!$K:$K,\"<>\"&\"FIFO*\",Transakcijas!$K:$K,\"<>\"&\"Iemaksas atbrīvošana\")","v":0},null,null,{"$f":"SUMIFS(Transakcijas!$R:$R,Transakcijas!$Q:$Q,$B$97,Transakcijas!$T:$T,YEAR($B107),Transakcijas!$U:$U,RIGHT(\"0\"&MONTH($B107),2),Transakcijas!$D:$D,\"Aprēķins\",Transakcijas!$H:$H,\"Nokavējuma nauda\",Transakcijas!$K:$K,\"<>\"&\"FIFO*\",Transakcijas!$K:$K,\"<>\"&\"Iemaksas atbrīvošana\")","v":0},{"$f":"SUMIFS(Transakcijas!$R:$R,Transakcijas!$Q:$Q,$B$97,Transakcijas!$T:$T,YEAR($B107),Transakcijas!$U:$U,RIGHT(\"0\"&MONTH($B107),2),Transakcijas!$D:$D,\"Aprēķins\",Transakcijas!$H:$H,\"Soda nauda\",Transakcijas!$K:$K,\"<>\"&\"FIFO*\",Transakcijas!$K:$K,\"<>\"&\"Iemaksas atbrīvošana\")","v":0},{"$f":"SUMIFS(Transakcijas!$R:$R,Transakcijas!$Q:$Q,$B$97,Transakcijas!$T:$T,YEAR($B107),Transakcijas!$U:$U,RIGHT(\"0\"&MONTH($B107),2),Transakcijas!$D:$D,\"Iemaksa\",Transakcijas!$K:$K,\"<>\"&\"Izejošā maksājuma anulēšana\")\n+SUMIFS(Transakcijas!$R:$R,Transakcijas!$Q:$Q,$B$97,Transakcijas!$T:$T,YEAR($B107),Transakcijas!$U:$U,RIGHT(\"0\"&MONTH($B107),2),Transakcijas!$D:$D,\"Atmaksa\",Transakcijas!$K:$K,\"Iemaksas atbrīvošana\")","v":0},{"$f":"SUMIFS(Transakcijas!$R:$R,Transakcijas!$Q:$Q,$B$97,Transakcijas!$T:$T,YEAR($B107),Transakcijas!$U:$U,RIGHT(\"0\"&MONTH($B107),2),Transakcijas!$D:$D,\"Atmaksa\",Transakcijas!$K:$K,\"<>\"&\"Iemaksas atbrīvošana\")\n+SUMIFS(Transakcijas!$R:$R,Transakcijas!$Q:$Q,$B$97,Transakcijas!$T:$T,YEAR($B107),Transakcijas!$U:$U,RIGHT(\"0\"&MONTH($B107),2),Transakcijas!$D:$D,\"Iemaksa\",Transakcijas!$K:$K,\"Izejošā maksājuma anulēšana\")","v":0},{"$f":"SUMIFS(Transakcijas!$R:$R,Transakcijas!$Q:$Q,$B$97,Transakcijas!$T:$T,YEAR($B107),Transakcijas!$U:$U,RIGHT(\"0\"&MONTH($B107),2),Transakcijas!$K:$K,\"FIFO savstarpējā segšana\")\n+SUMIFS(Transakcijas!$R:$R,Transakcijas!$Q:$Q,$B$97,Transakcijas!$T:$T,YEAR($B107),Transakcijas!$U:$U,RIGHT(\"0\"&MONTH($B107),2),Transakcijas!$D:$D,\"Aprēķins\",Transakcijas!$K:$K,\"Iemaksas atbrīvošana\")","v":0},{"$f":"SUMIFS(Transakcijas!$R:$R,Transakcijas!$Q:$Q,$B$97,Transakcijas!$T:$T,YEAR($B107),Transakcijas!$U:$U,RIGHT(\"0\"&MONTH($B107),2))-SUM(D107:K107)","v":0},0,{"$f":"ROUND(SUMIFS(Transakcijas!$R:$R,Transakcijas!$Q:$Q,$B$97,Transakcijas!$S:$S,\"<=\"&$B107,Transakcijas!$H:$H,\"Pamatsumma\"),2)","v":0},{"$f":"ROUND(SUMIFS(Transakcijas!$R:$R,Transakcijas!$Q:$Q,$B$97,Transakcijas!$S:$S,\"<=\"&$B107,Transakcijas!$H:$H,\"Nokavējuma nauda\"),2)","v":0},{"$f":"ROUND(SUMIFS(Transakcijas!$R:$R,Transakcijas!$Q:$Q,$B$97,Transakcijas!$S:$S,\"<=\"&$B107,Transakcijas!$H:$H,\"Soda nauda\"),2)","v":0},null,{"$f":"B97","v":"DRN"},"2024-10-31",null,0,null,null,0]
[null,"2024-11-30",0,{"$f":"SUMIFS(Transakcijas!$R:$R,Transakcijas!$Q:$Q,$B$97,Transakcijas!$T:$T,YEAR($B108),Transakcijas!$U:$U,RIGHT(\"0\"&MONTH($B108),2),Transakcijas!$D:$D,\"Aprēķins\",Transakcijas!$H:$H,\"Pamatsumma\",Transakcijas!$K:$K,\"<>\"&\"FIFO*\",Transakcijas!$K:$K,\"<>\"&\"Iemaksas atbrīvošana\")","v":0},null,null,{"$f":"SUMIFS(Transakcijas!$R:$R,Transakcijas!$Q:$Q,$B$97,Transakcijas!$T:$T,YEAR($B108),Transakcijas!$U:$U,RIGHT(\"0\"&MONTH($B108),2),Transakcijas!$D:$D,\"Aprēķins\",Transakcijas!$H:$H,\"Nokavējuma nauda\",Transakcijas!$K:$K,\"<>\"&\"FIFO*\",Transakcijas!$K:$K,\"<>\"&\"Iemaksas atbrīvošana\")","v":0},{"$f":"SUMIFS(Transakcijas!$R:$R,Transakcijas!$Q:$Q,$B$97,Transakcijas!$T:$T,YEAR($B108),Transakcijas!$U:$U,RIGHT(\"0\"&MONTH($B108),2),Transakcijas!$D:$D,\"Aprēķins\",Transakcijas!$H:$H,\"Soda nauda\",Transakcijas!$K:$K,\"<>\"&\"FIFO*\",Transakcijas!$K:$K,\"<>\"&\"Iemaksas atbrīvošana\")","v":0},{"$f":"SUMIFS(Transakcijas!$R:$R,Transakcijas!$Q:$Q,$B$97,Transakcijas!$T:$T,YEAR($B108),Transakcijas!$U:$U,RIGHT(\"0\"&MONTH($B108),2),Transakcijas!$D:$D,\"Iemaksa\",Transakcijas!$K:$K,\"<>\"&\"Izejošā maksājuma anulēšana\")\n+SUMIFS(Transakcijas!$R:$R,Transakcijas!$Q:$Q,$B$97,Transakcijas!$T:$T,YEAR($B108),Transakcijas!$U:$U,RIGHT(\"0\"&MONTH($B108),2),Transakcijas!$D:$D,\"Atmaksa\",Transakcijas!$K:$K,\"Iemaksas atbrīvošana\")","v":0},{"$f":"SUMIFS(Transakcijas!$R:$R,Transakcijas!$Q:$Q,$B$97,Transakcijas!$T:$T,YEAR($B108),Transakcijas!$U:$U,RIGHT(\"0\"&MONTH($B108),2),Transakcijas!$D:$D,\"Atmaksa\",Transakcijas!$K:$K,\"<>\"&\"Iemaksas atbrīvošana\")\n+SUMIFS(Transakcijas!$R:$R,Transakcijas!$Q:$Q,$B$97,Transakcijas!$T:$T,YEAR($B108),Transakcijas!$U:$U,RIGHT(\"0\"&MONTH($B108),2),Transakcijas!$D:$D,\"Iemaksa\",Transakcijas!$K:$K,\"Izejošā maksājuma anulēšana\")","v":0},{"$f":"SUMIFS(Transakcijas!$R:$R,Transakcijas!$Q:$Q,$B$97,Transakcijas!$T:$T,YEAR($B108),Transakcijas!$U:$U,RIGHT(\"0\"&MONTH($B108),2),Transakcijas!$K:$K,\"FIFO savstarpējā segšana\")\n+SUMIFS(Transakcijas!$R:$R,Transakcijas!$Q:$Q,$B$97,Transakcijas!$T:$T,YEAR($B108),Transakcijas!$U:$U,RIGHT(\"0\"&MONTH($B108),2),Transakcijas!$D:$D,\"Aprēķins\",Transakcijas!$K:$K,\"Iemaksas atbrīvošana\")","v":0},{"$f":"SUMIFS(Transakcijas!$R:$R,Transakcijas!$Q:$Q,$B$97,Transakcijas!$T:$T,YEAR($B108),Transakcijas!$U:$U,RIGHT(\"0\"&MONTH($B108),2))-SUM(D108:K108)","v":0},0,{"$f":"ROUND(SUMIFS(Transakcijas!$R:$R,Transakcijas!$Q:$Q,$B$97,Transakcijas!$S:$S,\"<=\"&$B108,Transakcijas!$H:$H,\"Pamatsumma\"),2)","v":0},{"$f":"ROUND(SUMIFS(Transakcijas!$R:$R,Transakcijas!$Q:$Q,$B$97,Transakcijas!$S:$S,\"<=\"&$B108,Transakcijas!$H:$H,\"Nokavējuma nauda\"),2)","v":0},{"$f":"ROUND(SUMIFS(Transakcijas!$R:$R,Transakcijas!$Q:$Q,$B$97,Transakcijas!$S:$S,\"<=\"&$B108,Transakcijas!$H:$H,\"Soda nauda\"),2)","v":0},null,{"$f":"B97","v":"DRN"},"2024-11-30",null,0,null,null,0]
[null,"2024-12-31",0,{"$f":"SUMIFS(Transakcijas!$R:$R,Transakcijas!$Q:$Q,$B$97,Transakcijas!$T:$T,YEAR($B109),Transakcijas!$U:$U,RIGHT(\"0\"&MONTH($B109),2),Transakcijas!$D:$D,\"Aprēķins\",Transakcijas!$H:$H,\"Pamatsumma\",Transakcijas!$K:$K,\"<>\"&\"FIFO*\",Transakcijas!$K:$K,\"<>\"&\"Iemaksas atbrīvošana\")","v":0},null,null,{"$f":"SUMIFS(Transakcijas!$R:$R,Transakcijas!$Q:$Q,$B$97,Transakcijas!$T:$T,YEAR($B109),Transakcijas!$U:$U,RIGHT(\"0\"&MONTH($B109),2),Transakcijas!$D:$D,\"Aprēķins\",Transakcijas!$H:$H,\"Nokavējuma nauda\",Transakcijas!$K:$K,\"<>\"&\"FIFO*\",Transakcijas!$K:$K,\"<>\"&\"Iemaksas atbrīvošana\")","v":0},{"$f":"SUMIFS(Transakcijas!$R:$R,Transakcijas!$Q:$Q,$B$97,Transakcijas!$T:$T,YEAR($B109),Transakcijas!$U:$U,RIGHT(\"0\"&MONTH($B109),2),Transakcijas!$D:$D,\"Aprēķins\",Transakcijas!$H:$H,\"Soda nauda\",Transakcijas!$K:$K,\"<>\"&\"FIFO*\",Transakcijas!$K:$K,\"<>\"&\"Iemaksas atbrīvošana\")","v":0},{"$f":"SUMIFS(Transakcijas!$R:$R,Transakcijas!$Q:$Q,$B$97,Transakcijas!$T:$T,YEAR($B109),Transakcijas!$U:$U,RIGHT(\"0\"&MONTH($B109),2),Transakcijas!$D:$D,\"Iemaksa\",Transakcijas!$K:$K,\"<>\"&\"Izejošā maksājuma anulēšana\")\n+SUMIFS(Transakcijas!$R:$R,Transakcijas!$Q:$Q,$B$97,Transakcijas!$T:$T,YEAR($B109),Transakcijas!$U:$U,RIGHT(\"0\"&MONTH($B109),2),Transakcijas!$D:$D,\"Atmaksa\",Transakcijas!$K:$K,\"Iemaksas atbrīvošana\")","v":0},{"$f":"SUMIFS(Transakcijas!$R:$R,Transakcijas!$Q:$Q,$B$97,Transakcijas!$T:$T,YEAR($B109),Transakcijas!$U:$U,RIGHT(\"0\"&MONTH($B109),2),Transakcijas!$D:$D,\"Atmaksa\",Transakcijas!$K:$K,\"<>\"&\"Iemaksas atbrīvošana\")\n+SUMIFS(Transakcijas!$R:$R,Transakcijas!$Q:$Q,$B$97,Transakcijas!$T:$T,YEAR($B109),Transakcijas!$U:$U,RIGHT(\"0\"&MONTH($B109),2),Transakcijas!$D:$D,\"Iemaksa\",Transakcijas!$K:$K,\"Izejošā maksājuma anulēšana\")","v":0},{"$f":"SUMIFS(Transakcijas!$R:$R,Transakcijas!$Q:$Q,$B$97,Transakcijas!$T:$T,YEAR($B109),Transakcijas!$U:$U,RIGHT(\"0\"&MONTH($B109),2),Transakcijas!$K:$K,\"FIFO savstarpējā segšana\")\n+SUMIFS(Transakcijas!$R:$R,Transakcijas!$Q:$Q,$B$97,Transakcijas!$T:$T,YEAR($B109),Transakcijas!$U:$U,RIGHT(\"0\"&MONTH($B109),2),Transakcijas!$D:$D,\"Aprēķins\",Transakcijas!$K:$K,\"Iemaksas atbrīvošana\")","v":0},{"$f":"SUMIFS(Transakcijas!$R:$R,Transakcijas!$Q:$Q,$B$97,Transakcijas!$T:$T,YEAR($B109),Transakcijas!$U:$U,RIGHT(\"0\"&MONTH($B109),2))-SUM(D109:K109)","v":0},0,{"$f":"ROUND(SUMIFS(Transakcijas!$R:$R,Transakcijas!$Q:$Q,$B$97,Transakcijas!$S:$S,\"<=\"&$B109,Transakcijas!$H:$H,\"Pamatsumma\"),2)","v":0},{"$f":"ROUND(SUMIFS(Transakcijas!$R:$R,Transakcijas!$Q:$Q,$B$97,Transakcijas!$S:$S,\"<=\"&$B109,Transakcijas!$H:$H,\"Nokavējuma nauda\"),2)","v":0},{"$f":"ROUND(SUMIFS(Transakcijas!$R:$R,Transakcijas!$Q:$Q,$B$97,Transakcijas!$S:$S,\"<=\"&$B109,Transakcijas!$H:$H,\"Soda nauda\"),2)","v":0},null,{"$f":"B97","v":"DRN"},"2024-12-31",null,0,null,null,0]
[null,"Kopā",{"$f":"C98","v":0},{"$f":"SUM(D98:D109)","v":0},null,null,{"$f":"SUM(G98:G109)","v":0},0,0,0,0,0,0]
[]
[null,{"$f":"B12","v":"AN"},"Atlikums uz perioda sākumu",{"$f":"D$4","v":"Aprēķināts"},{"$f":"E$4","v":"Ieturēts IIN\nMin. VSAOI"},"Apr.nerezid.\nUniv.IF VSAOI","Aprēķināta nokav. nauda  ","Aprēķināta\n soda nauda  ","Samaksāts\nAtbrīvots","Atmaksāts","Pārvietots \n(Savst.segš.)","Cita \nkustība","Atlikums uz perioda beigām","Pamat-\nsumma","Nokav. \nnauda  ","Soda \nnauda  "]
[null,{"$f":"DATE(YEAR($C$4),MONTH($C$4)+1,0)","v":"2024-01-31"},{"$f":"C12","v":0},{"$f":"SUMIFS(Transakcijas!$R:$R,Transakcijas!$Q:$Q,$B$112,Transakcijas!$T:$T,YEAR($B113),Transakcijas!$U:$U,RIGHT(\"0\"&MONTH($B113),2),Transakcijas!$D:$D,\"Aprēķins\",Transakcijas!$H:$H,\"Pamatsumma\",Transakcijas!$K:$K,\"<>\"&\"FIFO*\",Transakcijas!$K:$K,\"<>\"&\"Iemaksas atbrīvošana\")","v":0},null,null,{"$f":"SUMIFS(Transakcijas!$R:$R,Transakcijas!$Q:$Q,$B$112,Transakcijas!$T:$T,YEAR($B113),Transakcijas!$U:$U,RIGHT(\"0\"&MONTH($B113),2),Transakcijas!$D:$D,\"Aprēķins\",Transakcijas!$H:$H,\"Nokavējuma nauda\",Transakcijas!$K:$K,\"<>\"&\"FIFO*\",Transakcijas!$K:$K,\"<>\"&\"Iemaksas atbrīvošana\")","v":0},{"$f":"SUMIFS(Transakcijas!$R:$R,Transakcijas!$Q:$Q,$B$112,Transakcijas!$T:$T,YEAR($B113),Transakcijas!$U:$U,RIGHT(\"0\"&MONTH($B113),2),Transakcijas!$D:$D,\"Aprēķins\",Transakcijas!$H:$H,\"Soda nauda\",Transakcijas!$K:$K,\"<>\"&\"FIFO*\",Transakcijas!$K:$K,\"<>\"&\"Iemaksas atbrīvošana\")","v":0},{"$f":"SUMIFS(Transakcijas!$R:$R,Transakcijas!$Q:$Q,$B$112,Transakcijas!$T:$T,YEAR($B113),Transakcijas!$U:$U,RIGHT(\"0\"&MONTH($B113),2),Transakcijas!$D:$D,\"Iemaksa\",Transakcijas!$K:$K,\"<>\"&\"Izejošā maksājuma anulēšana\")\n+SUMIFS(Transakcijas!$R:$R,Transakcijas!$Q:$Q,$B$112,Transakcijas!$T:$T,YEAR($B113),Transakcijas!$U:$U,RIGHT(\"0\"&MONTH($B113),2),Transakcijas!$D:$D,\"Atmaksa\",Transakcijas!$K:$K,\"Iemaksas atbrīvošana\")","v":0},{"$f":"SUMIFS(Transakcijas!$R:$R,Transakcijas!$Q:$Q,$B$112,Transakcijas!$T:$T,YEAR($B113),Transakcijas!$U:$U,RIGHT(\"0\"&MONTH($B113),2),Transakcijas!$D:$D,\"Atmaksa\",Transakcijas!$K:$K,\"<>\"&\"Iemaksas atbrīvošana\")\n+SUMIFS(Transakcijas!$R:$R,Transakcijas!$Q:$Q,$B$112,Transakcijas!$T:$T,YEAR($B113),Transakcijas!$U:$U,RIGHT(\"0\"&MONTH($B113),2),Transakcijas!$D:$D,\"Iemaksa\",Transakcijas!$K:$K,\"Izejošā maksājuma anulēšana\")","v":0},{"$f":"SUMIFS(Transakcijas!$R:$R,Transakcijas!$Q:$Q,$B$112,Transakcijas!$T:$T,YEAR($B113),Transakcijas!$U:$U,RIGHT(\"0\"&MONTH($B113),2),Transakcijas!$K:$K,\"FIFO savstarpējā segšana\")\n+SUMIFS(Transakcijas!$R:$R,Transakcijas!$Q:$Q,$B$112,Transakcijas!$T:$T,YEAR($B113),Transakcijas!$U:$U,RIGHT(\"0\"&MONTH($B113),2),Transakcijas!$D:$D,\"Aprēķins\",Transakcijas!$K:$K,\"Iemaksas atbrīvošana\")","v":0},{"$f":"SUMIFS(Transakcijas!$R:$R,Transakcijas!$Q:$Q,$B$112,Transakcijas!$T:$T,YEAR($B113),Transakcijas!$U:$U,RIGHT(\"0\"&MONTH($B113),2))-SUM(D113:K113)","v":0},{"$f":"SUM(C113:L113)","v":0},{"$f":"ROUND(SUMIFS(Transakcijas!$R:$R,Transakcijas!$Q:$Q,$B$112,Transakcijas!$S:$S,\"<=\"&$B113,Transakcijas!$H:$H,\"Pamatsumma\"),2)","v":0},{"$f":"ROUND(SUMIFS(Transakcijas!$R:$R,Transakcijas!$Q:$Q,$B$112,Transakcijas!$S:$S,\"<=\"&$B113,Transakcijas!$H:$H,\"Nokavējuma nauda\"),2)","v":0},{"$f":"ROUND(SUMIFS(Transakcijas!$R:$R,Transakcijas!$Q:$Q,$B$112,Transakcijas!$S:$S,\"<=\"&$B113,Transakcijas!$H:$H,\"Soda nauda\"),2)","v":0},null,{"$f":"B112","v":"AN"},{"$f":"B113","v":"2024-01-31"},null,{"$f":"SUM(D113:F113)+T113","v":0},null,null,{"$f":"IF(W113<>\"\",M113+W113,0)","v":0}]
[null,{"$f":"IF(IF(B113=\"\",$M$4+1,DATE(YEAR(B113),MONTH(B113)+2,0))<=$M$4,DATE(YEAR(B113),MONTH(B113)+2,0),\"\")","v":"2024-02-29"},{"$f":"IF(B114=\"\",0,M113)","v":0},{"$f":"SUMIFS(Transakcijas!$R:$R,Transakcijas!$Q:$Q,$B$112,Transakcijas!$T:$T,YEAR($B114),Transakcijas!$U:$U,RIGHT(\"0\"&MONTH($B114),2),Transakcijas!$D:$D,\"Aprēķins\",Transakcijas!$H:$H,\"Pamatsumma\",Transakcijas!$K:$K,\"<>\"&\"FIFO*\",Transakcijas!$K:$K,\"<>\"&\"Iemaksas atbrīvošana\")","v":0},null,null,{"$f":"SUMIFS(Transakcijas!$R:$R,Transakcijas!$Q:$Q,$B$112,Transakcijas!$T:$T,YEAR($B114),Transakcijas!$U:$U,RIGHT(\"0\"&MONTH($B114),2),Transakcijas!$D:$D,\"Aprēķins\",Transakcijas!$H:$H,\"Nokavējuma nauda\",Transakcijas!$K:$K,\"<>\"&\"FIFO*\",Transakcijas!$K:$K,\"<>\"&\"Iemaksas atbrīvošana\")","v":0},{"$f":"SUMIFS(Transakcijas!$R:$R,Transakcijas!$Q:$Q,$B$112,Transakcijas!$T:$T,YEAR($B114),Transakcijas!$U:$U,RIGHT(\"0\"&MONTH($B114),2),Transakcijas!$D:$D,\"Aprēķins\",Transakcijas!$H:$H,\"Soda nauda\",Transakcijas!$K:$K,\"<>\"&\"FIFO*\",Transakcijas!$K:$K,\"<>\"&\"Iemaksas atbrīvošana\")","v":0},{"$f":"SUMIFS(Transakcijas!$R:$R,Transakcijas!$Q:$Q,$B$112,Transakcijas!$T:$T,YEAR($B114),Transakcijas!$U:$U,RIGHT(\"0\"&MONTH($B114),2),Transakcijas!$D:$D,\"Iemaksa\",Transakcijas!$K:$K,\"<>\"&\"Izejošā maksājuma anulēšana\")\n+SUMIFS(Transakcijas!$R:$R,Transakcijas!$Q:$Q,$B$112,Transakcijas!$T:$T,YEAR($B114),Transakcijas!$U:$U,RIGHT(\"0\"&MONTH($B114),2),Transakcijas!$D:$D,\"Atmaksa\",Transakcijas!$K:$K,\"Iemaksas atbrīvošana\")","v":0},{"$f":"SUMIFS(Transakcijas!$R:$R,Transakcijas!$Q:$Q,$B$112,Transakcijas!$T:$T,YEAR($B114),Transakcijas!$U:$U,RIGHT(\"0\"&MONTH($B114),2),Transakcijas!$D:$D,\"Atmaksa\",Transakcijas!$K:$K,\"<>\"&\"Iemaksas atbrīvošana\")\n+SUMIFS(Transakcijas!$R:$R,Transakcijas!$Q:$Q,$B$112,Transakcijas!$T:$T,YEAR($B114),Transakcijas!$U:$U,RIGHT(\"0\"&MONTH($B114),2),Transakcijas!$D:$D,\"Iemaksa\",Transakcijas!$K:$K,\"Izejošā maksājuma anulēšana\")","v":0},{"$f":"SUMIFS(Transakcijas!$R:$R,Transakcijas!$Q:$Q,$B$112,Transakcijas!$T:$T,YEAR($B114),Transakcijas!$U:$U,RIGHT(\"0\"&MONTH($B114),2),Transakcijas!$K:$K,\"FIFO savstarpējā segšana\")\n+SUMIFS(Transakcijas!$R:$R,Transakcijas!$Q:$Q,$B$112,Transakcijas!$T:$T,YEAR($B114),Transakcijas!$U:$U,RIGHT(\"0\"&MONTH($B114),2),Transakcijas!$D:$D,\"Aprēķins\",Transakcijas!$K:$K,\"Iemaksas atbrīvošana\")","v":0},{"$f":"SUMIFS(Transakcijas!$R:$R,Transakcijas!$Q:$Q,$B$112,Transakcijas!$T:$T,YEAR($B114),Transakcijas!$U:$U,RIGHT(\"0\"&MONTH($B114),2))-SUM(D114:K114)","v":0},0,{"$f":"ROUND(SUMIFS(Transakcijas!$R:$R,Transakcijas!$Q:$Q,$B$112,Transakcijas!$S:$S,\"<=\"&$B114,Transakcijas!$H:$H,\"Pamatsumma\"),2)","v":0},{"$f":"ROUND(SUMIFS(Transakcijas!$R:$R,Transakcijas!$Q:$Q,$B$112,Transakcijas!$S:$S,\"<=\"&$B114,Transakcijas!$H:$H,\"Nokavējuma nauda\"),2)","v":0},{"$f":"ROUND(SUMIFS(Transakcijas!$R:$R,Transakcijas!$Q:$Q,$B$112,Transakcijas!$S:$S,\"<=\"&$B114,Transakcijas!$H:$H,\"Soda nauda\"),2)","v":0},null,{"$f":"B112","v":"AN"},{"$f":"B114","v":"2024-02-29"},null,0,null,null,0]
[null,"2024-03-31",0,{"$f":"SUMIFS(Transakcijas!$R:$R,Transakcijas!$Q:$Q,$B$112,Transakcijas!$T:$T,YEAR($B115),Transakcijas!$U:$U,RIGHT(\"0\"&MONTH($B115),2),Transakcijas!$D:$D,\"Aprēķins\",Transakcijas!$H:$H,\"Pamatsumma\",Transakcijas!$K:$K,\"<>\"&\"FIFO*\",Transakcijas!$K:$K,\"<>\"&\"Iemaksas atbrīvošana\")","v":0},null,null,{"$f":"SUMIFS(Transakcijas!$R:$R,Transakcijas!$Q:$Q,$B$112,Transakcijas!$T:$T,YEAR($B115),Transakcijas!$U:$U,RIGHT(\"0\"&MONTH($B115),2),Transakcijas!$D:$D,\"Aprēķins\",Transakcijas!$H:$H,\"Nokavējuma nauda\",Transakcijas!$K:$K,\"<>\"&\"FIFO*\",Transakcijas!$K:$K,\"<>\"&\"Iemaksas atbrīvošana\")","v":0},{"$f":"SUMIFS(Transakcijas!$R:$R,Transakcijas!$Q:$Q,$B$112,Transakcijas!$T:$T,YEAR($B115),Transakcijas!$U:$U,RIGHT(\"0\"&MONTH($B115),2),Transakcijas!$D:$D,\"Aprēķins\",Transakcijas!$H:$H,\"Soda nauda\",Transakcijas!$K:$K,\"<>\"&\"FIFO*\",Transakcijas!$K:$K,\"<>\"&\"Iemaksas atbrīvošana\")","v":0},{"$f":"SUMIFS(Transakcijas!$R:$R,Transakcijas!$Q:$Q,$B$112,Transakcijas!$T:$T,YEAR($B115),Transakcijas!$U:$U,RIGHT(\"0\"&MONTH($B115),2),Transakcijas!$D:$D,\"Iemaksa\",Transakcijas!$K:$K,\"<>\"&\"Izejošā maksājuma anulēšana\")\n+SUMIFS(Transakcijas!$R:$R,Transakcijas!$Q:$Q,$B$112,Transakcijas!$T:$T,YEAR($B115),Transakcijas!$U:$U,RIGHT(\"0\"&MONTH($B115),2),Transakcijas!$D:$D,\"Atmaksa\",Transakcijas!$K:$K,\"Iemaksas atbrīvošana\")","v":0},{"$f":"SUMIFS(Transakcijas!$R:$R,Transakcijas!$Q:$Q,$B$112,Transakcijas!$T:$T,YEAR($B115),Transakcijas!$U:$U,RIGHT(\"0\"&MONTH($B115),2),Transakcijas!$D:$D,\"Atmaksa\",Transakcijas!$K:$K,\"<>\"&\"Iemaksas atbrīvošana\")\n+SUMIFS(Transakcijas!$R:$R,Transakcijas!$Q:$Q,$B$112,Transakcijas!$T:$T,YEAR($B115),Transakcijas!$U:$U,RIGHT(\"0\"&MONTH($B115),2),Transakcijas!$D:$D,\"Iemaksa\",Transakcijas!$K:$K,\"Izejošā maksājuma anulēšana\")","v":0},{"$f":"SUMIFS(Transakcijas!$R:$R,Transakcijas!$Q:$Q,$B$112,Transakcijas!$T:$T,YEAR($B115),Transakcijas!$U:$U,RIGHT(\"0\"&MONTH($B115),2),Transakcijas!$K:$K,\"FIFO savstarpējā segšana\")\n+SUMIFS(Transakcijas!$R:$R,Transakcijas!$Q:$Q,$B$112,Transakcijas!$T:$T,YEAR($B115),Transakcijas!$U:$U,RIGHT(\"0\"&MONTH($B115),2),Transakcijas!$D:$D,\"Aprēķins\",Transakcijas!$K:$K,\"Iemaksas atbrīvošana\")","v":0},{"$f":"SUMIFS(Transakcijas!$R:$R,Transakcijas!$Q:$Q,$B$112,Transakcijas!$T:$T,YEAR($B115),Transakcijas!$U:$U,RIGHT(\"0\"&MONTH($B115),2))-SUM(D115:K115)","v":0},0,{"$f":"ROUND(SUMIFS(Transakcijas!$R:$R,Transakcijas!$Q:$Q,$B$112,Transakcijas!$S:$S,\"<=\"&$B115,Transakcijas!$H:$H,\"Pamatsumma\"),2)","v":0},{"$f":"ROUND(SUMIFS(Transakcijas!$R:$R,Transakcijas!$Q:$Q,$B$112,Transakcijas!$S:$S,\"<=\"&$B115,Transakcijas!$H:$H,\"Nokavējuma nauda\"),2)","v":0},{"$f":"ROUND(SUMIFS(Transakcijas!$R:$R,Transakcijas!$Q:$Q,$B$112,Transakcijas!$S:$S,\"<=\"&$B115,Transakcijas!$H:$H,\"Soda nauda\"),2)","v":0},null,{"$f":"B112","v":"AN"},"2024-03-31",null,0,null,null,0]
[null,"2024-04-30",0,{"$f":"SUMIFS(Transakcijas!$R:$R,Transakcijas!$Q:$Q,$B$112,Transakcijas!$T:$T,YEAR($B116),Transakcijas!$U:$U,RIGHT(\"0\"&MONTH($B116),2),Transakcijas!$D:$D,\"Aprēķins\",Transakcijas!$H:$H,\"Pamatsumma\",Transakcijas!$K:$K,\"<>\"&\"FIFO*\",Transakcijas!$K:$K,\"<>\"&\"Iemaksas atbrīvošana\")","v":0},null,null,{"$f":"SUMIFS(Transakcijas!$R:$R,Transakcijas!$Q:$Q,$B$112,Transakcijas!$T:$T,YEAR($B116),Transakcijas!$U:$U,RIGHT(\"0\"&MONTH($B116),2),Transakcijas!$D:$D,\"Aprēķins\",Transakcijas!$H:$H,\"Nokavējuma nauda\",Transakcijas!$K:$K,\"<>\"&\"FIFO*\",Transakcijas!$K:$K,\"<>\"&\"Iemaksas atbrīvošana\")","v":0},{"$f":"SUMIFS(Transakcijas!$R:$R,Transakcijas!$Q:$Q,$B$112,Transakcijas!$T:$T,YEAR($B116),Transakcijas!$U:$U,RIGHT(\"0\"&MONTH($B116),2),Transakcijas!$D:$D,\"Aprēķins\",Transakcijas!$H:$H,\"Soda nauda\",Transakcijas!$K:$K,\"<>\"&\"FIFO*\",Transakcijas!$K:$K,\"<>\"&\"Iemaksas atbrīvošana\")","v":0},{"$f":"SUMIFS(Transakcijas!$R:$R,Transakcijas!$Q:$Q,$B$112,Transakcijas!$T:$T,YEAR($B116),Transakcijas!$U:$U,RIGHT(\"0\"&MONTH($B116),2),Transakcijas!$D:$D,\"Iemaksa\",Transakcijas!$K:$K,\"<>\"&\"Izejošā maksājuma anulēšana\")\n+SUMIFS(Transakcijas!$R:$R,Transakcijas!$Q:$Q,$B$112,Transakcijas!$T:$T,YEAR($B116),Transakcijas!$U:$U,RIGHT(\"0\"&MONTH($B116),2),Transakcijas!$D:$D,\"Atmaksa\",Transakcijas!$K:$K,\"Iemaksas atbrīvošana\")","v":0},{"$f":"SUMIFS(Transakcijas!$R:$R,Transakcijas!$Q:$Q,$B$112,Transakcijas!$T:$T,YEAR($B116),Transakcijas!$U:$U,RIGHT(\"0\"&MONTH($B116),2),Transakcijas!$D:$D,\"Atmaksa\",Transakcijas!$K:$K,\"<>\"&\"Iemaksas atbrīvošana\")\n+SUMIFS(Transakcijas!$R:$R,Transakcijas!$Q:$Q,$B$112,Transakcijas!$T:$T,YEAR($B116),Transakcijas!$U:$U,RIGHT(\"0\"&MONTH($B116),2),Transakcijas!$D:$D,\"Iemaksa\",Transakcijas!$K:$K,\"Izejošā maksājuma anulēšana\")","v":0},{"$f":"SUMIFS(Transakcijas!$R:$R,Transakcijas!$Q:$Q,$B$112,Transakcijas!$T:$T,YEAR($B116),Transakcijas!$U:$U,RIGHT(\"0\"&MONTH($B116),2),Transakcijas!$K:$K,\"FIFO savstarpējā segšana\")\n+SUMIFS(Transakcijas!$R:$R,Transakcijas!$Q:$Q,$B$112,Transakcijas!$T:$T,YEAR($B116),Transakcijas!$U:$U,RIGHT(\"0\"&MONTH($B116),2),Transakcijas!$D:$D,\"Aprēķins\",Transakcijas!$K:$K,\"Iemaksas atbrīvošana\")","v":0},{"$f":"SUMIFS(Transakcijas!$R:$R,Transakcijas!$Q:$Q,$B$112,Transakcijas!$T:$T,YEAR($B116),Transakcijas!$U:$U,RIGHT(\"0\"&MONTH($B116),2))-SUM(D116:K116)","v":0},0,{"$f":"ROUND(SUMIFS(Transakcijas!$R:$R,Transakcijas!$Q:$Q,$B$112,Transakcijas!$S:$S,\"<=\"&$B116,Transakcijas!$H:$H,\"Pamatsumma\"),2)","v":0},{"$f":"ROUND(SUMIFS(Transakcijas!$R:$R,Transakcijas!$Q:$Q,$B$112,Transakcijas!$S:$S,\"<=\"&$B116,Transakcijas!$H:$H,\"Nokavējuma nauda\"),2)","v":0},{"$f":"ROUND(SUMIFS(Transakcijas!$R:$R,Transakcijas!$Q:$Q,$B$112,Transakcijas!$S:$S,\"<=\"&$B116,Transakcijas!$H:$H,\"Soda nauda\"),2)","v":0},null,{"$f":"B112","v":"AN"},"2024-04-30",null,0,null,null,0]
[null,"2024-05-31",0,{"$f":"SUMIFS(Transakcijas!$R:$R,Transakcijas!$Q:$Q,$B$112,Transakcijas!$T:$T,YEAR($B117),Transakcijas!$U:$U,RIGHT(\"0\"&MONTH($B117),2),Transakcijas!$D:$D,\"Aprēķins\",Transakcijas!$H:$H,\"Pamatsumma\",Transakcijas!$K:$K,\"<>\"&\"FIFO*\",Transakcijas!$K:$K,\"<>\"&\"Iemaksas atbrīvošana\")","v":0},null,null,{"$f":"SUMIFS(Transakcijas!$R:$R,Transakcijas!$Q:$Q,$B$112,Transakcijas!$T:$T,YEAR($B117),Transakcijas!$U:$U,RIGHT(\"0\"&MONTH($B117),2),Transakcijas!$D:$D,\"Aprēķins\",Transakcijas!$H:$H,\"Nokavējuma nauda\",Transakcijas!$K:$K,\"<>\"&\"FIFO*\",Transakcijas!$K:$K,\"<>\"&\"Iemaksas atbrīvošana\")","v":0},{"$f":"SUMIFS(Transakcijas!$R:$R,Transakcijas!$Q:$Q,$B$112,Transakcijas!$T:$T,YEAR($B117),Transakcijas!$U:$U,RIGHT(\"0\"&MONTH($B117),2),Transakcijas!$D:$D,\"Aprēķins\",Transakcijas!$H:$H,\"Soda nauda\",Transakcijas!$K:$K,\"<>\"&\"FIFO*\",Transakcijas!$K:$K,\"<>\"&\"Iemaksas atbrīvošana\")","v":0},{"$f":"SUMIFS(Transakcijas!$R:$R,Transakcijas!$Q:$Q,$B$112,Transakcijas!$T:$T,YEAR($B117),Transakcijas!$U:$U,RIGHT(\"0\"&MONTH($B117),2),Transakcijas!$D:$D,\"Iemaksa\",Transakcijas!$K:$K,\"<>\"&\"Izejošā maksājuma anulēšana\")\n+SUMIFS(Transakcijas!$R:$R,Transakcijas!$Q:$Q,$B$112,Transakcijas!$T:$T,YEAR($B117),Transakcijas!$U:$U,RIGHT(\"0\"&MONTH($B117),2),Transakcijas!$D:$D,\"Atmaksa\",Transakcijas!$K:$K,\"Iemaksas atbrīvošana\")","v":0},{"$f":"SUMIFS(Transakcijas!$R:$R,Transakcijas!$Q:$Q,$B$112,Transakcijas!$T:$T,YEAR($B117),Transakcijas!$U:$U,RIGHT(\"0\"&MONTH($B117),2),Transakcijas!$D:$D,\"Atmaksa\",Transakcijas!$K:$K,\"<>\"&\"Iemaksas atbrīvošana\")\n+SUMIFS(Transakcijas!$R:$R,Transakcijas!$Q:$Q,$B$112,Transakcijas!$T:$T,YEAR($B117),Transakcijas!$U:$U,RIGHT(\"0\"&MONTH($B117),2),Transakcijas!$D:$D,\"Iemaksa\",Transakcijas!$K:$K,\"Izejošā maksājuma anulēšana\")","v":0},{"$f":"SUMIFS(Transakcijas!$R:$R,Transakcijas!$Q:$Q,$B$112,Transakcijas!$T:$T,YEAR($B117),Transakcijas!$U:$U,RIGHT(\"0\"&MONTH($B117),2),Transakcijas!$K:$K,\"FIFO savstarpējā segšana\")\n+SUMIFS(Transakcijas!$R:$R,Transakcijas!$Q:$Q,$B$112,Transakcijas!$T:$T,YEAR($B117),Transakcijas!$U:$U,RIGHT(\"0\"&MONTH($B117),2),Transakcijas!$D:$D,\"Aprēķins\",Transakcijas!$K:$K,\"Iemaksas atbrīvošana\")","v":0},{"$f":"SUMIFS(Transakcijas!$R:$R,Transakcijas!$Q:$Q,$B$112,Transakcijas!$T:$T,YEAR($B117),Transakcijas!$U:$U,RIGHT(\"0\"&MONTH($B117),2))-SUM(D117:K117)","v":0},0,{"$f":"ROUND(SUMIFS(Transakcijas!$R:$R,Transakcijas!$Q:$Q,$B$112,Transakcijas!$S:$S,\"<=\"&$B117,Transakcijas!$H:$H,\"Pamatsumma\"),2)","v":0},{"$f":"ROUND(SUMIFS(Transakcijas!$R:$R,Transakcijas!$Q:$Q,$B$112,Transakcijas!$S:$S,\"<=\"&$B117,Transakcijas!$H:$H,\"Nokavējuma nauda\"),2)","v":0},{"$f":"ROUND(SUMIFS(Transakcijas!$R:$R,Transakcijas!$Q:$Q,$B$112,Transakcijas!$S:$S,\"<=\"&$B117,Transakcijas!$H:$H,\"Soda nauda\"),2)","v":0},null,{"$f":"B112","v":"AN"},"2024-05-31",null,0,null,null,0]
[null,"2024-06-30",0,{"$f":"SUMIFS(Transakcijas!$R:$R,Transakcijas!$Q:$Q,$B$112,Transakcijas!$T:$T,YEAR($B118),Transakcijas!$U:$U,RIGHT(\"0\"&MONTH($B118),2),Transakcijas!$D:$D,\"Aprēķins\",Transakcijas!$H:$H,\"Pamatsumma\",Transakcijas!$K:$K,\"<>\"&\"FIFO*\",Transakcijas!$K:$K,\"<>\"&\"Iemaksas atbrīvošana\")","v":0},null,null,{"$f":"SUMIFS(Transakcijas!$R:$R,Transakcijas!$Q:$Q,$B$112,Transakcijas!$T:$T,YEAR($B118),Transakcijas!$U:$U,RIGHT(\"0\"&MONTH($B118),2),Transakcijas!$D:$D,\"Aprēķins\",Transakcijas!$H:$H,\"Nokavējuma nauda\",Transakcijas!$K:$K,\"<>\"&\"FIFO*\",Transakcijas!$K:$K,\"<>\"&\"Iemaksas atbrīvošana\")","v":0},{"$f":"SUMIFS(Transakcijas!$R:$R,Transakcijas!$Q:$Q,$B$112,Transakcijas!$T:$T,YEAR($B118),Transakcijas!$U:$U,RIGHT(\"0\"&MONTH($B118),2),Transakcijas!$D:$D,\"Aprēķins\",Transakcijas!$H:$H,\"Soda nauda\",Transakcijas!$K:$K,\"<>\"&\"FIFO*\",Transakcijas!$K:$K,\"<>\"&\"Iemaksas atbrīvošana\")","v":0},{"$f":"SUMIFS(Transakcijas!$R:$R,Transakcijas!$Q:$Q,$B$112,Transakcijas!$T:$T,YEAR($B118),Transakcijas!$U:$U,RIGHT(\"0\"&MONTH($B118),2),Transakcijas!$D:$D,\"Iemaksa\",Transakcijas!$K:$K,\"<>\"&\"Izejošā maksājuma anulēšana\")\n+SUMIFS(Transakcijas!$R:$R,Transakcijas!$Q:$Q,$B$112,Transakcijas!$T:$T,YEAR($B118),Transakcijas!$U:$U,RIGHT(\"0\"&MONTH($B118),2),Transakcijas!$D:$D,\"Atmaksa\",Transakcijas!$K:$K,\"Iemaksas atbrīvošana\")","v":0},{"$f":"SUMIFS(Transakcijas!$R:$R,Transakcijas!$Q:$Q,$B$112,Transakcijas!$T:$T,YEAR($B118),Transakcijas!$U:$U,RIGHT(\"0\"&MONTH($B118),2),Transakcijas!$D:$D,\"Atmaksa\",Transakcijas!$K:$K,\"<>\"&\"Iemaksas atbrīvošana\")\n+SUMIFS(Transakcijas!$R:$R,Transakcijas!$Q:$Q,$B$112,Transakcijas!$T:$T,YEAR($B118),Transakcijas!$U:$U,RIGHT(\"0\"&MONTH($B118),2),Transakcijas!$D:$D,\"Iemaksa\",Transakcijas!$K:$K,\"Izejošā maksājuma anulēšana\")","v":0},{"$f":"SUMIFS(Transakcijas!$R:$R,Transakcijas!$Q:$Q,$B$112,Transakcijas!$T:$T,YEAR($B118),Transakcijas!$U:$U,RIGHT(\"0\"&MONTH($B118),2),Transakcijas!$K:$K,\"FIFO savstarpējā segšana\")\n+SUMIFS(Transakcijas!$R:$R,Transakcijas!$Q:$Q,$B$112,Transakcijas!$T:$T,YEAR($B118),Transakcijas!$U:$U,RIGHT(\"0\"&MONTH($B118),2),Transakcijas!$D:$D,\"Aprēķins\",Transakcijas!$K:$K,\"Iemaksas atbrīvošana\")","v":0},{"$f":"SUMIFS(Transakcijas!$R:$R,Transakcijas!$Q:$Q,$B$112,Transakcijas!$T:$T,YEAR($B118),Transakcijas!$U:$U,RIGHT(\"0\"&MONTH($B118),2))-SUM(D118:K118)","v":0},0,{"$f":"ROUND(SUMIFS(Transakcijas!$R:$R,Transakcijas!$Q:$Q,$B$112,Transakcijas!$S:$S,\"<=\"&$B118,Transakcijas!$H:$H,\"Pamatsumma\"),2)","v":0},{"$f":"ROUND(SUMIFS(Transakcijas!$R:$R,Transakcijas!$Q:$Q,$B$112,Transakcijas!$S:$S,\"<=\"&$B118,Transakcijas!$H:$H,\"Nokavējuma nauda\"),2)","v":0},{"$f":"ROUND(SUMIFS(Transakcijas!$R:$R,Transakcijas!$Q:$Q,$B$112,Transakcijas!$S:$S,\"<=\"&$B118,Transakcijas!$H:$H,\"Soda nauda\"),2)","v":0},null,{"$f":"B112","v":"AN"},"2024-06-30",null,0,null,null,0]
[null,"2024-07-31",0,{"$f":"SUMIFS(Transakcijas!$R:$R,Transakcijas!$Q:$Q,$B$112,Transakcijas!$T:$T,YEAR($B119),Transakcijas!$U:$U,RIGHT(\"0\"&MONTH($B119),2),Transakcijas!$D:$D,\"Aprēķins\",Transakcijas!$H:$H,\"Pamatsumma\",Transakcijas!$K:$K,\"<>\"&\"FIFO*\",Transakcijas!$K:$K,\"<>\"&\"Iemaksas atbrīvošana\")","v":0},null,null,{"$f":"SUMIFS(Transakcijas!$R:$R,Transakcijas!$Q:$Q,$B$112,Transakcijas!$T:$T,YEAR($B119),Transakcijas!$U:$U,RIGHT(\"0\"&MONTH($B119),2),Transakcijas!$D:$D,\"Aprēķins\",Transakcijas!$H:$H,\"Nokavējuma nauda\",Transakcijas!$K:$K,\"<>\"&\"FIFO*\",Transakcijas!$K:$K,\"<>\"&\"Iemaksas atbrīvošana\")","v":0},{"$f":"SUMIFS(Transakcijas!$R:$R,Transakcijas!$Q:$Q,$B$112,Transakcijas!$T:$T,YEAR($B119),Transakcijas!$U:$U,RIGHT(\"0\"&MONTH($B119),2),Transakcijas!$D:$D,\"Aprēķins\",Transakcijas!$H:$H,\"Soda nauda\",Transakcijas!$K:$K,\"<>\"&\"FIFO*\",Transakcijas!$K:$K,\"<>\"&\"Iemaksas atbrīvošana\")","v":0},{"$f":"SUMIFS(Transakcijas!$R:$R,Transakcijas!$Q:$Q,$B$112,Transakcijas!$T:$T,YEAR($B119),Transakcijas!$U:$U,RIGHT(\"0\"&MONTH($B119),2),Transakcijas!$D:$D,\"Iemaksa\",Transakcijas!$K:$K,\"<>\"&\"Izejošā maksājuma anulēšana\")\n+SUMIFS(Transakcijas!$R:$R,Transakcijas!$Q:$Q,$B$112,Transakcijas!$T:$T,YEAR($B119),Transakcijas!$U:$U,RIGHT(\"0\"&MONTH($B119),2),Transakcijas!$D:$D,\"Atmaksa\",Transakcijas!$K:$K,\"Iemaksas atbrīvošana\")","v":0},{"$f":"SUMIFS(Transakcijas!$R:$R,Transakcijas!$Q:$Q,$B$112,Transakcijas!$T:$T,YEAR($B119),Transakcijas!$U:$U,RIGHT(\"0\"&MONTH($B119),2),Transakcijas!$D:$D,\"Atmaksa\",Transakcijas!$K:$K,\"<>\"&\"Iemaksas atbrīvošana\")\n+SUMIFS(Transakcijas!$R:$R,Transakcijas!$Q:$Q,$B$112,Transakcijas!$T:$T,YEAR($B119),Transakcijas!$U:$U,RIGHT(\"0\"&MONTH($B119),2),Transakcijas!$D:$D,\"Iemaksa\",Transakcijas!$K:$K,\"Izejošā maksājuma anulēšana\")","v":0},{"$f":"SUMIFS(Transakcijas!$R:$R,Transakcijas!$Q:$Q,$B$112,Transakcijas!$T:$T,YEAR($B119),Transakcijas!$U:$U,RIGHT(\"0\"&MONTH($B119),2),Transakcijas!$K:$K,\"FIFO savstarpējā segšana\")\n+SUMIFS(Transakcijas!$R:$R,Transakcijas!$Q:$Q,$B$112,Transakcijas!$T:$T,YEAR($B119),Transakcijas!$U:$U,RIGHT(\"0\"&MONTH($B119),2),Transakcijas!$D:$D,\"Aprēķins\",Transakcijas!$K:$K,\"Iemaksas atbrīvošana\")","v":0},{"$f":"SUMIFS(Transakcijas!$R:$R,Transakcijas!$Q:$Q,$B$112,Transakcijas!$T:$T,YEAR($B119),Transakcijas!$U:$U,RIGHT(\"0\"&MONTH($B119),2))-SUM(D119:K119)","v":0},0,{"$f":"ROUND(SUMIFS(Transakcijas!$R:$R,Transakcijas!$Q:$Q,$B$112,Transakcijas!$S:$S,\"<=\"&$B119,Transakcijas!$H:$H,\"Pamatsumma\"),2)","v":0},{"$f":"ROUND(SUMIFS(Transakcijas!$R:$R,Transakcijas!$Q:$Q,$B$112,Transakcijas!$S:$S,\"<=\"&$B119,Transakcijas!$H:$H,\"Nokavējuma nauda\"),2)","v":0},{"$f":"ROUND(SUMIFS(Transakcijas!$R:$R,Transakcijas!$Q:$Q,$B$112,Transakcijas!$S:$S,\"<=\"&$B119,Transakcijas!$H:$H,\"Soda nauda\"),2)","v":0},null,{"$f":"B112","v":"AN"},"2024-07-31",null,0,null,null,0]
[null,"2024-08-31",0,{"$f":"SUMIFS(Transakcijas!$R:$R,Transakcijas!$Q:$Q,$B$112,Transakcijas!$T:$T,YEAR($B120),Transakcijas!$U:$U,RIGHT(\"0\"&MONTH($B120),2),Transakcijas!$D:$D,\"Aprēķins\",Transakcijas!$H:$H,\"Pamatsumma\",Transakcijas!$K:$K,\"<>\"&\"FIFO*\",Transakcijas!$K:$K,\"<>\"&\"Iemaksas atbrīvošana\")","v":0},null,null,{"$f":"SUMIFS(Transakcijas!$R:$R,Transakcijas!$Q:$Q,$B$112,Transakcijas!$T:$T,YEAR($B120),Transakcijas!$U:$U,RIGHT(\"0\"&MONTH($B120),2),Transakcijas!$D:$D,\"Aprēķins\",Transakcijas!$H:$H,\"Nokavējuma nauda\",Transakcijas!$K:$K,\"<>\"&\"FIFO*\",Transakcijas!$K:$K,\"<>\"&\"Iemaksas atbrīvošana\")","v":0},{"$f":"SUMIFS(Transakcijas!$R:$R,Transakcijas!$Q:$Q,$B$112,Transakcijas!$T:$T,YEAR($B120),Transakcijas!$U:$U,RIGHT(\"0\"&MONTH($B120),2),Transakcijas!$D:$D,\"Aprēķins\",Transakcijas!$H:$H,\"Soda nauda\",Transakcijas!$K:$K,\"<>\"&\"FIFO*\",Transakcijas!$K:$K,\"<>\"&\"Iemaksas atbrīvošana\")","v":0},{"$f":"SUMIFS(Transakcijas!$R:$R,Transakcijas!$Q:$Q,$B$112,Transakcijas!$T:$T,YEAR($B120),Transakcijas!$U:$U,RIGHT(\"0\"&MONTH($B120),2),Transakcijas!$D:$D,\"Iemaksa\",Transakcijas!$K:$K,\"<>\"&\"Izejošā maksājuma anulēšana\")\n+SUMIFS(Transakcijas!$R:$R,Transakcijas!$Q:$Q,$B$112,Transakcijas!$T:$T,YEAR($B120),Transakcijas!$U:$U,RIGHT(\"0\"&MONTH($B120),2),Transakcijas!$D:$D,\"Atmaksa\",Transakcijas!$K:$K,\"Iemaksas atbrīvošana\")","v":0},{"$f":"SUMIFS(Transakcijas!$R:$R,Transakcijas!$Q:$Q,$B$112,Transakcijas!$T:$T,YEAR($B120),Transakcijas!$U:$U,RIGHT(\"0\"&MONTH($B120),2),Transakcijas!$D:$D,\"Atmaksa\",Transakcijas!$K:$K,\"<>\"&\"Iemaksas atbrīvošana\")\n+SUMIFS(Transakcijas!$R:$R,Transakcijas!$Q:$Q,$B$112,Transakcijas!$T:$T,YEAR($B120),Transakcijas!$U:$U,RIGHT(\"0\"&MONTH($B120),2),Transakcijas!$D:$D,\"Iemaksa\",Transakcijas!$K:$K,\"Izejošā maksājuma anulēšana\")","v":0},{"$f":"SUMIFS(Transakcijas!$R:$R,Transakcijas!$Q:$Q,$B$112,Transakcijas!$T:$T,YEAR($B120),Transakcijas!$U:$U,RIGHT(\"0\"&MONTH($B120),2),Transakcijas!$K:$K,\"FIFO savstarpējā segšana\")\n+SUMIFS(Transakcijas!$R:$R,Transakcijas!$Q:$Q,$B$112,Transakcijas!$T:$T,YEAR($B120),Transakcijas!$U:$U,RIGHT(\"0\"&MONTH($B120),2),Transakcijas!$D:$D,\"Aprēķins\",Transakcijas!$K:$K,\"Iemaksas atbrīvošana\")","v":0},{"$f":"SUMIFS(Transakcijas!$R:$R,Transakcijas!$Q:$Q,$B$112,Transakcijas!$T:$T,YEAR($B120),Transakcijas!$U:$U,RIGHT(\"0\"&MONTH($B120),2))-SUM(D120:K120)","v":0},0,{"$f":"ROUND(SUMIFS(Transakcijas!$R:$R,Transakcijas!$Q:$Q,$B$112,Transakcijas!$S:$S,\"<=\"&$B120,Transakcijas!$H:$H,\"Pamatsumma\"),2)","v":0},{"$f":"ROUND(SUMIFS(Transakcijas!$R:$R,Transakcijas!$Q:$Q,$B$112,Transakcijas!$S:$S,\"<=\"&$B120,Transakcijas!$H:$H,\"Nokavējuma nauda\"),2)","v":0},{"$f":"ROUND(SUMIFS(Transakcijas!$R:$R,Transakcijas!$Q:$Q,$B$112,Transakcijas!$S:$S,\"<=\"&$B120,Transakcijas!$H:$H,\"Soda nauda\"),2)","v":0},null,{"$f":"B112","v":"AN"},"2024-08-31",null,0,null,null,0]
[null,"2024-09-30",0,{"$f":"SUMIFS(Transakcijas!$R:$R,Transakcijas!$Q:$Q,$B$112,Transakcijas!$T:$T,YEAR($B121),Transakcijas!$U:$U,RIGHT(\"0\"&MONTH($B121),2),Transakcijas!$D:$D,\"Aprēķins\",Transakcijas!$H:$H,\"Pamatsumma\",Transakcijas!$K:$K,\"<>\"&\"FIFO*\",Transakcijas!$K:$K,\"<>\"&\"Iemaksas atbrīvošana\")","v":0},null,null,{"$f":"SUMIFS(Transakcijas!$R:$R,Transakcijas!$Q:$Q,$B$112,Transakcijas!$T:$T,YEAR($B121),Transakcijas!$U:$U,RIGHT(\"0\"&MONTH($B121),2),Transakcijas!$D:$D,\"Aprēķins\",Transakcijas!$H:$H,\"Nokavējuma nauda\",Transakcijas!$K:$K,\"<>\"&\"FIFO*\",Transakcijas!$K:$K,\"<>\"&\"Iemaksas atbrīvošana\")","v":0},{"$f":"SUMIFS(Transakcijas!$R:$R,Transakcijas!$Q:$Q,$B$112,Transakcijas!$T:$T,YEAR($B121),Transakcijas!$U:$U,RIGHT(\"0\"&MONTH($B121),2),Transakcijas!$D:$D,\"Aprēķins\",Transakcijas!$H:$H,\"Soda nauda\",Transakcijas!$K:$K,\"<>\"&\"FIFO*\",Transakcijas!$K:$K,\"<>\"&\"Iemaksas atbrīvošana\")","v":0},{"$f":"SUMIFS(Transakcijas!$R:$R,Transakcijas!$Q:$Q,$B$112,Transakcijas!$T:$T,YEAR($B121),Transakcijas!$U:$U,RIGHT(\"0\"&MONTH($B121),2),Transakcijas!$D:$D,\"Iemaksa\",Transakcijas!$K:$K,\"<>\"&\"Izejošā maksājuma anulēšana\")\n+SUMIFS(Transakcijas!$R:$R,Transakcijas!$Q:$Q,$B$112,Transakcijas!$T:$T,YEAR($B121),Transakcijas!$U:$U,RIGHT(\"0\"&MONTH($B121),2),Transakcijas!$D:$D,\"Atmaksa\",Transakcijas!$K:$K,\"Iemaksas atbrīvošana\")","v":0},{"$f":"SUMIFS(Transakcijas!$R:$R,Transakcijas!$Q:$Q,$B$112,Transakcijas!$T:$T,YEAR($B121),Transakcijas!$U:$U,RIGHT(\"0\"&MONTH($B121),2),Transakcijas!$D:$D,\"Atmaksa\",Transakcijas!$K:$K,\"<>\"&\"Iemaksas atbrīvošana\")\n+SUMIFS(Transakcijas!$R:$R,Transakcijas!$Q:$Q,$B$112,Transakcijas!$T:$T,YEAR($B121),Transakcijas!$U:$U,RIGHT(\"0\"&MONTH($B121),2),Transakcijas!$D:$D,\"Iemaksa\",Transakcijas!$K:$K,\"Izejošā maksājuma anulēšana\")","v":0},{"$f":"SUMIFS(Transakcijas!$R:$R,Transakcijas!$Q:$Q,$B$112,Transakcijas!$T:$T,YEAR($B121),Transakcijas!$U:$U,RIGHT(\"0\"&MONTH($B121),2),Transakcijas!$K:$K,\"FIFO savstarpējā segšana\")\n+SUMIFS(Transakcijas!$R:$R,Transakcijas!$Q:$Q,$B$112,Transakcijas!$T:$T,YEAR($B121),Transakcijas!$U:$U,RIGHT(\"0\"&MONTH($B121),2),Transakcijas!$D:$D,\"Aprēķins\",Transakcijas!$K:$K,\"Iemaksas atbrīvošana\")","v":0},{"$f":"SUMIFS(Transakcijas!$R:$R,Transakcijas!$Q:$Q,$B$112,Transakcijas!$T:$T,YEAR($B121),Transakcijas!$U:$U,RIGHT(\"0\"&MONTH($B121),2))-SUM(D121:K121)","v":0},0,{"$f":"ROUND(SUMIFS(Transakcijas!$R:$R,Transakcijas!$Q:$Q,$B$112,Transakcijas!$S:$S,\"<=\"&$B121,Transakcijas!$H:$H,\"Pamatsumma\"),2)","v":0},{"$f":"ROUND(SUMIFS(Transakcijas!$R:$R,Transakcijas!$Q:$Q,$B$112,Transakcijas!$S:$S,\"<=\"&$B121,Transakcijas!$H:$H,\"Nokavējuma nauda\"),2)","v":0},{"$f":"ROUND(SUMIFS(Transakcijas!$R:$R,Transakcijas!$Q:$Q,$B$112,Transakcijas!$S:$S,\"<=\"&$B121,Transakcijas!$H:$H,\"Soda nauda\"),2)","v":0},null,{"$f":"B112","v":"AN"},"2024-09-30",null,0,null,null,0]
[null,"2024-10-31",0,{"$f":"SUMIFS(Transakcijas!$R:$R,Transakcijas!$Q:$Q,$B$112,Transakcijas!$T:$T,YEAR($B122),Transakcijas!$U:$U,RIGHT(\"0\"&MONTH($B122),2),Transakcijas!$D:$D,\"Aprēķins\",Transakcijas!$H:$H,\"Pamatsumma\",Transakcijas!$K:$K,\"<>\"&\"FIFO*\",Transakcijas!$K:$K,\"<>\"&\"Iemaksas atbrīvošana\")","v":0},null,null,{"$f":"SUMIFS(Transakcijas!$R:$R,Transakcijas!$Q:$Q,$B$112,Transakcijas!$T:$T,YEAR($B122),Transakcijas!$U:$U,RIGHT(\"0\"&MONTH($B122),2),Transakcijas!$D:$D,\"Aprēķins\",Transakcijas!$H:$H,\"Nokavējuma nauda\",Transakcijas!$K:$K,\"<>\"&\"FIFO*\",Transakcijas!$K:$K,\"<>\"&\"Iemaksas atbrīvošana\")","v":0},{"$f":"SUMIFS(Transakcijas!$R:$R,Transakcijas!$Q:$Q,$B$112,Transakcijas!$T:$T,YEAR($B122),Transakcijas!$U:$U,RIGHT(\"0\"&MONTH($B122),2),Transakcijas!$D:$D,\"Aprēķins\",Transakcijas!$H:$H,\"Soda nauda\",Transakcijas!$K:$K,\"<>\"&\"FIFO*\",Transakcijas!$K:$K,\"<>\"&\"Iemaksas atbrīvošana\")","v":0},{"$f":"SUMIFS(Transakcijas!$R:$R,Transakcijas!$Q:$Q,$B$112,Transakcijas!$T:$T,YEAR($B122),Transakcijas!$U:$U,RIGHT(\"0\"&MONTH($B122),2),Transakcijas!$D:$D,\"Iemaksa\",Transakcijas!$K:$K,\"<>\"&\"Izejošā maksājuma anulēšana\")\n+SUMIFS(Transakcijas!$R:$R,Transakcijas!$Q:$Q,$B$112,Transakcijas!$T:$T,YEAR($B122),Transakcijas!$U:$U,RIGHT(\"0\"&MONTH($B122),2),Transakcijas!$D:$D,\"Atmaksa\",Transakcijas!$K:$K,\"Iemaksas atbrīvošana\")","v":0},{"$f":"SUMIFS(Transakcijas!$R:$R,Transakcijas!$Q:$Q,$B$112,Transakcijas!$T:$T,YEAR($B122),Transakcijas!$U:$U,RIGHT(\"0\"&MONTH($B122),2),Transakcijas!$D:$D,\"Atmaksa\",Transakcijas!$K:$K,\"<>\"&\"Iemaksas atbrīvošana\")\n+SUMIFS(Transakcijas!$R:$R,Transakcijas!$Q:$Q,$B$112,Transakcijas!$T:$T,YEAR($B122),Transakcijas!$U:$U,RIGHT(\"0\"&MONTH($B122),2),Transakcijas!$D:$D,\"Iemaksa\",Transakcijas!$K:$K,\"Izejošā maksājuma anulēšana\")","v":0},{"$f":"SUMIFS(Transakcijas!$R:$R,Transakcijas!$Q:$Q,$B$112,Transakcijas!$T:$T,YEAR($B122),Transakcijas!$U:$U,RIGHT(\"0\"&MONTH($B122),2),Transakcijas!$K:$K,\"FIFO savstarpējā segšana\")\n+SUMIFS(Transakcijas!$R:$R,Transakcijas!$Q:$Q,$B$112,Transakcijas!$T:$T,YEAR($B122),Transakcijas!$U:$U,RIGHT(\"0\"&MONTH($B122),2),Transakcijas!$D:$D,\"Aprēķins\",Transakcijas!$K:$K,\"Iemaksas atbrīvošana\")","v":0},{"$f":"SUMIFS(Transakcijas!$R:$R,Transakcijas!$Q:$Q,$B$112,Transakcijas!$T:$T,YEAR($B122),Transakcijas!$U:$U,RIGHT(\"0\"&MONTH($B122),2))-SUM(D122:K122)","v":0},0,{"$f":"ROUND(SUMIFS(Transakcijas!$R:$R,Transakcijas!$Q:$Q,$B$112,Transakcijas!$S:$S,\"<=\"&$B122,Transakcijas!$H:$H,\"Pamatsumma\"),2)","v":0},{"$f":"ROUND(SUMIFS(Transakcijas!$R:$R,Transakcijas!$Q:$Q,$B$112,Transakcijas!$S:$S,\"<=\"&$B122,Transakcijas!$H:$H,\"Nokavējuma nauda\"),2)","v":0},{"$f":"ROUND(SUMIFS(Transakcijas!$R:$R,Transakcijas!$Q:$Q,$B$112,Transakcijas!$S:$S,\"<=\"&$B122,Transakcijas!$H:$H,\"Soda nauda\"),2)","v":0},null,{"$f":"B112","v":"AN"},"2024-10-31",null,0,null,null,0]
[null,"2024-11-30",0,{"$f":"SUMIFS(Transakcijas!$R:$R,Transakcijas!$Q:$Q,$B$112,Transakcijas!$T:$T,YEAR($B123),Transakcijas!$U:$U,RIGHT(\"0\"&MONTH($B123),2),Transakcijas!$D:$D,\"Aprēķins\",Transakcijas!$H:$H,\"Pamatsumma\",Transakcijas!$K:$K,\"<>\"&\"FIFO*\",Transakcijas!$K:$K,\"<>\"&\"Iemaksas atbrīvošana\")","v":0},null,null,{"$f":"SUMIFS(Transakcijas!$R:$R,Transakcijas!$Q:$Q,$B$112,Transakcijas!$T:$T,YEAR($B123),Transakcijas!$U:$U,RIGHT(\"0\"&MONTH($B123),2),Transakcijas!$D:$D,\"Aprēķins\",Transakcijas!$H:$H,\"Nokavējuma nauda\",Transakcijas!$K:$K,\"<>\"&\"FIFO*\",Transakcijas!$K:$K,\"<>\"&\"Iemaksas atbrīvošana\")","v":0},{"$f":"SUMIFS(Transakcijas!$R:$R,Transakcijas!$Q:$Q,$B$112,Transakcijas!$T:$T,YEAR($B123),Transakcijas!$U:$U,RIGHT(\"0\"&MONTH($B123),2),Transakcijas!$D:$D,\"Aprēķins\",Transakcijas!$H:$H,\"Soda nauda\",Transakcijas!$K:$K,\"<>\"&\"FIFO*\",Transakcijas!$K:$K,\"<>\"&\"Iemaksas atbrīvošana\")","v":0},{"$f":"SUMIFS(Transakcijas!$R:$R,Transakcijas!$Q:$Q,$B$112,Transakcijas!$T:$T,YEAR($B123),Transakcijas!$U:$U,RIGHT(\"0\"&MONTH($B123),2),Transakcijas!$D:$D,\"Iemaksa\",Transakcijas!$K:$K,\"<>\"&\"Izejošā maksājuma anulēšana\")\n+SUMIFS(Transakcijas!$R:$R,Transakcijas!$Q:$Q,$B$112,Transakcijas!$T:$T,YEAR($B123),Transakcijas!$U:$U,RIGHT(\"0\"&MONTH($B123),2),Transakcijas!$D:$D,\"Atmaksa\",Transakcijas!$K:$K,\"Iemaksas atbrīvošana\")","v":0},{"$f":"SUMIFS(Transakcijas!$R:$R,Transakcijas!$Q:$Q,$B$112,Transakcijas!$T:$T,YEAR($B123),Transakcijas!$U:$U,RIGHT(\"0\"&MONTH($B123),2),Transakcijas!$D:$D,\"Atmaksa\",Transakcijas!$K:$K,\"<>\"&\"Iemaksas atbrīvošana\")\n+SUMIFS(Transakcijas!$R:$R,Transakcijas!$Q:$Q,$B$112,Transakcijas!$T:$T,YEAR($B123),Transakcijas!$U:$U,RIGHT(\"0\"&MONTH($B123),2),Transakcijas!$D:$D,\"Iemaksa\",Transakcijas!$K:$K,\"Izejošā maksājuma anulēšana\")","v":0},{"$f":"SUMIFS(Transakcijas!$R:$R,Transakcijas!$Q:$Q,$B$112,Transakcijas!$T:$T,YEAR($B123),Transakcijas!$U:$U,RIGHT(\"0\"&MONTH($B123),2),Transakcijas!$K:$K,\"FIFO savstarpējā segšana\")\n+SUMIFS(Transakcijas!$R:$R,Transakcijas!$Q:$Q,$B$112,Transakcijas!$T:$T,YEAR($B123),Transakcijas!$U:$U,RIGHT(\"0\"&MONTH($B123),2),Transakcijas!$D:$D,\"Aprēķins\",Transakcijas!$K:$K,\"Iemaksas atbrīvošana\")","v":0},{"$f":"SUMIFS(Transakcijas!$R:$R,Transakcijas!$Q:$Q,$B$112,Transakcijas!$T:$T,YEAR($B123),Transakcijas!$U:$U,RIGHT(\"0\"&MONTH($B123),2))-SUM(D123:K123)","v":0},0,{"$f":"ROUND(SUMIFS(Transakcijas!$R:$R,Transakcijas!$Q:$Q,$B$112,Transakcijas!$S:$S,\"<=\"&$B123,Transakcijas!$H:$H,\"Pamatsumma\"),2)","v":0},{"$f":"ROUND(SUMIFS(Transakcijas!$R:$R,Transakcijas!$Q:$Q,$B$112,Transakcijas!$S:$S,\"<=\"&$B123,Transakcijas!$H:$H,\"Nokavējuma nauda\"),2)","v":0},{"$f":"ROUND(SUMIFS(Transakcijas!$R:$R,Transakcijas!$Q:$Q,$B$112,Transakcijas!$S:$S,\"<=\"&$B123,Transakcijas!$H:$H,\"Soda nauda\"),2)","v":0},null,{"$f":"B112","v":"AN"},"2024-11-30",null,0,null,null,0]
[null,"2024-12-31",0,{"$f":"SUMIFS(Transakcijas!$R:$R,Transakcijas!$Q:$Q,$B$112,Transakcijas!$T:$T,YEAR($B124),Transakcijas!$U:$U,RIGHT(\"0\"&MONTH($B124),2),Transakcijas!$D:$D,\"Aprēķins\",Transakcijas!$H:$H,\"Pamatsumma\",Transakcijas!$K:$K,\"<>\"&\"FIFO*\",Transakcijas!$K:$K,\"<>\"&\"Iemaksas atbrīvošana\")","v":0},null,null,{"$f":"SUMIFS(Transakcijas!$R:$R,Transakcijas!$Q:$Q,$B$112,Transakcijas!$T:$T,YEAR($B124),Transakcijas!$U:$U,RIGHT(\"0\"&MONTH($B124),2),Transakcijas!$D:$D,\"Aprēķins\",Transakcijas!$H:$H,\"Nokavējuma nauda\",Transakcijas!$K:$K,\"<>\"&\"FIFO*\",Transakcijas!$K:$K,\"<>\"&\"Iemaksas atbrīvošana\")","v":0},{"$f":"SUMIFS(Transakcijas!$R:$R,Transakcijas!$Q:$Q,$B$112,Transakcijas!$T:$T,YEAR($B124),Transakcijas!$U:$U,RIGHT(\"0\"&MONTH($B124),2),Transakcijas!$D:$D,\"Aprēķins\",Transakcijas!$H:$H,\"Soda nauda\",Transakcijas!$K:$K,\"<>\"&\"FIFO*\",Transakcijas!$K:$K,\"<>\"&\"Iemaksas atbrīvošana\")","v":0},{"$f":"SUMIFS(Transakcijas!$R:$R,Transakcijas!$Q:$Q,$B$112,Transakcijas!$T:$T,YEAR($B124),Transakcijas!$U:$U,RIGHT(\"0\"&MONTH($B124),2),Transakcijas!$D:$D,\"Iemaksa\",Transakcijas!$K:$K,\"<>\"&\"Izejošā maksājuma anulēšana\")\n+SUMIFS(Transakcijas!$R:$R,Transakcijas!$Q:$Q,$B$112,Transakcijas!$T:$T,YEAR($B124),Transakcijas!$U:$U,RIGHT(\"0\"&MONTH($B124),2),Transakcijas!$D:$D,\"Atmaksa\",Transakcijas!$K:$K,\"Iemaksas atbrīvošana\")","v":0},{"$f":"SUMIFS(Transakcijas!$R:$R,Transakcijas!$Q:$Q,$B$112,Transakcijas!$T:$T,YEAR($B124),Transakcijas!$U:$U,RIGHT(\"0\"&MONTH($B124),2),Transakcijas!$D:$D,\"Atmaksa\",Transakcijas!$K:$K,\"<>\"&\"Iemaksas atbrīvošana\")\n+SUMIFS(Transakcijas!$R:$R,Transakcijas!$Q:$Q,$B$112,Transakcijas!$T:$T,YEAR($B124),Transakcijas!$U:$U,RIGHT(\"0\"&MONTH($B124),2),Transakcijas!$D:$D,\"Iemaksa\",Transakcijas!$K:$K,\"Izejošā maksājuma anulēšana\")","v":0},{"$f":"SUMIFS(Transakcijas!$R:$R,Transakcijas!$Q:$Q,$B$112,Transakcijas!$T:$T,YEAR($B124),Transakcijas!$U:$U,RIGHT(\"0\"&MONTH($B124),2),Transakcijas!$K:$K,\"FIFO savstarpējā segšana\")\n+SUMIFS(Transakcijas!$R:$R,Transakcijas!$Q:$Q,$B$112,Transakcijas!$T:$T,YEAR($B124),Transakcijas!$U:$U,RIGHT(\"0\"&MONTH($B124),2),Transakcijas!$D:$D,\"Aprēķins\",Transakcijas!$K:$K,\"Iemaksas atbrīvošana\")","v":0},{"$f":"SUMIFS(Transakcijas!$R:$R,Transakcijas!$Q:$Q,$B$112,Transakcijas!$T:$T,YEAR($B124),Transakcijas!$U:$U,RIGHT(\"0\"&MONTH($B124),2))-SUM(D124:K124)","v":0},0,{"$f":"ROUND(SUMIFS(Transakcijas!$R:$R,Transakcijas!$Q:$Q,$B$112,Transakcijas!$S:$S,\"<=\"&$B124,Transakcijas!$H:$H,\"Pamatsumma\"),2)","v":0},{"$f":"ROUND(SUMIFS(Transakcijas!$R:$R,Transakcijas!$Q:$Q,$B$112,Transakcijas!$S:$S,\"<=\"&$B124,Transakcijas!$H:$H,\"Nokavējuma nauda\"),2)","v":0},{"$f":"ROUND(SUMIFS(Transakcijas!$R:$R,Transakcijas!$Q:$Q,$B$112,Transakcijas!$S:$S,\"<=\"&$B124,Transakcijas!$H:$H,\"Soda nauda\"),2)","v":0},null,{"$f":"B112","v":"AN"},"2024-12-31",null,0,null,null,0]
[null,"Kopā",{"$f":"C113","v":0},{"$f":"SUM(D113:D124)","v":0},null,null,{"$f":"SUM(G113:G124)","v":0},0,0,0,0,0,0]
[]
[null,{"$f":"B13","v":"MUN"},"Atlikums uz perioda sākumu",{"$f":"D$4","v":"Aprēķināts"},{"$f":"E$4","v":"Ieturēts IIN\nMin. VSAOI"},"Apr.nerezid.\nUniv.IF VSAOI","Aprēķināta nokav. nauda  ","Aprēķināta\n soda nauda  ","Samaksāts\nAtbrīvots","Atmaksāts","Pārvietots \n(Savst.segš.)","Cita \nkustība","Atlikums uz perioda beigām","Pamat-\nsumma","Nokav. \nnauda  ","Soda \nnauda  "]
[null,{"$f":"DATE(YEAR($C$4),MONTH($C$4)+1,0)","v":"2024-01-31"},{"$f":"C13","v":0},{"$f":"SUMIFS(Transakcijas!$R:$R,Transakcijas!$Q:$Q,$B$127,Transakcijas!$T:$T,YEAR($B128),Transakcijas!$U:$U,RIGHT(\"0\"&MONTH($B128),2),Transakcijas!$D:$D,\"Aprēķins\",Transakcijas!$H:$H,\"Pamatsumma\",Transakcijas!$K:$K,\"<>\"&\"FIFO*\",Transakcijas!$K:$K,\"<>\"&\"Iemaksas atbrīvošana\")","v":0},null,null,{"$f":"SUMIFS(Transakcijas!$R:$R,Transakcijas!$Q:$Q,$B$127,Transakcijas!$T:$T,YEAR($B128),Transakcijas!$U:$U,RIGHT(\"0\"&MONTH($B128),2),Transakcijas!$D:$D,\"Aprēķins\",Transakcijas!$H:$H,\"Nokavējuma nauda\",Transakcijas!$K:$K,\"<>\"&\"FIFO*\",Transakcijas!$K:$K,\"<>\"&\"Iemaksas atbrīvošana\")","v":0},{"$f":"SUMIFS(Transakcijas!$R:$R,Transakcijas!$Q:$Q,$B$127,Transakcijas!$T:$T,YEAR($B128),Transakcijas!$U:$U,RIGHT(\"0\"&MONTH($B128),2),Transakcijas!$D:$D,\"Aprēķins\",Transakcijas!$H:$H,\"Soda nauda\",Transakcijas!$K:$K,\"<>\"&\"FIFO*\",Transakcijas!$K:$K,\"<>\"&\"Iemaksas atbrīvošana\")","v":0},{"$f":"SUMIFS(Transakcijas!$R:$R,Transakcijas!$Q:$Q,$B$127,Transakcijas!$T:$T,YEAR($B128),Transakcijas!$U:$U,RIGHT(\"0\"&MONTH($B128),2),Transakcijas!$D:$D,\"Iemaksa\",Transakcijas!$K:$K,\"<>\"&\"Izejošā maksājuma anulēšana\")\n+SUMIFS(Transakcijas!$R:$R,Transakcijas!$Q:$Q,$B$127,Transakcijas!$T:$T,YEAR($B128),Transakcijas!$U:$U,RIGHT(\"0\"&MONTH($B128),2),Transakcijas!$D:$D,\"Atmaksa\",Transakcijas!$K:$K,\"Iemaksas atbrīvošana\")","v":0},{"$f":"SUMIFS(Transakcijas!$R:$R,Transakcijas!$Q:$Q,$B$127,Transakcijas!$T:$T,YEAR($B128),Transakcijas!$U:$U,RIGHT(\"0\"&MONTH($B128),2),Transakcijas!$D:$D,\"Atmaksa\",Transakcijas!$K:$K,\"<>\"&\"Iemaksas atbrīvošana\")\n+SUMIFS(Transakcijas!$R:$R,Transakcijas!$Q:$Q,$B$127,Transakcijas!$T:$T,YEAR($B128),Transakcijas!$U:$U,RIGHT(\"0\"&MONTH($B128),2),Transakcijas!$D:$D,\"Iemaksa\",Transakcijas!$K:$K,\"Izejošā maksājuma anulēšana\")","v":0},{"$f":"SUMIFS(Transakcijas!$R:$R,Transakcijas!$Q:$Q,$B$127,Transakcijas!$T:$T,YEAR($B128),Transakcijas!$U:$U,RIGHT(\"0\"&MONTH($B128),2),Transakcijas!$K:$K,\"FIFO savstarpējā segšana\")\n+SUMIFS(Transakcijas!$R:$R,Transakcijas!$Q:$Q,$B$127,Transakcijas!$T:$T,YEAR($B128),Transakcijas!$U:$U,RIGHT(\"0\"&MONTH($B128),2),Transakcijas!$D:$D,\"Aprēķins\",Transakcijas!$K:$K,\"Iemaksas atbrīvošana\")","v":0},{"$f":"SUMIFS(Transakcijas!$R:$R,Transakcijas!$Q:$Q,$B$127,Transakcijas!$T:$T,YEAR($B128),Transakcijas!$U:$U,RIGHT(\"0\"&MONTH($B128),2))-SUM(D128:K128)","v":0},{"$f":"SUM(C128:L128)","v":0},{"$f":"ROUND(SUMIFS(Transakcijas!$R:$R,Transakcijas!$Q:$Q,$B$127,Transakcijas!$S:$S,\"<=\"&$B128,Transakcijas!$H:$H,\"Pamatsumma\"),2)","v":0},{"$f":"ROUND(SUMIFS(Transakcijas!$R:$R,Transakcijas!$Q:$Q,$B$127,Transakcijas!$S:$S,\"<=\"&$B128,Transakcijas!$H:$H,\"Nokavējuma nauda\"),2)","v":0},{"$f":"ROUND(SUMIFS(Transakcijas!$R:$R,Transakcijas!$Q:$Q,$B$127,Transakcijas!$S:$S,\"<=\"&$B128,Transakcijas!$H:$H,\"Soda nauda\"),2)","v":0},null,{"$f":"B127","v":"MUN"},{"$f":"B128","v":"2024-01-31"},null,{"$f":"SUM(D128:F128)+T128","v":0},null,null,{"$f":"IF(W128<>\"\",M128+W128,0)","v":0}]
[null,{"$f":"IF(IF(B128=\"\",$M$4+1,DATE(YEAR(B128),MONTH(B128)+2,0))<=$M$4,DATE(YEAR(B128),MONTH(B128)+2,0),\"\")","v":"2024-02-29"},{"$f":"IF(B129=\"\",0,M128)","v":0},{"$f":"SUMIFS(Transakcijas!$R:$R,Transakcijas!$Q:$Q,$B$127,Transakcijas!$T:$T,YEAR($B129),Transakcijas!$U:$U,RIGHT(\"0\"&MONTH($B129),2),Transakcijas!$D:$D,\"Aprēķins\",Transakcijas!$H:$H,\"Pamatsumma\",Transakcijas!$K:$K,\"<>\"&\"FIFO*\",Transakcijas!$K:$K,\"<>\"&\"Iemaksas atbrīvošana\")","v":0},null,null,{"$f":"SUMIFS(Transakcijas!$R:$R,Transakcijas!$Q:$Q,$B$127,Transakcijas!$T:$T,YEAR($B129),Transakcijas!$U:$U,RIGHT(\"0\"&MONTH($B129),2),Transakcijas!$D:$D,\"Aprēķins\",Transakcijas!$H:$H,\"Nokavējuma nauda\",Transakcijas!$K:$K,\"<>\"&\"FIFO*\",Transakcijas!$K:$K,\"<>\"&\"Iemaksas atbrīvošana\")","v":0},{"$f":"SUMIFS(Transakcijas!$R:$R,Transakcijas!$Q:$Q,$B$127,Transakcijas!$T:$T,YEAR($B129),Transakcijas!$U:$U,RIGHT(\"0\"&MONTH($B129),2),Transakcijas!$D:$D,\"Aprēķins\",Transakcijas!$H:$H,\"Soda nauda\",Transakcijas!$K:$K,\"<>\"&\"FIFO*\",Transakcijas!$K:$K,\"<>\"&\"Iemaksas atbrīvošana\")","v":0},{"$f":"SUMIFS(Transakcijas!$R:$R,Transakcijas!$Q:$Q,$B$127,Transakcijas!$T:$T,YEAR($B129),Transakcijas!$U:$U,RIGHT(\"0\"&MONTH($B129),2),Transakcijas!$D:$D,\"Iemaksa\",Transakcijas!$K:$K,\"<>\"&\"Izejošā maksājuma anulēšana\")\n+SUMIFS(Transakcijas!$R:$R,Transakcijas!$Q:$Q,$B$127,Transakcijas!$T:$T,YEAR($B129),Transakcijas!$U:$U,RIGHT(\"0\"&MONTH($B129),2),Transakcijas!$D:$D,\"Atmaksa\",Transakcijas!$K:$K,\"Iemaksas atbrīvošana\")","v":0},{"$f":"SUMIFS(Transakcijas!$R:$R,Transakcijas!$Q:$Q,$B$127,Transakcijas!$T:$T,YEAR($B129),Transakcijas!$U:$U,RIGHT(\"0\"&MONTH($B129),2),Transakcijas!$D:$D,\"Atmaksa\",Transakcijas!$K:$K,\"<>\"&\"Iemaksas atbrīvošana\")\n+SUMIFS(Transakcijas!$R:$R,Transakcijas!$Q:$Q,$B$127,Transakcijas!$T:$T,YEAR($B129),Transakcijas!$U:$U,RIGHT(\"0\"&MONTH($B129),2),Transakcijas!$D:$D,\"Iemaksa\",Transakcijas!$K:$K,\"Izejošā maksājuma anulēšana\")","v":0},{"$f":"SUMIFS(Transakcijas!$R:$R,Transakcijas!$Q:$Q,$B$127,Transakcijas!$T:$T,YEAR($B129),Transakcijas!$U:$U,RIGHT(\"0\"&MONTH($B129),2),Transakcijas!$K:$K,\"FIFO savstarpējā segšana\")\n+SUMIFS(Transakcijas!$R:$R,Transakcijas!$Q:$Q,$B$127,Transakcijas!$T:$T,YEAR($B129),Transakcijas!$U:$U,RIGHT(\"0\"&MONTH($B129),2),Transakcijas!$D:$D,\"Aprēķins\",Transakcijas!$K:$K,\"Iemaksas atbrīvošana\")","v":0},{"$f":"SUMIFS(Transakcijas!$R:$R,Transakcijas!$Q:$Q,$B$127,Transakcijas!$T:$T,YEAR($B129),Transakcijas!$U:$U,RIGHT(\"0\"&MONTH($B129),2))-SUM(D129:K129)","v":0},0,{"$f":"ROUND(SUMIFS(Transakcijas!$R:$R,Transakcijas!$Q:$Q,$B$127,Transakcijas!$S:$S,\"<=\"&$B129,Transakcijas!$H:$H,\"Pamatsumma\"),2)","v":0},{"$f":"ROUND(SUMIFS(Transakcijas!$R:$R,Transakcijas!$Q:$Q,$B$127,Transakcijas!$S:$S,\"<=\"&$B129,Transakcijas!$H:$H,\"Nokavējuma nauda\"),2)","v":0},{"$f":"ROUND(SUMIFS(Transakcijas!$R:$R,Transakcijas!$Q:$Q,$B$127,Transakcijas!$S:$S,\"<=\"&$B129,Transakcijas!$H:$H,\"Soda nauda\"),2)","v":0},null,{"$f":"B127","v":"MUN"},{"$f":"B129","v":"2024-02-29"},null,0,null,null,0]
[null,"2024-03-31",0,{"$f":"SUMIFS(Transakcijas!$R:$R,Transakcijas!$Q:$Q,$B$127,Transakcijas!$T:$T,YEAR($B130),Transakcijas!$U:$U,RIGHT(\"0\"&MONTH($B130),2),Transakcijas!$D:$D,\"Aprēķins\",Transakcijas!$H:$H,\"Pamatsumma\",Transakcijas!$K:$K,\"<>\"&\"FIFO*\",Transakcijas!$K:$K,\"<>\"&\"Iemaksas atbrīvošana\")","v":0},null,null,{"$f":"SUMIFS(Transakcijas!$R:$R,Transakcijas!$Q:$Q,$B$127,Transakcijas!$T:$T,YEAR($B130),Transakcijas!$U:$U,RIGHT(\"0\"&MONTH($B130),2),Transakcijas!$D:$D,\"Aprēķins\",Transakcijas!$H:$H,\"Nokavējuma nauda\",Transakcijas!$K:$K,\"<>\"&\"FIFO*\",Transakcijas!$K:$K,\"<>\"&\"Iemaksas atbrīvošana\")","v":0},{"$f":"SUMIFS(Transakcijas!$R:$R,Transakcijas!$Q:$Q,$B$127,Transakcijas!$T:$T,YEAR($B130),Transakcijas!$U:$U,RIGHT(\"0\"&MONTH($B130),2),Transakcijas!$D:$D,\"Aprēķins\",Transakcijas!$H:$H,\"Soda nauda\",Transakcijas!$K:$K,\"<>\"&\"FIFO*\",Transakcijas!$K:$K,\"<>\"&\"Iemaksas atbrīvošana\")","v":0},{"$f":"SUMIFS(Transakcijas!$R:$R,Transakcijas!$Q:$Q,$B$127,Transakcijas!$T:$T,YEAR($B130),Transakcijas!$U:$U,RIGHT(\"0\"&MONTH($B130),2),Transakcijas!$D:$D,\"Iemaksa\",Transakcijas!$K:$K,\"<>\"&\"Izejošā maksājuma anulēšana\")\n+SUMIFS(Transakcijas!$R:$R,Transakcijas!$Q:$Q,$B$127,Transakcijas!$T:$T,YEAR($B130),Transakcijas!$U:$U,RIGHT(\"0\"&MONTH($B130),2),Transakcijas!$D:$D,\"Atmaksa\",Transakcijas!$K:$K,\"Iemaksas atbrīvošana\")","v":0},{"$f":"SUMIFS(Transakcijas!$R:$R,Transakcijas!$Q:$Q,$B$127,Transakcijas!$T:$T,YEAR($B130),Transakcijas!$U:$U,RIGHT(\"0\"&MONTH($B130),2),Transakcijas!$D:$D,\"Atmaksa\",Transakcijas!$K:$K,\"<>\"&\"Iemaksas atbrīvošana\")\n+SUMIFS(Transakcijas!$R:$R,Transakcijas!$Q:$Q,$B$127,Transakcijas!$T:$T,YEAR($B130),Transakcijas!$U:$U,RIGHT(\"0\"&MONTH($B130),2),Transakcijas!$D:$D,\"Iemaksa\",Transakcijas!$K:$K,\"Izejošā maksājuma anulēšana\")","v":0},{"$f":"SUMIFS(Transakcijas!$R:$R,Transakcijas!$Q:$Q,$B$127,Transakcijas!$T:$T,YEAR($B130),Transakcijas!$U:$U,RIGHT(\"0\"&MONTH($B130),2),Transakcijas!$K:$K,\"FIFO savstarpējā segšana\")\n+SUMIFS(Transakcijas!$R:$R,Transakcijas!$Q:$Q,$B$127,Transakcijas!$T:$T,YEAR($B130),Transakcijas!$U:$U,RIGHT(\"0\"&MONTH($B130),2),Transakcijas!$D:$D,\"Aprēķins\",Transakcijas!$K:$K,\"Iemaksas atbrīvošana\")","v":0},{"$f":"SUMIFS(Transakcijas!$R:$R,Transakcijas!$Q:$Q,$B$127,Transakcijas!$T:$T,YEAR($B130),Transakcijas!$U:$U,RIGHT(\"0\"&MONTH($B130),2))-SUM(D130:K130)","v":0},0,{"$f":"ROUND(SUMIFS(Transakcijas!$R:$R,Transakcijas!$Q:$Q,$B$127,Transakcijas!$S:$S,\"<=\"&$B130,Transakcijas!$H:$H,\"Pamatsumma\"),2)","v":0},{"$f":"ROUND(SUMIFS(Transakcijas!$R:$R,Transakcijas!$Q:$Q,$B$127,Transakcijas!$S:$S,\"<=\"&$B130,Transakcijas!$H:$H,\"Nokavējuma nauda\"),2)","v":0},{"$f":"ROUND(SUMIFS(Transakcijas!$R:$R,Transakcijas!$Q:$Q,$B$127,Transakcijas!$S:$S,\"<=\"&$B130,Transakcijas!$H:$H,\"Soda nauda\"),2)","v":0},null,{"$f":"B127","v":"MUN"},"2024-03-31",null,0,null,null,0]
[null,"2024-04-30",0,{"$f":"SUMIFS(Transakcijas!$R:$R,Transakcijas!$Q:$Q,$B$127,Transakcijas!$T:$T,YEAR($B131),Transakcijas!$U:$U,RIGHT(\"0\"&MONTH($B131),2),Transakcijas!$D:$D,\"Aprēķins\",Transakcijas!$H:$H,\"Pamatsumma\",Transakcijas!$K:$K,\"<>\"&\"FIFO*\",Transakcijas!$K:$K,\"<>\"&\"Iemaksas atbrīvošana\")","v":0},null,null,{"$f":"SUMIFS(Transakcijas!$R:$R,Transakcijas!$Q:$Q,$B$127,Transakcijas!$T:$T,YEAR($B131),Transakcijas!$U:$U,RIGHT(\"0\"&MONTH($B131),2),Transakcijas!$D:$D,\"Aprēķins\",Transakcijas!$H:$H,\"Nokavējuma nauda\",Transakcijas!$K:$K,\"<>\"&\"FIFO*\",Transakcijas!$K:$K,\"<>\"&\"Iemaksas atbrīvošana\")","v":0},{"$f":"SUMIFS(Transakcijas!$R:$R,Transakcijas!$Q:$Q,$B$127,Transakcijas!$T:$T,YEAR($B131),Transakcijas!$U:$U,RIGHT(\"0\"&MONTH($B131),2),Transakcijas!$D:$D,\"Aprēķins\",Transakcijas!$H:$H,\"Soda nauda\",Transakcijas!$K:$K,\"<>\"&\"FIFO*\",Transakcijas!$K:$K,\"<>\"&\"Iemaksas atbrīvošana\")","v":0},{"$f":"SUMIFS(Transakcijas!$R:$R,Transakcijas!$Q:$Q,$B$127,Transakcijas!$T:$T,YEAR($B131),Transakcijas!$U:$U,RIGHT(\"0\"&MONTH($B131),2),Transakcijas!$D:$D,\"Iemaksa\",Transakcijas!$K:$K,\"<>\"&\"Izejošā maksājuma anulēšana\")\n+SUMIFS(Transakcijas!$R:$R,Transakcijas!$Q:$Q,$B$127,Transakcijas!$T:$T,YEAR($B131),Transakcijas!$U:$U,RIGHT(\"0\"&MONTH($B131),2),Transakcijas!$D:$D,\"Atmaksa\",Transakcijas!$K:$K,\"Iemaksas atbrīvošana\")","v":0},{"$f":"SUMIFS(Transakcijas!$R:$R,Transakcijas!$Q:$Q,$B$127,Transakcijas!$T:$T,YEAR($B131),Transakcijas!$U:$U,RIGHT(\"0\"&MONTH($B131),2),Transakcijas!$D:$D,\"Atmaksa\",Transakcijas!$K:$K,\"<>\"&\"Iemaksas atbrīvošana\")\n+SUMIFS(Transakcijas!$R:$R,Transakcijas!$Q:$Q,$B$127,Transakcijas!$T:$T,YEAR($B131),Transakcijas!$U:$U,RIGHT(\"0\"&MONTH($B131),2),Transakcijas!$D:$D,\"Iemaksa\",Transakcijas!$K:$K,\"Izejošā maksājuma anulēšana\")","v":0},{"$f":"SUMIFS(Transakcijas!$R:$R,Transakcijas!$Q:$Q,$B$127,Transakcijas!$T:$T,YEAR($B131),Transakcijas!$U:$U,RIGHT(\"0\"&MONTH($B131),2),Transakcijas!$K:$K,\"FIFO savstarpējā segšana\")\n+SUMIFS(Transakcijas!$R:$R,Transakcijas!$Q:$Q,$B$127,Transakcijas!$T:$T,YEAR($B131),Transakcijas!$U:$U,RIGHT(\"0\"&MONTH($B131),2),Transakcijas!$D:$D,\"Aprēķins\",Transakcijas!$K:$K,\"Iemaksas atbrīvošana\")","v":0},{"$f":"SUMIFS(Transakcijas!$R:$R,Transakcijas!$Q:$Q,$B$127,Transakcijas!$T:$T,YEAR($B131),Transakcijas!$U:$U,RIGHT(\"0\"&MONTH($B131),2))-SUM(D131:K131)","v":0},0,{"$f":"ROUND(SUMIFS(Transakcijas!$R:$R,Transakcijas!$Q:$Q,$B$127,Transakcijas!$S:$S,\"<=\"&$B131,Transakcijas!$H:$H,\"Pamatsumma\"),2)","v":0},{"$f":"ROUND(SUMIFS(Transakcijas!$R:$R,Transakcijas!$Q:$Q,$B$127,Transakcijas!$S:$S,\"<=\"&$B131,Transakcijas!$H:$H,\"Nokavējuma nauda\"),2)","v":0},{"$f":"ROUND(SUMIFS(Transakcijas!$R:$R,Transakcijas!$Q:$Q,$B$127,Transakcijas!$S:$S,\"<=\"&$B131,Transakcijas!$H:$H,\"Soda nauda\"),2)","v":0},null,{"$f":"B127","v":"MUN"},"2024-04-30",null,0,null,null,0]
[null,"2024-05-31",0,{"$f":"SUMIFS(Transakcijas!$R:$R,Transakcijas!$Q:$Q,$B$127,Transakcijas!$T:$T,YEAR($B132),Transakcijas!$U:$U,RIGHT(\"0\"&MONTH($B132),2),Transakcijas!$D:$D,\"Aprēķins\",Transakcijas!$H:$H,\"Pamatsumma\",Transakcijas!$K:$K,\"<>\"&\"FIFO*\",Transakcijas!$K:$K,\"<>\"&\"Iemaksas atbrīvošana\")","v":0},null,null,{"$f":"SUMIFS(Transakcijas!$R:$R,Transakcijas!$Q:$Q,$B$127,Transakcijas!$T:$T,YEAR($B132),Transakcijas!$U:$U,RIGHT(\"0\"&MONTH($B132),2),Transakcijas!$D:$D,\"Aprēķins\",Transakcijas!$H:$H,\"Nokavējuma nauda\",Transakcijas!$K:$K,\"<>\"&\"FIFO*\",Transakcijas!$K:$K,\"<>\"&\"Iemaksas atbrīvošana\")","v":0},{"$f":"SUMIFS(Transakcijas!$R:$R,Transakcijas!$Q:$Q,$B$127,Transakcijas!$T:$T,YEAR($B132),Transakcijas!$U:$U,RIGHT(\"0\"&MONTH($B132),2),Transakcijas!$D:$D,\"Aprēķins\",Transakcijas!$H:$H,\"Soda nauda\",Transakcijas!$K:$K,\"<>\"&\"FIFO*\",Transakcijas!$K:$K,\"<>\"&\"Iemaksas atbrīvošana\")","v":0},{"$f":"SUMIFS(Transakcijas!$R:$R,Transakcijas!$Q:$Q,$B$127,Transakcijas!$T:$T,YEAR($B132),Transakcijas!$U:$U,RIGHT(\"0\"&MONTH($B132),2),Transakcijas!$D:$D,\"Iemaksa\",Transakcijas!$K:$K,\"<>\"&\"Izejošā maksājuma anulēšana\")\n+SUMIFS(Transakcijas!$R:$R,Transakcijas!$Q:$Q,$B$127,Transakcijas!$T:$T,YEAR($B132),Transakcijas!$U:$U,RIGHT(\"0\"&MONTH($B132),2),Transakcijas!$D:$D,\"Atmaksa\",Transakcijas!$K:$K,\"Iemaksas atbrīvošana\")","v":0},{"$f":"SUMIFS(Transakcijas!$R:$R,Transakcijas!$Q:$Q,$B$127,Transakcijas!$T:$T,YEAR($B132),Transakcijas!$U:$U,RIGHT(\"0\"&MONTH($B132),2),Transakcijas!$D:$D,\"Atmaksa\",Transakcijas!$K:$K,\"<>\"&\"Iemaksas atbrīvošana\")\n+SUMIFS(Transakcijas!$R:$R,Transakcijas!$Q:$Q,$B$127,Transakcijas!$T:$T,YEAR($B132),Transakcijas!$U:$U,RIGHT(\"0\"&MONTH($B132),2),Transakcijas!$D:$D,\"Iemaksa\",Transakcijas!$K:$K,\"Izejošā maksājuma anulēšana\")","v":0},{"$f":"SUMIFS(Transakcijas!$R:$R,Transakcijas!$Q:$Q,$B$127,Transakcijas!$T:$T,YEAR($B132),Transakcijas!$U:$U,RIGHT(\"0\"&MONTH($B132),2),Transakcijas!$K:$K,\"FIFO savstarpējā segšana\")\n+SUMIFS(Transakcijas!$R:$R,Transakcijas!$Q:$Q,$B$127,Transakcijas!$T:$T,YEAR($B132),Transakcijas!$U:$U,RIGHT(\"0\"&MONTH($B132),2),Transakcijas!$D:$D,\"Aprēķins\",Transakcijas!$K:$K,\"Iemaksas atbrīvošana\")","v":0},{"$f":"SUMIFS(Transakcijas!$R:$R,Transakcijas!$Q:$Q,$B$127,Transakcijas!$T:$T,YEAR($B132),Transakcijas!$U:$U,RIGHT(\"0\"&MONTH($B132),2))-SUM(D132:K132)","v":0},0,{"$f":"ROUND(SUMIFS(Transakcijas!$R:$R,Transakcijas!$Q:$Q,$B$127,Transakcijas!$S:$S,\"<=\"&$B132,Transakcijas!$H:$H,\"Pamatsumma\"),2)","v":0},{"$f":"ROUND(SUMIFS(Transakcijas!$R:$R,Transakcijas!$Q:$Q,$B$127,Transakcijas!$S:$S,\"<=\"&$B132,Transakcijas!$H:$H,\"Nokavējuma nauda\"),2)","v":0},{"$f":"ROUND(SUMIFS(Transakcijas!$R:$R,Transakcijas!$Q:$Q,$B$127,Transakcijas!$S:$S,\"<=\"&$B132,Transakcijas!$H:$H,\"Soda nauda\"),2)","v":0},null,{"$f":"B127","v":"MUN"},"2024-05-31",null,0,null,null,0]
[null,"2024-06-30",0,{"$f":"SUMIFS(Transakcijas!$R:$R,Transakcijas!$Q:$Q,$B$127,Transakcijas!$T:$T,YEAR($B133),Transakcijas!$U:$U,RIGHT(\"0\"&MONTH($B133),2),Transakcijas!$D:$D,\"Aprēķins\",Transakcijas!$H:$H,\"Pamatsumma\",Transakcijas!$K:$K,\"<>\"&\"FIFO*\",Transakcijas!$K:$K,\"<>\"&\"Iemaksas atbrīvošana\")","v":0},null,null,{"$f":"SUMIFS(Transakcijas!$R:$R,Transakcijas!$Q:$Q,$B$127,Transakcijas!$T:$T,YEAR($B133),Transakcijas!$U:$U,RIGHT(\"0\"&MONTH($B133),2),Transakcijas!$D:$D,\"Aprēķins\",Transakcijas!$H:$H,\"Nokavējuma nauda\",Transakcijas!$K:$K,\"<>\"&\"FIFO*\",Transakcijas!$K:$K,\"<>\"&\"Iemaksas atbrīvošana\")","v":0},{"$f":"SUMIFS(Transakcijas!$R:$R,Transakcijas!$Q:$Q,$B$127,Transakcijas!$T:$T,YEAR($B133),Transakcijas!$U:$U,RIGHT(\"0\"&MONTH($B133),2),Transakcijas!$D:$D,\"Aprēķins\",Transakcijas!$H:$H,\"Soda nauda\",Transakcijas!$K:$K,\"<>\"&\"FIFO*\",Transakcijas!$K:$K,\"<>\"&\"Iemaksas atbrīvošana\")","v":0},{"$f":"SUMIFS(Transakcijas!$R:$R,Transakcijas!$Q:$Q,$B$127,Transakcijas!$T:$T,YEAR($B133),Transakcijas!$U:$U,RIGHT(\"0\"&MONTH($B133),2),Transakcijas!$D:$D,\"Iemaksa\",Transakcijas!$K:$K,\"<>\"&\"Izejošā maksājuma anulēšana\")\n+SUMIFS(Transakcijas!$R:$R,Transakcijas!$Q:$Q,$B$127,Transakcijas!$T:$T,YEAR($B133),Transakcijas!$U:$U,RIGHT(\"0\"&MONTH($B133),2),Transakcijas!$D:$D,\"Atmaksa\",Transakcijas!$K:$K,\"Iemaksas atbrīvošana\")","v":0},{"$f":"SUMIFS(Transakcijas!$R:$R,Transakcijas!$Q:$Q,$B$127,Transakcijas!$T:$T,YEAR($B133),Transakcijas!$U:$U,RIGHT(\"0\"&MONTH($B133),2),Transakcijas!$D:$D,\"Atmaksa\",Transakcijas!$K:$K,\"<>\"&\"Iemaksas atbrīvošana\")\n+SUMIFS(Transakcijas!$R:$R,Transakcijas!$Q:$Q,$B$127,Transakcijas!$T:$T,YEAR($B133),Transakcijas!$U:$U,RIGHT(\"0\"&MONTH($B133),2),Transakcijas!$D:$D,\"Iemaksa\",Transakcijas!$K:$K,\"Izejošā maksājuma anulēšana\")","v":0},{"$f":"SUMIFS(Transakcijas!$R:$R,Transakcijas!$Q:$Q,$B$127,Transakcijas!$T:$T,YEAR($B133),Transakcijas!$U:$U,RIGHT(\"0\"&MONTH($B133),2),Transakcijas!$K:$K,\"FIFO savstarpējā segšana\")\n+SUMIFS(Transakcijas!$R:$R,Transakcijas!$Q:$Q,$B$127,Transakcijas!$T:$T,YEAR($B133),Transakcijas!$U:$U,RIGHT(\"0\"&MONTH($B133),2),Transakcijas!$D:$D,\"Aprēķins\",Transakcijas!$K:$K,\"Iemaksas atbrīvošana\")","v":0},{"$f":"SUMIFS(Transakcijas!$R:$R,Transakcijas!$Q:$Q,$B$127,Transakcijas!$T:$T,YEAR($B133),Transakcijas!$U:$U,RIGHT(\"0\"&MONTH($B133),2))-SUM(D133:K133)","v":0},0,{"$f":"ROUND(SUMIFS(Transakcijas!$R:$R,Transakcijas!$Q:$Q,$B$127,Transakcijas!$S:$S,\"<=\"&$B133,Transakcijas!$H:$H,\"Pamatsumma\"),2)","v":0},{"$f":"ROUND(SUMIFS(Transakcijas!$R:$R,Transakcijas!$Q:$Q,$B$127,Transakcijas!$S:$S,\"<=\"&$B133,Transakcijas!$H:$H,\"Nokavējuma nauda\"),2)","v":0},{"$f":"ROUND(SUMIFS(Transakcijas!$R:$R,Transakcijas!$Q:$Q,$B$127,Transakcijas!$S:$S,\"<=\"&$B133,Transakcijas!$H:$H,\"Soda nauda\"),2)","v":0},null,{"$f":"B127","v":"MUN"},"2024-06-30",null,0,null,null,0]
[null,"2024-07-31",0,{"$f":"SUMIFS(Transakcijas!$R:$R,Transakcijas!$Q:$Q,$B$127,Transakcijas!$T:$T,YEAR($B134),Transakcijas!$U:$U,RIGHT(\"0\"&MONTH($B134),2),Transakcijas!$D:$D,\"Aprēķins\",Transakcijas!$H:$H,\"Pamatsumma\",Transakcijas!$K:$K,\"<>\"&\"FIFO*\",Transakcijas!$K:$K,\"<>\"&\"Iemaksas atbrīvošana\")","v":0},null,null,{"$f":"SUMIFS(Transakcijas!$R:$R,Transakcijas!$Q:$Q,$B$127,Transakcijas!$T:$T,YEAR($B134),Transakcijas!$U:$U,RIGHT(\"0\"&MONTH($B134),2),Transakcijas!$D:$D,\"Aprēķins\",Transakcijas!$H:$H,\"Nokavējuma nauda\",Transakcijas!$K:$K,\"<>\"&\"FIFO*\",Transakcijas!$K:$K,\"<>\"&\"Iemaksas atbrīvošana\")","v":0},{"$f":"SUMIFS(Transakcijas!$R:$R,Transakcijas!$Q:$Q,$B$127,Transakcijas!$T:$T,YEAR($B134),Transakcijas!$U:$U,RIGHT(\"0\"&MONTH($B134),2),Transakcijas!$D:$D,\"Aprēķins\",Transakcijas!$H:$H,\"Soda nauda\",Transakcijas!$K:$K,\"<>\"&\"FIFO*\",Transakcijas!$K:$K,\"<>\"&\"Iemaksas atbrīvošana\")","v":0},{"$f":"SUMIFS(Transakcijas!$R:$R,Transakcijas!$Q:$Q,$B$127,Transakcijas!$T:$T,YEAR($B134),Transakcijas!$U:$U,RIGHT(\"0\"&MONTH($B134),2),Transakcijas!$D:$D,\"Iemaksa\",Transakcijas!$K:$K,\"<>\"&\"Izejošā maksājuma anulēšana\")\n+SUMIFS(Transakcijas!$R:$R,Transakcijas!$Q:$Q,$B$127,Transakcijas!$T:$T,YEAR($B134),Transakcijas!$U:$U,RIGHT(\"0\"&MONTH($B134),2),Transakcijas!$D:$D,\"Atmaksa\",Transakcijas!$K:$K,\"Iemaksas atbrīvošana\")","v":0},{"$f":"SUMIFS(Transakcijas!$R:$R,Transakcijas!$Q:$Q,$B$127,Transakcijas!$T:$T,YEAR($B134),Transakcijas!$U:$U,RIGHT(\"0\"&MONTH($B134),2),Transakcijas!$D:$D,\"Atmaksa\",Transakcijas!$K:$K,\"<>\"&\"Iemaksas atbrīvošana\")\n+SUMIFS(Transakcijas!$R:$R,Transakcijas!$Q:$Q,$B$127,Transakcijas!$T:$T,YEAR($B134),Transakcijas!$U:$U,RIGHT(\"0\"&MONTH($B134),2),Transakcijas!$D:$D,\"Iemaksa\",Transakcijas!$K:$K,\"Izejošā maksājuma anulēšana\")","v":0},{"$f":"SUMIFS(Transakcijas!$R:$R,Transakcijas!$Q:$Q,$B$127,Transakcijas!$T:$T,YEAR($B134),Transakcijas!$U:$U,RIGHT(\"0\"&MONTH($B134),2),Transakcijas!$K:$K,\"FIFO savstarpējā segšana\")\n+SUMIFS(Transakcijas!$R:$R,Transakcijas!$Q:$Q,$B$127,Transakcijas!$T:$T,YEAR($B134),Transakcijas!$U:$U,RIGHT(\"0\"&MONTH($B134),2),Transakcijas!$D:$D,\"Aprēķins\",Transakcijas!$K:$K,\"Iemaksas atbrīvošana\")","v":0},{"$f":"SUMIFS(Transakcijas!$R:$R,Transakcijas!$Q:$Q,$B$127,Transakcijas!$T:$T,YEAR($B134),Transakcijas!$U:$U,RIGHT(\"0\"&MONTH($B134),2))-SUM(D134:K134)","v":0},0,{"$f":"ROUND(SUMIFS(Transakcijas!$R:$R,Transakcijas!$Q:$Q,$B$127,Transakcijas!$S:$S,\"<=\"&$B134,Transakcijas!$H:$H,\"Pamatsumma\"),2)","v":0},{"$f":"ROUND(SUMIFS(Transakcijas!$R:$R,Transakcijas!$Q:$Q,$B$127,Transakcijas!$S:$S,\"<=\"&$B134,Transakcijas!$H:$H,\"Nokavējuma nauda\"),2)","v":0},{"$f":"ROUND(SUMIFS(Transakcijas!$R:$R,Transakcijas!$Q:$Q,$B$127,Transakcijas!$S:$S,\"<=\"&$B134,Transakcijas!$H:$H,\"Soda nauda\"),2)","v":0},null,{"$f":"B127","v":"MUN"},"2024-07-31",null,0,null,null,0]
[null,"2024-08-31",0,{"$f":"SUMIFS(Transakcijas!$R:$R,Transakcijas!$Q:$Q,$B$127,Transakcijas!$T:$T,YEAR($B135),Transakcijas!$U:$U,RIGHT(\"0\"&MONTH($B135),2),Transakcijas!$D:$D,\"Aprēķins\",Transakcijas!$H:$H,\"Pamatsumma\",Transakcijas!$K:$K,\"<>\"&\"FIFO*\",Transakcijas!$K:$K,\"<>\"&\"Iemaksas atbrīvošana\")","v":0},null,null,{"$f":"SUMIFS(Transakcijas!$R:$R,Transakcijas!$Q:$Q,$B$127,Transakcijas!$T:$T,YEAR($B135),Transakcijas!$U:$U,RIGHT(\"0\"&MONTH($B135),2),Transakcijas!$D:$D,\"Aprēķins\",Transakcijas!$H:$H,\"Nokavējuma nauda\",Transakcijas!$K:$K,\"<>\"&\"FIFO*\",Transakcijas!$K:$K,\"<>\"&\"Iemaksas atbrīvošana\")","v":0},{"$f":"SUMIFS(Transakcijas!$R:$R,Transakcijas!$Q:$Q,$B$127,Transakcijas!$T:$T,YEAR($B135),Transakcijas!$U:$U,RIGHT(\"0\"&MONTH($B135),2),Transakcijas!$D:$D,\"Aprēķins\",Transakcijas!$H:$H,\"Soda nauda\",Transakcijas!$K:$K,\"<>\"&\"FIFO*\",Transakcijas!$K:$K,\"<>\"&\"Iemaksas atbrīvošana\")","v":0},{"$f":"SUMIFS(Transakcijas!$R:$R,Transakcijas!$Q:$Q,$B$127,Transakcijas!$T:$T,YEAR($B135),Transakcijas!$U:$U,RIGHT(\"0\"&MONTH($B135),2),Transakcijas!$D:$D,\"Iemaksa\",Transakcijas!$K:$K,\"<>\"&\"Izejošā maksājuma anulēšana\")\n+SUMIFS(Transakcijas!$R:$R,Transakcijas!$Q:$Q,$B$127,Transakcijas!$T:$T,YEAR($B135),Transakcijas!$U:$U,RIGHT(\"0\"&MONTH($B135),2),Transakcijas!$D:$D,\"Atmaksa\",Transakcijas!$K:$K,\"Iemaksas atbrīvošana\")","v":0},{"$f":"SUMIFS(Transakcijas!$R:$R,Transakcijas!$Q:$Q,$B$127,Transakcijas!$T:$T,YEAR($B135),Transakcijas!$U:$U,RIGHT(\"0\"&MONTH($B135),2),Transakcijas!$D:$D,\"Atmaksa\",Transakcijas!$K:$K,\"<>\"&\"Iemaksas atbrīvošana\")\n+SUMIFS(Transakcijas!$R:$R,Transakcijas!$Q:$Q,$B$127,Transakcijas!$T:$T,YEAR($B135),Transakcijas!$U:$U,RIGHT(\"0\"&MONTH($B135),2),Transakcijas!$D:$D,\"Iemaksa\",Transakcijas!$K:$K,\"Izejošā maksājuma anulēšana\")","v":0},{"$f":"SUMIFS(Transakcijas!$R:$R,Transakcijas!$Q:$Q,$B$127,Transakcijas!$T:$T,YEAR($B135),Transakcijas!$U:$U,RIGHT(\"0\"&MONTH($B135),2),Transakcijas!$K:$K,\"FIFO savstarpējā segšana\")\n+SUMIFS(Transakcijas!$R:$R,Transakcijas!$Q:$Q,$B$127,Transakcijas!$T:$T,YEAR($B135),Transakcijas!$U:$U,RIGHT(\"0\"&MONTH($B135),2),Transakcijas!$D:$D,\"Aprēķins\",Transakcijas!$K:$K,\"Iemaksas atbrīvošana\")","v":0},{"$f":"SUMIFS(Transakcijas!$R:$R,Transakcijas!$Q:$Q,$B$127,Transakcijas!$T:$T,YEAR($B135),Transakcijas!$U:$U,RIGHT(\"0\"&MONTH($B135),2))-SUM(D135:K135)","v":0},0,{"$f":"ROUND(SUMIFS(Transakcijas!$R:$R,Transakcijas!$Q:$Q,$B$127,Transakcijas!$S:$S,\"<=\"&$B135,Transakcijas!$H:$H,\"Pamatsumma\"),2)","v":0},{"$f":"ROUND(SUMIFS(Transakcijas!$R:$R,Transakcijas!$Q:$Q,$B$127,Transakcijas!$S:$S,\"<=\"&$B135,Transakcijas!$H:$H,\"Nokavējuma nauda\"),2)","v":0},{"$f":"ROUND(SUMIFS(Transakcijas!$R:$R,Transakcijas!$Q:$Q,$B$127,Transakcijas!$S:$S,\"<=\"&$B135,Transakcijas!$H:$H,\"Soda nauda\"),2)","v":0},null,{"$f":"B127","v":"MUN"},"2024-08-31",null,0,null,null,0]
[null,"2024-09-30",0,{"$f":"SUMIFS(Transakcijas!$R:$R,Transakcijas!$Q:$Q,$B$127,Transakcijas!$T:$T,YEAR($B136),Transakcijas!$U:$U,RIGHT(\"0\"&MONTH($B136),2),Transakcijas!$D:$D,\"Aprēķins\",Transakcijas!$H:$H,\"Pamatsumma\",Transakcijas!$K:$K,\"<>\"&\"FIFO*\",Transakcijas!$K:$K,\"<>\"&\"Iemaksas atbrīvošana\")","v":0},null,null,{"$f":"SUMIFS(Transakcijas!$R:$R,Transakcijas!$Q:$Q,$B$127,Transakcijas!$T:$T,YEAR($B136),Transakcijas!$U:$U,RIGHT(\"0\"&MONTH($B136),2),Transakcijas!$D:$D,\"Aprēķins\",Transakcijas!$H:$H,\"Nokavējuma nauda\",Transakcijas!$K:$K,\"<>\"&\"FIFO*\",Transakcijas!$K:$K,\"<>\"&\"Iemaksas atbrīvošana\")","v":0},{"$f":"SUMIFS(Transakcijas!$R:$R,Transakcijas!$Q:$Q,$B$127,Transakcijas!$T:$T,YEAR($B136),Transakcijas!$U:$U,RIGHT(\"0\"&MONTH($B136),2),Transakcijas!$D:$D,\"Aprēķins\",Transakcijas!$H:$H,\"Soda nauda\",Transakcijas!$K:$K,\"<>\"&\"FIFO*\",Transakcijas!$K:$K,\"<>\"&\"Iemaksas atbrīvošana\")","v":0},{"$f":"SUMIFS(Transakcijas!$R:$R,Transakcijas!$Q:$Q,$B$127,Transakcijas!$T:$T,YEAR($B136),Transakcijas!$U:$U,RIGHT(\"0\"&MONTH($B136),2),Transakcijas!$D:$D,\"Iemaksa\",Transakcijas!$K:$K,\"<>\"&\"Izejošā maksājuma anulēšana\")\n+SUMIFS(Transakcijas!$R:$R,Transakcijas!$Q:$Q,$B$127,Transakcijas!$T:$T,YEAR($B136),Transakcijas!$U:$U,RIGHT(\"0\"&MONTH($B136),2),Transakcijas!$D:$D,\"Atmaksa\",Transakcijas!$K:$K,\"Iemaksas atbrīvošana\")","v":0},{"$f":"SUMIFS(Transakcijas!$R:$R,Transakcijas!$Q:$Q,$B$127,Transakcijas!$T:$T,YEAR($B136),Transakcijas!$U:$U,RIGHT(\"0\"&MONTH($B136),2),Transakcijas!$D:$D,\"Atmaksa\",Transakcijas!$K:$K,\"<>\"&\"Iemaksas atbrīvošana\")\n+SUMIFS(Transakcijas!$R:$R,Transakcijas!$Q:$Q,$B$127,Transakcijas!$T:$T,YEAR($B136),Transakcijas!$U:$U,RIGHT(\"0\"&MONTH($B136),2),Transakcijas!$D:$D,\"Iemaksa\",Transakcijas!$K:$K,\"Izejošā maksājuma anulēšana\")","v":0},{"$f":"SUMIFS(Transakcijas!$R:$R,Transakcijas!$Q:$Q,$B$127,Transakcijas!$T:$T,YEAR($B136),Transakcijas!$U:$U,RIGHT(\"0\"&MONTH($B136),2),Transakcijas!$K:$K,\"FIFO savstarpējā segšana\")\n+SUMIFS(Transakcijas!$R:$R,Transakcijas!$Q:$Q,$B$127,Transakcijas!$T:$T,YEAR($B136),Transakcijas!$U:$U,RIGHT(\"0\"&MONTH($B136),2),Transakcijas!$D:$D,\"Aprēķins\",Transakcijas!$K:$K,\"Iemaksas atbrīvošana\")","v":0},{"$f":"SUMIFS(Transakcijas!$R:$R,Transakcijas!$Q:$Q,$B$127,Transakcijas!$T:$T,YEAR($B136),Transakcijas!$U:$U,RIGHT(\"0\"&MONTH($B136),2))-SUM(D136:K136)","v":0},0,{"$f":"ROUND(SUMIFS(Transakcijas!$R:$R,Transakcijas!$Q:$Q,$B$127,Transakcijas!$S:$S,\"<=\"&$B136,Transakcijas!$H:$H,\"Pamatsumma\"),2)","v":0},{"$f":"ROUND(SUMIFS(Transakcijas!$R:$R,Transakcijas!$Q:$Q,$B$127,Transakcijas!$S:$S,\"<=\"&$B136,Transakcijas!$H:$H,\"Nokavējuma nauda\"),2)","v":0},{"$f":"ROUND(SUMIFS(Transakcijas!$R:$R,Transakcijas!$Q:$Q,$B$127,Transakcijas!$S:$S,\"<=\"&$B136,Transakcijas!$H:$H,\"Soda nauda\"),2)","v":0},null,{"$f":"B127","v":"MUN"},"2024-09-30",null,0,null,null,0]
[null,"2024-10-31",0,{"$f":"SUMIFS(Transakcijas!$R:$R,Transakcijas!$Q:$Q,$B$127,Transakcijas!$T:$T,YEAR($B137),Transakcijas!$U:$U,RIGHT(\"0\"&MONTH($B137),2),Transakcijas!$D:$D,\"Aprēķins\",Transakcijas!$H:$H,\"Pamatsumma\",Transakcijas!$K:$K,\"<>\"&\"FIFO*\",Transakcijas!$K:$K,\"<>\"&\"Iemaksas atbrīvošana\")","v":0},null,null,{"$f":"SUMIFS(Transakcijas!$R:$R,Transakcijas!$Q:$Q,$B$127,Transakcijas!$T:$T,YEAR($B137),Transakcijas!$U:$U,RIGHT(\"0\"&MONTH($B137),2),Transakcijas!$D:$D,\"Aprēķins\",Transakcijas!$H:$H,\"Nokavējuma nauda\",Transakcijas!$K:$K,\"<>\"&\"FIFO*\",Transakcijas!$K:$K,\"<>\"&\"Iemaksas atbrīvošana\")","v":0},{"$f":"SUMIFS(Transakcijas!$R:$R,Transakcijas!$Q:$Q,$B$127,Transakcijas!$T:$T,YEAR($B137),Transakcijas!$U:$U,RIGHT(\"0\"&MONTH($B137),2),Transakcijas!$D:$D,\"Aprēķins\",Transakcijas!$H:$H,\"Soda nauda\",Transakcijas!$K:$K,\"<>\"&\"FIFO*\",Transakcijas!$K:$K,\"<>\"&\"Iemaksas atbrīvošana\")","v":0},{"$f":"SUMIFS(Transakcijas!$R:$R,Transakcijas!$Q:$Q,$B$127,Transakcijas!$T:$T,YEAR($B137),Transakcijas!$U:$U,RIGHT(\"0\"&MONTH($B137),2),Transakcijas!$D:$D,\"Iemaksa\",Transakcijas!$K:$K,\"<>\"&\"Izejošā maksājuma anulēšana\")\n+SUMIFS(Transakcijas!$R:$R,Transakcijas!$Q:$Q,$B$127,Transakcijas!$T:$T,YEAR($B137),Transakcijas!$U:$U,RIGHT(\"0\"&MONTH($B137),2),Transakcijas!$D:$D,\"Atmaksa\",Transakcijas!$K:$K,\"Iemaksas atbrīvošana\")","v":0},{"$f":"SUMIFS(Transakcijas!$R:$R,Transakcijas!$Q:$Q,$B$127,Transakcijas!$T:$T,YEAR($B137),Transakcijas!$U:$U,RIGHT(\"0\"&MONTH($B137),2),Transakcijas!$D:$D,\"Atmaksa\",Transakcijas!$K:$K,\"<>\"&\"Iemaksas atbrīvošana\")\n+SUMIFS(Transakcijas!$R:$R,Transakcijas!$Q:$Q,$B$127,Transakcijas!$T:$T,YEAR($B137),Transakcijas!$U:$U,RIGHT(\"0\"&MONTH($B137),2),Transakcijas!$D:$D,\"Iemaksa\",Transakcijas!$K:$K,\"Izejošā maksājuma anulēšana\")","v":0},{"$f":"SUMIFS(Transakcijas!$R:$R,Transakcijas!$Q:$Q,$B$127,Transakcijas!$T:$T,YEAR($B137),Transakcijas!$U:$U,RIGHT(\"0\"&MONTH($B137),2),Transakcijas!$K:$K,\"FIFO savstarpējā segšana\")\n+SUMIFS(Transakcijas!$R:$R,Transakcijas!$Q:$Q,$B$127,Transakcijas!$T:$T,YEAR($B137),Transakcijas!$U:$U,RIGHT(\"0\"&MONTH($B137),2),Transakcijas!$D:$D,\"Aprēķins\",Transakcijas!$K:$K,\"Iemaksas atbrīvošana\")","v":0},{"$f":"SUMIFS(Transakcijas!$R:$R,Transakcijas!$Q:$Q,$B$127,Transakcijas!$T:$T,YEAR($B137),Transakcijas!$U:$U,RIGHT(\"0\"&MONTH($B137),2))-SUM(D137:K137)","v":0},0,{"$f":"ROUND(SUMIFS(Transakcijas!$R:$R,Transakcijas!$Q:$Q,$B$127,Transakcijas!$S:$S,\"<=\"&$B137,Transakcijas!$H:$H,\"Pamatsumma\"),2)","v":0},{"$f":"ROUND(SUMIFS(Transakcijas!$R:$R,Transakcijas!$Q:$Q,$B$127,Transakcijas!$S:$S,\"<=\"&$B137,Transakcijas!$H:$H,\"Nokavējuma nauda\"),2)","v":0},{"$f":"ROUND(SUMIFS(Transakcijas!$R:$R,Transakcijas!$Q:$Q,$B$127,Transakcijas!$S:$S,\"<=\"&$B137,Transakcijas!$H:$H,\"Soda nauda\"),2)","v":0},null,{"$f":"B127","v":"MUN"},"2024-10-31",null,0,null,null,0]
[null,"2024-11-30",0,{"$f":"SUMIFS(Transakcijas!$R:$R,Transakcijas!$Q:$Q,$B$127,Transakcijas!$T:$T,YEAR($B138),Transakcijas!$U:$U,RIGHT(\"0\"&MONTH($B138),2),Transakcijas!$D:$D,\"Aprēķins\",Transakcijas!$H:$H,\"Pamatsumma\",Transakcijas!$K:$K,\"<>\"&\"FIFO*\",Transakcijas!$K:$K,\"<>\"&\"Iemaksas atbrīvošana\")","v":0},null,null,{"$f":"SUMIFS(Transakcijas!$R:$R,Transakcijas!$Q:$Q,$B$127,Transakcijas!$T:$T,YEAR($B138),Transakcijas!$U:$U,RIGHT(\"0\"&MONTH($B138),2),Transakcijas!$D:$D,\"Aprēķins\",Transakcijas!$H:$H,\"Nokavējuma nauda\",Transakcijas!$K:$K,\"<>\"&\"FIFO*\",Transakcijas!$K:$K,\"<>\"&\"Iemaksas atbrīvošana\")","v":0},{"$f":"SUMIFS(Transakcijas!$R:$R,Transakcijas!$Q:$Q,$B$127,Transakcijas!$T:$T,YEAR($B138),Transakcijas!$U:$U,RIGHT(\"0\"&MONTH($B138),2),Transakcijas!$D:$D,\"Aprēķins\",Transakcijas!$H:$H,\"Soda nauda\",Transakcijas!$K:$K,\"<>\"&\"FIFO*\",Transakcijas!$K:$K,\"<>\"&\"Iemaksas atbrīvošana\")","v":0},{"$f":"SUMIFS(Transakcijas!$R:$R,Transakcijas!$Q:$Q,$B$127,Transakcijas!$T:$T,YEAR($B138),Transakcijas!$U:$U,RIGHT(\"0\"&MONTH($B138),2),Transakcijas!$D:$D,\"Iemaksa\",Transakcijas!$K:$K,\"<>\"&\"Izejošā maksājuma anulēšana\")\n+SUMIFS(Transakcijas!$R:$R,Transakcijas!$Q:$Q,$B$127,Transakcijas!$T:$T,YEAR($B138),Transakcijas!$U:$U,RIGHT(\"0\"&MONTH($B138),2),Transakcijas!$D:$D,\"Atmaksa\",Transakcijas!$K:$K,\"Iemaksas atbrīvošana\")","v":0},{"$f":"SUMIFS(Transakcijas!$R:$R,Transakcijas!$Q:$Q,$B$127,Transakcijas!$T:$T,YEAR($B138),Transakcijas!$U:$U,RIGHT(\"0\"&MONTH($B138),2),Transakcijas!$D:$D,\"Atmaksa\",Transakcijas!$K:$K,\"<>\"&\"Iemaksas atbrīvošana\")\n+SUMIFS(Transakcijas!$R:$R,Transakcijas!$Q:$Q,$B$127,Transakcijas!$T:$T,YEAR($B138),Transakcijas!$U:$U,RIGHT(\"0\"&MONTH($B138),2),Transakcijas!$D:$D,\"Iemaksa\",Transakcijas!$K:$K,\"Izejošā maksājuma anulēšana\")","v":0},{"$f":"SUMIFS(Transakcijas!$R:$R,Transakcijas!$Q:$Q,$B$127,Transakcijas!$T:$T,YEAR($B138),Transakcijas!$U:$U,RIGHT(\"0\"&MONTH($B138),2),Transakcijas!$K:$K,\"FIFO savstarpējā segšana\")\n+SUMIFS(Transakcijas!$R:$R,Transakcijas!$Q:$Q,$B$127,Transakcijas!$T:$T,YEAR($B138),Transakcijas!$U:$U,RIGHT(\"0\"&MONTH($B138),2),Transakcijas!$D:$D,\"Aprēķins\",Transakcijas!$K:$K,\"Iemaksas atbrīvošana\")","v":0},{"$f":"SUMIFS(Transakcijas!$R:$R,Transakcijas!$Q:$Q,$B$127,Transakcijas!$T:$T,YEAR($B138),Transakcijas!$U:$U,RIGHT(\"0\"&MONTH($B138),2))-SUM(D138:K138)","v":0},0,{"$f":"ROUND(SUMIFS(Transakcijas!$R:$R,Transakcijas!$Q:$Q,$B$127,Transakcijas!$S:$S,\"<=\"&$B138,Transakcijas!$H:$H,\"Pamatsumma\"),2)","v":0},{"$f":"ROUND(SUMIFS(Transakcijas!$R:$R,Transakcijas!$Q:$Q,$B$127,Transakcijas!$S:$S,\"<=\"&$B138,Transakcijas!$H:$H,\"Nokavējuma nauda\"),2)","v":0},{"$f":"ROUND(SUMIFS(Transakcijas!$R:$R,Transakcijas!$Q:$Q,$B$127,Transakcijas!$S:$S,\"<=\"&$B138,Transakcijas!$H:$H,\"Soda nauda\"),2)","v":0},null,{"$f":"B127","v":"MUN"},"2024-11-30",null,0,null,null,0]
[null,"2024-12-31",0,{"$f":"SUMIFS(Transakcijas!$R:$R,Transakcijas!$Q:$Q,$B$127,Transakcijas!$T:$T,YEAR($B139),Transakcijas!$U:$U,RIGHT(\"0\"&MONTH($B139),2),Transakcijas!$D:$D,\"Aprēķins\",Transakcijas!$H:$H,\"Pamatsumma\",Transakcijas!$K:$K,\"<>\"&\"FIFO*\",Transakcijas!$K:$K,\"<>\"&\"Iemaksas atbrīvošana\")","v":0},null,null,{"$f":"SUMIFS(Transakcijas!$R:$R,Transakcijas!$Q:$Q,$B$127,Transakcijas!$T:$T,YEAR($B139),Transakcijas!$U:$U,RIGHT(\"0\"&MONTH($B139),2),Transakcijas!$D:$D,\"Aprēķins\",Transakcijas!$H:$H,\"Nokavējuma nauda\",Transakcijas!$K:$K,\"<>\"&\"FIFO*\",Transakcijas!$K:$K,\"<>\"&\"Iemaksas atbrīvošana\")","v":0},{"$f":"SUMIFS(Transakcijas!$R:$R,Transakcijas!$Q:$Q,$B$127,Transakcijas!$T:$T,YEAR($B139),Transakcijas!$U:$U,RIGHT(\"0\"&MONTH($B139),2),Transakcijas!$D:$D,\"Aprēķins\",Transakcijas!$H:$H,\"Soda nauda\",Transakcijas!$K:$K,\"<>\"&\"FIFO*\",Transakcijas!$K:$K,\"<>\"&\"Iemaksas atbrīvošana\")","v":0},{"$f":"SUMIFS(Transakcijas!$R:$R,Transakcijas!$Q:$Q,$B$127,Transakcijas!$T:$T,YEAR($B139),Transakcijas!$U:$U,RIGHT(\"0\"&MONTH($B139),2),Transakcijas!$D:$D,\"Iemaksa\",Transakcijas!$K:$K,\"<>\"&\"Izejošā maksājuma anulēšana\")\n+SUMIFS(Transakcijas!$R:$R,Transakcijas!$Q:$Q,$B$127,Transakcijas!$T:$T,YEAR($B139),Transakcijas!$U:$U,RIGHT(\"0\"&MONTH($B139),2),Transakcijas!$D:$D,\"Atmaksa\",Transakcijas!$K:$K,\"Iemaksas atbrīvošana\")","v":0},{"$f":"SUMIFS(Transakcijas!$R:$R,Transakcijas!$Q:$Q,$B$127,Transakcijas!$T:$T,YEAR($B139),Transakcijas!$U:$U,RIGHT(\"0\"&MONTH($B139),2),Transakcijas!$D:$D,\"Atmaksa\",Transakcijas!$K:$K,\"<>\"&\"Iemaksas atbrīvošana\")\n+SUMIFS(Transakcijas!$R:$R,Transakcijas!$Q:$Q,$B$127,Transakcijas!$T:$T,YEAR($B139),Transakcijas!$U:$U,RIGHT(\"0\"&MONTH($B139),2),Transakcijas!$D:$D,\"Iemaksa\",Transakcijas!$K:$K,\"Izejošā maksājuma anulēšana\")","v":0},{"$f":"SUMIFS(Transakcijas!$R:$R,Transakcijas!$Q:$Q,$B$127,Transakcijas!$T:$T,YEAR($B139),Transakcijas!$U:$U,RIGHT(\"0\"&MONTH($B139),2),Transakcijas!$K:$K,\"FIFO savstarpējā segšana\")\n+SUMIFS(Transakcijas!$R:$R,Transakcijas!$Q:$Q,$B$127,Transakcijas!$T:$T,YEAR($B139),Transakcijas!$U:$U,RIGHT(\"0\"&MONTH($B139),2),Transakcijas!$D:$D,\"Aprēķins\",Transakcijas!$K:$K,\"Iemaksas atbrīvošana\")","v":0},{"$f":"SUMIFS(Transakcijas!$R:$R,Transakcijas!$Q:$Q,$B$127,Transakcijas!$T:$T,YEAR($B139),Transakcijas!$U:$U,RIGHT(\"0\"&MONTH($B139),2))-SUM(D139:K139)","v":0},0,{"$f":"ROUND(SUMIFS(Transakcijas!$R:$R,Transakcijas!$Q:$Q,$B$127,Transakcijas!$S:$S,\"<=\"&$B139,Transakcijas!$H:$H,\"Pamatsumma\"),2)","v":0},{"$f":"ROUND(SUMIFS(Transakcijas!$R:$R,Transakcijas!$Q:$Q,$B$127,Transakcijas!$S:$S,\"<=\"&$B139,Transakcijas!$H:$H,\"Nokavējuma nauda\"),2)","v":0},{"$f":"ROUND(SUMIFS(Transakcijas!$R:$R,Transakcijas!$Q:$Q,$B$127,Transakcijas!$S:$S,\"<=\"&$B139,Transakcijas!$H:$H,\"Soda nauda\"),2)","v":0},null,{"$f":"B127","v":"MUN"},"2024-12-31",null,0,null,null,0]
[null,"Kopā",{"$f":"C128","v":0},{"$f":"SUM(D128:D139)","v":0},null,null,{"$f":"SUM(G128:G139)","v":0},0,0,0,0,0,0]
[]
[null,{"$f":"B14","v":"Soda naudas"},"Atlikums uz perioda sākumu",{"$f":"D$4","v":"Aprēķināts"},{"$f":"E$4","v":"Ieturēts IIN\nMin. VSAOI"},"Apr.nerezid.\nUniv.IF VSAOI","Aprēķināta nokav. nauda  ","Aprēķināta\n soda nauda  ","Samaksāts\nAtbrīvots","Atmaksāts","Pārvietots \n(Savst.segš.)","Cita \nkustība","Atlikums uz perioda beigām","Pamat-\nsumma","Nokav. \nnauda  ","Soda \nnauda  "]
[null,{"$f":"DATE(YEAR($C$4),MONTH($C$4)+1,0)","v":"2024-01-31"},{"$f":"C14","v":0},{"$f":"SUMIFS(Transakcijas!$R:$R,Transakcijas!$Q:$Q,$B$142,Transakcijas!$T:$T,YEAR($B143),Transakcijas!$U:$U,RIGHT(\"0\"&MONTH($B143),2),Transakcijas!$D:$D,\"Aprēķins\",Transakcijas!$H:$H,\"Pamatsumma\",Transakcijas!$K:$K,\"<>\"&\"FIFO*\",Transakcijas!$K:$K,\"<>\"&\"Iemaksas atbrīvošana\")","v":0},null,null,{"$f":"SUMIFS(Transakcijas!$R:$R,Transakcijas!$Q:$Q,$B$142,Transakcijas!$T:$T,YEAR($B143),Transakcijas!$U:$U,RIGHT(\"0\"&MONTH($B143),2),Transakcijas!$D:$D,\"Aprēķins\",Transakcijas!$H:$H,\"Nokavējuma nauda\",Transakcijas!$K:$K,\"<>\"&\"FIFO*\",Transakcijas!$K:$K,\"<>\"&\"Iemaksas atbrīvošana\")","v":0},{"$f":"SUMIFS(Transakcijas!$R:$R,Transakcijas!$Q:$Q,$B$142,Transakcijas!$T:$T,YEAR($B143),Transakcijas!$U:$U,RIGHT(\"0\"&MONTH($B143),2),Transakcijas!$D:$D,\"Aprēķins\",Transakcijas!$H:$H,\"Soda nauda\",Transakcijas!$K:$K,\"<>\"&\"FIFO*\",Transakcijas!$K:$K,\"<>\"&\"Iemaksas atbrīvošana\")","v":0},{"$f":"SUMIFS(Transakcijas!$R:$R,Transakcijas!$Q:$Q,$B$142,Transakcijas!$T:$T,YEAR($B143),Transakcijas!$U:$U,RIGHT(\"0\"&MONTH($B143),2),Transakcijas!$D:$D,\"Iemaksa\",Transakcijas!$K:$K,\"<>\"&\"Izejošā maksājuma anulēšana\")\n+SUMIFS(Transakcijas!$R:$R,Transakcijas!$Q:$Q,$B$142,Transakcijas!$T:$T,YEAR($B143),Transakcijas!$U:$U,RIGHT(\"0\"&MONTH($B143),2),Transakcijas!$D:$D,\"Atmaksa\",Transakcijas!$K:$K,\"Iemaksas atbrīvošana\")","v":0},{"$f":"SUMIFS(Transakcijas!$R:$R,Transakcijas!$Q:$Q,$B$142,Transakcijas!$T:$T,YEAR($B143),Transakcijas!$U:$U,RIGHT(\"0\"&MONTH($B143),2),Transakcijas!$D:$D,\"Atmaksa\",Transakcijas!$K:$K,\"<>\"&\"Iemaksas atbrīvošana\")\n+SUMIFS(Transakcijas!$R:$R,Transakcijas!$Q:$Q,$B$142,Transakcijas!$T:$T,YEAR($B143),Transakcijas!$U:$U,RIGHT(\"0\"&MONTH($B143),2),Transakcijas!$D:$D,\"Iemaksa\",Transakcijas!$K:$K,\"Izejošā maksājuma anulēšana\")","v":0},{"$f":"SUMIFS(Transakcijas!$R:$R,Transakcijas!$Q:$Q,$B$142,Transakcijas!$T:$T,YEAR($B143),Transakcijas!$U:$U,RIGHT(\"0\"&MONTH($B143),2),Transakcijas!$K:$K,\"FIFO savstarpējā segšana\")\n+SUMIFS(Transakcijas!$R:$R,Transakcijas!$Q:$Q,$B$142,Transakcijas!$T:$T,YEAR($B143),Transakcijas!$U:$U,RIGHT(\"0\"&MONTH($B143),2),Transakcijas!$D:$D,\"Aprēķins\",Transakcijas!$K:$K,\"Iemaksas atbrīvošana\")","v":0},{"$f":"SUMIFS(Transakcijas!$R:$R,Transakcijas!$Q:$Q,$B$142,Transakcijas!$T:$T,YEAR($B143),Transakcijas!$U:$U,RIGHT(\"0\"&MONTH($B143),2))-SUM(D143:K143)","v":0},{"$f":"SUM(C143:L143)","v":0},{"$f":"ROUND(SUMIFS(Transakcijas!$R:$R,Transakcijas!$Q:$Q,$B$142,Transakcijas!$S:$S,\"<=\"&$B143,Transakcijas!$H:$H,\"Pamatsumma\"),2)","v":0},{"$f":"ROUND(SUMIFS(Transakcijas!$R:$R,Transakcijas!$Q:$Q,$B$142,Transakcijas!$S:$S,\"<=\"&$B143,Transakcijas!$H:$H,\"Nokavējuma nauda\"),2)","v":0},{"$f":"ROUND(SUMIFS(Transakcijas!$R:$R,Transakcijas!$Q:$Q,$B$142,Transakcijas!$S:$S,\"<=\"&$B143,Transakcijas!$H:$H,\"Soda nauda\"),2)","v":0},null,{"$f":"B142","v":"Soda naudas"},{"$f":"B143","v":"2024-01-31"},null,{"$f":"SUM(D143:F143)+T143","v":0},null,null,{"$f":"IF(W143<>\"\",M143+W143,0)","v":0}]
[null,{"$f":"IF(IF(B143=\"\",$M$4+1,DATE(YEAR(B143),MONTH(B143)+2,0))<=$M$4,DATE(YEAR(B143),MONTH(B143)+2,0),\"\")","v":"2024-02-29"},{"$f":"IF(B144=\"\",0,M143)","v":0},{"$f":"SUMIFS(Transakcijas!$R:$R,Transakcijas!$Q:$Q,$B$142,Transakcijas!$T:$T,YEAR($B144),Transakcijas!$U:$U,RIGHT(\"0\"&MONTH($B144),2),Transakcijas!$D:$D,\"Aprēķins\",Transakcijas!$H:$H,\"Pamatsumma\",Transakcijas!$K:$K,\"<>\"&\"FIFO*\",Transakcijas!$K:$K,\"<>\"&\"Iemaksas atbrīvošana\")","v":0},null,null,{"$f":"SUMIFS(Transakcijas!$R:$R,Transakcijas!$Q:$Q,$B$142,Transakcijas!$T:$T,YEAR($B144),Transakcijas!$U:$U,RIGHT(\"0\"&MONTH($B144),2),Transakcijas!$D:$D,\"Aprēķins\",Transakcijas!$H:$H,\"Nokavējuma nauda\",Transakcijas!$K:$K,\"<>\"&\"FIFO*\",Transakcijas!$K:$K,\"<>\"&\"Iemaksas atbrīvošana\")","v":0},{"$f":"SUMIFS(Transakcijas!$R:$R,Transakcijas!$Q:$Q,$B$142,Transakcijas!$T:$T,YEAR($B144),Transakcijas!$U:$U,RIGHT(\"0\"&MONTH($B144),2),Transakcijas!$D:$D,\"Aprēķins\",Transakcijas!$H:$H,\"Soda nauda\",Transakcijas!$K:$K,\"<>\"&\"FIFO*\",Transakcijas!$K:$K,\"<>\"&\"Iemaksas atbrīvošana\")","v":0},{"$f":"SUMIFS(Transakcijas!$R:$R,Transakcijas!$Q:$Q,$B$142,Transakcijas!$T:$T,YEAR($B144),Transakcijas!$U:$U,RIGHT(\"0\"&MONTH($B144),2),Transakcijas!$D:$D,\"Iemaksa\",Transakcijas!$K:$K,\"<>\"&\"Izejošā maksājuma anulēšana\")\n+SUMIFS(Transakcijas!$R:$R,Transakcijas!$Q:$Q,$B$142,Transakcijas!$T:$T,YEAR($B144),Transakcijas!$U:$U,RIGHT(\"0\"&MONTH($B144),2),Transakcijas!$D:$D,\"Atmaksa\",Transakcijas!$K:$K,\"Iemaksas atbrīvošana\")","v":0},{"$f":"SUMIFS(Transakcijas!$R:$R,Transakcijas!$Q:$Q,$B$142,Transakcijas!$T:$T,YEAR($B144),Transakcijas!$U:$U,RIGHT(\"0\"&MONTH($B144),2),Transakcijas!$D:$D,\"Atmaksa\",Transakcijas!$K:$K,\"<>\"&\"Iemaksas atbrīvošana\")\n+SUMIFS(Transakcijas!$R:$R,Transakcijas!$Q:$Q,$B$142,Transakcijas!$T:$T,YEAR($B144),Transakcijas!$U:$U,RIGHT(\"0\"&MONTH($B144),2),Transakcijas!$D:$D,\"Iemaksa\",Transakcijas!$K:$K,\"Izejošā maksājuma anulēšana\")","v":0},{"$f":"SUMIFS(Transakcijas!$R:$R,Transakcijas!$Q:$Q,$B$142,Transakcijas!$T:$T,YEAR($B144),Transakcijas!$U:$U,RIGHT(\"0\"&MONTH($B144),2),Transakcijas!$K:$K,\"FIFO savstarpējā segšana\")\n+SUMIFS(Transakcijas!$R:$R,Transakcijas!$Q:$Q,$B$142,Transakcijas!$T:$T,YEAR($B144),Transakcijas!$U:$U,RIGHT(\"0\"&MONTH($B144),2),Transakcijas!$D:$D,\"Aprēķins\",Transakcijas!$K:$K,\"Iemaksas atbrīvošana\")","v":0},{"$f":"SUMIFS(Transakcijas!$R:$R,Transakcijas!$Q:$Q,$B$142,Transakcijas!$T:$T,YEAR($B144),Transakcijas!$U:$U,RIGHT(\"0\"&MONTH($B144),2))-SUM(D144:K144)","v":0},0,{"$f":"ROUND(SUMIFS(Transakcijas!$R:$R,Transakcijas!$Q:$Q,$B$142,Transakcijas!$S:$S,\"<=\"&$B144,Transakcijas!$H:$H,\"Pamatsumma\"),2)","v":0},{"$f":"ROUND(SUMIFS(Transakcijas!$R:$R,Transakcijas!$Q:$Q,$B$142,Transakcijas!$S:$S,\"<=\"&$B144,Transakcijas!$H:$H,\"Nokavējuma nauda\"),2)","v":0},{"$f":"ROUND(SUMIFS(Transakcijas!$R:$R,Transakcijas!$Q:$Q,$B$142,Transakcijas!$S:$S,\"<=\"&$B144,Transakcijas!$H:$H,\"Soda nauda\"),2)","v":0},null,{"$f":"B142","v":"Soda naudas"},{"$f":"B144","v":"2024-02-29"},null,0,null,null,0]
[null,"2024-03-31",0,{"$f":"SUMIFS(Transakcijas!$R:$R,Transakcijas!$Q:$Q,$B$142,Transakcijas!$T:$T,YEAR($B145),Transakcijas!$U:$U,RIGHT(\"0\"&MONTH($B145),2),Transakcijas!$D:$D,\"Aprēķins\",Transakcijas!$H:$H,\"Pamatsumma\",Transakcijas!$K:$K,\"<>\"&\"FIFO*\",Transakcijas!$K:$K,\"<>\"&\"Iemaksas atbrīvošana\")","v":0},null,null,{"$f":"SUMIFS(Transakcijas!$R:$R,Transakcijas!$Q:$Q,$B$142,Transakcijas!$T:$T,YEAR($B145),Transakcijas!$U:$U,RIGHT(\"0\"&MONTH($B145),2),Transakcijas!$D:$D,\"Aprēķins\",Transakcijas!$H:$H,\"Nokavējuma nauda\",Transakcijas!$K:$K,\"<>\"&\"FIFO*\",Transakcijas!$K:$K,\"<>\"&\"Iemaksas atbrīvošana\")","v":0},{"$f":"SUMIFS(Transakcijas!$R:$R,Transakcijas!$Q:$Q,$B$142,Transakcijas!$T:$T,YEAR($B145),Transakcijas!$U:$U,RIGHT(\"0\"&MONTH($B145),2),Transakcijas!$D:$D,\"Aprēķins\",Transakcijas!$H:$H,\"Soda nauda\",Transakcijas!$K:$K,\"<>\"&\"FIFO*\",Transakcijas!$K:$K,\"<>\"&\"Iemaksas atbrīvošana\")","v":0},{"$f":"SUMIFS(Transakcijas!$R:$R,Transakcijas!$Q:$Q,$B$142,Transakcijas!$T:$T,YEAR($B145),Transakcijas!$U:$U,RIGHT(\"0\"&MONTH($B145),2),Transakcijas!$D:$D,\"Iemaksa\",Transakcijas!$K:$K,\"<>\"&\"Izejošā maksājuma anulēšana\")\n+SUMIFS(Transakcijas!$R:$R,Transakcijas!$Q:$Q,$B$142,Transakcijas!$T:$T,YEAR($B145),Transakcijas!$U:$U,RIGHT(\"0\"&MONTH($B145),2),Transakcijas!$D:$D,\"Atmaksa\",Transakcijas!$K:$K,\"Iemaksas atbrīvošana\")","v":0},{"$f":"SUMIFS(Transakcijas!$R:$R,Transakcijas!$Q:$Q,$B$142,Transakcijas!$T:$T,YEAR($B145),Transakcijas!$U:$U,RIGHT(\"0\"&MONTH($B145),2),Transakcijas!$D:$D,\"Atmaksa\",Transakcijas!$K:$K,\"<>\"&\"Iemaksas atbrīvošana\")\n+SUMIFS(Transakcijas!$R:$R,Transakcijas!$Q:$Q,$B$142,Transakcijas!$T:$T,YEAR($B145),Transakcijas!$U:$U,RIGHT(\"0\"&MONTH($B145),2),Transakcijas!$D:$D,\"Iemaksa\",Transakcijas!$K:$K,\"Izejošā maksājuma anulēšana\")","v":0},{"$f":"SUMIFS(Transakcijas!$R:$R,Transakcijas!$Q:$Q,$B$142,Transakcijas!$T:$T,YEAR($B145),Transakcijas!$U:$U,RIGHT(\"0\"&MONTH($B145),2),Transakcijas!$K:$K,\"FIFO savstarpējā segšana\")\n+SUMIFS(Transakcijas!$R:$R,Transakcijas!$Q:$Q,$B$142,Transakcijas!$T:$T,YEAR($B145),Transakcijas!$U:$U,RIGHT(\"0\"&MONTH($B145),2),Transakcijas!$D:$D,\"Aprēķins\",Transakcijas!$K:$K,\"Iemaksas atbrīvošana\")","v":0},{"$f":"SUMIFS(Transakcijas!$R:$R,Transakcijas!$Q:$Q,$B$142,Transakcijas!$T:$T,YEAR($B145),Transakcijas!$U:$U,RIGHT(\"0\"&MONTH($B145),2))-SUM(D145:K145)","v":0},0,{"$f":"ROUND(SUMIFS(Transakcijas!$R:$R,Transakcijas!$Q:$Q,$B$142,Transakcijas!$S:$S,\"<=\"&$B145,Transakcijas!$H:$H,\"Pamatsumma\"),2)","v":0},{"$f":"ROUND(SUMIFS(Transakcijas!$R:$R,Transakcijas!$Q:$Q,$B$142,Transakcijas!$S:$S,\"<=\"&$B145,Transakcijas!$H:$H,\"Nokavējuma nauda\"),2)","v":0},{"$f":"ROUND(SUMIFS(Transakcijas!$R:$R,Transakcijas!$Q:$Q,$B$142,Transakcijas!$S:$S,\"<=\"&$B145,Transakcijas!$H:$H,\"Soda nauda\"),2)","v":0},null,{"$f":"B142","v":"Soda naudas"},"2024-03-31",null,0,null,null,0]
[null,"2024-04-30",0,{"$f":"SUMIFS(Transakcijas!$R:$R,Transakcijas!$Q:$Q,$B$142,Transakcijas!$T:$T,YEAR($B146),Transakcijas!$U:$U,RIGHT(\"0\"&MONTH($B146),2),Transakcijas!$D:$D,\"Aprēķins\",Transakcijas!$H:$H,\"Pamatsumma\",Transakcijas!$K:$K,\"<>\"&\"FIFO*\",Transakcijas!$K:$K,\"<>\"&\"Iemaksas atbrīvošana\")","v":0},null,null,{"$f":"SUMIFS(Transakcijas!$R:$R,Transakcijas!$Q:$Q,$B$142,Transakcijas!$T:$T,YEAR($B146),Transakcijas!$U:$U,RIGHT(\"0\"&MONTH($B146),2),Transakcijas!$D:$D,\"Aprēķins\",Transakcijas!$H:$H,\"Nokavējuma nauda\",Transakcijas!$K:$K,\"<>\"&\"FIFO*\",Transakcijas!$K:$K,\"<>\"&\"Iemaksas atbrīvošana\")","v":0},{"$f":"SUMIFS(Transakcijas!$R:$R,Transakcijas!$Q:$Q,$B$142,Transakcijas!$T:$T,YEAR($B146),Transakcijas!$U:$U,RIGHT(\"0\"&MONTH($B146),2),Transakcijas!$D:$D,\"Aprēķins\",Transakcijas!$H:$H,\"Soda nauda\",Transakcijas!$K:$K,\"<>\"&\"FIFO*\",Transakcijas!$K:$K,\"<>\"&\"Iemaksas atbrīvošana\")","v":0},{"$f":"SUMIFS(Transakcijas!$R:$R,Transakcijas!$Q:$Q,$B$142,Transakcijas!$T:$T,YEAR($B146),Transakcijas!$U:$U,RIGHT(\"0\"&MONTH($B146),2),Transakcijas!$D:$D,\"Iemaksa\",Transakcijas!$K:$K,\"<>\"&\"Izejošā maksājuma anulēšana\")\n+SUMIFS(Transakcijas!$R:$R,Transakcijas!$Q:$Q,$B$142,Transakcijas!$T:$T,YEAR($B146),Transakcijas!$U:$U,RIGHT(\"0\"&MONTH($B146),2),Transakcijas!$D:$D,\"Atmaksa\",Transakcijas!$K:$K,\"Iemaksas atbrīvošana\")","v":0},{"$f":"SUMIFS(Transakcijas!$R:$R,Transakcijas!$Q:$Q,$B$142,Transakcijas!$T:$T,YEAR($B146),Transakcijas!$U:$U,RIGHT(\"0\"&MONTH($B146),2),Transakcijas!$D:$D,\"Atmaksa\",Transakcijas!$K:$K,\"<>\"&\"Iemaksas atbrīvošana\")\n+SUMIFS(Transakcijas!$R:$R,Transakcijas!$Q:$Q,$B$142,Transakcijas!$T:$T,YEAR($B146),Transakcijas!$U:$U,RIGHT(\"0\"&MONTH($B146),2),Transakcijas!$D:$D,\"Iemaksa\",Transakcijas!$K:$K,\"Izejošā maksājuma anulēšana\")","v":0},{"$f":"SUMIFS(Transakcijas!$R:$R,Transakcijas!$Q:$Q,$B$142,Transakcijas!$T:$T,YEAR($B146),Transakcijas!$U:$U,RIGHT(\"0\"&MONTH($B146),2),Transakcijas!$K:$K,\"FIFO savstarpējā segšana\")\n+SUMIFS(Transakcijas!$R:$R,Transakcijas!$Q:$Q,$B$142,Transakcijas!$T:$T,YEAR($B146),Transakcijas!$U:$U,RIGHT(\"0\"&MONTH($B146),2),Transakcijas!$D:$D,\"Aprēķins\",Transakcijas!$K:$K,\"Iemaksas atbrīvošana\")","v":0},{"$f":"SUMIFS(Transakcijas!$R:$R,Transakcijas!$Q:$Q,$B$142,Transakcijas!$T:$T,YEAR($B146),Transakcijas!$U:$U,RIGHT(\"0\"&MONTH($B146),2))-SUM(D146:K146)","v":0},0,{"$f":"ROUND(SUMIFS(Transakcijas!$R:$R,Transakcijas!$Q:$Q,$B$142,Transakcijas!$S:$S,\"<=\"&$B146,Transakcijas!$H:$H,\"Pamatsumma\"),2)","v":0},{"$f":"ROUND(SUMIFS(Transakcijas!$R:$R,Transakcijas!$Q:$Q,$B$142,Transakcijas!$S:$S,\"<=\"&$B146,Transakcijas!$H:$H,\"Nokavējuma nauda\"),2)","v":0},{"$f":"ROUND(SUMIFS(Transakcijas!$R:$R,Transakcijas!$Q:$Q,$B$142,Transakcijas!$S:$S,\"<=\"&$B146,Transakcijas!$H:$H,\"Soda nauda\"),2)","v":0},null,{"$f":"B142","v":"Soda naudas"},"2024-04-30",null,0,null,null,0]
[null,"2024-05-31",0,{"$f":"SUMIFS(Transakcijas!$R:$R,Transakcijas!$Q:$Q,$B$142,Transakcijas!$T:$T,YEAR($B147),Transakcijas!$U:$U,RIGHT(\"0\"&MONTH($B147),2),Transakcijas!$D:$D,\"Aprēķins\",Transakcijas!$H:$H,\"Pamatsumma\",Transakcijas!$K:$K,\"<>\"&\"FIFO*\",Transakcijas!$K:$K,\"<>\"&\"Iemaksas atbrīvošana\")","v":0},null,null,{"$f":"SUMIFS(Transakcijas!$R:$R,Transakcijas!$Q:$Q,$B$142,Transakcijas!$T:$T,YEAR($B147),Transakcijas!$U:$U,RIGHT(\"0\"&MONTH($B147),2),Transakcijas!$D:$D,\"Aprēķins\",Transakcijas!$H:$H,\"Nokavējuma nauda\",Transakcijas!$K:$K,\"<>\"&\"FIFO*\",Transakcijas!$K:$K,\"<>\"&\"Iemaksas atbrīvošana\")","v":0},{"$f":"SUMIFS(Transakcijas!$R:$R,Transakcijas!$Q:$Q,$B$142,Transakcijas!$T:$T,YEAR($B147),Transakcijas!$U:$U,RIGHT(\"0\"&MONTH($B147),2),Transakcijas!$D:$D,\"Aprēķins\",Transakcijas!$H:$H,\"Soda nauda\",Transakcijas!$K:$K,\"<>\"&\"FIFO*\",Transakcijas!$K:$K,\"<>\"&\"Iemaksas atbrīvošana\")","v":0},{"$f":"SUMIFS(Transakcijas!$R:$R,Transakcijas!$Q:$Q,$B$142,Transakcijas!$T:$T,YEAR($B147),Transakcijas!$U:$U,RIGHT(\"0\"&MONTH($B147),2),Transakcijas!$D:$D,\"Iemaksa\",Transakcijas!$K:$K,\"<>\"&\"Izejošā maksājuma anulēšana\")\n+SUMIFS(Transakcijas!$R:$R,Transakcijas!$Q:$Q,$B$142,Transakcijas!$T:$T,YEAR($B147),Transakcijas!$U:$U,RIGHT(\"0\"&MONTH($B147),2),Transakcijas!$D:$D,\"Atmaksa\",Transakcijas!$K:$K,\"Iemaksas atbrīvošana\")","v":0},{"$f":"SUMIFS(Transakcijas!$R:$R,Transakcijas!$Q:$Q,$B$142,Transakcijas!$T:$T,YEAR($B147),Transakcijas!$U:$U,RIGHT(\"0\"&MONTH($B147),2),Transakcijas!$D:$D,\"Atmaksa\",Transakcijas!$K:$K,\"<>\"&\"Iemaksas atbrīvošana\")\n+SUMIFS(Transakcijas!$R:$R,Transakcijas!$Q:$Q,$B$142,Transakcijas!$T:$T,YEAR($B147),Transakcijas!$U:$U,RIGHT(\"0\"&MONTH($B147),2),Transakcijas!$D:$D,\"Iemaksa\",Transakcijas!$K:$K,\"Izejošā maksājuma anulēšana\")","v":0},{"$f":"SUMIFS(Transakcijas!$R:$R,Transakcijas!$Q:$Q,$B$142,Transakcijas!$T:$T,YEAR($B147),Transakcijas!$U:$U,RIGHT(\"0\"&MONTH($B147),2),Transakcijas!$K:$K,\"FIFO savstarpējā segšana\")\n+SUMIFS(Transakcijas!$R:$R,Transakcijas!$Q:$Q,$B$142,Transakcijas!$T:$T,YEAR($B147),Transakcijas!$U:$U,RIGHT(\"0\"&MONTH($B147),2),Transakcijas!$D:$D,\"Aprēķins\",Transakcijas!$K:$K,\"Iemaksas atbrīvošana\")","v":0},{"$f":"SUMIFS(Transakcijas!$R:$R,Transakcijas!$Q:$Q,$B$142,Transakcijas!$T:$T,YEAR($B147),Transakcijas!$U:$U,RIGHT(\"0\"&MONTH($B147),2))-SUM(D147:K147)","v":0},0,{"$f":"ROUND(SUMIFS(Transakcijas!$R:$R,Transakcijas!$Q:$Q,$B$142,Transakcijas!$S:$S,\"<=\"&$B147,Transakcijas!$H:$H,\"Pamatsumma\"),2)","v":0},{"$f":"ROUND(SUMIFS(Transakcijas!$R:$R,Transakcijas!$Q:$Q,$B$142,Transakcijas!$S:$S,\"<=\"&$B147,Transakcijas!$H:$H,\"Nokavējuma nauda\"),2)","v":0},{"$f":"ROUND(SUMIFS(Transakcijas!$R:$R,Transakcijas!$Q:$Q,$B$142,Transakcijas!$S:$S,\"<=\"&$B147,Transakcijas!$H:$H,\"Soda nauda\"),2)","v":0},null,{"$f":"B142","v":"Soda naudas"},"2024-05-31",null,0,null,null,0]
[null,"2024-06-30",0,{"$f":"SUMIFS(Transakcijas!$R:$R,Transakcijas!$Q:$Q,$B$142,Transakcijas!$T:$T,YEAR($B148),Transakcijas!$U:$U,RIGHT(\"0\"&MONTH($B148),2),Transakcijas!$D:$D,\"Aprēķins\",Transakcijas!$H:$H,\"Pamatsumma\",Transakcijas!$K:$K,\"<>\"&\"FIFO*\",Transakcijas!$K:$K,\"<>\"&\"Iemaksas atbrīvošana\")","v":0},null,null,{"$f":"SUMIFS(Transakcijas!$R:$R,Transakcijas!$Q:$Q,$B$142,Transakcijas!$T:$T,YEAR($B148),Transakcijas!$U:$U,RIGHT(\"0\"&MONTH($B148),2),Transakcijas!$D:$D,\"Aprēķins\",Transakcijas!$H:$H,\"Nokavējuma nauda\",Transakcijas!$K:$K,\"<>\"&\"FIFO*\",Transakcijas!$K:$K,\"<>\"&\"Iemaksas atbrīvošana\")","v":0},{"$f":"SUMIFS(Transakcijas!$R:$R,Transakcijas!$Q:$Q,$B$142,Transakcijas!$T:$T,YEAR($B148),Transakcijas!$U:$U,RIGHT(\"0\"&MONTH($B148),2),Transakcijas!$D:$D,\"Aprēķins\",Transakcijas!$H:$H,\"Soda nauda\",Transakcijas!$K:$K,\"<>\"&\"FIFO*\",Transakcijas!$K:$K,\"<>\"&\"Iemaksas atbrīvošana\")","v":0},{"$f":"SUMIFS(Transakcijas!$R:$R,Transakcijas!$Q:$Q,$B$142,Transakcijas!$T:$T,YEAR($B148),Transakcijas!$U:$U,RIGHT(\"0\"&MONTH($B148),2),Transakcijas!$D:$D,\"Iemaksa\",Transakcijas!$K:$K,\"<>\"&\"Izejošā maksājuma anulēšana\")\n+SUMIFS(Transakcijas!$R:$R,Transakcijas!$Q:$Q,$B$142,Transakcijas!$T:$T,YEAR($B148),Transakcijas!$U:$U,RIGHT(\"0\"&MONTH($B148),2),Transakcijas!$D:$D,\"Atmaksa\",Transakcijas!$K:$K,\"Iemaksas atbrīvošana\")","v":0},{"$f":"SUMIFS(Transakcijas!$R:$R,Transakcijas!$Q:$Q,$B$142,Transakcijas!$T:$T,YEAR($B148),Transakcijas!$U:$U,RIGHT(\"0\"&MONTH($B148),2),Transakcijas!$D:$D,\"Atmaksa\",Transakcijas!$K:$K,\"<>\"&\"Iemaksas atbrīvošana\")\n+SUMIFS(Transakcijas!$R:$R,Transakcijas!$Q:$Q,$B$142,Transakcijas!$T:$T,YEAR($B148),Transakcijas!$U:$U,RIGHT(\"0\"&MONTH($B148),2),Transakcijas!$D:$D,\"Iemaksa\",Transakcijas!$K:$K,\"Izejošā maksājuma anulēšana\")","v":0},{"$f":"SUMIFS(Transakcijas!$R:$R,Transakcijas!$Q:$Q,$B$142,Transakcijas!$T:$T,YEAR($B148),Transakcijas!$U:$U,RIGHT(\"0\"&MONTH($B148),2),Transakcijas!$K:$K,\"FIFO savstarpējā segšana\")\n+SUMIFS(Transakcijas!$R:$R,Transakcijas!$Q:$Q,$B$142,Transakcijas!$T:$T,YEAR($B148),Transakcijas!$U:$U,RIGHT(\"0\"&MONTH($B148),2),Transakcijas!$D:$D,\"Aprēķins\",Transakcijas!$K:$K,\"Iemaksas atbrīvošana\")","v":0},{"$f":"SUMIFS(Transakcijas!$R:$R,Transakcijas!$Q:$Q,$B$142,Transakcijas!$T:$T,YEAR($B148),Transakcijas!$U:$U,RIGHT(\"0\"&MONTH($B148),2))-SUM(D148:K148)","v":0},0,{"$f":"ROUND(SUMIFS(Transakcijas!$R:$R,Transakcijas!$Q:$Q,$B$142,Transakcijas!$S:$S,\"<=\"&$B148,Transakcijas!$H:$H,\"Pamatsumma\"),2)","v":0},{"$f":"ROUND(SUMIFS(Transakcijas!$R:$R,Transakcijas!$Q:$Q,$B$142,Transakcijas!$S:$S,\"<=\"&$B148,Transakcijas!$H:$H,\"Nokavējuma nauda\"),2)","v":0},{"$f":"ROUND(SUMIFS(Transakcijas!$R:$R,Transakcijas!$Q:$Q,$B$142,Transakcijas!$S:$S,\"<=\"&$B148,Transakcijas!$H:$H,\"Soda nauda\"),2)","v":0},null,{"$f":"B142","v":"Soda naudas"},"2024-06-30",null,0,null,null,0]
[null,"2024-07-31",0,{"$f":"SUMIFS(Transakcijas!$R:$R,Transakcijas!$Q:$Q,$B$142,Transakcijas!$T:$T,YEAR($B149),Transakcijas!$U:$U,RIGHT(\"0\"&MONTH($B149),2),Transakcijas!$D:$D,\"Aprēķins\",Transakcijas!$H:$H,\"Pamatsumma\",Transakcijas!$K:$K,\"<>\"&\"FIFO*\",Transakcijas!$K:$K,\"<>\"&\"Iemaksas atbrīvošana\")","v":0},null,null,{"$f":"SUMIFS(Transakcijas!$R:$R,Transakcijas!$Q:$Q,$B$142,Transakcijas!$T:$T,YEAR($B149),Transakcijas!$U:$U,RIGHT(\"0\"&MONTH($B149),2),Transakcijas!$D:$D,\"Aprēķins\",Transakcijas!$H:$H,\"Nokavējuma nauda\",Transakcijas!$K:$K,\"<>\"&\"FIFO*\",Transakcijas!$K:$K,\"<>\"&\"Iemaksas atbrīvošana\")","v":0},{"$f":"SUMIFS(Transakcijas!$R:$R,Transakcijas!$Q:$Q,$B$142,Transakcijas!$T:$T,YEAR($B149),Transakcijas!$U:$U,RIGHT(\"0\"&MONTH($B149),2),Transakcijas!$D:$D,\"Aprēķins\",Transakcijas!$H:$H,\"Soda nauda\",Transakcijas!$K:$K,\"<>\"&\"FIFO*\",Transakcijas!$K:$K,\"<>\"&\"Iemaksas atbrīvošana\")","v":0},{"$f":"SUMIFS(Transakcijas!$R:$R,Transakcijas!$Q:$Q,$B$142,Transakcijas!$T:$T,YEAR($B149),Transakcijas!$U:$U,RIGHT(\"0\"&MONTH($B149),2),Transakcijas!$D:$D,\"Iemaksa\",Transakcijas!$K:$K,\"<>\"&\"Izejošā maksājuma anulēšana\")\n+SUMIFS(Transakcijas!$R:$R,Transakcijas!$Q:$Q,$B$142,Transakcijas!$T:$T,YEAR($B149),Transakcijas!$U:$U,RIGHT(\"0\"&MONTH($B149),2),Transakcijas!$D:$D,\"Atmaksa\",Transakcijas!$K:$K,\"Iemaksas atbrīvošana\")","v":0},{"$f":"SUMIFS(Transakcijas!$R:$R,Transakcijas!$Q:$Q,$B$142,Transakcijas!$T:$T,YEAR($B149),Transakcijas!$U:$U,RIGHT(\"0\"&MONTH($B149),2),Transakcijas!$D:$D,\"Atmaksa\",Transakcijas!$K:$K,\"<>\"&\"Iemaksas atbrīvošana\")\n+SUMIFS(Transakcijas!$R:$R,Transakcijas!$Q:$Q,$B$142,Transakcijas!$T:$T,YEAR($B149),Transakcijas!$U:$U,RIGHT(\"0\"&MONTH($B149),2),Transakcijas!$D:$D,\"Iemaksa\",Transakcijas!$K:$K,\"Izejošā maksājuma anulēšana\")","v":0},{"$f":"SUMIFS(Transakcijas!$R:$R,Transakcijas!$Q:$Q,$B$142,Transakcijas!$T:$T,YEAR($B149),Transakcijas!$U:$U,RIGHT(\"0\"&MONTH($B149),2),Transakcijas!$K:$K,\"FIFO savstarpējā segšana\")\n+SUMIFS(Transakcijas!$R:$R,Transakcijas!$Q:$Q,$B$142,Transakcijas!$T:$T,YEAR($B149),Transakcijas!$U:$U,RIGHT(\"0\"&MONTH($B149),2),Transakcijas!$D:$D,\"Aprēķins\",Transakcijas!$K:$K,\"Iemaksas atbrīvošana\")","v":0},{"$f":"SUMIFS(Transakcijas!$R:$R,Transakcijas!$Q:$Q,$B$142,Transakcijas!$T:$T,YEAR($B149),Transakcijas!$U:$U,RIGHT(\"0\"&MONTH($B149),2))-SUM(D149:K149)","v":0},0,{"$f":"ROUND(SUMIFS(Transakcijas!$R:$R,Transakcijas!$Q:$Q,$B$142,Transakcijas!$S:$S,\"<=\"&$B149,Transakcijas!$H:$H,\"Pamatsumma\"),2)","v":0},{"$f":"ROUND(SUMIFS(Transakcijas!$R:$R,Transakcijas!$Q:$Q,$B$142,Transakcijas!$S:$S,\"<=\"&$B149,Transakcijas!$H:$H,\"Nokavējuma nauda\"),2)","v":0},{"$f":"ROUND(SUMIFS(Transakcijas!$R:$R,Transakcijas!$Q:$Q,$B$142,Transakcijas!$S:$S,\"<=\"&$B149,Transakcijas!$H:$H,\"Soda nauda\"),2)","v":0},null,{"$f":"B142","v":"Soda naudas"},"2024-07-31",null,0,null,null,0]
[null,"2024-08-31",0,{"$f":"SUMIFS(Transakcijas!$R:$R,Transakcijas!$Q:$Q,$B$142,Transakcijas!$T:$T,YEAR($B150),Transakcijas!$U:$U,RIGHT(\"0\"&MONTH($B150),2),Transakcijas!$D:$D,\"Aprēķins\",Transakcijas!$H:$H,\"Pamatsumma\",Transakcijas!$K:$K,\"<>\"&\"FIFO*\",Transakcijas!$K:$K,\"<>\"&\"Iemaksas atbrīvošana\")","v":0},null,null,{"$f":"SUMIFS(Transakcijas!$R:$R,Transakcijas!$Q:$Q,$B$142,Transakcijas!$T:$T,YEAR($B150),Transakcijas!$U:$U,RIGHT(\"0\"&MONTH($B150),2),Transakcijas!$D:$D,\"Aprēķins\",Transakcijas!$H:$H,\"Nokavējuma nauda\",Transakcijas!$K:$K,\"<>\"&\"FIFO*\",Transakcijas!$K:$K,\"<>\"&\"Iemaksas atbrīvošana\")","v":0},{"$f":"SUMIFS(Transakcijas!$R:$R,Transakcijas!$Q:$Q,$B$142,Transakcijas!$T:$T,YEAR($B150),Transakcijas!$U:$U,RIGHT(\"0\"&MONTH($B150),2),Transakcijas!$D:$D,\"Aprēķins\",Transakcijas!$H:$H,\"Soda nauda\",Transakcijas!$K:$K,\"<>\"&\"FIFO*\",Transakcijas!$K:$K,\"<>\"&\"Iemaksas atbrīvošana\")","v":0},{"$f":"SUMIFS(Transakcijas!$R:$R,Transakcijas!$Q:$Q,$B$142,Transakcijas!$T:$T,YEAR($B150),Transakcijas!$U:$U,RIGHT(\"0\"&MONTH($B150),2),Transakcijas!$D:$D,\"Iemaksa\",Transakcijas!$K:$K,\"<>\"&\"Izejošā maksājuma anulēšana\")\n+SUMIFS(Transakcijas!$R:$R,Transakcijas!$Q:$Q,$B$142,Transakcijas!$T:$T,YEAR($B150),Transakcijas!$U:$U,RIGHT(\"0\"&MONTH($B150),2),Transakcijas!$D:$D,\"Atmaksa\",Transakcijas!$K:$K,\"Iemaksas atbrīvošana\")","v":0},{"$f":"SUMIFS(Transakcijas!$R:$R,Transakcijas!$Q:$Q,$B$142,Transakcijas!$T:$T,YEAR($B150),Transakcijas!$U:$U,RIGHT(\"0\"&MONTH($B150),2),Transakcijas!$D:$D,\"Atmaksa\",Transakcijas!$K:$K,\"<>\"&\"Iemaksas atbrīvošana\")\n+SUMIFS(Transakcijas!$R:$R,Transakcijas!$Q:$Q,$B$142,Transakcijas!$T:$T,YEAR($B150),Transakcijas!$U:$U,RIGHT(\"0\"&MONTH($B150),2),Transakcijas!$D:$D,\"Iemaksa\",Transakcijas!$K:$K,\"Izejošā maksājuma anulēšana\")","v":0},{"$f":"SUMIFS(Transakcijas!$R:$R,Transakcijas!$Q:$Q,$B$142,Transakcijas!$T:$T,YEAR($B150),Transakcijas!$U:$U,RIGHT(\"0\"&MONTH($B150),2),Transakcijas!$K:$K,\"FIFO savstarpējā segšana\")\n+SUMIFS(Transakcijas!$R:$R,Transakcijas!$Q:$Q,$B$142,Transakcijas!$T:$T,YEAR($B150),Transakcijas!$U:$U,RIGHT(\"0\"&MONTH($B150),2),Transakcijas!$D:$D,\"Aprēķins\",Transakcijas!$K:$K,\"Iemaksas atbrīvošana\")","v":0},{"$f":"SUMIFS(Transakcijas!$R:$R,Transakcijas!$Q:$Q,$B$142,Transakcijas!$T:$T,YEAR($B150),Transakcijas!$U:$U,RIGHT(\"0\"&MONTH($B150),2))-SUM(D150:K150)","v":0},0,{"$f":"ROUND(SUMIFS(Transakcijas!$R:$R,Transakcijas!$Q:$Q,$B$142,Transakcijas!$S:$S,\"<=\"&$B150,Transakcijas!$H:$H,\"Pamatsumma\"),2)","v":0},{"$f":"ROUND(SUMIFS(Transakcijas!$R:$R,Transakcijas!$Q:$Q,$B$142,Transakcijas!$S:$S,\"<=\"&$B150,Transakcijas!$H:$H,\"Nokavējuma nauda\"),2)","v":0},{"$f":"ROUND(SUMIFS(Transakcijas!$R:$R,Transakcijas!$Q:$Q,$B$142,Transakcijas!$S:$S,\"<=\"&$B150,Transakcijas!$H:$H,\"Soda nauda\"),2)","v":0},null,{"$f":"B142","v":"Soda naudas"},"2024-08-31",null,0,null,null,0]
[null,"2024-09-30",0,{"$f":"SUMIFS(Transakcijas!$R:$R,Transakcijas!$Q:$Q,$B$142,Transakcijas!$T:$T,YEAR($B151),Transakcijas!$U:$U,RIGHT(\"0\"&MONTH($B151),2),Transakcijas!$D:$D,\"Aprēķins\",Transakcijas!$H:$H,\"Pamatsumma\",Transakcijas!$K:$K,\"<>\"&\"FIFO*\",Transakcijas!$K:$K,\"<>\"&\"Iemaksas atbrīvošana\")","v":0},null,null,{"$f":"SUMIFS(Transakcijas!$R:$R,Transakcijas!$Q:$Q,$B$142,Transakcijas!$T:$T,YEAR($B151),Transakcijas!$U:$U,RIGHT(\"0\"&MONTH($B151),2),Transakcijas!$D:$D,\"Aprēķins\",Transakcijas!$H:$H,\"Nokavējuma nauda\",Transakcijas!$K:$K,\"<>\"&\"FIFO*\",Transakcijas!$K:$K,\"<>\"&\"Iemaksas atbrīvošana\")","v":0},{"$f":"SUMIFS(Transakcijas!$R:$R,Transakcijas!$Q:$Q,$B$142,Transakcijas!$T:$T,YEAR($B151),Transakcijas!$U:$U,RIGHT(\"0\"&MONTH($B151),2),Transakcijas!$D:$D,\"Aprēķins\",Transakcijas!$H:$H,\"Soda nauda\",Transakcijas!$K:$K,\"<>\"&\"FIFO*\",Transakcijas!$K:$K,\"<>\"&\"Iemaksas atbrīvošana\")","v":0},{"$f":"SUMIFS(Transakcijas!$R:$R,Transakcijas!$Q:$Q,$B$142,Transakcijas!$T:$T,YEAR($B151),Transakcijas!$U:$U,RIGHT(\"0\"&MONTH($B151),2),Transakcijas!$D:$D,\"Iemaksa\",Transakcijas!$K:$K,\"<>\"&\"Izejošā maksājuma anulēšana\")\n+SUMIFS(Transakcijas!$R:$R,Transakcijas!$Q:$Q,$B$142,Transakcijas!$T:$T,YEAR($B151),Transakcijas!$U:$U,RIGHT(\"0\"&MONTH($B151),2),Transakcijas!$D:$D,\"Atmaksa\",Transakcijas!$K:$K,\"Iemaksas atbrīvošana\")","v":0},{"$f":"SUMIFS(Transakcijas!$R:$R,Transakcijas!$Q:$Q,$B$142,Transakcijas!$T:$T,YEAR($B151),Transakcijas!$U:$U,RIGHT(\"0\"&MONTH($B151),2),Transakcijas!$D:$D,\"Atmaksa\",Transakcijas!$K:$K,\"<>\"&\"Iemaksas atbrīvošana\")\n+SUMIFS(Transakcijas!$R:$R,Transakcijas!$Q:$Q,$B$142,Transakcijas!$T:$T,YEAR($B151),Transakcijas!$U:$U,RIGHT(\"0\"&MONTH($B151),2),Transakcijas!$D:$D,\"Iemaksa\",Transakcijas!$K:$K,\"Izejošā maksājuma anulēšana\")","v":0},{"$f":"SUMIFS(Transakcijas!$R:$R,Transakcijas!$Q:$Q,$B$142,Transakcijas!$T:$T,YEAR($B151),Transakcijas!$U:$U,RIGHT(\"0\"&MONTH($B151),2),Transakcijas!$K:$K,\"FIFO savstarpējā segšana\")\n+SUMIFS(Transakcijas!$R:$R,Transakcijas!$Q:$Q,$B$142,Transakcijas!$T:$T,YEAR($B151),Transakcijas!$U:$U,RIGHT(\"0\"&MONTH($B151),2),Transakcijas!$D:$D,\"Aprēķins\",Transakcijas!$K:$K,\"Iemaksas atbrīvošana\")","v":0},{"$f":"SUMIFS(Transakcijas!$R:$R,Transakcijas!$Q:$Q,$B$142,Transakcijas!$T:$T,YEAR($B151),Transakcijas!$U:$U,RIGHT(\"0\"&MONTH($B151),2))-SUM(D151:K151)","v":0},0,{"$f":"ROUND(SUMIFS(Transakcijas!$R:$R,Transakcijas!$Q:$Q,$B$142,Transakcijas!$S:$S,\"<=\"&$B151,Transakcijas!$H:$H,\"Pamatsumma\"),2)","v":0},{"$f":"ROUND(SUMIFS(Transakcijas!$R:$R,Transakcijas!$Q:$Q,$B$142,Transakcijas!$S:$S,\"<=\"&$B151,Transakcijas!$H:$H,\"Nokavējuma nauda\"),2)","v":0},{"$f":"ROUND(SUMIFS(Transakcijas!$R:$R,Transakcijas!$Q:$Q,$B$142,Transakcijas!$S:$S,\"<=\"&$B151,Transakcijas!$H:$H,\"Soda nauda\"),2)","v":0},null,{"$f":"B142","v":"Soda naudas"},"2024-09-30",null,0,null,null,0]
[null,"2024-10-31",0,{"$f":"SUMIFS(Transakcijas!$R:$R,Transakcijas!$Q:$Q,$B$142,Transakcijas!$T:$T,YEAR($B152),Transakcijas!$U:$U,RIGHT(\"0\"&MONTH($B152),2),Transakcijas!$D:$D,\"Aprēķins\",Transakcijas!$H:$H,\"Pamatsumma\",Transakcijas!$K:$K,\"<>\"&\"FIFO*\",Transakcijas!$K:$K,\"<>\"&\"Iemaksas atbrīvošana\")","v":0},null,null,{"$f":"SUMIFS(Transakcijas!$R:$R,Transakcijas!$Q:$Q,$B$142,Transakcijas!$T:$T,YEAR($B152),Transakcijas!$U:$U,RIGHT(\"0\"&MONTH($B152),2),Transakcijas!$D:$D,\"Aprēķins\",Transakcijas!$H:$H,\"Nokavējuma nauda\",Transakcijas!$K:$K,\"<>\"&\"FIFO*\",Transakcijas!$K:$K,\"<>\"&\"Iemaksas atbrīvošana\")","v":0},{"$f":"SUMIFS(Transakcijas!$R:$R,Transakcijas!$Q:$Q,$B$142,Transakcijas!$T:$T,YEAR($B152),Transakcijas!$U:$U,RIGHT(\"0\"&MONTH($B152),2),Transakcijas!$D:$D,\"Aprēķins\",Transakcijas!$H:$H,\"Soda nauda\",Transakcijas!$K:$K,\"<>\"&\"FIFO*\",Transakcijas!$K:$K,\"<>\"&\"Iemaksas atbrīvošana\")","v":0},{"$f":"SUMIFS(Transakcijas!$R:$R,Transakcijas!$Q:$Q,$B$142,Transakcijas!$T:$T,YEAR($B152),Transakcijas!$U:$U,RIGHT(\"0\"&MONTH($B152),2),Transakcijas!$D:$D,\"Iemaksa\",Transakcijas!$K:$K,\"<>\"&\"Izejošā maksājuma anulēšana\")\n+SUMIFS(Transakcijas!$R:$R,Transakcijas!$Q:$Q,$B$142,Transakcijas!$T:$T,YEAR($B152),Transakcijas!$U:$U,RIGHT(\"0\"&MONTH($B152),2),Transakcijas!$D:$D,\"Atmaksa\",Transakcijas!$K:$K,\"Iemaksas atbrīvošana\")","v":0},{"$f":"SUMIFS(Transakcijas!$R:$R,Transakcijas!$Q:$Q,$B$142,Transakcijas!$T:$T,YEAR($B152),Transakcijas!$U:$U,RIGHT(\"0\"&MONTH($B152),2),Transakcijas!$D:$D,\"Atmaksa\",Transakcijas!$K:$K,\"<>\"&\"Iemaksas atbrīvošana\")\n+SUMIFS(Transakcijas!$R:$R,Transakcijas!$Q:$Q,$B$142,Transakcijas!$T:$T,YEAR($B152),Transakcijas!$U:$U,RIGHT(\"0\"&MONTH($B152),2),Transakcijas!$D:$D,\"Iemaksa\",Transakcijas!$K:$K,\"Izejošā maksājuma anulēšana\")","v":0},{"$f":"SUMIFS(Transakcijas!$R:$R,Transakcijas!$Q:$Q,$B$142,Transakcijas!$T:$T,YEAR($B152),Transakcijas!$U:$U,RIGHT(\"0\"&MONTH($B152),2),Transakcijas!$K:$K,\"FIFO savstarpējā segšana\")\n+SUMIFS(Transakcijas!$R:$R,Transakcijas!$Q:$Q,$B$142,Transakcijas!$T:$T,YEAR($B152),Transakcijas!$U:$U,RIGHT(\"0\"&MONTH($B152),2),Transakcijas!$D:$D,\"Aprēķins\",Transakcijas!$K:$K,\"Iemaksas atbrīvošana\")","v":0},{"$f":"SUMIFS(Transakcijas!$R:$R,Transakcijas!$Q:$Q,$B$142,Transakcijas!$T:$T,YEAR($B152),Transakcijas!$U:$U,RIGHT(\"0\"&MONTH($B152),2))-SUM(D152:K152)","v":0},0,{"$f":"ROUND(SUMIFS(Transakcijas!$R:$R,Transakcijas!$Q:$Q,$B$142,Transakcijas!$S:$S,\"<=\"&$B152,Transakcijas!$H:$H,\"Pamatsumma\"),2)","v":0},{"$f":"ROUND(SUMIFS(Transakcijas!$R:$R,Transakcijas!$Q:$Q,$B$142,Transakcijas!$S:$S,\"<=\"&$B152,Transakcijas!$H:$H,\"Nokavējuma nauda\"),2)","v":0},{"$f":"ROUND(SUMIFS(Transakcijas!$R:$R,Transakcijas!$Q:$Q,$B$142,Transakcijas!$S:$S,\"<=\"&$B152,Transakcijas!$H:$H,\"Soda nauda\"),2)","v":0},null,{"$f":"B142","v":"Soda naudas"},"2024-10-31",null,0,null,null,0]
[null,"2024-11-30",0,{"$f":"SUMIFS(Transakcijas!$R:$R,Transakcijas!$Q:$Q,$B$142,Transakcijas!$T:$T,YEAR($B153),Transakcijas!$U:$U,RIGHT(\"0\"&MONTH($B153),2),Transakcijas!$D:$D,\"Aprēķins\",Transakcijas!$H:$H,\"Pamatsumma\",Transakcijas!$K:$K,\"<>\"&\"FIFO*\",Transakcijas!$K:$K,\"<>\"&\"Iemaksas atbrīvošana\")","v":0},null,null,{"$f":"SUMIFS(Transakcijas!$R:$R,Transakcijas!$Q:$Q,$B$142,Transakcijas!$T:$T,YEAR($B153),Transakcijas!$U:$U,RIGHT(\"0\"&MONTH($B153),2),Transakcijas!$D:$D,\"Aprēķins\",Transakcijas!$H:$H,\"Nokavējuma nauda\",Transakcijas!$K:$K,\"<>\"&\"FIFO*\",Transakcijas!$K:$K,\"<>\"&\"Iemaksas atbrīvošana\")","v":0},{"$f":"SUMIFS(Transakcijas!$R:$R,Transakcijas!$Q:$Q,$B$142,Transakcijas!$T:$T,YEAR($B153),Transakcijas!$U:$U,RIGHT(\"0\"&MONTH($B153),2),Transakcijas!$D:$D,\"Aprēķins\",Transakcijas!$H:$H,\"Soda nauda\",Transakcijas!$K:$K,\"<>\"&\"FIFO*\",Transakcijas!$K:$K,\"<>\"&\"Iemaksas atbrīvošana\")","v":0},{"$f":"SUMIFS(Transakcijas!$R:$R,Transakcijas!$Q:$Q,$B$142,Transakcijas!$T:$T,YEAR($B153),Transakcijas!$U:$U,RIGHT(\"0\"&MONTH($B153),2),Transakcijas!$D:$D,\"Iemaksa\",Transakcijas!$K:$K,\"<>\"&\"Izejošā maksājuma anulēšana\")\n+SUMIFS(Transakcijas!$R:$R,Transakcijas!$Q:$Q,$B$142,Transakcijas!$T:$T,YEAR($B153),Transakcijas!$U:$U,RIGHT(\"0\"&MONTH($B153),2),Transakcijas!$D:$D,\"Atmaksa\",Transakcijas!$K:$K,\"Iemaksas atbrīvošana\")","v":0},{"$f":"SUMIFS(Transakcijas!$R:$R,Transakcijas!$Q:$Q,$B$142,Transakcijas!$T:$T,YEAR($B153),Transakcijas!$U:$U,RIGHT(\"0\"&MONTH($B153),2),Transakcijas!$D:$D,\"Atmaksa\",Transakcijas!$K:$K,\"<>\"&\"Iemaksas atbrīvošana\")\n+SUMIFS(Transakcijas!$R:$R,Transakcijas!$Q:$Q,$B$142,Transakcijas!$T:$T,YEAR($B153),Transakcijas!$U:$U,RIGHT(\"0\"&MONTH($B153),2),Transakcijas!$D:$D,\"Iemaksa\",Transakcijas!$K:$K,\"Izejošā maksājuma anulēšana\")","v":0},{"$f":"SUMIFS(Transakcijas!$R:$R,Transakcijas!$Q:$Q,$B$142,Transakcijas!$T:$T,YEAR($B153),Transakcijas!$U:$U,RIGHT(\"0\"&MONTH($B153),2),Transakcijas!$K:$K,\"FIFO savstarpējā segšana\")\n+SUMIFS(Transakcijas!$R:$R,Transakcijas!$Q:$Q,$B$142,Transakcijas!$T:$T,YEAR($B153),Transakcijas!$U:$U,RIGHT(\"0\"&MONTH($B153),2),Transakcijas!$D:$D,\"Aprēķins\",Transakcijas!$K:$K,\"Iemaksas atbrīvošana\")","v":0},{"$f":"SUMIFS(Transakcijas!$R:$R,Transakcijas!$Q:$Q,$B$142,Transakcijas!$T:$T,YEAR($B153),Transakcijas!$U:$U,RIGHT(\"0\"&MONTH($B153),2))-SUM(D153:K153)","v":0},0,{"$f":"ROUND(SUMIFS(Transakcijas!$R:$R,Transakcijas!$Q:$Q,$B$142,Transakcijas!$S:$S,\"<=\"&$B153,Transakcijas!$H:$H,\"Pamatsumma\"),2)","v":0},{"$f":"ROUND(SUMIFS(Transakcijas!$R:$R,Transakcijas!$Q:$Q,$B$142,Transakcijas!$S:$S,\"<=\"&$B153,Transakcijas!$H:$H,\"Nokavējuma nauda\"),2)","v":0},{"$f":"ROUND(SUMIFS(Transakcijas!$R:$R,Transakcijas!$Q:$Q,$B$142,Transakcijas!$S:$S,\"<=\"&$B153,Transakcijas!$H:$H,\"Soda nauda\"),2)","v":0},null,{"$f":"B142","v":"Soda naudas"},"2024-11-30",null,0,null,null,0]
[null,"2024-12-31",0,{"$f":"SUMIFS(Transakcijas!$R:$R,Transakcijas!$Q:$Q,$B$142,Transakcijas!$T:$T,YEAR($B154),Transakcijas!$U:$U,RIGHT(\"0\"&MONTH($B154),2),Transakcijas!$D:$D,\"Aprēķins\",Transakcijas!$H:$H,\"Pamatsumma\",Transakcijas!$K:$K,\"<>\"&\"FIFO*\",Transakcijas!$K:$K,\"<>\"&\"Iemaksas atbrīvošana\")","v":0},null,null,{"$f":"SUMIFS(Transakcijas!$R:$R,Transakcijas!$Q:$Q,$B$142,Transakcijas!$T:$T,YEAR($B154),Transakcijas!$U:$U,RIGHT(\"0\"&MONTH($B154),2),Transakcijas!$D:$D,\"Aprēķins\",Transakcijas!$H:$H,\"Nokavējuma nauda\",Transakcijas!$K:$K,\"<>\"&\"FIFO*\",Transakcijas!$K:$K,\"<>\"&\"Iemaksas atbrīvošana\")","v":0},{"$f":"SUMIFS(Transakcijas!$R:$R,Transakcijas!$Q:$Q,$B$142,Transakcijas!$T:$T,YEAR($B154),Transakcijas!$U:$U,RIGHT(\"0\"&MONTH($B154),2),Transakcijas!$D:$D,\"Aprēķins\",Transakcijas!$H:$H,\"Soda nauda\",Transakcijas!$K:$K,\"<>\"&\"FIFO*\",Transakcijas!$K:$K,\"<>\"&\"Iemaksas atbrīvošana\")","v":0},{"$f":"SUMIFS(Transakcijas!$R:$R,Transakcijas!$Q:$Q,$B$142,Transakcijas!$T:$T,YEAR($B154),Transakcijas!$U:$U,RIGHT(\"0\"&MONTH($B154),2),Transakcijas!$D:$D,\"Iemaksa\",Transakcijas!$K:$K,\"<>\"&\"Izejošā maksājuma anulēšana\")\n+SUMIFS(Transakcijas!$R:$R,Transakcijas!$Q:$Q,$B$142,Transakcijas!$T:$T,YEAR($B154),Transakcijas!$U:$U,RIGHT(\"0\"&MONTH($B154),2),Transakcijas!$D:$D,\"Atmaksa\",Transakcijas!$K:$K,\"Iemaksas atbrīvošana\")","v":0},{"$f":"SUMIFS(Transakcijas!$R:$R,Transakcijas!$Q:$Q,$B$142,Transakcijas!$T:$T,YEAR($B154),Transakcijas!$U:$U,RIGHT(\"0\"&MONTH($B154),2),Transakcijas!$D:$D,\"Atmaksa\",Transakcijas!$K:$K,\"<>\"&\"Iemaksas atbrīvošana\")\n+SUMIFS(Transakcijas!$R:$R,Transakcijas!$Q:$Q,$B$142,Transakcijas!$T:$T,YEAR($B154),Transakcijas!$U:$U,RIGHT(\"0\"&MONTH($B154),2),Transakcijas!$D:$D,\"Iemaksa\",Transakcijas!$K:$K,\"Izejošā maksājuma anulēšana\")","v":0},{"$f":"SUMIFS(Transakcijas!$R:$R,Transakcijas!$Q:$Q,$B$142,Transakcijas!$T:$T,YEAR($B154),Transakcijas!$U:$U,RIGHT(\"0\"&MONTH($B154),2),Transakcijas!$K:$K,\"FIFO savstarpējā segšana\")\n+SUMIFS(Transakcijas!$R:$R,Transakcijas!$Q:$Q,$B$142,Transakcijas!$T:$T,YEAR($B154),Transakcijas!$U:$U,RIGHT(\"0\"&MONTH($B154),2),Transakcijas!$D:$D,\"Aprēķins\",Transakcijas!$K:$K,\"Iemaksas atbrīvošana\")","v":0},{"$f":"SUMIFS(Transakcijas!$R:$R,Transakcijas!$Q:$Q,$B$142,Transakcijas!$T:$T,YEAR($B154),Transakcijas!$U:$U,RIGHT(\"0\"&MONTH($B154),2))-SUM(D154:K154)","v":0},0,{"$f":"ROUND(SUMIFS(Transakcijas!$R:$R,Transakcijas!$Q:$Q,$B$142,Transakcijas!$S:$S,\"<=\"&$B154,Transakcijas!$H:$H,\"Pamatsumma\"),2)","v":0},{"$f":"ROUND(SUMIFS(Transakcijas!$R:$R,Transakcijas!$Q:$Q,$B$142,Transakcijas!$S:$S,\"<=\"&$B154,Transakcijas!$H:$H,\"Nokavējuma nauda\"),2)","v":0},{"$f":"ROUND(SUMIFS(Transakcijas!$R:$R,Transakcijas!$Q:$Q,$B$142,Transakcijas!$S:$S,\"<=\"&$B154,Transakcijas!$H:$H,\"Soda nauda\"),2)","v":0},null,{"$f":"B142","v":"Soda naudas"},"2024-12-31",null,0,null,null,0]
[null,"Kopā",{"$f":"C143","v":0},{"$f":"SUM(D143:D154)","v":0},null,null,{"$f":"SUM(G143:G154)","v":0},0,0,0,0,0,0]

{"sheet":"Kustība – VG periodi","index":10,"n_rows":9,"n_cols":7,"rows_kept":9,"cut":false,"hidden":false,"merged":[[1,1,1,2]]}
[]
[null,{"$f":"Transakcijas!$C$4","v":0}]
[]
[null,"Sum of EUR",null,null,null,"VgGads","VgMen"]
[null,null,null,null,null,"(blank)","Grand Total"]
[null,"Nodoklis","Aprēķina \npamatojums","Aprēķins / \nMaksājums","Papildus informācija","(blank)"]
[null,"(blank)","(blank)","(blank)","(blank)"]
[null,"(blank) Total"]
[null,"Grand Total"]

{"sheet":"Kopsavilkums Bilance","index":11,"n_rows":22,"n_cols":22,"rows_kept":22,"cut":false,"hidden":false,"merged":[[17,1,17,2],[17,18,17,19],[3,1,4,2],[3,4,4,4],[3,18,4,19]]}
[]
[null,"+ parāds, \n- pārmaksa",null,null,{"$f":"Transakcijas!$C$4","v":0},null,null,null,null,"NODOKĻU KOPSAVILKUMS PĒC EDS DATIEM",null,null,null,null,null,null,null,null,null,"+ parāds, \n- pārmaksa"]
[]
[null,"Sakuma atlik. Kontrole\nstarp aprēķināto \nun VG atlikumiem",null,null,"NODOKĻI","Tsk. IPG \nizmaiņas","2024-01-01",{"$f":"'Kopsavilkums – VG periodi'!D4","v":"Aprēķināts"},{"$f":"'Kopsavilkums – VG periodi'!E4","v":"Ieturēts IIN\nMin. VSAOI"},{"$f":"'Kopsavilkums – VG periodi'!F4","v":"Apr.nerezid.\nUniv.IF VSAOI"},{"$f":"'Kopsavilkums – VG periodi'!G4","v":"Aprēķināta nokav. nauda  "},{"$f":"'Kopsavilkums – VG periodi'!H4","v":"Aprēķināta\n soda nauda  "},{"$f":"'Kopsavilkums – VG periodi'!I4","v":"Samaksāts\nAtbrīvots"},{"$f":"'Kopsavilkums – VG periodi'!J4","v":"Atmaksāts"},{"$f":"'Kopsavilkums – VG periodi'!K4","v":"Pārvietots \n(Savst.segš.)"},{"$f":"'Kopsavilkums – VG periodi'!L4","v":"Cita \nkustība"},{"$f":"IF(AND('Nom.stavoklis PG'!$C$5-$G$4<360,'Nom.stavoklis PG'!$C$5>0),'Nom.stavoklis PG'!$C$5,DATE(YEAR(G4)+1,MONTH(G4),0))","v":"2024-12-31"},null,"Beigu atlik. Kontrole\nstarp aprēķināto \nun VG atlikumiem"]
[null,null,null,null,null,"EUR","EUR","EUR","EUR","EUR","EUR","EUR","EUR","EUR","EUR","EUR","EUR"]
[null,{"$f":"ROUND(G6-C6,2)","v":0},null,null,{"$f":"'Kopsavilkums – VG periodi'!B6","v":"VSAOI"},{"$f":"SUMIFS(Transakcijas!$R:$R,Transakcijas!$S:$S,\"<\"&G$4,Transakcijas!$Q:$Q,$E6,Transakcijas!$C:$C,\">\"&F$21)","v":0},{"$f":"ROUND('Kopsavilkums – VG periodi'!C6,2)","v":0},{"$f":"ROUND('Kopsavilkums – VG periodi'!D6,2)","v":0},{"$f":"ROUND('Kopsavilkums – VG periodi'!E6,2)","v":0},{"$f":"ROUND('Kopsavilkums – VG periodi'!F6,2)","v":0},{"$f":"ROUND('Kopsavilkums – VG periodi'!G6,2)","v":0},{"$f":"ROUND('Kopsavilkums – VG periodi'!H6,2)","v":0},{"$f":"ROUND('Kopsavilkums – VG periodi'!I6,2)","v":0},{"$f":"ROUND('Kopsavilkums – VG periodi'!J6,2)","v":0},{"$f":"ROUND('Kopsavilkums – VG periodi'!K6,2)","v":0},{"$f":"ROUND('Kopsavilkums – VG periodi'!L6,2)","v":0},{"$f":"SUM(G6:P6)","v":0},null,null,{"$f":"ROUND(Q6-S6,2)","v":0}]
[null,{"$f":"ROUND(G7-C7,2)","v":0},null,null,{"$f":"'Kopsavilkums – VG periodi'!B7","v":"IIN"},{"$f":"SUMIFS(Transakcijas!$R:$R,Transakcijas!$S:$S,\"<\"&G$4,Transakcijas!$Q:$Q,$E7,Transakcijas!$C:$C,\">\"&F$21)","v":0},{"$f":"ROUND('Kopsavilkums – VG periodi'!C7,2)","v":0},{"$f":"ROUND('Kopsavilkums – VG periodi'!D7,2)","v":0},{"$f":"ROUND('Kopsavilkums – VG periodi'!E7,2)","v":0},{"$f":"ROUND('Kopsavilkums – VG periodi'!F7,2)","v":0},{"$f":"ROUND('Kopsavilkums – VG periodi'!G7,2)","v":0},{"$f":"ROUND('Kopsavilkums – VG periodi'!H7,2)","v":0},{"$f":"ROUND('Kopsavilkums – VG periodi'!I7,2)","v":0},{"$f":"ROUND('Kopsavilkums – VG periodi'!J7,2)","v":0},{"$f":"ROUND('Kopsavilkums – VG periodi'!K7,2)","v":0},{"$f":"ROUND('Kopsavilkums – VG periodi'!L7,2)","v":0},0,null,null,{"$f":"ROUND(Q7-S7,2)","v":0}]
[null,0,null,null,{"$f":"'Kopsavilkums – VG periodi'!B8","v":"Riska nodeva"},{"$f":"SUMIFS(Transakcijas!$R:$R,Transakcijas!$S:$S,\"<\"&G$4,Transakcijas!$Q:$Q,$E8,Transakcijas!$C:$C,\">\"&F$21)","v":0},{"$f":"ROUND('Kopsavilkums – VG periodi'!C8,2)","v":0},{"$f":"ROUND('Kopsavilkums – VG periodi'!D8,2)","v":0},null,null,{"$f":"ROUND('Kopsavilkums – VG periodi'!G8,2)","v":0},{"$f":"ROUND('Kopsavilkums – VG periodi'!H8,2)","v":0},{"$f":"ROUND('Kopsavilkums – VG periodi'!I8,2)","v":0},{"$f":"ROUND('Kopsavilkums – VG periodi'!J8,2)","v":0},{"$f":"ROUND('Kopsavilkums – VG periodi'!K8,2)","v":0},{"$f":"ROUND('Kopsavilkums – VG periodi'!L8,2)","v":0},0,null,null,0]
[null,0,null,null,{"$f":"'Kopsavilkums – VG periodi'!B9","v":"PVN "},{"$f":"SUMIFS(Transakcijas!$R:$R,Transakcijas!$S:$S,\"<\"&G$4,Transakcijas!$Q:$Q,$E9,Transakcijas!$C:$C,\">\"&F$21)","v":0},{"$f":"ROUND('Kopsavilkums – VG periodi'!C9,2)","v":0},{"$f":"ROUND('Kopsavilkums – VG periodi'!D9,2)","v":0},null,null,{"$f":"ROUND('Kopsavilkums – VG periodi'!G9,2)","v":0},{"$f":"ROUND('Kopsavilkums – VG periodi'!H9,2)","v":0},{"$f":"ROUND('Kopsavilkums – VG periodi'!I9,2)","v":0},{"$f":"ROUND('Kopsavilkums – VG periodi'!J9,2)","v":0},{"$f":"ROUND('Kopsavilkums – VG periodi'!K9,2)","v":0},{"$f":"ROUND('Kopsavilkums – VG periodi'!L9,2)","v":0},0,null,null,0]
[null,0,null,null,{"$f":"'Kopsavilkums – VG periodi'!B10","v":"UIN"},{"$f":"SUMIFS(Transakcijas!$R:$R,Transakcijas!$S:$S,\"<\"&G$4,Transakcijas!$Q:$Q,$E10,Transakcijas!$C:$C,\">\"&F$21)","v":0},{"$f":"ROUND('Kopsavilkums – VG periodi'!C10,2)","v":0},{"$f":"ROUND('Kopsavilkums – VG periodi'!D10,2)","v":0},null,null,{"$f":"ROUND('Kopsavilkums – VG periodi'!G10,2)","v":0},{"$f":"ROUND('Kopsavilkums – VG periodi'!H10,2)","v":0},{"$f":"ROUND('Kopsavilkums – VG periodi'!I10,2)","v":0},{"$f":"ROUND('Kopsavilkums – VG periodi'!J10,2)","v":0},{"$f":"ROUND('Kopsavilkums – VG periodi'!K10,2)","v":0},{"$f":"ROUND('Kopsavilkums – VG periodi'!L10,2)","v":0},0,null,null,0]
[null,0,null,null,{"$f":"'Kopsavilkums – VG periodi'!B11","v":"DRN"},{"$f":"SUMIFS(Transakcijas!$R:$R,Transakcijas!$S:$S,\"<\"&G$4,Transakcijas!$Q:$Q,$E11,Transakcijas!$C:$C,\">\"&F$21)","v":0},{"$f":"ROUND('Kopsavilkums – VG periodi'!C11,2)","v":0},{"$f":"ROUND('Kopsavilkums – VG periodi'!D11,2)","v":0},null,null,{"$f":"ROUND('Kopsavilkums – VG periodi'!G11,2)","v":0},{"$f":"ROUND('Kopsavilkums – VG periodi'!H11,2)","v":0},{"$f":"ROUND('Kopsavilkums – VG periodi'!I11,2)","v":0},{"$f":"ROUND('Kopsavilkums – VG periodi'!J11,2)","v":0},{"$f":"ROUND('Kopsavilkums – VG periodi'!K11,2)","v":0},{"$f":"ROUND('Kopsavilkums – VG periodi'!L11,2)","v":0},0,null,null,0]
[null,0,null,null,{"$f":"'Kopsavilkums – VG periodi'!B12","v":"AN"},{"$f":"SUMIFS(Transakcijas!$R:$R,Transakcijas!$S:$S,\"<\"&G$4,Transakcijas!$Q:$Q,$E12,Transakcijas!$C:$C,\">\"&F$21)","v":0},{"$f":"ROUND('Kopsavilkums – VG periodi'!C12,2)","v":0},{"$f":"ROUND('Kopsavilkums – VG periodi'!D12,2)","v":0},null,null,{"$f":"ROUND('Kopsavilkums – VG periodi'!G12,2)","v":0},{"$f":"ROUND('Kopsavilkums – VG periodi'!H12,2)","v":0},{"$f":"ROUND('Kopsavilkums – VG periodi'!I12,2)","v":0},{"$f":"ROUND('Kopsavilkums – VG periodi'!J12,2)","v":0},{"$f":"ROUND('Kopsavilkums – VG periodi'!K12,2)","v":0},{"$f":"ROUND('Kopsavilkums – VG periodi'!L12,2)","v":0},0,null,null,0]
[null,0,null,null,{"$f":"'Kopsavilkums – VG periodi'!B13","v":"MUN"},{"$f":"SUMIFS(Transakcijas!$R:$R,Transakcijas!$S:$S,\"<\"&G$4,Transakcijas!$Q:$Q,$E13,Transakcijas!$C:$C,\">\"&F$21)","v":0},{"$f":"ROUND('Kopsavilkums – VG periodi'!C13,2)","v":0},{"$f":"ROUND('Kopsavilkums – VG periodi'!D13,2)","v":0},null,null,{"$f":"ROUND('Kopsavilkums – VG periodi'!G13,2)","v":0},{"$f":"ROUND('Kopsavilkums – VG periodi'!H13,2)","v":0},{"$f":"ROUND('Kopsavilkums – VG periodi'!I13,2)","v":0},{"$f":"ROUND('Kopsavilkums – VG periodi'!J13,2)","v":0},{"$f":"ROUND('Kopsavilkums – VG periodi'!K13,2)","v":0},{"$f":"ROUND('Kopsavilkums – VG periodi'!L13,2)","v":0},0,null,null,0]
[null,0,null,null,{"$f":"'Kopsavilkums – VG periodi'!B14","v":"Soda naudas"},{"$f":"SUMIFS(Transakcijas!$R:$R,Transakcijas!$S:$S,\"<\"&G$4,Transakcijas!$Q:$Q,$E14,Transakcijas!$C:$C,\">\"&F$21)","v":0},{"$f":"ROUND('Kopsavilkums – VG periodi'!C14,2)","v":0},{"$f":"ROUND('Kopsavilkums – VG periodi'!D14,2)","v":0},null,null,{"$f":"ROUND('Kopsavilkums – VG periodi'!G14,2)","v":0},{"$f":"ROUND('Kopsavilkums – VG periodi'!H14,2)","v":0},{"$f":"ROUND('Kopsavilkums – VG periodi'!I14,2)","v":0},{"$f":"ROUND('Kopsavilkums – VG periodi'!J14,2)","v":0},{"$f":"ROUND('Kopsavilkums – VG periodi'!K14,2)","v":0},{"$f":"ROUND('Kopsavilkums – VG periodi'!L14,2)","v":0},0,null,null,0]
[null,0,null,null,"Neattiecin. iemaksas",null,{"$f":"'Nom.stavoklis IPG'!$F$5","v":0},null,null,null,null,null,null,null,null,null,{"$f":"'Nom.stavoklis PG'!$F$5","v":0},null,null,0]
[null,{"$f":"ROUND(SUM(B6:B15),2)","v":0},{"$f":"SUM(C6:C15)","v":0},null,"Kopā",{"$f":"SUM(F6:F15)","v":0},{"$f":"SUM(G6:G15)","v":0},0,0,0,0,0,0,0,0,0,0,null,{"$f":"SUM(S6:S15)","v":0},{"$f":"ROUND(SUM(T6:T15),2)","v":0},null,"Starpība starp TransParsk + Neatt.iemaks. datiem un VG atlikumiem."]
[]
[null,"Pārskata perioda apkop.",null,null,"T.sk. - Parāds budžetam",{"$f":"SUMIF(F6:F15,\"<0\",F6:F15)","v":0},{"$f":"SUMIF(G6:G15,\"<0\",G6:G15)","v":0},null,null,null,null,null,null,null,null,null,{"$f":"SUMIF(Q6:Q15,\"<0\",Q6:Q15)","v":0},null,"Pārskata perioda apkop."]
[null,{"$f":"IF(Parsk.per.apkop!I3<>\"\",ROUND(SUM(G6:G14)-C19,2),\"\")","v":""},{"$f":"Parsk.per.apkop!$I$3","v":0},null,"T.sk. - (Pārmaksa) ",{"$f":"F16-F18","v":0},{"$f":"G16-G18","v":0},null,null,null,null,null,null,null,null,null,{"$f":"Q16-Q18","v":0},null,{"$f":"Parsk.per.apkop!$I$4","v":0},{"$f":"IF(Parsk.per.apkop!$I$4<>\"\",ROUND(SUM(Q6:Q14)-S19,2),\"\")","v":""},null,"Starpība starp TransParsk datiem un PPA atlikumiem."]
[]
[null,null,null,null,null,{"$f":"DATE(YEAR(G4),5,0)","v":"2024-04-30"}]
[null,null,null,null,null,"Opcionāli"]

{"sheet":"Nodoklu_Nosaukumi","index":12,"n_rows":51,"n_cols":3,"rows_kept":51,"cut":false,"hidden":true,"merged":[]}
[]
[null,"EDS","Nodoklis"]
[null,"Valsts sociālās apdrošināšanas obligātās iemaksas","VSAOI"]
[null,"Iedzīvotāju ienākuma nodoklis","IIN"]
[null,"Uzņēmējdarbības riska valsts nodeva","Riska nodeva"]
[null,"Iekšzemē iekasētais PVN","PVN "]
[null,"Uzņēmumu ienākuma nodoklis","UIN"]
[null,"Dabas resursu nodoklis par dabas resursu ieguvi un vides piesārņošanu","DRN"]
[null,"Akcīzes nodoklis alkoholiskajiem dzērieniem","AN"]
[null,"Akcīzes nodoklis alum","AN"]
[null,"Akcīzes nodoklis pārējām akcīzes precēm","AN"]
[null,"Mikrouzņēmumu nodoklis, kuru maksā maksātāji, kas atbilst likumam „Par uzņēmumu ienākuma nodokli”","MUN"]
[null,"Soda naudas, ko uzliek Valsts ieņēmumu dienests*","Soda naudas"]
[]
[null,"Dabas resursu nodoklis","DRN"]
[null,"Iedzīvotāju ienākuma nodoklis","IIN"]
[null,"Pievienotās vērtības nodoklis","PVN "]
[null,"Sociālās apdrošināšanas iemaksas","VSAOI"]
[null,"Uzņēmumu ienākuma nodoklis","UIN"]
[]
[null,"Sociālās apdrošināšanas maksājumi","VSAOI"]
[null,"Iedzīvotāju ienākuma nodoklis","IIN"]
[null,"Riska nodeva","Riska nodeva"]
[null,"PVN ","PVN "]
[null,"Uzņēmuma ienākuma nodoklis","UIN"]
[null,"Dabas resursu nodoklis","DRN"]
[null,"AN alkoholiskajiem dzērieniem","AN"]
[null,"AN nodoklis alum","AN"]
[null,"AN pārējām akcīzes precēm","AN"]
[null,"Mikrouzņēmumu nodoklis","MUN"]
[null,"Soda naudas","Soda naudas"]
[null,"Iemaksas no Valsts ieņēmumu dienesta pārbaudēs atklātām slēpto un samazināto ienākumu summām (1999.g. - 10200, 2006.g. - 10201)","Soda naudas"]
[null,"Soda naudas, ko uzliek Valsts ieņēmumu dienests, izņemot muitas lietās un sakarā ar nodokļu deklarāciju precizējumiem pirms kontroles pasākumiem","Soda naudas"]
[null,"Akcīzes nodoklis tabakas izstrādājumiem","AN"]
[null,"Dabas resursu nodoklis par preču iepakojumu","DRN"]
[null,"Akcīzes nodoklis naftas produktiem","AN"]
[null,"Iedzīvotāju ienākuma nodoklis (autoratlīdzība)","IIN"]
[null,"Akcīzes nodoklis tabakas izstrādājumiem","AN"]
[null,"Akcīzes nodoklis alkoholiskajiem dzērieniem","AN"]
[null,"Akcīzes nodoklis pārējām akcīzes precēm","AN"]
[null,"Akcīzes nodoklis alum","AN"]
[null,"Dabas resursu nodoklis par vienreiz lietojamiem galda traukiem un piederumiem","DRN"]
[null,"Iekšzemē iekasētais pievienotās vērtības nodoklis","PVN "]
[null,"Mikrouzņēmumu nodoklis, kuru maksā maksātāji, kas atbilst Uzņēmumu ienākuma nodokļa likumam","MUN"]
[null,"Dabas resursu nodoklis par virs limitos noteikto apjomu un soda naudas par likuma pārkāpumiem","DRN"]
[null,"Akcīzes nodoklis","AN"]
[null,"Speciāliem mērķiem paredzētās valsts nodevas","Soda naudas"]
[null,"Dabas resursu nodoklis par videi kaitīgām precēm","DRN"]
[null,"Elektroenerģijas nodoklis","DRN"]
[null,"Dabas resursu nodoklis par akmeņoglēm, koksu un lignītu, uguņošanas ierīcēm un par ūdens resursu lietošanu elektroenerģijas ražošanai","DRN"]
[null,"Akcīzes nodoklis dabasgāzei","AN"]

{"sheet":"Format","index":13,"n_rows":10,"n_cols":23,"rows_kept":10,"cut":false,"hidden":true,"merged":[]}
[]
[null,null,null,null,null,null,null,null,null,null,null,null,null,{"$f":"IF(AND(K2=\"Deklarēts\",LEFT(F2,5)=\"Saldo\"),M2-12,IF(OR(K2=\"Deklarēts\",LEFT(K2,4)=\"DTND\",LEFT(K2,8)=\"PVN apst\",AND(H2=\"Nokavējuma nauda\",D2=\"Aprēķins\",'Sakuma lapa'!$K$13<>\"\")),IF(AND(LEFT(F2,4)=\"Univ\",'Sakuma lapa'!$K$14=\"\"),C2,M2+20),C2))","v":"00:00:00"},{"$f":"YEAR(N2)","v":1900},{"$f":"RIGHT(\"0\"&MONTH(N2),2)","v":"01"},{"$f":"IFERROR(VLOOKUP(B2,Nodoklu_Nosaukumi!$B:$C,2,0),B2)","v":0},{"$f":"I2","v":0},{"$f":"IF(AND(K2=\"Deklarēts\",LEFT($F2,5)=\"Saldo\"),M2-1,IF(OR(K2=\"Deklarēts\",LEFT(K2,4)=\"DTND\",LEFT(K2,8)=\"PVN apst\",AND(H2=\"Nokavējuma nauda\",D2=\"Aprēķins\",'Sakuma lapa'!$K$13<>\"\")),IF(AND(LEFT(F2,4)=\"Univ\",'Sakuma lapa'!$K$14=\"\"),C2,M2),C2))","v":"00:00:00"},{"$f":"YEAR(S2)","v":1900},{"$f":"RIGHT(\"0\"&MONTH(S2),2)","v":"01"}]
[]
[null,null,null,null,null,null,null,{"$f":"ROUND(C4-M4,2)","v":0},{"$f":"ROUND(D4-N4,2)","v":0},{"$f":"ROUND(E4-O4,2)","v":0},{"$f":"ROUND(F4-P4,2)","v":0},null,{"$f":"IF($B4=\" Kopā\",SUMIFS(Transakcijas!$R:$R,Transakcijas!$E:$E,\"Deklarācija/pārskats\",Transakcijas!$C:$C,\"<=\"&$C$5),IF($B4=\"Visi pārējie\",SUMIFS(M3:M$7,$Q3:$Q$7,\" Kopā\")-SUMIFS(M3:M$7,$Q3:$Q$7,\"<>\"&\" Kopā\"),SUMIFS(Transakcijas!$R:$R,Transakcijas!$Q:$Q,$Q4,Transakcijas!$E:$E,\"Deklarācija/pārskats\",Transakcijas!$C:$C,\"<=\"&$C$5)))","v":0},{"$f":"IF($B4=\" Kopā\",SUMIFS(Transakcijas!$R:$R,Transakcijas!$H:$H,\"Pamatsumma\",Transakcijas!$E:$E,\"Deklarācija/pārskats\",Transakcijas!$C:$C,\"<=\"&$C$5),IF($B4=\"Visi pārējie\",SUMIFS(N3:N$7,$Q3:$Q$7,\" Kopā\")-SUMIFS(N3:N$7,$Q3:$Q$7,\"<>\"&\" Kopā\"),SUMIFS(Transakcijas!$R:$R,Transakcijas!$Q:$Q,$Q4,Transakcijas!$H:$H,\"Pamatsumma\",Transakcijas!$E:$E,\"Deklarācija/pārskats\",Transakcijas!$C:$C,\"<=\"&$C$5)))","v":0},{"$f":"IF($B4=\" Kopā\",SUMIFS(Transakcijas!$R:$R,Transakcijas!$H:$H,\"Nokavējuma nauda\",Transakcijas!$E:$E,\"Deklarācija/pārskats\",Transakcijas!$C:$C,\"<=\"&$C$5),IF($B4=\"Visi pārējie\",SUMIFS(O3:O$7,$Q3:$Q$7,\" Kopā\")-SUMIFS(O3:O$7,$Q3:$Q$7,\"<>\"&\" Kopā\"),SUMIFS(Transakcijas!$R:$R,Transakcijas!$Q:$Q,$Q4,Transakcijas!$H:$H,\"Nokavējuma nauda\",Transakcijas!$E:$E,\"Deklarācija/pārskats\",Transakcijas!$C:$C,\"<=\"&$C$5)))","v":0},{"$f":"IF($B4=\" Kopā\",SUMIFS(Transakcijas!$R:$R,Transakcijas!$H:$H,\"Soda nauda\",Transakcijas!$E:$E,\"Deklarācija/pārskats\",Transakcijas!$C:$C,\"<=\"&$C$5),IF($B4=\"Visi pārējie\",SUMIFS(P3:P$7,$Q3:$Q$7,\" Kopā\")-SUMIFS(P3:P$7,$Q3:$Q$7,\"<>\"&\" Kopā\"),SUMIFS(Transakcijas!$R:$R,Transakcijas!$Q:$Q,$Q4,Transakcijas!$H:$H,\"Soda nauda\",Transakcijas!$E:$E,\"Deklarācija/pārskats\",Transakcijas!$C:$C,\"<=\"&$C$5)))","v":0},{"$f":"IFERROR(VLOOKUP($B4,Nodoklu_Nosaukumi!$B:$C,2,0),$B4)","v":0},null,{"$f":"IF($B4=\" Kopā\",SUMIFS(Transakcijas!$R:$R,Transakcijas!$E:$E,\"<>\"&\"Deklarācija/pārskats\",Transakcijas!$C:$C,\"<=\"&$C$5),IF($B4=\"Visi pārējie\",SUMIFS(S3:S$7,$W3:$W$7,\" Kopā\")-SUMIFS(S3:S$7,$W3:$W$7,\"<>\"&\" Kopā\"),SUMIFS(Transakcijas!$R:$R,Transakcijas!$Q:$Q,$W4,Transakcijas!$E:$E,\"<>\"&\"Deklarācija/pārskats\",Transakcijas!$C:$C,\"<=\"&$C$5)))","v":0},{"$f":"IF($B4=\" Kopā\",SUMIFS(Transakcijas!$R:$R,Transakcijas!$H:$H,\"Pamatsumma\",Transakcijas!$E:$E,\"<>\"&\"Deklarācija/pārskats\",Transakcijas!$C:$C,\"<=\"&$C$5),IF($B4=\"Visi pārējie\",SUMIFS(T3:T$7,$W3:$W$7,\" Kopā\")-SUMIFS(T3:T$7,$W3:$W$7,\"<>\"&\" Kopā\"),SUMIFS(Transakcijas!$R:$R,Transakcijas!$Q:$Q,$W4,Transakcijas!$H:$H,\"Pamatsumma\",Transakcijas!$E:$E,\"<>\"&\"Deklarācija/pārskats\",Transakcijas!$C:$C,\"<=\"&$C$5)))","v":0},{"$f":"IF($B4=\" Kopā\",SUMIFS(Transakcijas!$R:$R,Transakcijas!$H:$H,\"Nokavējuma nauda\",Transakcijas!$E:$E,\"<>\"&\"Deklarācija/pārskats\",Transakcijas!$C:$C,\"<=\"&$C$5),IF($B4=\"Visi pārējie\",SUMIFS(U3:U$7,$W3:$W$7,\" Kopā\")-SUMIFS(U3:U$7,$W3:$W$7,\"<>\"&\" Kopā\"),SUMIFS(Transakcijas!$R:$R,Transakcijas!$Q:$Q,$W4,Transakcijas!$H:$H,\"Nokavējuma nauda\",Transakcijas!$E:$E,\"<>\"&\"Deklarācija/pārskats\",Transakcijas!$C:$C,\"<=\"&$C$5)))","v":0},{"$f":"IF($B4=\" Kopā\",SUMIFS(Transakcijas!$R:$R,Transakcijas!$H:$H,\"Soda nauda\",Transakcijas!$E:$E,\"<>\"&\"Deklarācija/pārskats\",Transakcijas!$C:$C,\"<=\"&$C$5),IF($B4=\"Visi pārējie\",SUMIFS(V3:V$7,$W3:$W$7,\" Kopā\")-SUMIFS(V3:V$7,$W3:$W$7,\"<>\"&\" Kopā\"),SUMIFS(Transakcijas!$R:$R,Transakcijas!$Q:$Q,$W4,Transakcijas!$H:$H,\"Soda nauda\",Transakcijas!$E:$E,\"<>\"&\"Deklarācija/pārskats\",Transakcijas!$C:$C,\"<=\"&$C$5)))","v":0},{"$f":"IFERROR(VLOOKUP($B4,Nodoklu_Nosaukumi!$B:$C,2,0),$B4)","v":0}]
[]
[null,"Dokumenta veids","Parāds (-),\npārmaksa (+)","Aprēķināts (-), \nsamazināts (+)","Periods\nno","Periods\nlīdz",".","Aprēķina\nNovirze",".",".","Atlikuma\nNovirze",".","Parāds (-), \npārmaksa (+)","Pamat\nsumma","Nokavējuma \nnauda","Soda \nnauda","Dzēsts",".","Parāds (-), \npārmaksa (+)","Pamat\nsumma","Nokavējuma \nnauda","Soda \nnauda","Dzēsts"]
[null,null,null,null,null,null,null,{"$f":"IFERROR(IF(AND(YEAR(E7)>=2021),ROUND(ABS(D7)-ABS(N7+T7),2),0),0)","v":0},null,null,{"$f":"C7-(M7+Q7)","v":0},null,{"$f":"SUM(N7:P7)","v":0},{"$f":"SUMIFS(Transakcijas!$R:$R,Transakcijas!$F:$F,$B7,Transakcijas!$H:$H,\"Pamatsumma\",Transakcijas!$D:$D,\"Aprēķins\",Transakcijas!$L:$L,$E7,Transakcijas!$M:$M,$F7,Transakcijas!$K:$K,\"<>\"&\"FIFO*\",Transakcijas!$E:$E,\"Deklarācija/pārskats\")","v":0},{"$f":"SUMIFS(Transakcijas!$R:$R,Transakcijas!$F:$F,$B7,Transakcijas!$H:$H,\"Nokavējuma nauda\",Transakcijas!$D:$D,\"Aprēķins\",Transakcijas!$L:$L,$E7,Transakcijas!$M:$M,$F7,Transakcijas!$K:$K,\"<>\"&\"FIFO*\",Transakcijas!$E:$E,\"Deklarācija/pārskats\")","v":0},{"$f":"SUMIFS(Transakcijas!$R:$R,Transakcijas!$F:$F,$B7,Transakcijas!$H:$H,\"Soda nauda\",Transakcijas!$D:$D,\"Aprēķins\",Transakcijas!$L:$L,$E7,Transakcijas!$M:$M,$F7,Transakcijas!$K:$K,\"<>\"&\"FIFO*\",Transakcijas!$E:$E,\"Deklarācija/pārskats\")","v":0},{"$f":"SUMIFS(Transakcijas!$R:$R,Transakcijas!$F:$F,$B7,Transakcijas!$L:$L,$E7,Transakcijas!$M:$M,$F7,Transakcijas!$K:$K,\"FIFO*\",Transakcijas!$E:$E,\"Deklarācija/pārskats\")\n+SUMIFS(Transakcijas!$R:$R,Transakcijas!$F:$F,$B7,Transakcijas!$L:$L,$E7,Transakcijas!$M:$M,$F7,Transakcijas!$K:$K,\"Segšana ar identifikatoru\",Transakcijas!$E:$E,\"Deklarācija/pārskats\")\n+SUMIFS(Transakcijas!$R:$R,Transakcijas!$F:$F,$B7,Transakcijas!$L:$L,$E7,Transakcijas!$M:$M,$F7,Transakcijas!$D:$D,\"Atmaksa\",Transakcijas!$E:$E,\"Deklarācija/pārskats\")","v":0},null,{"$f":"SUM(T7:V7)","v":0},{"$f":"SUMIFS(Transakcijas!$R:$R,Transakcijas!$F:$F,$B7,Transakcijas!$H:$H,\"Pamatsumma\",Transakcijas!$D:$D,\"Aprēķins\",Transakcijas!$L:$L,$E7,Transakcijas!$M:$M,$F7,Transakcijas!$K:$K,\"<>\"&\"FIFO*\")-N7","v":0},{"$f":"SUMIFS(Transakcijas!$R:$R,Transakcijas!$F:$F,$B7,Transakcijas!$H:$H,\"Nokavējuma nauda\",Transakcijas!$D:$D,\"Aprēķins\",Transakcijas!$L:$L,$E7,Transakcijas!$M:$M,$F7,Transakcijas!$K:$K,\"<>\"&\"FIFO*\")-O7","v":0},{"$f":"SUMIFS(Transakcijas!$R:$R,Transakcijas!$F:$F,$B7,Transakcijas!$H:$H,\"Soda nauda\",Transakcijas!$D:$D,\"Aprēķins\",Transakcijas!$L:$L,$E7,Transakcijas!$M:$M,$F7,Transakcijas!$K:$K,\"<>\"&\"FIFO*\")-P7","v":0},{"$f":"SUMIFS(Transakcijas!$R:$R,Transakcijas!$F:$F,$B7,Transakcijas!$L:$L,$E7,Transakcijas!$M:$M,$F7,Transakcijas!$K:$K,\"FIFO*\")\n+SUMIFS(Transakcijas!$R:$R,Transakcijas!$F:$F,$B7,Transakcijas!$L:$L,$E7,Transakcijas!$M:$M,$F7,Transakcijas!$K:$K,\"Segšana ar identifikatoru\")\n+SUMIFS(Transakcijas!$R:$R,Transakcijas!$F:$F,$B7,Transakcijas!$L:$L,$E7,Transakcijas!$M:$M,$F7,Transakcijas!$D:$D,\"Atmaksa\")-Q7","v":0}]
[null,null,null,null,null,null,null,0,null,null,0,null,0,{"$f":"SUMIFS(Transakcijas!$R:$R,Transakcijas!$F:$F,$B8,Transakcijas!$H:$H,\"Pamatsumma\",Transakcijas!$D:$D,\"Aprēķins\",Transakcijas!$L:$L,$E8,Transakcijas!$M:$M,$F8,Transakcijas!$K:$K,\"<>\"&\"FIFO*\",Transakcijas!$E:$E,\"Deklarācija/pārskats\")","v":0},{"$f":"SUMIFS(Transakcijas!$R:$R,Transakcijas!$F:$F,$B8,Transakcijas!$H:$H,\"Nokavējuma nauda\",Transakcijas!$D:$D,\"Aprēķins\",Transakcijas!$L:$L,$E8,Transakcijas!$M:$M,$F8,Transakcijas!$K:$K,\"<>\"&\"FIFO*\",Transakcijas!$E:$E,\"Deklarācija/pārskats\")","v":0},{"$f":"SUMIFS(Transakcijas!$R:$R,Transakcijas!$F:$F,$B8,Transakcijas!$H:$H,\"Soda nauda\",Transakcijas!$D:$D,\"Aprēķins\",Transakcijas!$L:$L,$E8,Transakcijas!$M:$M,$F8,Transakcijas!$K:$K,\"<>\"&\"FIFO*\",Transakcijas!$E:$E,\"Deklarācija/pārskats\")","v":0},{"$f":"SUMIFS(Transakcijas!$R:$R,Transakcijas!$F:$F,$B8,Transakcijas!$L:$L,$E8,Transakcijas!$M:$M,$F8,Transakcijas!$K:$K,\"FIFO*\",Transakcijas!$E:$E,\"Deklarācija/pārskats\")\n+SUMIFS(Transakcijas!$R:$R,Transakcijas!$F:$F,$B8,Transakcijas!$L:$L,$E8,Transakcijas!$M:$M,$F8,Transakcijas!$K:$K,\"Segšana ar identifikatoru\",Transakcijas!$E:$E,\"Deklarācija/pārskats\")\n+SUMIFS(Transakcijas!$R:$R,Transakcijas!$F:$F,$B8,Transakcijas!$L:$L,$E8,Transakcijas!$M:$M,$F8,Transakcijas!$D:$D,\"Atmaksa\",Transakcijas!$E:$E,\"Deklarācija/pārskats\")","v":0},null,0,{"$f":"SUMIFS(Transakcijas!$R:$R,Transakcijas!$F:$F,$B8,Transakcijas!$H:$H,\"Pamatsumma\",Transakcijas!$D:$D,\"Aprēķins\",Transakcijas!$L:$L,$E8,Transakcijas!$M:$M,$F8,Transakcijas!$K:$K,\"<>\"&\"FIFO*\")-N8","v":0},{"$f":"SUMIFS(Transakcijas!$R:$R,Transakcijas!$F:$F,$B8,Transakcijas!$H:$H,\"Nokavējuma nauda\",Transakcijas!$D:$D,\"Aprēķins\",Transakcijas!$L:$L,$E8,Transakcijas!$M:$M,$F8,Transakcijas!$K:$K,\"<>\"&\"FIFO*\")-O8","v":0},{"$f":"SUMIFS(Transakcijas!$R:$R,Transakcijas!$F:$F,$B8,Transakcijas!$H:$H,\"Soda nauda\",Transakcijas!$D:$D,\"Aprēķins\",Transakcijas!$L:$L,$E8,Transakcijas!$M:$M,$F8,Transakcijas!$K:$K,\"<>\"&\"FIFO*\")-P8","v":0},{"$f":"SUMIFS(Transakcijas!$R:$R,Transakcijas!$F:$F,$B8,Transakcijas!$L:$L,$E8,Transakcijas!$M:$M,$F8,Transakcijas!$K:$K,\"FIFO*\")\n+SUMIFS(Transakcijas!$R:$R,Transakcijas!$F:$F,$B8,Transakcijas!$L:$L,$E8,Transakcijas!$M:$M,$F8,Transakcijas!$K:$K,\"Segšana ar identifikatoru\")\n+SUMIFS(Transakcijas!$R:$R,Transakcijas!$F:$F,$B8,Transakcijas!$L:$L,$E8,Transakcijas!$M:$M,$F8,Transakcijas!$D:$D,\"Atmaksa\")-Q8","v":0}]
[]
[null,null,null,null,null,null,null,{"$f":"ROUND(D10-L10,2)","v":0},{"$f":"ROUND(E10-M10-O10,2)","v":0},{"$f":"ROUND(F10-N10,2)","v":0},null,{"$f":"SUMIFS(Transakcijas!$R:$R,Transakcijas!$Q:$Q,$P10,Transakcijas!$N:$N,\"<=\"&D$5)","v":0},{"$f":"SUMIFS(Transakcijas!$R:$R,Transakcijas!$Q:$Q,$P10,Transakcijas!$N:$N,\"<=\"&D$5,Transakcijas!$H:$H,\"Pamatsumma\")","v":0},{"$f":"SUMIFS(Transakcijas!$R:$R,Transakcijas!$Q:$Q,$P10,Transakcijas!$N:$N,\"<=\"&D$5,Transakcijas!$H:$H,\"Nokavējuma nauda\")","v":0},{"$f":"IF($B10=\" Kopā\",SUMIFS(Transakcijas!$R:$R,Transakcijas!$H:$H,\"Soda nauda\"),IF($B10=\"Visi pārējie\",SUMIFS(O$7:O9,$P$7:$P9,\" Kopā\")-SUMIFS(O$7:O9,$P$7:$P9,\"<>\"&\" Kopā\"),SUMIFS(Transakcijas!$R:$R,Transakcijas!$Q:$Q,$P10,Transakcijas!$H:$H,\"Soda nauda\")))","v":0},{"$f":"IFERROR(VLOOKUP(B10,Nodoklu_Nosaukumi!B:C,2,0),B10)","v":0}]

{"sheet":"Tiesibas","index":14,"n_rows":18,"n_cols":15,"rows_kept":18,"cut":false,"hidden":true,"merged":[]}
[]
[null,null,null,"DatumsNo","2025-05-05",null,null,"TisWbName","ThisWbCustId","RN","ActivationDate","CompName/Path","Processor/HddSerialId","PROCESSOR_REVISION","USERNAME"]
[null,null,null,"DatumsLidz","2025-05-15",null,null,"TRANS",1,24,"2020-09-09","-","-","-","-"]
[null,null,null,"Skaitītājs (demo versijai)"]
[]
[null,null,null,"ThisWbName","TRANS"]
[null,null,null,"ThisWbCustId",1]
[null,null,null,"Limenis","D"]
[]
[null,null,null,"Nesakonfigurētas tiesības!"]
[null,null,null,"Nesakonfigurētas tiesības versijai!"]
[null,null,null,"Versijas periods ir beidzies!"]
[null,null,null,"Versijas apstrādes uzņēmuma RegNr neatbilst definētam!"]
[null,null,null,"Izvelētais RegNr nav definēts šajā versijā!"]
[null,null,null,"Lūdzu aizpildiet reģistrācijas numuru!"]
[null,null,null,"Versijas Importa/Eksporta skaits sasniedza 20!"]
[null,null,null,"Lūdzu veikt faila aktivāciju uz lapas \"Instrukcija\"!"]
[null,null,null,"Fails jau ir aktivizēts šim datoram un lietotājam!"]